Workbook
Name _Toc364257418: Udd.oversigt!$A$3

Sheet Nøgletalstabeller
A1: Nøgletal 1: Ledighed (sæsonkorrigeret)
C3: Seneste udvikling | M3: Årlig udvikling
C4: Fuldtidspersoner | H4: Ledighedspct. | M4: Fuldtidspersoner | Q4: Ledighedspct.
C5: 2019 | D5: 2019 | E5: 2019 | F5: 2020 | H5: 2019 | I5: 2019 | J5: 2019 | K5: 2020 | M5: 2019 | O5: 2020 | Q5: 2019 | S5: 2020
C6: Okt | D6: Nov | E6: Dec | F6: Jan | H6: Okt | I6: Nov | J6: Dec | K6: Jan | M6: Jan | O6: Jan | Q6: Jan | S6: Jan
A8: Bruttoledighed | C8: 16705.738 | D8: 16915.207 | E8: 16887.873 | F8: 16854.234 | H8: 5.0415472 | I8: 5.0958249 | J8: 5.0721832 | K8: 5.0385929 | M8: 15849.072 | O8: =F8 -> 16854.234 | Q8: 4.900262 | S8: =K8 -> 5.0385929
A9: Fordelt på kandidatalder
A10: Kandidatalder
A11: - op til 1 år | C11: 6027.4735 | D11: 6045.2792 | E11: 5963.0856 | F11: 5887.0526 | H11: 30.773483 | I11: 30.952406 | J11: 30.512697 | K11: 29.495223 | M11: 5734.6502 | O11: =F11 -> 5887.0526 | Q11: 29.316417 | S11: =K11 -> 29.495223
A12: - mellem 1 - 2 år | C12: 2354.0539 | D12: 2396.9237 | E12: 2379.0101 | F12: 2438.9992 | H12: 13.410789 | I12: 13.541004 | J12: 13.362783 | K12: 13.482684 | M12: 2384.1955 | O12: =F12 -> 2438.9992 | Q12: 13.036582 | S12: =K12 -> 13.482684
A13: - øvrige | C13: 7309.0725 | D13: 7423.4106 | E13: 7468.8316 | F13: 7446.6906 | H13: 2.8073328 | I13: 2.846449 | J13: 2.8603127 | K13: 2.8445168 | M13: 6776.4999 | O13: =F13 -> 7446.6906 | Q13: 2.6875849 | S13: =K13 -> 2.8445168
A15: Fordelt på akademiske hovedgrupper
A16: DJØF'ere | C16: 3902.3372 | D16: 3985.1835 | E16: 3990.0913 | F16: 3850.2931 | H16: 4.2943253 | I16: 4.3633752 | J16: 4.3670738 | K16: 4.1565989 | M16: 3711.7958 | O16: =F16 -> 3850.2931 | Q16: 4.1859245 | S16: =K16 -> 4.1565989
A17: - kandidatalder op til 1 år | C17: 1454.774 | D17: 1462.5657 | E17: 1458.2878 | F17: 1366.0701 | H17: 26.173165 | I17: 26.28005 | J17: 26.371718 | K17: 23.787715 | M17: 1374.5142 | O17: =F17 -> 1366.0701 | Q17: 24.122959 | S17: =K17 -> 23.787715
A18: - øvrige | C18: 2185.3616 | D18: 2246.8352 | E18: 2256.4494 | F18: 2186.604 | H18: 2.9708417 | I18: 3.045029 | J18: 3.0478059 | K18: 2.9460124 | M18: 2052.255 | O18: =F18 -> 2186.604 | Q18: 2.8896326 | S18: =K18 -> 2.9460124
A20: Magistre | C20: 4808.0372 | D20: 4870.201 | E20: 4809.7894 | F20: 4831.7997 | H20: 7.3267086 | I20: 7.4276891 | J20: 7.3089642 | K20: 7.3113254 | M20: 4590.5329 | O20: =F20 -> 4831.7997 | Q20: 7.1735478 | S20: =K20 -> 7.3113254
A21: - kandidatalder op til 1 år | B21: 0 | C21: 1575.4199 | D21: 1580.9891 | E21: 1520.0675 | F21: 1493.4999 | H21: 42.543164 | I21: 42.840767 | J21: 41.082258 | K21: 40.300109 | M21: 1479.3031 | O21: =F21 -> 1493.4999 | Q21: 39.240439 | S21: =K21 -> 40.300109
A22: - øvrige | C22: 3078.1361 | D22: 3096.8361 | E22: 3094.254 | F22: 3130.827 | H22: 5.3294144 | I22: 5.371327 | J22: 5.3598581 | K22: 5.4109955 | M22: 2936.0572 | O22: =F22 -> 3130.827 | Q22: 5.2440457 | S22: =K22 -> 5.4109955
A24: Ingeniører | C24: 1683.9328 | D24: 1693.1802 | E24: 1711.9576 | F24: 1789.5303 | H24: 2.6037971 | I24: 2.6066583 | J24: 2.6358294 | K24: 2.7430634 | M24: 1588.2966 | O24: =F24 -> 1789.5303 | Q24: 2.4830427 | S24: =K24 -> 2.7430634
A25: - kandidatalder op til 1 år | C25: 657.83915 | D25: 668.26894 | E25: 682.63576 | F25: 676.05641 | H25: 26.642213 | I25: 26.358529 | J25: 25.586072 | K25: 25.938532 | M25: 644.14221 | O25: =F25 -> 676.05641 | Q25: 26.317067 | S25: =K25 -> 25.938532
A26: - øvrige | C26: 1001.981 | D26: 997.62911 | E26: 1003.2043 | F26: 1072.8172 | H26: 1.6508363 | I26: 1.643492 | J26: 1.6552425 | K26: 1.7576652 | M26: 935.71887 | O26: =F26 -> 1072.8172 | Q26: 1.5568476 | S26: =K26 -> 1.7576652
A28: Nøgletal 2: Ledighed (ikke sæsonkorrigeret)
C30: Seneste udvikling | M30: Årlig udvikling
C31: Fuldtidspersoner | H31: Ledighedspct. | M31: Fuldtidspersoner | Q31: Ledighedspct.
C32: 2019 | D32: 2019 | E32: 2019 | F32: 2020 | H32: 2019 | I32: 2019 | J32: 2019 | K32: 2020 | M32: 2019 | O32: 2020 | Q32: 2019 | S32: 2020
C33: Okt | D33: Nov | E33: Dec | F33: Jan | H33: Okt | I33: Nov | J33: Dec | K33: Jan | M33: Jan | O33: Jan | Q33: Jan | S33: Jan
A35: Bruttoledighed | C35: 17589.144 | D35: 17143.667 | E35: 16704.751 | F35: 16577.205 | H35: 5.2902228 | I35: 5.1755405 | J35: 5.0419238 | K35: 4.9655989 | M35: 15610.568 | O35: =F35 -> 16577.205 | Q35: 4.836362 | S35: =K35 -> 4.9655989
A36: Fordelt på kandidatalder
A37: Kandidatalder
A38: - op til 1 år | C38: 6704.8706 | D38: 6333.5134 | E38: 5861.0946 | F38: 5396.1779 | H38: 33.051713 | I38: 32.210311 | J38: 30.123321 | K38: 26.81997 | M38: 5293.9157 | O38: =F38 -> 5396.1779 | Q38: 26.954764 | S38: =K38 -> 26.81997
A39: - mellem 1 - 2 år | C39: 2449.5896 | D39: 2326.965 | E39: 2291.5817 | F39: 2405.6452 | H39: 13.808284 | I39: 13.282522 | J39: 13.081298 | K39: 13.385518 | M39: 2353.2701 | O39: =F39 -> 2405.6452 | Q39: 12.961391 | S39: =K39 -> 13.385518
A40: - øvrige | C40: 7449.4649 | D40: 7470.068 | E40: 7549.6694 | F40: 7714.2032 | H40: 2.850237 | I40: 2.8623692 | J40: 2.8926602 | K40: 2.9414895 | M40: 7016.9426 | O40: =F40 -> 7714.2032 | Q40: 2.778052 | S40: =K40 -> 2.9414895
A42: Fordelt på akademiske hovedgrupper
A43: DJØF'ere | C43: 4165.9184 | D43: 4121.0466 | E43: 4023.5832 | F43: 3671.5069 | H43: 4.552369 | I43: 4.5148301 | J43: 4.4069915 | K43: 4.011173 | M43: 3573.7909 | O43: =F43 -> 3671.5069 | Q43: 4.0580364 | S43: =K43 -> 4.011173
A44: - kandidatalder op til 1 år | C44: 1639.5834 | D44: 1585.9109 | E44: 1471.9747 | F44: 1201.3603 | H44: 28.317502 | I44: 27.99984 | J44: 26.531627 | K44: 21.410806 | M44: 1232.8373 | O44: =F44 -> 1201.3603 | Q44: 21.963963 | S44: =K44 -> 21.410806
A45: - øvrige | C45: 2274.8668 | D45: 2280.1597 | E45: 2288.0665 | F45: 2201.369 | H45: 3.067967 | I45: 3.0789668 | J45: 3.0854772 | K45: 2.9624528 | M45: 2066.7467 | O45: =F45 -> 2201.369 | Q45: 2.906081 | S45: =K45 -> 2.9624528
A47: Magistre | B47: =SUM(B9:B45)-SUM(B17:B20) -> 0 | C47: 5067.6717 | D47: 4994.361 | E47: 4878.6085 | F47: 4937.4665 | G47: 0 | H47: 7.7045559 | I47: 7.6206738 | J47: 7.4339568 | K47: 7.4889526 | M47: 4701.5799 | O47: =F47 -> 4937.4665 | Q47: 7.3629001 | S47: =K47 -> 7.4889526
A48: - kandidatalder op til 1 år | C48: 1750.3586 | D48: 1699.7143 | E48: 1580.305 | F48: 1482.8335 | H48: 46.220191 | I48: 45.839114 | J48: 42.884803 | K48: 39.595021 | M48: 1478.9191 | O48: =F48 -> 1482.8335 | Q48: 38.85757 | S48: =K48 -> 39.595021
A49: - øvrige | B49: 3043.1435 | C49: 3113.8913 | D49: 3084.4577 | E49: 3088.4707 | F49: 3245.0346 | H49: 5.3842812 | I49: 5.3478123 | J49: 5.3520789 | K49: 5.5981689 | M49: 3043.1435 | O49: =F49 -> 3245.0346 | Q49: 5.4244016 | S49: =K49 -> 5.5981689
A51: Ingeniører | C51: 1764.2593 | D51: 1633.8652 | E51: 1578.2499 | F51: 1644.7571 | H51: 2.7177155 | I51: 2.5242015 | J51: 2.4403913 | K51: 2.5214347 | M51: 1459.4312 | O51: =F51 -> 1644.7571 | Q51: 2.2827153 | S51: =K51 -> 2.5214347
...

Sheet Efterløn
A1: Efterlønsmodtagere i forhold til samlet antal medlemmer
D4: I alt | J4: Mænd | P4: Kvinder
B6: Alder | D6: Antal Medlemmer i a-kasse | F6: Antal på efterløn | H6: Pct. på efterløn | J6: Antal Medlemmer i a-kasse | L6: Antal på efterløn | N6: Pct. på efterløn | P6: Antal Medlemmer i a-kasse | R6: Antal på efterløn | T6: Pct. på efterløn
B9: 60 år | D9: 4353 | F9: 0 | H9: =IF(D9<10,"-",F9/D9*100) -> 0 | J9: 2675 | L9: 0 | N9: =IF(J9<10,"-",L9/J9*100) -> 0 | P9: 1678 | R9: 0 | T9: =IF(P9<10,"-",R9/P9*100) -> 0
B10: 61 år | D10: 4279 | F10: 0 | H10: =IF(D10<10,"-",F10/D10*100) -> 0 | J10: 2682 | L10: 0 | N10: =IF(J10<10,"-",L10/J10*100) -> 0 | P10: 1597 | R10: 0 | T10: =IF(P10<10,"-",R10/P10*100) -> 0
B11: 62 år | D11: 4044 | F11: 0 | H11: =IF(D11<10,"-",F11/D11*100) -> 0 | J11: 2522 | L11: 0 | N11: =IF(J11<10,"-",L11/J11*100) -> 0 | P11: 1522 | R11: 0 | T11: =IF(P11<10,"-",R11/P11*100) -> 0
B12: 63 år | D12: 3771 | F12: 288 | H12: =IF(D12<10,"-",F12/D12*100) -> 7.6372315 | J12: 2401 | L12: 121 | N12: =IF(J12<10,"-",L12/J12*100) -> 5.0395668 | P12: 1370 | R12: 167 | T12: =IF(P12<10,"-",R12/P12*100) -> 12.189781
B13: 64 år | D13: 3766 | F13: 957 | H13: =IF(D13<10,"-",F13/D13*100) -> 25.411577 | J13: 2391 | L13: 494 | N13: =IF(J13<10,"-",L13/J13*100) -> 20.660811 | P13: 1375 | R13: 463 | T13: =IF(P13<10,"-",R13/P13*100) -> 33.672727
B14: 65 år | D14: 1970 | F14: 695 | H14: =IF(D14<10,"-",F14/D14*100) -> 35.279188 | J14: 1258 | L14: 381 | N14: =IF(J14<10,"-",L14/J14*100) -> 30.286169 | P14: 712 | R14: 314 | T14: =IF(P14<10,"-",R14/P14*100) -> 44.101124
B15: 66 år + | D15: 63 | F15: 0 | H15: =IF(D15<10,"-",F15/D15*100) -> 0 | J15: 48 | L15: 0 | N15: =IF(J15<10,"-",L15/J15*100) -> 0 | P15: 15 | R15: 0 | T15: =IF(P15<10,"-",R15/P15*100) -> 0
B17: Total | D17: 1 | F17: 0 | H17: =IF(D17<10,"-",F17/D17*100) -> - | J17: 1 | L17: 0 | N17: =IF(J17<10,"-",L17/J17*100) -> - | P17: 0 | R17: 0 | T17: =IF(P17<10,"-",R17/P17*100) -> -

Sheet Tabel 1
A1: Landstatistik | N1: Landstatistik
A3: Tabel 1. Forsikrede medlemmer | N3: Tabel 1. Forsikrede medlemmer inkl. efterlønnere
C6: Mænd | F6: Kvinder | I6: I alt | P6: Mænd | S6: Kvinder | V6: I alt
C7: =Nøgletalstabeller!$M$5 -> 2019 | D7: =Nøgletalstabeller!$O$5 -> 2020 | F7: =Nøgletalstabeller!$M$5 -> 2019 | G7: =Nøgletalstabeller!$O$5 -> 2020 | I7: =Nøgletalstabeller!$M$5 -> 2019 | J7: =Nøgletalstabeller!$O$5 -> 2020 | P7: =Nøgletalstabeller!$M$5 -> 2019 | Q7: =Nøgletalstabeller!$O$5 -> 2020 | S7: =Nøgletalstabeller!$M$5 -> 2019 | T7: =Nøgletalstabeller!$O$5 -> 2020 | V7: =Nøgletalstabeller!$M$5 -> 2019 | W7: =Nøgletalstabeller!$O$5 -> 2020
A9: Civ. Ing. | C9: 22425 | D9: 23101 | F9: 7815 | G9: 8209 | I9: 30240 | J9: =D9+G9 -> 31310 | N9: Civ. Ing. | P9: 22501 | Q9: 23181 | S9: 7831 | T9: 8223 | V9: 30332 | W9: =Q9+T9 -> 31404
A10: Diplom Ing. | C10: 27461 | D10: 27567 | F10: 6233 | G10: 6354 | I10: 33694 | J10: =D10+G10 -> 33921 | N10: Diplom Ing. | P10: 27727 | Q10: 27826 | S10: 6252 | T10: 6375 | V10: 33979 | W10: =Q10+T10 -> 34201
A11: Cand.Scient.Tech. | C11: 8766 | D11: 9644 | F11: 7044 | G11: 7909 | I11: 15810 | J11: =D11+G11 -> 17553 | N11: Cand.Scient.Tech. | P11: 8771 | Q11: 9650 | S11: 7047 | T11: 7912 | V11: 15818 | W11: =Q11+T11 -> 17562
A12: MA. Hum. | C12: 12649 | D12: 12874 | F12: 26544 | G12: 27739 | I12: 39193 | J12: =D12+G12 -> 40613 | N12: MA. Hum. | P12: 12768 | Q12: 12985 | S12: 26727 | T12: 27913 | V12: 39495 | W12: =Q12+T12 -> 40898
A13: MA. Nat. | C13: 7782 | D13: 7667 | F13: 7054 | G13: 7103 | I13: 14836 | J13: =D13+G13 -> 14770 | N13: MA. Nat. | P13: 7879 | Q13: 7762 | S13: 7104 | T13: 7148 | V13: 14983 | W13: =Q13+T13 -> 14910
A14: MA. Ph.d. | C14: 1286 | D14: 1346 | F14: 1013 | G14: 1077 | I14: 2299 | J14: =D14+G14 -> 2423 | N14: MA. Ph.d. | P14: 1288 | Q14: 1349 | S14: 1015 | T14: 1080 | V14: 2303 | W14: =Q14+T14 -> 2429
A15: MA. Samf. | C15: 1200 | D15: 1346 | F15: 3128 | G15: 3560 | I15: 4328 | J15: =D15+G15 -> 4906 | N15: MA. Samf. | P15: 1202 | Q15: 1348 | S15: 3133 | T15: 3568 | V15: 4335 | W15: =Q15+T15 -> 4916
A16: Øvrige Mag. | C16: 1143 | D16: 1131 | F16: 2056 | G16: 2087 | I16: 3199 | J16: =D16+G16 -> 3218 | N16: Øvrige Mag. | P16: 1158 | Q16: 1152 | S16: 2084 | T16: 2129 | V16: 3242 | W16: =Q16+T16 -> 3281
A17: Agronom | C17: 1255 | D17: 1214 | F17: 1164 | G17: 1166 | I17: 2419 | J17: =D17+G17 -> 2380 | N17: Agronom | P17: 1270 | Q17: 1229 | S17: 1170 | T17: 1175 | V17: 2440 | W17: =Q17+T17 -> 2404
A18: Landsk. Arkt. | C18: 191 | D18: 190 | F18: 476 | G18: 499 | I18: 667 | J18: =D18+G18 -> 689 | N18: Landsk. Arkt. | P18: 192 | Q18: 192 | S18: 479 | T18: 500 | V18: 671 | W18: =Q18+T18 -> 692
A19: Hortonom | C19: 124 | D19: 121 | F19: 208 | G19: 203 | I19: 332 | J19: =D19+G19 -> 324 | N19: Hortonom | P19: 128 | Q19: 126 | S19: 213 | T19: 208 | V19: 341 | W19: =Q19+T19 -> 334
A20: Forstkand. | C20: 391 | D20: 380 | F20: 124 | G20: 130 | I20: 515 | J20: =D20+G20 -> 510 | N20: Forstkand. | P20: 395 | Q20: 384 | S20: 124 | T20: 130 | V20: 519 | W20: =Q20+T20 -> 514
A21: Jordbrugsakad. | B21: 0 | C21: 1961 | D21: 1905 | F21: 1972 | G21: 1998 | I21: 3933 | J21: =D21+G21 -> 3903 | N21: Jordbrugsakad. | P21: 1985 | Q21: 1931 | S21: 1986 | T21: 2013 | V21: 3971 | W21: =Q21+T21 -> 3944
A22: Mejeriing. | C22: 190 | D22: 187 | F22: 154 | G22: 164 | I22: 344 | J22: =D22+G22 -> 351 | N22: Mejeriing. | P22: 193 | Q22: 189 | S22: 154 | T22: 165 | V22: 347 | W22: =Q22+T22 -> 354
A23: Levn.m.kand. | C23: 44 | D23: 53 | F23: 329 | G23: 357 | I23: 373 | J23: =D23+G23 -> 410 | N23: Levn.m.kand. | P23: 44 | Q23: 53 | S23: 329 | T23: 357 | V23: 373 | W23: =Q23+T23 -> 410
A24: Dyrlæge | C24: 436 | D24: 446 | F24: 1810 | G24: 1888 | I24: 2246 | J24: =D24+G24 -> 2334 | N24: Dyrlæge | P24: 437 | Q24: 447 | S24: 1825 | T24: 1900 | V24: 2262 | W24: =Q24+T24 -> 2347
A25: Farmaceut | C25: 1359 | D25: 1374 | F25: 3780 | G25: 3889 | I25: 5139 | J25: =D25+G25 -> 5263 | N25: Farmaceut | P25: 1364 | Q25: 1380 | S25: 3807 | T25: 3921 | V25: 5171 | W25: =Q25+T25 -> 5301
A26: Læge | C26: 3548 | D26: 3584 | F26: 7805 | G26: 8085 | I26: 11353 | J26: =D26+G26 -> 11669 | N26: Læge | P26: 3555 | Q26: 3589 | S26: 7831 | T26: 8105 | V26: 11386 | W26: =Q26+T26 -> 11694
A27: Tandlæge | C27: 306 | D27: 293 | F27: 1721 | G27: 1692 | I27: 2027 | J27: =D27+G27 -> 1985 | N27: Tandlæge | P27: 307 | Q27: 295 | S27: 1739 | T27: 1710 | V27: 2046 | W27: =Q27+T27 -> 2005
A28: Arkitekt | C28: 2726 | D28: 2725 | F28: 3254 | G28: 3296 | I28: 5980 | J28: =D28+G28 -> 6021 | N28: Arkitekt | P28: 2763 | Q28: 2762 | S28: 3291 | T28: 3330 | V28: 6054 | W28: =Q28+T28 -> 6092
A29: Landinspek. | C29: 603 | D29: 599 | F29: 245 | G29: 248 | I29: 848 | J29: =D29+G29 -> 847 | N29: Landinspek. | P29: 611 | Q29: 609 | S29: 246 | T29: 252 | V29: 857 | W29: =Q29+T29 -> 861
A30: Bibliotekar | C30: 951 | D30: 900 | F30: 2674 | G30: 2592 | I30: 3625 | J30: =D30+G30 -> 3492 | N30: Bibliotekar | P30: 983 | Q30: 933 | S30: 2779 | T30: 2694 | V30: 3762 | W30: =Q30+T30 -> 3627
A31: Musikudd. | C31: 433 | D31: 413 | F31: 544 | G31: 538 | I31: 977 | J31: =D31+G31 -> 951 | N31: Musikudd. | P31: 440 | Q31: 418 | S31: 556 | T31: 547 | V31: 996 | W31: =Q31+T31 -> 965
A32: Teolog | C32: 684 | D32: 664 | F32: 1082 | G32: 1074 | I32: 1766 | J32: =D32+G32 -> 1738 | N32: Teolog | P32: 693 | Q32: 668 | S32: 1087 | T32: 1077 | V32: 1780 | W32: =Q32+T32 -> 1745
A33: Psykolog | C33: 1389 | D33: 1415 | F33: 6216 | G33: 6499 | I33: 7605 | J33: =D33+G33 -> 7914 | N33: Psykolog | P33: 1402 | Q33: 1432 | S33: 6250 | T33: 6526 | V33: 7652 | W33: =Q33+T33 -> 7958
... A45: Andre | C45: 10669 | D45: 11002 | F45: 10612 | G45: 11063 | I45: 21281 | J45: =D45+G45 -> 22065 | N45: Andre | P45: 10824 | Q45: 11166 | S45: 10727 | T45: 11185 | V45: 21551 | W45: =Q45+T45 -> 22351
A47: Total | B47: =SUM(B9:B45)-SUM(B17:B20) -> 0 | C47: =SUM(C9:C45)-SUM(C17:C20) -> 158660 | D47: =SUM(D9:D45)-SUM(D17:D20) -> 162721 | F47: =SUM(F9:F45)-SUM(F17:F20) -> 164115 | G47: =SUM(G9:G45)-SUM(G17:G20) -> 171120 | H47: =SUM(H9:H45)-SUM(H17:H20) -> 0 | I47: =SUM(I9:I45)-SUM(I17:I20) -> 322775 | J47: =SUM(J9:J45)-SUM(J17:J20) -> 333841 | N47: Total | P47: =SUM(P9:P45)-SUM(P17:P20) -> 159752 | Q47: =SUM(Q9:Q45)-SUM(Q17:Q20) -> 163834 | S47: =SUM(S9:S45)-SUM(S17:S20) -> 165087 | T47: =SUM(T9:T45)-SUM(T17:T20) -> 172108 | V47: =SUM(V9:V45)-SUM(V17:V20) -> 324839 | W47: =SUM(W9:W45)-SUM(W17:W20) -> 335942
A49: Ingeniører i alt | C49: 49886 | D49: 50668 | F49: 14048 | G49: 14563 | I49: 63934 | J49: =D49+G49 -> 65231 | N49: Ingeniører i alt | P49: 50228 | Q49: 51007 | S49: 14083 | T49: 14598 | V49: 64311 | W49: =Q49+T49 -> 65605
A50: Magistre i alt | C50: 24060 | D50: 24364 | F50: 39795 | G50: 41566 | I50: 63855 | J50: =D50+G50 -> 65930 | N50: Magistre i alt | P50: 24295 | Q50: 24596 | S50: 40063 | T50: 41838 | V50: 64358 | W50: =Q50+T50 -> 66434
A51: DJØF'ere i alt | C51: 41135 | D51: 42456 | F51: 46932 | G51: 49076 | I51: 88067 | J51: =D51+G51 -> 91532 | N51: DJØF'ere i alt | P51: 41293 | Q51: 42622 | S51: 47008 | T51: 49146 | V51: 88301 | W51: =Q51+T51 -> 91768
A52: Se sidste del af statistikken for en oversigt over uddannelsesgrupperingernes indhold

Sheet Tabel 2
A1: Landstatistik
A3: Tabel 2. Antal bruttoledige målt i berørte og opregnet til fuldtidspersoner
C5: Mænd | F5: Kvinder | I5: I alt
C6: Ledigheds-berørte | D6: Fuldtids-personer | F6: Ledigheds-berørte | G6: Fuldtids-personer | I6: Ledigheds-berørte | J6: Fuldtids-personer
A9: Civ. Ing. | C9: 732 | D9: 603.37866 | F9: 326 | G9: 262.37884 | H9: 854 | I9: =C9+F9 -> 1058 | J9: =D9+G9 -> 865.7575
A10: Diplom Ing. | C10: 742 | D10: 606.47851 | F10: 220 | G10: 172.52105 | H10: 738 | I10: =C10+F10 -> 962 | J10: =D10+G10 -> 778.99956
A11: Cand.Scient.Tech. | C11: 893 | D11: 759.5659 | F11: 923 | G11: 778.24674 | H11: 2239 | I11: =C11+F11 -> 1816 | J11: =D11+G11 -> 1537.8126
A12: MA. Hum. | C12: 1268 | D12: 1078.2293 | F12: 2867 | G12: 2408.6272 | H12: 550 | I12: =C12+F12 -> 4135 | J12: =D12+G12 -> 3486.8565
A13: MA. Nat. | C13: 273 | D13: 229.74552 | F13: 373 | G13: 309.11121 | H13: 91 | I13: =C13+F13 -> 646 | J13: =D13+G13 -> 538.85673
A14: MA. Ph.d. | C14: 57 | D14: 49.7449 | F14: 64 | G14: 53.77035 | H14: 349 | I14: =C14+F14 -> 121 | J14: =D14+G14 -> 103.51525
A15: MA. Samf. | C15: 195 | D15: 170.39918 | F15: 506 | G15: 423.99301 | H15: 204 | I15: =C15+F15 -> 701 | J15: =D15+G15 -> 594.39219
A16: Øvrige Mag. | C16: 97 | D16: 84.66101 | F16: 159 | G16: 129.18481 | H16: 66 | I16: =C16+F16 -> 256 | J16: =D16+G16 -> 213.84582
A17: Agronom | C17: 41 | D17: 35.55854 | F17: 60 | G17: 48.66837 | H17: 40 | I17: =C17+F17 -> 101 | J17: =D17+G17 -> 84.22691
A18: Landsk. Arkt. | C18: 16 | D18: 13.18718 | F18: 34 | G18: 28.93283 | H18: 16 | I18: =C18+F18 -> 50 | J18: =D18+G18 -> 42.12001
A19: Hortonom | C19: 4 | D19: 3.99925 | F19: 5 | G19: 4.16828 | H19: 14 | I19: =C19+F19 -> 9 | J19: =D19+G19 -> 8.16753
A20: Forstkand. | C20: 15 | D20: 13.58822 | E20: 83 | F20: 11 | G20: 10.11289 | H20: 136 | I20: =C20+F20 -> 26 | J20: =D20+G20 -> 23.70111
A21: Jordbrugsakad. | B21: 0 | C21: 76 | D21: 66.33319 | F21: 110 | G21: 91.88237 | I21: =C21+F21 -> 186 | J21: =D21+G21 -> 158.21556
A22: Mejeriing. | C22: 7 | D22: 4.72962 | F22: 8 | G22: 7.9985 | H22: 17 | I22: =C22+F22 -> 15 | J22: =D22+G22 -> 12.72812
A23: Levn.m.kand. | C23: 10 | D23: 7.25566 | F23: 31 | G23: 28.67461 | H23: 110 | I23: =C23+F23 -> 41 | J23: =D23+G23 -> 35.93027
A24: Dyrlæge | C24: 12 | D24: 8.24674 | F24: 83 | G24: 57.83634 | H24: 143 | I24: =C24+F24 -> 95 | J24: =D24+G24 -> 66.08308
A25: Farmaceut | C25: 72 | D25: 62.37635 | F25: 173 | G25: 145.2947 | H25: 66 | I25: =C25+F25 -> 245 | J25: =D25+G25 -> 207.67105
A26: Læge | C26: 123 | D26: 66.37248 | F26: 308 | G26: 169.25404 | H26: 55 | I26: =C26+F26 -> 431 | J26: =D26+G26 -> 235.62652
A27: Tandlæge | C27: 1 | D27: 0.99981 | F27: 24 | G27: 17.03674 | H27: 345 | I27: =C27+F27 -> 25 | J27: =D27+G27 -> 18.03655
A28: Arkitekt | C28: 181 | D28: 155.5417 | F28: 233 | G28: 191.67405 | H28: 7 | I28: =C28+F28 -> 414 | J28: =D28+G28 -> 347.21575
A29: Landinspek. | C29: 7 | D29: 6.81407 | F29: 4 | G29: 2.89154 | H29: 276 | I29: =C29+F29 -> 11 | J29: =D29+G29 -> 9.70561
A30: Bibliotekar | C30: 39 | D30: 34.83316 | F30: 111 | G30: 91.29545 | H30: 32 | I30: =C30+F30 -> 150 | J30: =D30+G30 -> 126.12861
A31: Musikudd. | C31: 11 | D31: 8.57544 | F31: 14 | G31: 10.77528 | H31: 59 | I31: =C31+F31 -> 25 | J31: =D31+G31 -> 19.35072
A32: Teolog | C32: 21 | D32: 17.5513 | F32: 47 | G32: 38.47939 | H32: 279 | I32: =C32+F32 -> 68 | J32: =D32+G32 -> 56.03069
A33: Psykolog | C33: 113 | D33: 96.87644 | F33: 383 | G33: 312.66513 | H33: 372 | I33: =C33+F33 -> 496 | J33: =D33+G33 -> 409.54157
... A44: Bac. Nat. | C44: 121 | D44: 99.07129 | F44: 106 | G44: 80.57756 | H44: 2761 | I44: =C44+F44 -> 227 | J44: =D44+G44 -> 179.64885
A45: Andre | C45: 633 | D45: 520.8495 | F45: 980 | G45: 806.00699 | I45: =C45+F45 -> 1613 | J45: =D45+G45 -> 1326.8565
A47: Total | B47: =SUM(B9:B45)-SUM(B17:B20) -> 0 | C47: =SUM(C9:C45)-SUM(C17:C20) -> 8274 | D47: =SUM(D9:D45)-SUM(D17:D20) -> 6968.8573 | E47: =SUM(E9:E45)-SUM(E17:E20) -> 0 | F47: =SUM(F9:F45)-SUM(F17:F20) -> 11657 | G47: =SUM(G9:G45)-SUM(G17:G20) -> 9608.3478 | H47: =SUM(H9:H45)-SUM(H17:H20) -> 14256 | I47: =SUM(I9:I45)-SUM(I17:I20) -> 19931 | J47: =SUM(J9:J45)-SUM(J17:J20) -> 16577.205
A49: Ingeniører i alt | C49: 1474 | D49: 1209.8572 | F49: 546 | G49: 434.89989 | I49: =C49+F49 -> 2020 | J49: =D49+G49 -> 1644.7571
A50: Magistre i alt | C50: 1890 | D50: 1612.7799 | F50: 3969 | G50: 3324.6866 | I50: =C50+F50 -> 5859 | J50: =D50+G50 -> 4937.4665
A51: DJØF'ere i alt | C51: 1904 | D51: 1641.0491 | F51: 2413 | G51: 2030.4578 | I51: =C51+F51 -> 4317 | J51: =D51+G51 -> 3671.5069
A52: Se sidste del af statistikken for en oversigt over uddannelsesgrupperingernes indhold

Sheet Tabel 3
A1: Landstatistik
A3: Tabel 3. Antal bruttoledige i procent af antal forsikrede
C5: Mænd | F5: Kvinder | G5: Kvinder | I5: I alt | J5: I alt
C6: Ledigheds-berørte | D6: Fuldtids-personer | F6: Ledigheds-berørte | G6: Fuldtids-personer | I6: Ledigheds-berørte | J6: Fuldtids-personer
A9: Civ. Ing. | C9: =IF(OR('Tabel 1'!$D9<5,'Tabel 2'!C9<0.5),"-",IFERROR('Tabel 2'!C9/'Tabel 1'!$D9*100,"-")) -> 3.168694 | D9: =IF(OR('Tabel 1'!$D9<5,'Tabel 2'!D9<0.5),"-",IFERROR('Tabel 2'!D9/'Tabel 1'!$D9*100,"-")) -> 2.6119158 | F9: =IF(OR('Tabel 1'!$G9<5,'Tabel 2'!F9<0.5),"-",IFERROR('Tabel 2'!F9/'Tabel 1'!$G9*100,"-")) -> 3.9712511 | G9: =IF(OR('Tabel 1'!$G9<5,'Tabel 2'!G9<0.5),"-",IFERROR('Tabel 2'!G9/'Tabel 1'!$G9*100,"-")) -> 3.1962339 | I9: =IF(OR('Tabel 1'!$J9<5,'Tabel 2'!I9<0.5),"-",IFERROR('Tabel 2'!I9/'Tabel 1'!$J9*100,"-")) -> 3.3791121 | J9: =IF(OR('Tabel 1'!$J9<5,'Tabel 2'!J9<0.5),"-",IFERROR('Tabel 2'!J9/'Tabel 1'!$J9*100,"-")) -> 2.765115
A10: Diplom Ing. | C10: =IF(OR('Tabel 1'!$D10<5,'Tabel 2'!C10<0.5),"-",IFERROR('Tabel 2'!C10/'Tabel 1'!$D10*100,"-")) -> 2.691624 | D10: =IF(OR('Tabel 1'!$D10<5,'Tabel 2'!D10<0.5),"-",IFERROR('Tabel 2'!D10/'Tabel 1'!$D10*100,"-")) -> 2.2000164 | F10: =IF(OR('Tabel 1'!$G10<5,'Tabel 2'!F10<0.5),"-",IFERROR('Tabel 2'!F10/'Tabel 1'!$G10*100,"-")) -> 3.4623859 | G10: =IF(OR('Tabel 1'!$G10<5,'Tabel 2'!G10<0.5),"-",IFERROR('Tabel 2'!G10/'Tabel 1'!$G10*100,"-")) -> 2.7151566 | I10: =IF(OR('Tabel 1'!$J10<5,'Tabel 2'!I10<0.5),"-",IFERROR('Tabel 2'!I10/'Tabel 1'!$J10*100,"-")) -> 2.8360013 | J10: =IF(OR('Tabel 1'!$J10<5,'Tabel 2'!J10<0.5),"-",IFERROR('Tabel 2'!J10/'Tabel 1'!$J10*100,"-")) -> 2.2965112
A11: Cand.Scient.Tech. | C11: =IF(OR('Tabel 1'!$D11<5,'Tabel 2'!C11<0.5),"-",IFERROR('Tabel 2'!C11/'Tabel 1'!$D11*100,"-")) -> 9.2596433 | D11: =IF(OR('Tabel 1'!$D11<5,'Tabel 2'!D11<0.5),"-",IFERROR('Tabel 2'!D11/'Tabel 1'!$D11*100,"-")) -> 7.8760462 | F11: =IF(OR('Tabel 1'!$G11<5,'Tabel 2'!F11<0.5),"-",IFERROR('Tabel 2'!F11/'Tabel 1'!$G11*100,"-")) -> 11.670249 | G11: =IF(OR('Tabel 1'!$G11<5,'Tabel 2'!G11<0.5),"-",IFERROR('Tabel 2'!G11/'Tabel 1'!$G11*100,"-")) -> 9.8400144 | I11: =IF(OR('Tabel 1'!$J11<5,'Tabel 2'!I11<0.5),"-",IFERROR('Tabel 2'!I11/'Tabel 1'!$J11*100,"-")) -> 10.34581 | J11: =IF(OR('Tabel 1'!$J11<5,'Tabel 2'!J11<0.5),"-",IFERROR('Tabel 2'!J11/'Tabel 1'!$J11*100,"-")) -> 8.7609676
A12: MA. Hum. | C12: =IF(OR('Tabel 1'!$D12<5,'Tabel 2'!C12<0.5),"-",IFERROR('Tabel 2'!C12/'Tabel 1'!$D12*100,"-")) -> 9.8493087 | D12: =IF(OR('Tabel 1'!$D12<5,'Tabel 2'!D12<0.5),"-",IFERROR('Tabel 2'!D12/'Tabel 1'!$D12*100,"-")) -> 8.3752469 | F12: =IF(OR('Tabel 1'!$G12<5,'Tabel 2'!F12<0.5),"-",IFERROR('Tabel 2'!F12/'Tabel 1'!$G12*100,"-")) -> 10.335629 | G12: =IF(OR('Tabel 1'!$G12<5,'Tabel 2'!G12<0.5),"-",IFERROR('Tabel 2'!G12/'Tabel 1'!$G12*100,"-")) -> 8.6831797 | I12: =IF(OR('Tabel 1'!$J12<5,'Tabel 2'!I12<0.5),"-",IFERROR('Tabel 2'!I12/'Tabel 1'!$J12*100,"-")) -> 10.181469 | J12: =IF(OR('Tabel 1'!$J12<5,'Tabel 2'!J12<0.5),"-",IFERROR('Tabel 2'!J12/'Tabel 1'!$J12*100,"-")) -> 8.5855674
A13: MA. Nat. | C13: =IF(OR('Tabel 1'!$D13<5,'Tabel 2'!C13<0.5),"-",IFERROR('Tabel 2'!C13/'Tabel 1'!$D13*100,"-")) -> 3.5607148 | D13: =IF(OR('Tabel 1'!$D13<5,'Tabel 2'!D13<0.5),"-",IFERROR('Tabel 2'!D13/'Tabel 1'!$D13*100,"-")) -> 2.9965504 | F13: =IF(OR('Tabel 1'!$G13<5,'Tabel 2'!F13<0.5),"-",IFERROR('Tabel 2'!F13/'Tabel 1'!$G13*100,"-")) -> 5.2513023 | G13: =IF(OR('Tabel 1'!$G13<5,'Tabel 2'!G13<0.5),"-",IFERROR('Tabel 2'!G13/'Tabel 1'!$G13*100,"-")) -> 4.3518402 | I13: =IF(OR('Tabel 1'!$J13<5,'Tabel 2'!I13<0.5),"-",IFERROR('Tabel 2'!I13/'Tabel 1'!$J13*100,"-")) -> 4.3737305 | J13: =IF(OR('Tabel 1'!$J13<5,'Tabel 2'!J13<0.5),"-",IFERROR('Tabel 2'!J13/'Tabel 1'!$J13*100,"-")) -> 3.6483191
A14: MA. Ph.d. | C14: =IF(OR('Tabel 1'!$D14<5,'Tabel 2'!C14<0.5),"-",IFERROR('Tabel 2'!C14/'Tabel 1'!$D14*100,"-")) -> 4.2347697 | D14: =IF(OR('Tabel 1'!$D14<5,'Tabel 2'!D14<0.5),"-",IFERROR('Tabel 2'!D14/'Tabel 1'!$D14*100,"-")) -> 3.6957578 | F14: =IF(OR('Tabel 1'!$G14<5,'Tabel 2'!F14<0.5),"-",IFERROR('Tabel 2'!F14/'Tabel 1'!$G14*100,"-")) -> 5.9424327 | G14: =IF(OR('Tabel 1'!$G14<5,'Tabel 2'!G14<0.5),"-",IFERROR('Tabel 2'!G14/'Tabel 1'!$G14*100,"-")) -> 4.9926045 | I14: =IF(OR('Tabel 1'!$J14<5,'Tabel 2'!I14<0.5),"-",IFERROR('Tabel 2'!I14/'Tabel 1'!$J14*100,"-")) -> 4.9938093 | J14: =IF(OR('Tabel 1'!$J14<5,'Tabel 2'!J14<0.5),"-",IFERROR('Tabel 2'!J14/'Tabel 1'!$J14*100,"-")) -> 4.2721936
A15: MA. Samf. | C15: =IF(OR('Tabel 1'!$D15<5,'Tabel 2'!C15<0.5),"-",IFERROR('Tabel 2'!C15/'Tabel 1'!$D15*100,"-")) -> 14.48737 | D15: =IF(OR('Tabel 1'!$D15<5,'Tabel 2'!D15<0.5),"-",IFERROR('Tabel 2'!D15/'Tabel 1'!$D15*100,"-")) -> 12.659672 | F15: =IF(OR('Tabel 1'!$G15<5,'Tabel 2'!F15<0.5),"-",IFERROR('Tabel 2'!F15/'Tabel 1'!$G15*100,"-")) -> 14.213483 | G15: =IF(OR('Tabel 1'!$G15<5,'Tabel 2'!G15<0.5),"-",IFERROR('Tabel 2'!G15/'Tabel 1'!$G15*100,"-")) -> 11.909916 | I15: =IF(OR('Tabel 1'!$J15<5,'Tabel 2'!I15<0.5),"-",IFERROR('Tabel 2'!I15/'Tabel 1'!$J15*100,"-")) -> 14.288626 | J15: =IF(OR('Tabel 1'!$J15<5,'Tabel 2'!J15<0.5),"-",IFERROR('Tabel 2'!J15/'Tabel 1'!$J15*100,"-")) -> 12.115617
A16: Øvrige Mag. | C16: =IF(OR('Tabel 1'!$D16<5,'Tabel 2'!C16<0.5),"-",IFERROR('Tabel 2'!C16/'Tabel 1'!$D16*100,"-")) -> 8.576481 | D16: =IF(OR('Tabel 1'!$D16<5,'Tabel 2'!D16<0.5),"-",IFERROR('Tabel 2'!D16/'Tabel 1'!$D16*100,"-")) -> 7.4855004 | F16: =IF(OR('Tabel 1'!$G16<5,'Tabel 2'!F16<0.5),"-",IFERROR('Tabel 2'!F16/'Tabel 1'!$G16*100,"-")) -> 7.6185913 | G16: =IF(OR('Tabel 1'!$G16<5,'Tabel 2'!G16<0.5),"-",IFERROR('Tabel 2'!G16/'Tabel 1'!$G16*100,"-")) -> 6.1899765 | I16: =IF(OR('Tabel 1'!$J16<5,'Tabel 2'!I16<0.5),"-",IFERROR('Tabel 2'!I16/'Tabel 1'!$J16*100,"-")) -> 7.9552517 | J16: =IF(OR('Tabel 1'!$J16<5,'Tabel 2'!J16<0.5),"-",IFERROR('Tabel 2'!J16/'Tabel 1'!$J16*100,"-")) -> 6.6453021
A17: Agronom | C17: =IF(OR('Tabel 1'!$D17<5,'Tabel 2'!C17<0.5),"-",IFERROR('Tabel 2'!C17/'Tabel 1'!$D17*100,"-")) -> 3.3772652 | D17: =IF(OR('Tabel 1'!$D17<5,'Tabel 2'!D17<0.5),"-",IFERROR('Tabel 2'!D17/'Tabel 1'!$D17*100,"-")) -> 2.9290395 | F17: =IF(OR('Tabel 1'!$G17<5,'Tabel 2'!F17<0.5),"-",IFERROR('Tabel 2'!F17/'Tabel 1'!$G17*100,"-")) -> 5.1457976 | G17: =IF(OR('Tabel 1'!$G17<5,'Tabel 2'!G17<0.5),"-",IFERROR('Tabel 2'!G17/'Tabel 1'!$G17*100,"-")) -> 4.1739597 | I17: =IF(OR('Tabel 1'!$J17<5,'Tabel 2'!I17<0.5),"-",IFERROR('Tabel 2'!I17/'Tabel 1'!$J17*100,"-")) -> 4.2436975 | J17: =IF(OR('Tabel 1'!$J17<5,'Tabel 2'!J17<0.5),"-",IFERROR('Tabel 2'!J17/'Tabel 1'!$J17*100,"-")) -> 3.5389458
A18: Landsk. Arkt. | C18: =IF(OR('Tabel 1'!$D18<5,'Tabel 2'!C18<0.5),"-",IFERROR('Tabel 2'!C18/'Tabel 1'!$D18*100,"-")) -> 8.4210526 | D18: =IF(OR('Tabel 1'!$D18<5,'Tabel 2'!D18<0.5),"-",IFERROR('Tabel 2'!D18/'Tabel 1'!$D18*100,"-")) -> 6.9406211 | F18: =IF(OR('Tabel 1'!$G18<5,'Tabel 2'!F18<0.5),"-",IFERROR('Tabel 2'!F18/'Tabel 1'!$G18*100,"-")) -> 6.8136273 | G18: =IF(OR('Tabel 1'!$G18<5,'Tabel 2'!G18<0.5),"-",IFERROR('Tabel 2'!G18/'Tabel 1'!$G18*100,"-")) -> 5.7981623 | I18: =IF(OR('Tabel 1'!$J18<5,'Tabel 2'!I18<0.5),"-",IFERROR('Tabel 2'!I18/'Tabel 1'!$J18*100,"-")) -> 7.256894 | J18: =IF(OR('Tabel 1'!$J18<5,'Tabel 2'!J18<0.5),"-",IFERROR('Tabel 2'!J18/'Tabel 1'!$J18*100,"-")) -> 6.113209
A19: Hortonom | C19: =IF(OR('Tabel 1'!$D19<5,'Tabel 2'!C19<0.5),"-",IFERROR('Tabel 2'!C19/'Tabel 1'!$D19*100,"-")) -> 3.3057851 | D19: =IF(OR('Tabel 1'!$D19<5,'Tabel 2'!D19<0.5),"-",IFERROR('Tabel 2'!D19/'Tabel 1'!$D19*100,"-")) -> 3.3051653 | F19: =IF(OR('Tabel 1'!$G19<5,'Tabel 2'!F19<0.5),"-",IFERROR('Tabel 2'!F19/'Tabel 1'!$G19*100,"-")) -> 2.4630542 | G19: =IF(OR('Tabel 1'!$G19<5,'Tabel 2'!G19<0.5),"-",IFERROR('Tabel 2'!G19/'Tabel 1'!$G19*100,"-")) -> 2.0533399 | I19: =IF(OR('Tabel 1'!$J19<5,'Tabel 2'!I19<0.5),"-",IFERROR('Tabel 2'!I19/'Tabel 1'!$J19*100,"-")) -> 2.7777778 | J19: =IF(OR('Tabel 1'!$J19<5,'Tabel 2'!J19<0.5),"-",IFERROR('Tabel 2'!J19/'Tabel 1'!$J19*100,"-")) -> 2.5208426
A20: Forstkand. | C20: =IF(OR('Tabel 1'!$D20<5,'Tabel 2'!C20<0.5),"-",IFERROR('Tabel 2'!C20/'Tabel 1'!$D20*100,"-")) -> 3.9473684 | D20: =IF(OR('Tabel 1'!$D20<5,'Tabel 2'!D20<0.5),"-",IFERROR('Tabel 2'!D20/'Tabel 1'!$D20*100,"-")) -> 3.5758474 | F20: =IF(OR('Tabel 1'!$G20<5,'Tabel 2'!F20<0.5),"-",IFERROR('Tabel 2'!F20/'Tabel 1'!$G20*100,"-")) -> 8.4615385 | G20: =IF(OR('Tabel 1'!$G20<5,'Tabel 2'!G20<0.5),"-",IFERROR('Tabel 2'!G20/'Tabel 1'!$G20*100,"-")) -> 7.7791462 | I20: =IF(OR('Tabel 1'!$J20<5,'Tabel 2'!I20<0.5),"-",IFERROR('Tabel 2'!I20/'Tabel 1'!$J20*100,"-")) -> 5.0980392 | J20: =IF(OR('Tabel 1'!$J20<5,'Tabel 2'!J20<0.5),"-",IFERROR('Tabel 2'!J20/'Tabel 1'!$J20*100,"-")) -> 4.6472765
A21: Jordbrugsakad. | B21: 0 | C21: =IF(OR('Tabel 1'!$D21<5,'Tabel 2'!C21<0.5),"-",IFERROR('Tabel 2'!C21/'Tabel 1'!$D21*100,"-")) -> 3.9895013 | D21: =IF(OR('Tabel 1'!$D21<5,'Tabel 2'!D21<0.5),"-",IFERROR('Tabel 2'!D21/'Tabel 1'!$D21*100,"-")) -> 3.4820572 | F21: =IF(OR('Tabel 1'!$G21<5,'Tabel 2'!F21<0.5),"-",IFERROR('Tabel 2'!F21/'Tabel 1'!$G21*100,"-")) -> 5.5055055 | G21: =IF(OR('Tabel 1'!$G21<5,'Tabel 2'!G21<0.5),"-",IFERROR('Tabel 2'!G21/'Tabel 1'!$G21*100,"-")) -> 4.5987172 | I21: =IF(OR('Tabel 1'!$J21<5,'Tabel 2'!I21<0.5),"-",IFERROR('Tabel 2'!I21/'Tabel 1'!$J21*100,"-")) -> 4.765565 | J21: =IF(OR('Tabel 1'!$J21<5,'Tabel 2'!J21<0.5),"-",IFERROR('Tabel 2'!J21/'Tabel 1'!$J21*100,"-")) -> 4.053691
A22: Mejeriing. | C22: =IF(OR('Tabel 1'!$D22<5,'Tabel 2'!C22<0.5),"-",IFERROR('Tabel 2'!C22/'Tabel 1'!$D22*100,"-")) -> 3.7433155 | D22: =IF(OR('Tabel 1'!$D22<5,'Tabel 2'!D22<0.5),"-",IFERROR('Tabel 2'!D22/'Tabel 1'!$D22*100,"-")) -> 2.5292086 | F22: =IF(OR('Tabel 1'!$G22<5,'Tabel 2'!F22<0.5),"-",IFERROR('Tabel 2'!F22/'Tabel 1'!$G22*100,"-")) -> 4.8780488 | G22: =IF(OR('Tabel 1'!$G22<5,'Tabel 2'!G22<0.5),"-",IFERROR('Tabel 2'!G22/'Tabel 1'!$G22*100,"-")) -> 4.8771341 | I22: =IF(OR('Tabel 1'!$J22<5,'Tabel 2'!I22<0.5),"-",IFERROR('Tabel 2'!I22/'Tabel 1'!$J22*100,"-")) -> 4.2735043 | J22: =IF(OR('Tabel 1'!$J22<5,'Tabel 2'!J22<0.5),"-",IFERROR('Tabel 2'!J22/'Tabel 1'!$J22*100,"-")) -> 3.626245
A23: Levn.m.kand. | C23: =IF(OR('Tabel 1'!$D23<5,'Tabel 2'!C23<0.5),"-",IFERROR('Tabel 2'!C23/'Tabel 1'!$D23*100,"-")) -> 18.867925 | D23: =IF(OR('Tabel 1'!$D23<5,'Tabel 2'!D23<0.5),"-",IFERROR('Tabel 2'!D23/'Tabel 1'!$D23*100,"-")) -> 13.689925 | F23: =IF(OR('Tabel 1'!$G23<5,'Tabel 2'!F23<0.5),"-",IFERROR('Tabel 2'!F23/'Tabel 1'!$G23*100,"-")) -> 8.6834734 | G23: =IF(OR('Tabel 1'!$G23<5,'Tabel 2'!G23<0.5),"-",IFERROR('Tabel 2'!G23/'Tabel 1'!$G23*100,"-")) -> 8.0321036 | I23: =IF(OR('Tabel 1'!$J23<5,'Tabel 2'!I23<0.5),"-",IFERROR('Tabel 2'!I23/'Tabel 1'!$J23*100,"-")) -> 10 | J23: =IF(OR('Tabel 1'!$J23<5,'Tabel 2'!J23<0.5),"-",IFERROR('Tabel 2'!J23/'Tabel 1'!$J23*100,"-")) -> 8.7634805
A24: Dyrlæge | C24: =IF(OR('Tabel 1'!$D24<5,'Tabel 2'!C24<0.5),"-",IFERROR('Tabel 2'!C24/'Tabel 1'!$D24*100,"-")) -> 2.690583 | D24: =IF(OR('Tabel 1'!$D24<5,'Tabel 2'!D24<0.5),"-",IFERROR('Tabel 2'!D24/'Tabel 1'!$D24*100,"-")) -> 1.8490448 | F24: =IF(OR('Tabel 1'!$G24<5,'Tabel 2'!F24<0.5),"-",IFERROR('Tabel 2'!F24/'Tabel 1'!$G24*100,"-")) -> 4.3961864 | G24: =IF(OR('Tabel 1'!$G24<5,'Tabel 2'!G24<0.5),"-",IFERROR('Tabel 2'!G24/'Tabel 1'!$G24*100,"-")) -> 3.0633655 | I24: =IF(OR('Tabel 1'!$J24<5,'Tabel 2'!I24<0.5),"-",IFERROR('Tabel 2'!I24/'Tabel 1'!$J24*100,"-")) -> 4.0702656 | J24: =IF(OR('Tabel 1'!$J24<5,'Tabel 2'!J24<0.5),"-",IFERROR('Tabel 2'!J24/'Tabel 1'!$J24*100,"-")) -> 2.8313231
A25: Farmaceut | C25: =IF(OR('Tabel 1'!$D25<5,'Tabel 2'!C25<0.5),"-",IFERROR('Tabel 2'!C25/'Tabel 1'!$D25*100,"-")) -> 5.2401747 | D25: =IF(OR('Tabel 1'!$D25<5,'Tabel 2'!D25<0.5),"-",IFERROR('Tabel 2'!D25/'Tabel 1'!$D25*100,"-")) -> 4.5397635 | F25: =IF(OR('Tabel 1'!$G25<5,'Tabel 2'!F25<0.5),"-",IFERROR('Tabel 2'!F25/'Tabel 1'!$G25*100,"-")) -> 4.4484443 | G25: =IF(OR('Tabel 1'!$G25<5,'Tabel 2'!G25<0.5),"-",IFERROR('Tabel 2'!G25/'Tabel 1'!$G25*100,"-")) -> 3.7360427 | I25: =IF(OR('Tabel 1'!$J25<5,'Tabel 2'!I25<0.5),"-",IFERROR('Tabel 2'!I25/'Tabel 1'!$J25*100,"-")) -> 4.6551397 | J25: =IF(OR('Tabel 1'!$J25<5,'Tabel 2'!J25<0.5),"-",IFERROR('Tabel 2'!J25/'Tabel 1'!$J25*100,"-")) -> 3.9458683
A26: Læge | C26: =IF(OR('Tabel 1'!$D26<5,'Tabel 2'!C26<0.5),"-",IFERROR('Tabel 2'!C26/'Tabel 1'!$D26*100,"-")) -> 3.4319196 | D26: =IF(OR('Tabel 1'!$D26<5,'Tabel 2'!D26<0.5),"-",IFERROR('Tabel 2'!D26/'Tabel 1'!$D26*100,"-")) -> 1.8519107 | F26: =IF(OR('Tabel 1'!$G26<5,'Tabel 2'!F26<0.5),"-",IFERROR('Tabel 2'!F26/'Tabel 1'!$G26*100,"-")) -> 3.8095238 | G26: =IF(OR('Tabel 1'!$G26<5,'Tabel 2'!G26<0.5),"-",IFERROR('Tabel 2'!G26/'Tabel 1'!$G26*100,"-")) -> 2.0934328 | I26: =IF(OR('Tabel 1'!$J26<5,'Tabel 2'!I26<0.5),"-",IFERROR('Tabel 2'!I26/'Tabel 1'!$J26*100,"-")) -> 3.693547 | J26: =IF(OR('Tabel 1'!$J26<5,'Tabel 2'!J26<0.5),"-",IFERROR('Tabel 2'!J26/'Tabel 1'!$J26*100,"-")) -> 2.019252
A27: Tandlæge | C27: =IF(OR('Tabel 1'!$D27<5,'Tabel 2'!C27<0.5),"-",IFERROR('Tabel 2'!C27/'Tabel 1'!$D27*100,"-")) -> 0.34129693 | D27: =IF(OR('Tabel 1'!$D27<5,'Tabel 2'!D27<0.5),"-",IFERROR('Tabel 2'!D27/'Tabel 1'!$D27*100,"-")) -> 0.34123208 | F27: =IF(OR('Tabel 1'!$G27<5,'Tabel 2'!F27<0.5),"-",IFERROR('Tabel 2'!F27/'Tabel 1'!$G27*100,"-")) -> 1.4184397 | G27: =IF(OR('Tabel 1'!$G27<5,'Tabel 2'!G27<0.5),"-",IFERROR('Tabel 2'!G27/'Tabel 1'!$G27*100,"-")) -> 1.0068995 | I27: =IF(OR('Tabel 1'!$J27<5,'Tabel 2'!I27<0.5),"-",IFERROR('Tabel 2'!I27/'Tabel 1'!$J27*100,"-")) -> 1.2594458 | J27: =IF(OR('Tabel 1'!$J27<5,'Tabel 2'!J27<0.5),"-",IFERROR('Tabel 2'!J27/'Tabel 1'!$J27*100,"-")) -> 0.90864232
A28: Arkitekt | C28: =IF(OR('Tabel 1'!$D28<5,'Tabel 2'!C28<0.5),"-",IFERROR('Tabel 2'!C28/'Tabel 1'!$D28*100,"-")) -> 6.6422018 | D28: =IF(OR('Tabel 1'!$D28<5,'Tabel 2'!D28<0.5),"-",IFERROR('Tabel 2'!D28/'Tabel 1'!$D28*100,"-")) -> 5.7079523 | F28: =IF(OR('Tabel 1'!$G28<5,'Tabel 2'!F28<0.5),"-",IFERROR('Tabel 2'!F28/'Tabel 1'!$G28*100,"-")) -> 7.0691748 | G28: =IF(OR('Tabel 1'!$G28<5,'Tabel 2'!G28<0.5),"-",IFERROR('Tabel 2'!G28/'Tabel 1'!$G28*100,"-")) -> 5.8153535 | I28: =IF(OR('Tabel 1'!$J28<5,'Tabel 2'!I28<0.5),"-",IFERROR('Tabel 2'!I28/'Tabel 1'!$J28*100,"-")) -> 6.8759342 | J28: =IF(OR('Tabel 1'!$J28<5,'Tabel 2'!J28<0.5),"-",IFERROR('Tabel 2'!J28/'Tabel 1'!$J28*100,"-")) -> 5.7667456
A29: Landinspek. | C29: =IF(OR('Tabel 1'!$D29<5,'Tabel 2'!C29<0.5),"-",IFERROR('Tabel 2'!C29/'Tabel 1'!$D29*100,"-")) -> 1.1686144 | D29: =IF(OR('Tabel 1'!$D29<5,'Tabel 2'!D29<0.5),"-",IFERROR('Tabel 2'!D29/'Tabel 1'!$D29*100,"-")) -> 1.1375743 | F29: =IF(OR('Tabel 1'!$G29<5,'Tabel 2'!F29<0.5),"-",IFERROR('Tabel 2'!F29/'Tabel 1'!$G29*100,"-")) -> 1.6129032 | G29: =IF(OR('Tabel 1'!$G29<5,'Tabel 2'!G29<0.5),"-",IFERROR('Tabel 2'!G29/'Tabel 1'!$G29*100,"-")) -> 1.1659435 | I29: =IF(OR('Tabel 1'!$J29<5,'Tabel 2'!I29<0.5),"-",IFERROR('Tabel 2'!I29/'Tabel 1'!$J29*100,"-")) -> 1.2987013 | J29: =IF(OR('Tabel 1'!$J29<5,'Tabel 2'!J29<0.5),"-",IFERROR('Tabel 2'!J29/'Tabel 1'!$J29*100,"-")) -> 1.1458808
A30: Bibliotekar | C30: =IF(OR('Tabel 1'!$D30<5,'Tabel 2'!C30<0.5),"-",IFERROR('Tabel 2'!C30/'Tabel 1'!$D30*100,"-")) -> 4.3333333 | D30: =IF(OR('Tabel 1'!$D30<5,'Tabel 2'!D30<0.5),"-",IFERROR('Tabel 2'!D30/'Tabel 1'!$D30*100,"-")) -> 3.8703511 | F30: =IF(OR('Tabel 1'!$G30<5,'Tabel 2'!F30<0.5),"-",IFERROR('Tabel 2'!F30/'Tabel 1'!$G30*100,"-")) -> 4.2824074 | G30: =IF(OR('Tabel 1'!$G30<5,'Tabel 2'!G30<0.5),"-",IFERROR('Tabel 2'!G30/'Tabel 1'!$G30*100,"-")) -> 3.522201 | I30: =IF(OR('Tabel 1'!$J30<5,'Tabel 2'!I30<0.5),"-",IFERROR('Tabel 2'!I30/'Tabel 1'!$J30*100,"-")) -> 4.2955326 | J30: =IF(OR('Tabel 1'!$J30<5,'Tabel 2'!J30<0.5),"-",IFERROR('Tabel 2'!J30/'Tabel 1'!$J30*100,"-")) -> 3.6119304
A31: Musikudd. | C31: =IF(OR('Tabel 1'!$D31<5,'Tabel 2'!C31<0.5),"-",IFERROR('Tabel 2'!C31/'Tabel 1'!$D31*100,"-")) -> 2.6634383 | D31: =IF(OR('Tabel 1'!$D31<5,'Tabel 2'!D31<0.5),"-",IFERROR('Tabel 2'!D31/'Tabel 1'!$D31*100,"-")) -> 2.0763777 | F31: =IF(OR('Tabel 1'!$G31<5,'Tabel 2'!F31<0.5),"-",IFERROR('Tabel 2'!F31/'Tabel 1'!$G31*100,"-")) -> 2.6022305 | G31: =IF(OR('Tabel 1'!$G31<5,'Tabel 2'!G31<0.5),"-",IFERROR('Tabel 2'!G31/'Tabel 1'!$G31*100,"-")) -> 2.0028401 | I31: =IF(OR('Tabel 1'!$J31<5,'Tabel 2'!I31<0.5),"-",IFERROR('Tabel 2'!I31/'Tabel 1'!$J31*100,"-")) -> 2.6288118 | J31: =IF(OR('Tabel 1'!$J31<5,'Tabel 2'!J31<0.5),"-",IFERROR('Tabel 2'!J31/'Tabel 1'!$J31*100,"-")) -> 2.034776
A32: Teolog | C32: =IF(OR('Tabel 1'!$D32<5,'Tabel 2'!C32<0.5),"-",IFERROR('Tabel 2'!C32/'Tabel 1'!$D32*100,"-")) -> 3.1626506 | D32: =IF(OR('Tabel 1'!$D32<5,'Tabel 2'!D32<0.5),"-",IFERROR('Tabel 2'!D32/'Tabel 1'!$D32*100,"-")) -> 2.6432681 | F32: =IF(OR('Tabel 1'!$G32<5,'Tabel 2'!F32<0.5),"-",IFERROR('Tabel 2'!F32/'Tabel 1'!$G32*100,"-")) -> 4.3761639 | G32: =IF(OR('Tabel 1'!$G32<5,'Tabel 2'!G32<0.5),"-",IFERROR('Tabel 2'!G32/'Tabel 1'!$G32*100,"-")) -> 3.582811 | I32: =IF(OR('Tabel 1'!$J32<5,'Tabel 2'!I32<0.5),"-",IFERROR('Tabel 2'!I32/'Tabel 1'!$J32*100,"-")) -> 3.9125432 | J32: =IF(OR('Tabel 1'!$J32<5,'Tabel 2'!J32<0.5),"-",IFERROR('Tabel 2'!J32/'Tabel 1'!$J32*100,"-")) -> 3.2238602
A33: Psykolog | C33: =IF(OR('Tabel 1'!$D33<5,'Tabel 2'!C33<0.5),"-",IFERROR('Tabel 2'!C33/'Tabel 1'!$D33*100,"-")) -> 7.9858657 | D33: =IF(OR('Tabel 1'!$D33<5,'Tabel 2'!D33<0.5),"-",IFERROR('Tabel 2'!D33/'Tabel 1'!$D33*100,"-")) -> 6.8463915 | F33: =IF(OR('Tabel 1'!$G33<5,'Tabel 2'!F33<0.5),"-",IFERROR('Tabel 2'!F33/'Tabel 1'!$G33*100,"-")) -> 5.8932143 | G33: =IF(OR('Tabel 1'!$G33<5,'Tabel 2'!G33<0.5),"-",IFERROR('Tabel 2'!G33/'Tabel 1'!$G33*100,"-")) -> 4.8109729 | I33: =IF(OR('Tabel 1'!$J33<5,'Tabel 2'!I33<0.5),"-",IFERROR('Tabel 2'!I33/'Tabel 1'!$J33*100,"-")) -> 6.2673743 | J33: =IF(OR('Tabel 1'!$J33<5,'Tabel 2'!J33<0.5),"-",IFERROR('Tabel 2'!J33/'Tabel 1'!$J33*100,"-")) -> 5.1748998
... A45: Andre | C45: =IF(OR('Tabel 1'!$D45<5,'Tabel 2'!C45<0.5),"-",IFERROR('Tabel 2'!C45/'Tabel 1'!$D45*100,"-")) -> 5.7534994 | D45: =IF(OR('Tabel 1'!$D45<5,'Tabel 2'!D45<0.5),"-",IFERROR('Tabel 2'!D45/'Tabel 1'!$D45*100,"-")) -> 4.7341347 | F45: =IF(OR('Tabel 1'!$G45<5,'Tabel 2'!F45<0.5),"-",IFERROR('Tabel 2'!F45/'Tabel 1'!$G45*100,"-")) -> 8.8583567 | G45: =IF(OR('Tabel 1'!$G45<5,'Tabel 2'!G45<0.5),"-",IFERROR('Tabel 2'!G45/'Tabel 1'!$G45*100,"-")) -> 7.2856096 | I45: =IF(OR('Tabel 1'!$J45<5,'Tabel 2'!I45<0.5),"-",IFERROR('Tabel 2'!I45/'Tabel 1'!$J45*100,"-")) -> 7.3102198 | J45: =IF(OR('Tabel 1'!$J45<5,'Tabel 2'!J45<0.5),"-",IFERROR('Tabel 2'!J45/'Tabel 1'!$J45*100,"-")) -> 6.013399
A47: Total | B47: =SUM(B9:B45)-SUM(B17:B20) -> 0 | C47: =IF(OR('Tabel 1'!$D47<5,'Tabel 2'!C47<0.5),"-",IFERROR('Tabel 2'!C47/'Tabel 1'!$D47*100,"-")) -> 5.084777 | D47: =IF(OR('Tabel 1'!$D47<5,'Tabel 2'!D47<0.5),"-",IFERROR('Tabel 2'!D47/'Tabel 1'!$D47*100,"-")) -> 4.2827031 | E47: =IF('Tabel 1'!$G47<10,"-",'Tabel 2'!E47/'Tabel 1'!$G47*100) -> 0 | F47: =IF(OR('Tabel 1'!$G47<5,'Tabel 2'!F47<0.5),"-",IFERROR('Tabel 2'!F47/'Tabel 1'!$G47*100,"-")) -> 6.8121786 | G47: =IF(OR('Tabel 1'!$G47<5,'Tabel 2'!G47<0.5),"-",IFERROR('Tabel 2'!G47/'Tabel 1'!$G47*100,"-")) -> 5.6149765 | H47: =IF('Tabel 1'!$G47<10,"-",'Tabel 2'!H47/'Tabel 1'!$G47*100) -> 8.3309958 | I47: =IF(OR('Tabel 1'!$J47<5,'Tabel 2'!I47<0.5),"-",IFERROR('Tabel 2'!I47/'Tabel 1'!$J47*100,"-")) -> 5.9702074 | J47: =IF(OR('Tabel 1'!$J47<5,'Tabel 2'!J47<0.5),"-",IFERROR('Tabel 2'!J47/'Tabel 1'!$J47*100,"-")) -> 4.9655989
A49: Ingeniører i alt | B49: =IF('Tabel 1'!$D49<10,"-",'Tabel 2'!B49/'Tabel 1'!$D49*100) -> 0 | C49: =IF(OR('Tabel 1'!$D49<5,'Tabel 2'!C49<0.5),"-",IFERROR('Tabel 2'!C49/'Tabel 1'!$D49*100,"-")) -> 2.909134 | D49: =IF(OR('Tabel 1'!$D49<5,'Tabel 2'!D49<0.5),"-",IFERROR('Tabel 2'!D49/'Tabel 1'!$D49*100,"-")) -> 2.3878132 | F49: =IF(OR('Tabel 1'!$G49<5,'Tabel 2'!F49<0.5),"-",IFERROR('Tabel 2'!F49/'Tabel 1'!$G49*100,"-")) -> 3.7492275 | G49: =IF(OR('Tabel 1'!$G49<5,'Tabel 2'!G49<0.5),"-",IFERROR('Tabel 2'!G49/'Tabel 1'!$G49*100,"-")) -> 2.9863345 | I49: =IF(OR('Tabel 1'!$J49<5,'Tabel 2'!I49<0.5),"-",IFERROR('Tabel 2'!I49/'Tabel 1'!$J49*100,"-")) -> 3.0966872 | J49: =IF(OR('Tabel 1'!$J49<5,'Tabel 2'!J49<0.5),"-",IFERROR('Tabel 2'!J49/'Tabel 1'!$J49*100,"-")) -> 2.5214347
A50: Magistre i alt | C50: =IF(OR('Tabel 1'!$D50<5,'Tabel 2'!C50<0.5),"-",IFERROR('Tabel 2'!C50/'Tabel 1'!$D50*100,"-")) -> 7.7573469 | D50: =IF(OR('Tabel 1'!$D50<5,'Tabel 2'!D50<0.5),"-",IFERROR('Tabel 2'!D50/'Tabel 1'!$D50*100,"-")) -> 6.6195202 | F50: =IF(OR('Tabel 1'!$G50<5,'Tabel 2'!F50<0.5),"-",IFERROR('Tabel 2'!F50/'Tabel 1'!$G50*100,"-")) -> 9.5486696 | G50: =IF(OR('Tabel 1'!$G50<5,'Tabel 2'!G50<0.5),"-",IFERROR('Tabel 2'!G50/'Tabel 1'!$G50*100,"-")) -> 7.9985723 | I50: =IF(OR('Tabel 1'!$J50<5,'Tabel 2'!I50<0.5),"-",IFERROR('Tabel 2'!I50/'Tabel 1'!$J50*100,"-")) -> 8.886698 | J50: =IF(OR('Tabel 1'!$J50<5,'Tabel 2'!J50<0.5),"-",IFERROR('Tabel 2'!J50/'Tabel 1'!$J50*100,"-")) -> 7.4889526
A51: DJØF'ere i alt | C51: =IF(OR('Tabel 1'!$D51<5,'Tabel 2'!C51<0.5),"-",IFERROR('Tabel 2'!C51/'Tabel 1'!$D51*100,"-")) -> 4.4846429 | D51: =IF(OR('Tabel 1'!$D51<5,'Tabel 2'!D51<0.5),"-",IFERROR('Tabel 2'!D51/'Tabel 1'!$D51*100,"-")) -> 3.8652937 | F51: =IF(OR('Tabel 1'!$G51<5,'Tabel 2'!F51<0.5),"-",IFERROR('Tabel 2'!F51/'Tabel 1'!$G51*100,"-")) -> 4.9168636 | G51: =IF(OR('Tabel 1'!$G51<5,'Tabel 2'!G51<0.5),"-",IFERROR('Tabel 2'!G51/'Tabel 1'!$G51*100,"-")) -> 4.1373743 | I51: =IF(OR('Tabel 1'!$J51<5,'Tabel 2'!I51<0.5),"-",IFERROR('Tabel 2'!I51/'Tabel 1'!$J51*100,"-")) -> 4.7163833 | J51: =IF(OR('Tabel 1'!$J51<5,'Tabel 2'!J51<0.5),"-",IFERROR('Tabel 2'!J51/'Tabel 1'!$J51*100,"-")) -> 4.011173
A52: Se sidste del af statistikken for en oversigt over uddannelsesgrupperingernes indhold

Sheet Tabel 4 F
A1: Landstatistik
A3: Tabel 4. Antal forsikrede medlemmer - aldersfordelt
B7: Under 30 år | C7: 30 - 39 år | D7: 40 - 49 år | E7: 50 - 59 år | F7: Over 60 år | H7: I alt
A9: Civ. Ing. | B9: 4871 | C9: 10493 | D9: 7785 | E9: 6429 | F9: 1732 | H9: =B9+C9+D9+E9+F9 -> 31310
A10: Diplom Ing. | B10: 3067 | C10: 6042 | D10: 9217 | E10: 12137 | F10: 3458 | H10: =B10+C10+D10+E10+F10 -> 33921
A11: Cand.Scient.Tech. | B11: 5656 | C11: 8139 | D11: 2629 | E11: 943 | F11: 186 | H11: =B11+C11+D11+E11+F11 -> 17553
A12: MA. Hum. | B12: 5654 | C12: 13981 | D12: 13327 | E12: 5367 | F12: 2284 | H12: =B12+C12+D12+E12+F12 -> 40613
A13: MA. Nat. | B13: 1037 | C13: 3283 | D13: 5218 | E13: 3778 | F13: 1454 | H13: =B13+C13+D13+E13+F13 -> 14770
A14: MA. Ph.d. | B14: 44 | C14: 757 | D14: 894 | E14: 587 | F14: 141 | H14: =B14+C14+D14+E14+F14 -> 2423
A15: MA. Samf. | B15: 1457 | C15: 2273 | D15: 787 | E15: 316 | F15: 73 | H15: =B15+C15+D15+E15+F15 -> 4906
A16: Øvrige Mag. | B16: 325 | C16: 690 | D16: 1003 | E16: 877 | F16: 323 | H16: =B16+C16+D16+E16+F16 -> 3218
A17: Agronom | B17: 133 | C17: 320 | D17: 668 | E17: 902 | F17: 357 | H17: =B17+C17+D17+E17+F17 -> 2380
A18: Landsk. Arkt. | B18: 72 | C18: 233 | D18: 218 | E18: 129 | F18: 37 | H18: =B18+C18+D18+E18+F18 -> 689
A19: Hortonom | B19: 2 | C19: 28 | D19: 89 | E19: 142 | F19: 63 | H19: =B19+C19+D19+E19+F19 -> 324
A20: Forstkand. | B20: 29 | C20: 77 | D20: 216 | E20: 128 | F20: 60 | H20: =B20+C20+D20+E20+F20 -> 510
... A45: Andre | B45: 2768 | C45: 7990 | D45: 5803 | E45: 3860 | F45: 1644 | H45: =B45+C45+D45+E45+F45 -> 22065
A47: Total | B47: =SUM(B9:B45)-SUM(B17:B20) -> 53851 | C47: =SUM(C9:C45)-SUM(C17:C20) -> 108485 | D47: =SUM(D9:D45)-SUM(D17:D20) -> 87646 | E47: =SUM(E9:E45)-SUM(E17:E20) -> 63712 | F47: =SUM(F9:F45)-SUM(F17:F20) -> 20147 | H47: =SUM(H9:H45)-SUM(H17:H20) -> 333841
A49: Ingeniører i alt | B49: 7938 | C49: 16535 | D49: 17002 | E49: 18566 | F49: 5190 | H49: =B49+C49+D49+E49+F49 -> 65231
A50: Magistre i alt | B50: 8517 | C50: 20984 | D50: 21229 | E50: 10925 | F50: 4275 | H50: =B50+C50+D50+E50+F50 -> 65930
A51: DJØF'ere i alt | B51: 17213 | C51: 32909 | D51: 22944 | E51: 15410 | F51: 3056 | H51: =B51+C51+D51+E51+F51 -> 91532
A52: Se sidste del af statistikken for en oversigt over uddannelsesgrupperingernes indhold

Sheet Tabel 4 Be
A1: Landstatistik
A3: Tabel 4. Antal bruttoledige målt i berørte medlemmer - aldersfordelt
B7: Under 30 år | C7: 30 - 39 år | D7: 40 - 49 år | E7: 50 - 59 år | F7: Over 60 år | H7: I alt
A9: Civ. Ing. | B9: 557 | C9: 249 | D9: 99 | E9: 104 | F9: 49 | H9: =B9+C9+D9+E9+F9 -> 1058
A10: Diplom Ing. | B10: 302 | C10: 164 | D10: 130 | E10: 247 | F10: 119 | H10: =B10+C10+D10+E10+F10 -> 962
A11: Cand.Scient.Tech. | B11: 1141 | C11: 547 | D11: 81 | E11: 36 | F11: 11 | H11: =B11+C11+D11+E11+F11 -> 1816
A12: MA. Hum. | B12: 1574 | C12: 1473 | D12: 658 | E12: 277 | F12: 153 | H12: =B12+C12+D12+E12+F12 -> 4135
A13: MA. Nat. | B13: 199 | C13: 219 | D13: 108 | E13: 81 | F13: 39 | H13: =B13+C13+D13+E13+F13 -> 646
A14: MA. Ph.d. | B14: 3 | C14: 37 | D14: 44 | E14: 26 | F14: 11 | H14: =B14+C14+D14+E14+F14 -> 121
A15: MA. Samf. | B15: 353 | C15: 272 | D15: 50 | E15: 23 | F15: 3 | H15: =B15+C15+D15+E15+F15 -> 701
A16: Øvrige Mag. | B16: 93 | C16: 71 | D16: 50 | E16: 26 | F16: 16 | H16: =B16+C16+D16+E16+F16 -> 256
A17: Agronom | B17: 29 | C17: 24 | D17: 11 | E17: 19 | F17: 18 | H17: =B17+C17+D17+E17+F17 -> 101
A18: Landsk. Arkt. | B18: 18 | C18: 19 | D18: 8 | E18: 4 | F18: 1 | H18: =B18+C18+D18+E18+F18 -> 50
A19: Hortonom | B19: 0 | C19: 0 | D19: 2 | E19: 4 | F19: 3 | H19: =B19+C19+D19+E19+F19 -> 9
A20: Forstkand. | B20: 11 | C20: 6 | D20: 3 | E20: 5 | F20: 1 | H20: =B20+C20+D20+E20+F20 -> 26
... A45: Andre | B45: 426 | C45: 524 | D45: 287 | E45: 259 | F45: 117 | H45: =B45+C45+D45+E45+F45 -> 1613
A47: Total | B47: =SUM(B9:B45)-SUM(B17:B20) -> 8587 | C47: =SUM(C9:C45)-SUM(C17:C20) -> 6031 | D47: =SUM(D9:D45)-SUM(D17:D20) -> 2500 | E47: =SUM(E9:E45)-SUM(E17:E20) -> 1920 | F47: =SUM(F9:F45)-SUM(F17:F20) -> 893 | H47: =SUM(H9:H45)-SUM(H17:H20) -> 19931 | I47: 7.6206738 | J47: 7.4339568 | K47: 7.4889526
A49: Ingeniører i alt | B49: 859 | C49: 413 | D49: 229 | E49: 351 | F49: 168 | H49: =B49+C49+D49+E49+F49 -> 2020
A50: Magistre i alt | B50: 2222 | C50: 2072 | D50: 910 | E50: 433 | F50: 222 | H50: =B50+C50+D50+E50+F50 -> 5859
A51: DJØF'ere i alt | B51: 1875 | C51: 1318 | D51: 532 | E51: 453 | F51: 139 | H51: =B51+C51+D51+E51+F51 -> 4317
A52: Se sidste del af statistikken for en oversigt over uddannelsesgrupperingernes indhold

Sheet Tabel 4 Br
A1: Landstatistik
A3: Tabel 4. Antal bruttoledige målt i fuldtidspersoner - aldersfordelt
B7: Under 30 år | C7: 30 - 39 år | D7: 40 - 49 år | E7: 50 - 59 år | F7: Over 60 år | H7: I alt
A9: Civ. Ing. | B9: 435.09886 | C9: 209.00268 | D9: 84.971 | E9: 91.48693 | F9: 45.19803 | H9: =SUM(B9:F9) -> 865.7575
A10: Diplom Ing. | B10: 210.55635 | C10: 136.34878 | D10: 114.95665 | E10: 213.756 | F10: 103.38178 | H10: =SUM(B10:F10) -> 778.99956
A11: Cand.Scient.Tech. | B11: 959.78794 | C11: 463.58573 | D11: 72.37884 | E11: 32.63394 | F11: 9.42618 | H11: =SUM(B11:F11) -> 1537.8126
A12: MA. Hum. | B12: 1342.9651 | C12: 1232.5148 | D12: 551.05595 | E12: 230.71852 | F12: 129.60207 | H12: =SUM(B12:F12) -> 3486.8565
A13: MA. Nat. | B13: 164.57244 | C13: 183.6113 | D13: 89.61829 | E13: 69.20851 | F13: 31.84619 | H13: =SUM(B13:F13) -> 538.85673
A14: MA. Ph.d. | B14: 1.98403 | C14: 30.52829 | D14: 39.06006 | E14: 22.78114 | F14: 9.16173 | H14: =SUM(B14:F14) -> 103.51525
A15: MA. Samf. | B15: 298.9453 | C15: 232.86908 | D15: 40.08358 | E15: 19.66257 | F15: 2.83166 | H15: =SUM(B15:F15) -> 594.39219
A16: Øvrige Mag. | B16: 75.3945 | C16: 59.7948 | D16: 43.30319 | E16: 20.49086 | F16: 14.86247 | H16: =SUM(B16:F16) -> 213.84582
A17: Agronom | B17: 25.83047 | C17: 18.82368 | D17: 8.63282 | E17: 14.8263 | F17: 16.11364 | H17: =SUM(B17:F17) -> 84.22691
A18: Landsk. Arkt. | B18: 16.58579 | C18: 15.84981 | D18: 5.65459 | E18: 3.07616 | F18: 0.95366 | H18: =SUM(B18:F18) -> 42.12001
A19: Hortonom | B19: 0 | C19: 0 | D19: 1.99963 | E19: 3.30693 | F19: 2.86097 | H19: =SUM(B19:F19) -> 8.16753
A20: Forstkand. | B20: 9.97443 | C20: 5.72195 | D20: 2.6302 | E20: 4.37473 | F20: 0.99981 | H20: =SUM(B20:F20) -> 23.70112
... A45: Andre | B45: 344.60176 | C45: 451.62914 | D45: 230.57382 | E45: 209.8079 | F45: 90.24387 | H45: =SUM(B45:F45) -> 1326.8565
A47: Total | B47: =SUM(B9:B45)-SUM(B17:B20) -> 6978.6366 | C47: =SUM(C9:C45)-SUM(C17:C20) -> 5080.4809 | D47: =SUM(D9:D45)-SUM(D17:D20) -> 2118.2704 | E47: =SUM(E9:E45)-SUM(E17:E20) -> 1644.3822 | F47: =SUM(F9:F45)-SUM(F17:F20) -> 755.43503 | H47: =SUM(H9:H45)-SUM(H17:H20) -> 16577.205 | I47: 7.6206738 | J47: 7.4339568 | K47: 7.4889526
A49: Ingeniører i alt | B49: 645.65521 | C49: 345.35146 | D49: 199.92765 | E49: 305.24294 | F49: 148.5798 | H49: =SUM(B49:F49) -> 1644.7571
A50: Magistre i alt | B50: 1883.8614 | C50: 1739.3183 | D50: 763.12106 | E50: 362.8616 | F50: 188.30412 | H50: =SUM(B50:F50) -> 4937.4665
A51: DJØF'ere i alt | B51: 1570.2077 | C51: 1117.9131 | D51: 464.50945 | E51: 399.33886 | F51: 119.53783 | H51: =SUM(B51:F51) -> 3671.5069
A52: Se sidste del af statistikken for en oversigt over uddannelsesgrupperingernes indhold

Sheet Tabel 4 p (Be)
A1: Landstatistik
A3: Tabel 4.2 Bruttoledighedsprocenten målt i ledighedsberørte - aldersfordelt
B7: Under 30 år | C7: 30 - 39 år | D7: 40 - 49 år | E7: 50 - 59 år | F7: Over 60 år | H7: I alt
A9: Civ. Ing. | B9: =IF(OR('Tabel 4 F'!B9<5,'Tabel 4 Be'!B9<0.5),"-",IFERROR('Tabel 4 Be'!B9/'Tabel 4 F'!B9*100,"-")) -> 11.435024 | C9: =IF(OR('Tabel 4 F'!C9<5,'Tabel 4 Be'!C9<0.5),"-",IFERROR('Tabel 4 Be'!C9/'Tabel 4 F'!C9*100,"-")) -> 2.3730106 | D9: =IF(OR('Tabel 4 F'!D9<5,'Tabel 4 Be'!D9<0.5),"-",IFERROR('Tabel 4 Be'!D9/'Tabel 4 F'!D9*100,"-")) -> 1.2716763 | E9: =IF(OR('Tabel 4 F'!E9<5,'Tabel 4 Be'!E9<0.5),"-",IFERROR('Tabel 4 Be'!E9/'Tabel 4 F'!E9*100,"-")) -> 1.6176699 | F9: =IF(OR('Tabel 4 F'!F9<5,'Tabel 4 Be'!F9<0.5),"-",IFERROR('Tabel 4 Be'!F9/'Tabel 4 F'!F9*100,"-")) -> 2.8290993 | H9: =IF(OR('Tabel 4 F'!H9<5,'Tabel 4 Be'!H9<0.5),"-",IFERROR('Tabel 4 Be'!H9/'Tabel 4 F'!H9*100,"-")) -> 3.3791121
A10: Diplom Ing. | B10: =IF(OR('Tabel 4 F'!B10<5,'Tabel 4 Be'!B10<0.5),"-",IFERROR('Tabel 4 Be'!B10/'Tabel 4 F'!B10*100,"-")) -> 9.8467558 | C10: =IF(OR('Tabel 4 F'!C10<5,'Tabel 4 Be'!C10<0.5),"-",IFERROR('Tabel 4 Be'!C10/'Tabel 4 F'!C10*100,"-")) -> 2.714333 | D10: =IF(OR('Tabel 4 F'!D10<5,'Tabel 4 Be'!D10<0.5),"-",IFERROR('Tabel 4 Be'!D10/'Tabel 4 F'!D10*100,"-")) -> 1.4104372 | E10: =IF(OR('Tabel 4 F'!E10<5,'Tabel 4 Be'!E10<0.5),"-",IFERROR('Tabel 4 Be'!E10/'Tabel 4 F'!E10*100,"-")) -> 2.0350993 | F10: =IF(OR('Tabel 4 F'!F10<5,'Tabel 4 Be'!F10<0.5),"-",IFERROR('Tabel 4 Be'!F10/'Tabel 4 F'!F10*100,"-")) -> 3.4412955 | H10: =IF(OR('Tabel 4 F'!H10<5,'Tabel 4 Be'!H10<0.5),"-",IFERROR('Tabel 4 Be'!H10/'Tabel 4 F'!H10*100,"-")) -> 2.8360013
A11: Cand.Scient.Tech. | B11: =IF(OR('Tabel 4 F'!B11<5,'Tabel 4 Be'!B11<0.5),"-",IFERROR('Tabel 4 Be'!B11/'Tabel 4 F'!B11*100,"-")) -> 20.173267 | C11: =IF(OR('Tabel 4 F'!C11<5,'Tabel 4 Be'!C11<0.5),"-",IFERROR('Tabel 4 Be'!C11/'Tabel 4 F'!C11*100,"-")) -> 6.7207274 | D11: =IF(OR('Tabel 4 F'!D11<5,'Tabel 4 Be'!D11<0.5),"-",IFERROR('Tabel 4 Be'!D11/'Tabel 4 F'!D11*100,"-")) -> 3.0810194 | E11: =IF(OR('Tabel 4 F'!E11<5,'Tabel 4 Be'!E11<0.5),"-",IFERROR('Tabel 4 Be'!E11/'Tabel 4 F'!E11*100,"-")) -> 3.8176034 | F11: =IF(OR('Tabel 4 F'!F11<5,'Tabel 4 Be'!F11<0.5),"-",IFERROR('Tabel 4 Be'!F11/'Tabel 4 F'!F11*100,"-")) -> 5.9139785 | H11: =IF(OR('Tabel 4 F'!H11<5,'Tabel 4 Be'!H11<0.5),"-",IFERROR('Tabel 4 Be'!H11/'Tabel 4 F'!H11*100,"-")) -> 10.34581
A12: MA. Hum. | B12: =IF(OR('Tabel 4 F'!B12<5,'Tabel 4 Be'!B12<0.5),"-",IFERROR('Tabel 4 Be'!B12/'Tabel 4 F'!B12*100,"-")) -> 27.838698 | C12: =IF(OR('Tabel 4 F'!C12<5,'Tabel 4 Be'!C12<0.5),"-",IFERROR('Tabel 4 Be'!C12/'Tabel 4 F'!C12*100,"-")) -> 10.535727 | D12: =IF(OR('Tabel 4 F'!D12<5,'Tabel 4 Be'!D12<0.5),"-",IFERROR('Tabel 4 Be'!D12/'Tabel 4 F'!D12*100,"-")) -> 4.9373452 | E12: =IF(OR('Tabel 4 F'!E12<5,'Tabel 4 Be'!E12<0.5),"-",IFERROR('Tabel 4 Be'!E12/'Tabel 4 F'!E12*100,"-")) -> 5.1611701 | F12: =IF(OR('Tabel 4 F'!F12<5,'Tabel 4 Be'!F12<0.5),"-",IFERROR('Tabel 4 Be'!F12/'Tabel 4 F'!F12*100,"-")) -> 6.6987741 | H12: =IF(OR('Tabel 4 F'!H12<5,'Tabel 4 Be'!H12<0.5),"-",IFERROR('Tabel 4 Be'!H12/'Tabel 4 F'!H12*100,"-")) -> 10.181469
A13: MA. Nat. | B13: =IF(OR('Tabel 4 F'!B13<5,'Tabel 4 Be'!B13<0.5),"-",IFERROR('Tabel 4 Be'!B13/'Tabel 4 F'!B13*100,"-")) -> 19.189971 | C13: =IF(OR('Tabel 4 F'!C13<5,'Tabel 4 Be'!C13<0.5),"-",IFERROR('Tabel 4 Be'!C13/'Tabel 4 F'!C13*100,"-")) -> 6.670728 | D13: =IF(OR('Tabel 4 F'!D13<5,'Tabel 4 Be'!D13<0.5),"-",IFERROR('Tabel 4 Be'!D13/'Tabel 4 F'!D13*100,"-")) -> 2.0697585 | E13: =IF(OR('Tabel 4 F'!E13<5,'Tabel 4 Be'!E13<0.5),"-",IFERROR('Tabel 4 Be'!E13/'Tabel 4 F'!E13*100,"-")) -> 2.1439915 | F13: =IF(OR('Tabel 4 F'!F13<5,'Tabel 4 Be'!F13<0.5),"-",IFERROR('Tabel 4 Be'!F13/'Tabel 4 F'!F13*100,"-")) -> 2.6822558 | H13: =IF(OR('Tabel 4 F'!H13<5,'Tabel 4 Be'!H13<0.5),"-",IFERROR('Tabel 4 Be'!H13/'Tabel 4 F'!H13*100,"-")) -> 4.3737305
A14: MA. Ph.d. | B14: =IF(OR('Tabel 4 F'!B14<5,'Tabel 4 Be'!B14<0.5),"-",IFERROR('Tabel 4 Be'!B14/'Tabel 4 F'!B14*100,"-")) -> 6.8181818 | C14: =IF(OR('Tabel 4 F'!C14<5,'Tabel 4 Be'!C14<0.5),"-",IFERROR('Tabel 4 Be'!C14/'Tabel 4 F'!C14*100,"-")) -> 4.8877147 | D14: =IF(OR('Tabel 4 F'!D14<5,'Tabel 4 Be'!D14<0.5),"-",IFERROR('Tabel 4 Be'!D14/'Tabel 4 F'!D14*100,"-")) -> 4.9217002 | E14: =IF(OR('Tabel 4 F'!E14<5,'Tabel 4 Be'!E14<0.5),"-",IFERROR('Tabel 4 Be'!E14/'Tabel 4 F'!E14*100,"-")) -> 4.4293015 | F14: =IF(OR('Tabel 4 F'!F14<5,'Tabel 4 Be'!F14<0.5),"-",IFERROR('Tabel 4 Be'!F14/'Tabel 4 F'!F14*100,"-")) -> 7.8014184 | H14: =IF(OR('Tabel 4 F'!H14<5,'Tabel 4 Be'!H14<0.5),"-",IFERROR('Tabel 4 Be'!H14/'Tabel 4 F'!H14*100,"-")) -> 4.9938093
A15: MA. Samf. | B15: =IF(OR('Tabel 4 F'!B15<5,'Tabel 4 Be'!B15<0.5),"-",IFERROR('Tabel 4 Be'!B15/'Tabel 4 F'!B15*100,"-")) -> 24.227865 | C15: =IF(OR('Tabel 4 F'!C15<5,'Tabel 4 Be'!C15<0.5),"-",IFERROR('Tabel 4 Be'!C15/'Tabel 4 F'!C15*100,"-")) -> 11.966564 | D15: =IF(OR('Tabel 4 F'!D15<5,'Tabel 4 Be'!D15<0.5),"-",IFERROR('Tabel 4 Be'!D15/'Tabel 4 F'!D15*100,"-")) -> 6.3532402 | E15: =IF(OR('Tabel 4 F'!E15<5,'Tabel 4 Be'!E15<0.5),"-",IFERROR('Tabel 4 Be'!E15/'Tabel 4 F'!E15*100,"-")) -> 7.278481 | F15: =IF(OR('Tabel 4 F'!F15<5,'Tabel 4 Be'!F15<0.5),"-",IFERROR('Tabel 4 Be'!F15/'Tabel 4 F'!F15*100,"-")) -> 4.109589 | H15: =IF(OR('Tabel 4 F'!H15<5,'Tabel 4 Be'!H15<0.5),"-",IFERROR('Tabel 4 Be'!H15/'Tabel 4 F'!H15*100,"-")) -> 14.288626
A16: Øvrige Mag. | B16: =IF(OR('Tabel 4 F'!B16<5,'Tabel 4 Be'!B16<0.5),"-",IFERROR('Tabel 4 Be'!B16/'Tabel 4 F'!B16*100,"-")) -> 28.615385 | C16: =IF(OR('Tabel 4 F'!C16<5,'Tabel 4 Be'!C16<0.5),"-",IFERROR('Tabel 4 Be'!C16/'Tabel 4 F'!C16*100,"-")) -> 10.289855 | D16: =IF(OR('Tabel 4 F'!D16<5,'Tabel 4 Be'!D16<0.5),"-",IFERROR('Tabel 4 Be'!D16/'Tabel 4 F'!D16*100,"-")) -> 4.9850449 | E16: =IF(OR('Tabel 4 F'!E16<5,'Tabel 4 Be'!E16<0.5),"-",IFERROR('Tabel 4 Be'!E16/'Tabel 4 F'!E16*100,"-")) -> 2.9646522 | F16: =IF(OR('Tabel 4 F'!F16<5,'Tabel 4 Be'!F16<0.5),"-",IFERROR('Tabel 4 Be'!F16/'Tabel 4 F'!F16*100,"-")) -> 4.9535604 | H16: =IF(OR('Tabel 4 F'!H16<5,'Tabel 4 Be'!H16<0.5),"-",IFERROR('Tabel 4 Be'!H16/'Tabel 4 F'!H16*100,"-")) -> 7.9552517
A17: Agronom | B17: =IF(OR('Tabel 4 F'!B17<5,'Tabel 4 Be'!B17<0.5),"-",IFERROR('Tabel 4 Be'!B17/'Tabel 4 F'!B17*100,"-")) -> 21.804511 | C17: =IF(OR('Tabel 4 F'!C17<5,'Tabel 4 Be'!C17<0.5),"-",IFERROR('Tabel 4 Be'!C17/'Tabel 4 F'!C17*100,"-")) -> 7.5 | D17: =IF(OR('Tabel 4 F'!D17<5,'Tabel 4 Be'!D17<0.5),"-",IFERROR('Tabel 4 Be'!D17/'Tabel 4 F'!D17*100,"-")) -> 1.6467066 | E17: =IF(OR('Tabel 4 F'!E17<5,'Tabel 4 Be'!E17<0.5),"-",IFERROR('Tabel 4 Be'!E17/'Tabel 4 F'!E17*100,"-")) -> 2.1064302 | F17: =IF(OR('Tabel 4 F'!F17<5,'Tabel 4 Be'!F17<0.5),"-",IFERROR('Tabel 4 Be'!F17/'Tabel 4 F'!F17*100,"-")) -> 5.0420168 | H17: =IF(OR('Tabel 4 F'!H17<5,'Tabel 4 Be'!H17<0.5),"-",IFERROR('Tabel 4 Be'!H17/'Tabel 4 F'!H17*100,"-")) -> 4.2436975
A18: Landsk. Arkt. | B18: =IF(OR('Tabel 4 F'!B18<5,'Tabel 4 Be'!B18<0.5),"-",IFERROR('Tabel 4 Be'!B18/'Tabel 4 F'!B18*100,"-")) -> 25 | C18: =IF(OR('Tabel 4 F'!C18<5,'Tabel 4 Be'!C18<0.5),"-",IFERROR('Tabel 4 Be'!C18/'Tabel 4 F'!C18*100,"-")) -> 8.1545064 | D18: =IF(OR('Tabel 4 F'!D18<5,'Tabel 4 Be'!D18<0.5),"-",IFERROR('Tabel 4 Be'!D18/'Tabel 4 F'!D18*100,"-")) -> 3.6697248 | E18: =IF(OR('Tabel 4 F'!E18<5,'Tabel 4 Be'!E18<0.5),"-",IFERROR('Tabel 4 Be'!E18/'Tabel 4 F'!E18*100,"-")) -> 3.1007752 | F18: =IF(OR('Tabel 4 F'!F18<5,'Tabel 4 Be'!F18<0.5),"-",IFERROR('Tabel 4 Be'!F18/'Tabel 4 F'!F18*100,"-")) -> 2.7027027 | H18: =IF(OR('Tabel 4 F'!H18<5,'Tabel 4 Be'!H18<0.5),"-",IFERROR('Tabel 4 Be'!H18/'Tabel 4 F'!H18*100,"-")) -> 7.256894
A19: Hortonom | B19: =IF(OR('Tabel 4 F'!B19<5,'Tabel 4 Be'!B19<0.5),"-",IFERROR('Tabel 4 Be'!B19/'Tabel 4 F'!B19*100,"-")) -> - | C19: =IF(OR('Tabel 4 F'!C19<5,'Tabel 4 Be'!C19<0.5),"-",IFERROR('Tabel 4 Be'!C19/'Tabel 4 F'!C19*100,"-")) -> - | D19: =IF(OR('Tabel 4 F'!D19<5,'Tabel 4 Be'!D19<0.5),"-",IFERROR('Tabel 4 Be'!D19/'Tabel 4 F'!D19*100,"-")) -> 2.247191 | E19: =IF(OR('Tabel 4 F'!E19<5,'Tabel 4 Be'!E19<0.5),"-",IFERROR('Tabel 4 Be'!E19/'Tabel 4 F'!E19*100,"-")) -> 2.8169014 | F19: =IF(OR('Tabel 4 F'!F19<5,'Tabel 4 Be'!F19<0.5),"-",IFERROR('Tabel 4 Be'!F19/'Tabel 4 F'!F19*100,"-")) -> 4.7619048 | H19: =IF(OR('Tabel 4 F'!H19<5,'Tabel 4 Be'!H19<0.5),"-",IFERROR('Tabel 4 Be'!H19/'Tabel 4 F'!H19*100,"-")) -> 2.7777778
A20: Forstkand. | B20: =IF(OR('Tabel 4 F'!B20<5,'Tabel 4 Be'!B20<0.5),"-",IFERROR('Tabel 4 Be'!B20/'Tabel 4 F'!B20*100,"-")) -> 37.931034 | C20: =IF(OR('Tabel 4 F'!C20<5,'Tabel 4 Be'!C20<0.5),"-",IFERROR('Tabel 4 Be'!C20/'Tabel 4 F'!C20*100,"-")) -> 7.7922078 | D20: =IF(OR('Tabel 4 F'!D20<5,'Tabel 4 Be'!D20<0.5),"-",IFERROR('Tabel 4 Be'!D20/'Tabel 4 F'!D20*100,"-")) -> 1.3888889 | E20: =IF(OR('Tabel 4 F'!E20<5,'Tabel 4 Be'!E20<0.5),"-",IFERROR('Tabel 4 Be'!E20/'Tabel 4 F'!E20*100,"-")) -> 3.90625 | F20: =IF(OR('Tabel 4 F'!F20<5,'Tabel 4 Be'!F20<0.5),"-",IFERROR('Tabel 4 Be'!F20/'Tabel 4 F'!F20*100,"-")) -> 1.6666667 | H20: =IF(OR('Tabel 4 F'!H20<5,'Tabel 4 Be'!H20<0.5),"-",IFERROR('Tabel 4 Be'!H20/'Tabel 4 F'!H20*100,"-")) -> 5.0980392
... A45: Andre | B45: =IF(OR('Tabel 4 F'!B45<5,'Tabel 4 Be'!B45<0.5),"-",IFERROR('Tabel 4 Be'!B45/'Tabel 4 F'!B45*100,"-")) -> 15.390173 | C45: =IF(OR('Tabel 4 F'!C45<5,'Tabel 4 Be'!C45<0.5),"-",IFERROR('Tabel 4 Be'!C45/'Tabel 4 F'!C45*100,"-")) -> 6.5581977 | D45: =IF(OR('Tabel 4 F'!D45<5,'Tabel 4 Be'!D45<0.5),"-",IFERROR('Tabel 4 Be'!D45/'Tabel 4 F'!D45*100,"-")) -> 4.9457177 | E45: =IF(OR('Tabel 4 F'!E45<5,'Tabel 4 Be'!E45<0.5),"-",IFERROR('Tabel 4 Be'!E45/'Tabel 4 F'!E45*100,"-")) -> 6.7098446 | F45: =IF(OR('Tabel 4 F'!F45<5,'Tabel 4 Be'!F45<0.5),"-",IFERROR('Tabel 4 Be'!F45/'Tabel 4 F'!F45*100,"-")) -> 7.1167883 | H45: =IF(OR('Tabel 4 F'!H45<5,'Tabel 4 Be'!H45<0.5),"-",IFERROR('Tabel 4 Be'!H45/'Tabel 4 F'!H45*100,"-")) -> 7.3102198
