Workbook
Name _Toc364257418: Udd.oversigt!$A$3

Sheet Nøgletalstabeller
A1: Nøgletal 1: Ledighed (sæsonkorrigeret)
C3: Seneste udvikling | M3: Årlig udvikling
C4: Fuldtidspersoner | H4: Ledighedspct. | M4: Fuldtidspersoner | Q4: Ledighedspct.
C5: 2019 | D5: 2019 | E5: 2019 | F5: 2020 | H5: 2019 | I5: 2019 | J5: 2019 | K5: 2020 | M5: 2019 | O5: 2020 | Q5: 2019 | S5: 2020
C6: Okt | D6: Nov | E6: Dec | F6: Jan | H6: Okt | I6: Nov | J6: Dec | K6: Jan | M6: Jan | O6: Jan | Q6: Jan | S6: Jan
A8: Bruttoledighed | C8: 16705.738 | D8: 16915.207 | E8: 16887.873 | F8: 16854.234 | H8: 5.0415472 | I8: 5.0958249 | J8: 5.0721832 | K8: 5.0385929 | M8: 15849.072 | O8: =F8 -> 16854.234 | Q8: 4.900262 | S8: =K8 -> 5.0385929
A9: Fordelt på kandidatalder
A10: Kandidatalder
A11: - op til 1 år | C11: 6027.4735 | D11: 6045.2792 | E11: 5963.0856 | F11: 5887.0526 | H11: 30.773483 | I11: 30.952406 | J11: 30.512697 | K11: 29.495223 | M11: 5734.6502 | O11: =F11 -> 5887.0526 | Q11: 29.316417 | S11: =K11 -> 29.495223
A12: - mellem 1 - 2 år | C12: 2354.0539 | D12: 2396.9237 | E12: 2379.0101 | F12: 2438.9992 | H12: 13.410789 | I12: 13.541004 | J12: 13.362783 | K12: 13.482684 | M12: 2384.1955 | O12: =F12 -> 2438.9992 | Q12: 13.036582 | S12: =K12 -> 13.482684
A13: - øvrige | C13: 7309.0725 | D13: 7423.4106 | E13: 7468.8316 | F13: 7446.6906 | H13: 2.8073328 | I13: 2.846449 | J13: 2.8603127 | K13: 2.8445168 | M13: 6776.4999 | O13: =F13 -> 7446.6906 | Q13: 2.6875849 | S13: =K13 -> 2.8445168
A15: Fordelt på akademiske hovedgrupper
A16: DJØF'ere | C16: 3902.3372 | D16: 3985.1835 | E16: 3990.0913 | F16: 3850.2931 | H16: 4.2943253 | I16: 4.3633752 | J16: 4.3670738 | K16: 4.1565989 | M16: 3711.7958 | O16: =F16 -> 3850.2931 | Q16: 4.1859245 | S16: =K16 -> 4.1565989
A17: - kandidatalder op til 1 år | C17: 1454.774 | D17: 1462.5657 | E17: 1458.2878 | F17: 1366.0701 | H17: 26.173165 | I17: 26.28005 | J17: 26.371718 | K17: 23.787715 | M17: 1374.5142 | O17: =F17 -> 1366.0701 | Q17: 24.122959 | S17: =K17 -> 23.787715
A18: - øvrige | C18: 2185.3616 | D18: 2246.8352 | E18: 2256.4494 | F18: 2186.604 | H18: 2.9708417 | I18: 3.045029 | J18: 3.0478059 | K18: 2.9460124 | M18: 2052.255 | O18: =F18 -> 2186.604 | Q18: 2.8896326 | S18: =K18 -> 2.9460124
A20: Magistre | C20: 4808.0372 | D20: 4870.201 | E20: 4809.7894 | F20: 4831.7997 | H20: 7.3267086 | I20: 7.4276891 | J20: 7.3089642 | K20: 7.3113254 | M20: 4590.5329 | O20: =F20 -> 4831.7997 | Q20: 7.1735478 | S20: =K20 -> 7.3113254
A21: - kandidatalder op til 1 år | B21: 0 | C21: 1575.4199 | D21: 1580.9891 | E21: 1520.0675 | F21: 1493.4999 | H21: 42.543164 | I21: 42.840767 | J21: 41.082258 | K21: 40.300109 | M21: 1479.3031 | O21: =F21 -> 1493.4999 | Q21: 39.240439 | S21: =K21 -> 40.300109
A22: - øvrige | C22: 3078.1361 | D22: 3096.8361 | E22: 3094.254 | F22: 3130.827 | H22: 5.3294144 | I22: 5.371327 | J22: 5.3598581 | K22: 5.4109955 | M22: 2936.0572 | O22: =F22 -> 3130.827 | Q22: 5.2440457 | S22: =K22 -> 5.4109955
A24: Ingeniører | C24: 1683.9328 | D24: 1693.1802 | E24: 1711.9576 | F24: 1789.5303 | H24: 2.6037971 | I24: 2.6066583 | J24: 2.6358294 | K24: 2.7430634 | M24: 1588.2966 | O24: =F24 -> 1789.5303 | Q24: 2.4830427 | S24: =K24 -> 2.7430634
A25: - kandidatalder op til 1 år | C25: 657.83915 | D25: 668.26894 | E25: 682.63576 | F25: 676.05641 | H25: 26.642213 | I25: 26.358529 | J25: 25.586072 | K25: 25.938532 | M25: 644.14221 | O25: =F25 -> 676.05641 | Q25: 26.317067 | S25: =K25 -> 25.938532
A26: - øvrige | C26: 1001.981 | D26: 997.62911 | E26: 1003.2043 | F26: 1072.8172 | H26: 1.6508363 | I26: 1.643492 | J26: 1.6552425 | K26: 1.7576652 | M26: 935.71887 | O26: =F26 -> 1072.8172 | Q26: 1.5568476 | S26: =K26 -> 1.7576652
A28: Nøgletal 2: Ledighed (ikke sæsonkorrigeret)
C30: Seneste udvikling | M30: Årlig udvikling
C31: Fuldtidspersoner | H31: Ledighedspct. | M31: Fuldtidspersoner | Q31: Ledighedspct.
C32: 2019 | D32: 2019 | E32: 2019 | F32: 2020 | H32: 2019 | I32: 2019 | J32: 2019 | K32: 2020 | M32: 2019 | O32: 2020 | Q32: 2019 | S32: 2020
C33: Okt | D33: Nov | E33: Dec | F33: Jan | H33: Okt | I33: Nov | J33: Dec | K33: Jan | M33: Jan | O33: Jan | Q33: Jan | S33: Jan
A35: Bruttoledighed | C35: 17589.144 | D35: 17143.667 | E35: 16704.751 | F35: 16577.205 | H35: 5.2902228 | I35: 5.1755405 | J35: 5.0419238 | K35: 4.9655989 | M35: 15610.568 | O35: =F35 -> 16577.205 | Q35: 4.836362 | S35: =K35 -> 4.9655989
A36: Fordelt på kandidatalder
A37: Kandidatalder
A38: - op til 1 år | C38: 6704.8706 | D38: 6333.5134 | E38: 5861.0946 | F38: 5396.1779 | H38: 33.051713 | I38: 32.210311 | J38: 30.123321 | K38: 26.81997 | M38: 5293.9157 | O38: =F38 -> 5396.1779 | Q38: 26.954764 | S38: =K38 -> 26.81997
A39: - mellem 1 - 2 år | C39: 2449.5896 | D39: 2326.965 | E39: 2291.5817 | F39: 2405.6452 | H39: 13.808284 | I39: 13.282522 | J39: 13.081298 | K39: 13.385518 | M39: 2353.2701 | O39: =F39 -> 2405.6452 | Q39: 12.961391 | S39: =K39 -> 13.385518
A40: - øvrige | C40: 7449.4649 | D40: 7470.068 | E40: 7549.6694 | F40: 7714.2032 | H40: 2.850237 | I40: 2.8623692 | J40: 2.8926602 | K40: 2.9414895 | M40: 7016.9426 | O40: =F40 -> 7714.2032 | Q40: 2.778052 | S40: =K40 -> 2.9414895
A42: Fordelt på akademiske hovedgrupper
A43: DJØF'ere | C43: 4165.9184 | D43: 4121.0466 | E43: 4023.5832 | F43: 3671.5069 | H43: 4.552369 | I43: 4.5148301 | J43: 4.4069915 | K43: 4.011173 | M43: 3573.7909 | O43: =F43 -> 3671.5069 | Q43: 4.0580364 | S43: =K43 -> 4.011173
A44: - kandidatalder op til 1 år | C44: 1639.5834 | D44: 1585.9109 | E44: 1471.9747 | F44: 1201.3603 | H44: 28.317502 | I44: 27.99984 | J44: 26.531627 | K44: 21.410806 | M44: 1232.8373 | O44: =F44 -> 1201.3603 | Q44: 21.963963 | S44: =K44 -> 21.410806
A45: - øvrige | C45: 2274.8668 | D45: 2280.1597 | E45: 2288.0665 | F45: 2201.369 | H45: 3.067967 | I45: 3.0789668 | J45: 3.0854772 | K45: 2.9624528 | M45: 2066.7467 | O45: =F45 -> 2201.369 | Q45: 2.906081 | S45: =K45 -> 2.9624528
A47: Magistre | B47: =SUM(B9:B45)-SUM(B17:B20) -> 0 | C47: 5067.6717 | D47: 4994.361 | E47: 4878.6085 | F47: 4937.4665 | G47: 0 | H47: 7.7045559 | I47: 7.6206738 | J47: 7.4339568 | K47: 7.4889526 | M47: 4701.5799 | O47: =F47 -> 4937.4665 | Q47: 7.3629001 | S47: =K47 -> 7.4889526
A48: - kandidatalder op til 1 år | C48: 1750.3586 | D48: 1699.7143 | E48: 1580.305 | F48: 1482.8335 | H48: 46.220191 | I48: 45.839114 | J48: 42.884803 | K48: 39.595021 | M48: 1478.9191 | O48: =F48 -> 1482.8335 | Q48: 38.85757 | S48: =K48 -> 39.595021
A49: - øvrige | B49: 3043.1435 | C49: 3113.8913 | D49: 3084.4577 | E49: 3088.4707 | F49: 3245.0346 | H49: 5.3842812 | I49: 5.3478123 | J49: 5.3520789 | K49: 5.5981689 | M49: 3043.1435 | O49: =F49 -> 3245.0346 | Q49: 5.4244016 | S49: =K49 -> 5.5981689
A51: Ingeniører | C51: 1764.2593 | D51: 1633.8652 | E51: 1578.2499 | F51: 1644.7571 | H51: 2.7177155 | I51: 2.5242015 | J51: 2.4403913 | K51: 2.5214347 | M51: 1459.4312 | O51: =F51 -> 1644.7571 | Q51: 2.2827153 | S51: =K51 -> 2.5214347
A52: - kandidatalder op til 1 år | C52: 699.86029 | D52: 610.05364 | E52: 542.5672 | F52: 497.57001 | H52: 27.094862 | I52: 24.16054 | J52: 21.411492 | K52: 19.831407 | M52: 473.97617 | O52: =F52 -> 497.57001 | Q52: 20.203588 | S52: =K52 -> 19.831407
A53: - øvrige | C53: 1034.4402 | D53: 990.60812 | E53: 994.53502 | F53: 1098.9378 | H53: 1.7055054 | I53: 1.63699 | J53: 1.6460634 | K53: 1.8024534 | M53: 957.67916 | O53: =F53 -> 1098.9378 | Q53: 1.5950686 | S53: =K53 -> 1.8024534

Sheet Efterløn
A1: Efterlønsmodtagere i forhold til samlet antal medlemmer
D4: I alt | J4: Mænd | P4: Kvinder
B6: Alder | D6: Antal Medlemmer i a-kasse | F6: Antal på efterløn | H6: Pct. på efterløn | J6: Antal Medlemmer i a-kasse | L6: Antal på efterløn | N6: Pct. på efterløn | P6: Antal Medlemmer i a-kasse | R6: Antal på efterløn | T6: Pct. på efterløn
B9: 60 år | D9: 4353 | F9: 0 | H9: =IF(D9<10,"-",F9/D9*100) -> 0 | J9: 2675 | L9: 0 | N9: =IF(J9<10,"-",L9/J9*100) -> 0 | P9: 1678 | R9: 0 | T9: =IF(P9<10,"-",R9/P9*100) -> 0
B10: 61 år | D10: 4279 | F10: 0 | H10: =IF(D10<10,"-",F10/D10*100) -> 0 | J10: 2682 | L10: 0 | N10: =IF(J10<10,"-",L10/J10*100) -> 0 | P10: 1597 | R10: 0 | T10: =IF(P10<10,"-",R10/P10*100) -> 0
B11: 62 år | D11: 4044 | F11: 0 | H11: =IF(D11<10,"-",F11/D11*100) -> 0 | J11: 2522 | L11: 0 | N11: =IF(J11<10,"-",L11/J11*100) -> 0 | P11: 1522 | R11: 0 | T11: =IF(P11<10,"-",R11/P11*100) -> 0
B12: 63 år | D12: 3771 | F12: 288 | H12: =IF(D12<10,"-",F12/D12*100) -> 7.6372315 | J12: 2401 | L12: 121 | N12: =IF(J12<10,"-",L12/J12*100) -> 5.0395668 | P12: 1370 | R12: 167 | T12: =IF(P12<10,"-",R12/P12*100) -> 12.189781
B13: 64 år | D13: 3766 | F13: 957 | H13: =IF(D13<10,"-",F13/D13*100) -> 25.411577 | J13: 2391 | L13: 494 | N13: =IF(J13<10,"-",L13/J13*100) -> 20.660811 | P13: 1375 | R13: 463 | T13: =IF(P13<10,"-",R13/P13*100) -> 33.672727
B14: 65 år | D14: 1970 | F14: 695 | H14: =IF(D14<10,"-",F14/D14*100) -> 35.279188 | J14: 1258 | L14: 381 | N14: =IF(J14<10,"-",L14/J14*100) -> 30.286169 | P14: 712 | R14: 314 | T14: =IF(P14<10,"-",R14/P14*100) -> 44.101124
B15: 66 år + | D15: 63 | F15: 0 | H15: =IF(D15<10,"-",F15/D15*100) -> 0 | J15: 48 | L15: 0 | N15: =IF(J15<10,"-",L15/J15*100) -> 0 | P15: 15 | R15: 0 | T15: =IF(P15<10,"-",R15/P15*100) -> 0
B17: Total | D17: 1 | F17: 0 | H17: =IF(D17<10,"-",F17/D17*100) -> - | J17: 1 | L17: 0 | N17: =IF(J17<10,"-",L17/J17*100) -> - | P17: 0 | R17: 0 | T17: =IF(P17<10,"-",R17/P17*100) -> -

Sheet Tabel 1
A1: Landstatistik | N1: Landstatistik
A3: Tabel 1. Forsikrede medlemmer | N3: Tabel 1. Forsikrede medlemmer inkl. efterlønnere
C6: Mænd | F6: Kvinder | I6: I alt | P6: Mænd | S6: Kvinder | V6: I alt
C7: =Nøgletalstabeller!$M$5 -> 2019 | D7: =Nøgletalstabeller!$O$5 -> 2020 | F7: =Nøgletalstabeller!$M$5 -> 2019 | G7: =Nøgletalstabeller!$O$5 -> 2020 | I7: =Nøgletalstabeller!$M$5 -> 2019 | J7: =Nøgletalstabeller!$O$5 -> 2020 | P7: =Nøgletalstabeller!$M$5 -> 2019 | Q7: =Nøgletalstabeller!$O$5 -> 2020 | S7: =Nøgletalstabeller!$M$5 -> 2019 | T7: =Nøgletalstabeller!$O$5 -> 2020 | V7: =Nøgletalstabeller!$M$5 -> 2019 | W7: =Nøgletalstabeller!$O$5 -> 2020
A9: Civ. Ing. | C9: 22425 | D9: 23101 | F9: 7815 | G9: 8209 | I9: 30240 | J9: =D9+G9 -> 31310 | N9: Civ. Ing. | P9: 22501 | Q9: 23181 | S9: 7831 | T9: 8223 | V9: 30332 | W9: =Q9+T9 -> 31404
A10: Diplom Ing. | C10: 27461 | D10: 27567 | F10: 6233 | G10: 6354 | I10: 33694 | J10: =D10+G10 -> 33921 | N10: Diplom Ing. | P10: 27727 | Q10: 27826 | S10: 6252 | T10: 6375 | V10: 33979 | W10: =Q10+T10 -> 34201
A11: Cand.Scient.Tech. | C11: 8766 | D11: 9644 | F11: 7044 | G11: 7909 | I11: 15810 | J11: =D11+G11 -> 17553 | N11: Cand.Scient.Tech. | P11: 8771 | Q11: 9650 | S11: 7047 | T11: 7912 | V11: 15818 | W11: =Q11+T11 -> 17562
A12: MA. Hum. | C12: 12649 | D12: 12874 | F12: 26544 | G12: 27739 | I12: 39193 | J12: =D12+G12 -> 40613 | N12: MA. Hum. | P12: 12768 | Q12: 12985 | S12: 26727 | T12: 27913 | V12: 39495 | W12: =Q12+T12 -> 40898
A13: MA. Nat. | C13: 7782 | D13: 7667 | F13: 7054 | G13: 7103 | I13: 14836 | J13: =D13+G13 -> 14770 | N13: MA. Nat. | P13: 7879 | Q13: 7762 | S13: 7104 | T13: 7148 | V13: 14983 | W13: =Q13+T13 -> 14910
A14: MA. Ph.d. | C14: 1286 | D14: 1346 | F14: 1013 | G14: 1077 | I14: 2299 | J14: =D14+G14 -> 2423 | N14: MA. Ph.d. | P14: 1288 | Q14: 1349 | S14: 1015 | T14: 1080 | V14: 2303 | W14: =Q14+T14 -> 2429
A15: MA. Samf. | C15: 1200 | D15: 1346 | F15: 3128 | G15: 3560 | I15: 4328 | J15: =D15+G15 -> 4906 | N15: MA. Samf. | P15: 1202 | Q15: 1348 | S15: 3133 | T15: 3568 | V15: 4335 | W15: =Q15+T15 -> 4916
A16: Øvrige Mag. | C16: 1143 | D16: 1131 | F16: 2056 | G16: 2087 | I16: 3199 | J16: =D16+G16 -> 3218 | N16: Øvrige Mag. | P16: 1158 | Q16: 1152 | S16: 2084 | T16: 2129 | V16: 3242 | W16: =Q16+T16 -> 3281
A17: Agronom | C17: 1255 | D17: 1214 | F17: 1164 | G17: 1166 | I17: 2419 | J17: =D17+G17 -> 2380 | N17: Agronom | P17: 1270 | Q17: 1229 | S17: 1170 | T17: 1175 | V17: 2440 | W17: =Q17+T17 -> 2404
A18: Landsk. Arkt. | C18: 191 | D18: 190 | F18: 476 | G18: 499 | I18: 667 | J18: =D18+G18 -> 689 | N18: Landsk. Arkt. | P18: 192 | Q18: 192 | S18: 479 | T18: 500 | V18: 671 | W18: =Q18+T18 -> 692
A19: Hortonom | C19: 124 | D19: 121 | F19: 208 | G19: 203 | I19: 332 | J19: =D19+G19 -> 324 | N19: Hortonom | P19: 128 | Q19: 126 | S19: 213 | T19: 208 | V19: 341 | W19: =Q19+T19 -> 334
A20: Forstkand. | C20: 391 | D20: 380 | F20: 124 | G20: 130 | I20: 515 | J20: =D20+G20 -> 510 | N20: Forstkand. | P20: 395 | Q20: 384 | S20: 124 | T20: 130 | V20: 519 | W20: =Q20+T20 -> 514
A21: Jordbrugsakad. | B21: 0 | C21: 1961 | D21: 1905 | F21: 1972 | G21: 1998 | I21: 3933 | J21: =D21+G21 -> 3903 | N21: Jordbrugsakad. | P21: 1985 | Q21: 1931 | S21: 1986 | T21: 2013 | V21: 3971 | W21: =Q21+T21 -> 3944
A22: Mejeriing. | C22: 190 | D22: 187 | F22: 154 | G22: 164 | I22: 344 | J22: =D22+G22 -> 351 | N22: Mejeriing. | P22: 193 | Q22: 189 | S22: 154 | T22: 165 | V22: 347 | W22: =Q22+T22 -> 354
A23: Levn.m.kand. | C23: 44 | D23: 53 | F23: 329 | G23: 357 | I23: 373 | J23: =D23+G23 -> 410 | N23: Levn.m.kand. | P23: 44 | Q23: 53 | S23: 329 | T23: 357 | V23: 373 | W23: =Q23+T23 -> 410
A24: Dyrlæge | C24: 436 | D24: 446 | F24: 1810 | G24: 1888 | I24: 2246 | J24: =D24+G24 -> 2334 | N24: Dyrlæge | P24: 437 | Q24: 447 | S24: 1825 | T24: 1900 | V24: 2262 | W24: =Q24+T24 -> 2347
A25: Farmaceut | C25: 1359 | D25: 1374 | F25: 3780 | G25: 3889 | I25: 5139 | J25: =D25+G25 -> 5263 | N25: Farmaceut | P25: 1364 | Q25: 1380 | S25: 3807 | T25: 3921 | V25: 5171 | W25: =Q25+T25 -> 5301
A26: Læge | C26: 3548 | D26: 3584 | F26: 7805 | G26: 8085 | I26: 11353 | J26: =D26+G26 -> 11669 | N26: Læge | P26: 3555 | Q26: 3589 | S26: 7831 | T26: 8105 | V26: 11386 | W26: =Q26+T26 -> 11694
A27: Tandlæge | C27: 306 | D27: 293 | F27: 1721 | G27: 1692 | I27: 2027 | J27: =D27+G27 -> 1985 | N27: Tandlæge | P27: 307 | Q27: 295 | S27: 1739 | T27: 1710 | V27: 2046 | W27: =Q27+T27 -> 2005
A28: Arkitekt | C28: 2726 | D28: 2725 | F28: 3254 | G28: 3296 | I28: 5980 | J28: =D28+G28 -> 6021 | N28: Arkitekt | P28: 2763 | Q28: 2762 | S28: 3291 | T28: 3330 | V28: 6054 | W28: =Q28+T28 -> 6092
A29: Landinspek. | C29: 603 | D29: 599 | F29: 245 | G29: 248 | I29: 848 | J29: =D29+G29 -> 847 | N29: Landinspek. | P29: 611 | Q29: 609 | S29: 246 | T29: 252 | V29: 857 | W29: =Q29+T29 -> 861
A30: Bibliotekar | C30: 951 | D30: 900 | F30: 2674 | G30: 2592 | I30: 3625 | J30: =D30+G30 -> 3492 | N30: Bibliotekar | P30: 983 | Q30: 933 | S30: 2779 | T30: 2694 | V30: 3762 | W30: =Q30+T30 -> 3627
A31: Musikudd. | C31: 433 | D31: 413 | F31: 544 | G31: 538 | I31: 977 | J31: =D31+G31 -> 951 | N31: Musikudd. | P31: 440 | Q31: 418 | S31: 556 | T31: 547 | V31: 996 | W31: =Q31+T31 -> 965
A32: Teolog | C32: 684 | D32: 664 | F32: 1082 | G32: 1074 | I32: 1766 | J32: =D32+G32 -> 1738 | N32: Teolog | P32: 693 | Q32: 668 | S32: 1087 | T32: 1077 | V32: 1780 | W32: =Q32+T32 -> 1745
A33: Psykolog | C33: 1389 | D33: 1415 | F33: 6216 | G33: 6499 | I33: 7605 | J33: =D33+G33 -> 7914 | N33: Psykolog | P33: 1402 | Q33: 1432 | S33: 6250 | T33: 6526 | V33: 7652 | W33: =Q33+T33 -> 7958
... A45: Andre | C45: 10669 | D45: 11002 | F45: 10612 | G45: 11063 | I45: 21281 | J45: =D45+G45 -> 22065 | N45: Andre | P45: 10824 | Q45: 11166 | S45: 10727 | T45: 11185 | V45: 21551 | W45: =Q45+T45 -> 22351
A47: Total | B47: =SUM(B9:B45)-SUM(B17:B20) -> 0 | C47: =SUM(C9:C45)-SUM(C17:C20) -> 158660 | D47: =SUM(D9:D45)-SUM(D17:D20) -> 162721 | F47: =SUM(F9:F45)-SUM(F17:F20) -> 164115 | G47: =SUM(G9:G45)-SUM(G17:G20) -> 171120 | H47: =SUM(H9:H45)-SUM(H17:H20) -> 0 | I47: =SUM(I9:I45)-SUM(I17:I20) -> 322775 | J47: =SUM(J9:J45)-SUM(J17:J20) -> 333841 | N47: Total | P47: =SUM(P9:P45)-SUM(P17:P20) -> 159752 | Q47: =SUM(Q9:Q45)-SUM(Q17:Q20) -> 163834 | S47: =SUM(S9:S45)-SUM(S17:S20) -> 165087 | T47: =SUM(T9:T45)-SUM(T17:T20) -> 172108 | V47: =SUM(V9:V45)-SUM(V17:V20) -> 324839 | W47: =SUM(W9:W45)-SUM(W17:W20) -> 335942
A49: Ingeniører i alt | C49: 49886 | D49: 50668 | F49: 14048 | G49: 14563 | I49: 63934 | J49: =D49+G49 -> 65231 | N49: Ingeniører i alt | P49: 50228 | Q49: 51007 | S49: 14083 | T49: 14598 | V49: 64311 | W49: =Q49+T49 -> 65605
A50: Magistre i alt | C50: 24060 | D50: 24364 | F50: 39795 | G50: 41566 | I50: 63855 | J50: =D50+G50 -> 65930 | N50: Magistre i alt | P50: 24295 | Q50: 24596 | S50: 40063 | T50: 41838 | V50: 64358 | W50: =Q50+T50 -> 66434
A51: DJØF'ere i alt | C51: 41135 | D51: 42456 | F51: 46932 | G51: 49076 | I51: 88067 | J51: =D51+G51 -> 91532 | N51: DJØF'ere i alt | P51: 41293 | Q51: 42622 | S51: 47008 | T51: 49146 | V51: 88301 | W51: =Q51+T51 -> 91768
A52: Se sidste del af statistikken for en oversigt over uddannelsesgrupperingernes indhold

Sheet Tabel 2
A1: Landstatistik
A3: Tabel 2. Antal bruttoledige målt i berørte og opregnet til fuldtidspersoner
C5: Mænd | F5: Kvinder | I5: I alt
C6: Ledigheds-berørte | D6: Fuldtids-personer | F6: Ledigheds-berørte | G6: Fuldtids-personer | I6: Ledigheds-berørte | J6: Fuldtids-personer
A9: Civ. Ing. | C9: 732 | D9: 603.37866 | F9: 326 | G9: 262.37884 | H9: 854 | I9: =C9+F9 -> 1058 | J9: =D9+G9 -> 865.7575
A10: Diplom Ing. | C10: 742 | D10: 606.47851 | F10: 220 | G10: 172.52105 | H10: 738 | I10: =C10+F10 -> 962 | J10: =D10+G10 -> 778.99956
A11: Cand.Scient.Tech. | C11: 893 | D11: 759.5659 | F11: 923 | G11: 778.24674 | H11: 2239 | I11: =C11+F11 -> 1816 | J11: =D11+G11 -> 1537.8126
A12: MA. Hum. | C12: 1268 | D12: 1078.2293 | F12: 2867 | G12: 2408.6272 | H12: 550 | I12: =C12+F12 -> 4135 | J12: =D12+G12 -> 3486.8565
A13: MA. Nat. | C13: 273 | D13: 229.74552 | F13: 373 | G13: 309.11121 | H13: 91 | I13: =C13+F13 -> 646 | J13: =D13+G13 -> 538.85673
A14: MA. Ph.d. | C14: 57 | D14: 49.7449 | F14: 64 | G14: 53.77035 | H14: 349 | I14: =C14+F14 -> 121 | J14: =D14+G14 -> 103.51525
A15: MA. Samf. | C15: 195 | D15: 170.39918 | F15: 506 | G15: 423.99301 | H15: 204 | I15: =C15+F15 -> 701 | J15: =D15+G15 -> 594.39219
A16: Øvrige Mag. | C16: 97 | D16: 84.66101 | F16: 159 | G16: 129.18481 | H16: 66 | I16: =C16+F16 -> 256 | J16: =D16+G16 -> 213.84582
A17: Agronom | C17: 41 | D17: 35.55854 | F17: 60 | G17: 48.66837 | H17: 40 | I17: =C17+F17 -> 101 | J17: =D17+G17 -> 84.22691
A18: Landsk. Arkt. | C18: 16 | D18: 13.18718 | F18: 34 | G18: 28.93283 | H18: 16 | I18: =C18+F18 -> 50 | J18: =D18+G18 -> 42.12001
A19: Hortonom | C19: 4 | D19: 3.99925 | F19: 5 | G19: 4.16828 | H19: 14 | I19: =C19+F19 -> 9 | J19: =D19+G19 -> 8.16753
A20: Forstkand. | C20: 15 | D20: 13.58822 | E20: 83 | F20: 11 | G20: 10.11289 | H20: 136 | I20: =C20+F20 -> 26 | J20: =D20+G20 -> 23.70111
A21: Jordbrugsakad. | B21: 0 | C21: 76 | D21: 66.33319 | F21: 110 | G21: 91.88237 | I21: =C21+F21 -> 186 | J21: =D21+G21 -> 158.21556
A22: Mejeriing. | C22: 7 | D22: 4.72962 | F22: 8 | G22: 7.9985 | H22: 17 | I22: =C22+F22 -> 15 | J22: =D22+G22 -> 12.72812
A23: Levn.m.kand. | C23: 10 | D23: 7.25566 | F23: 31 | G23: 28.67461 | H23: 110 | I23: =C23+F23 -> 41 | J23: =D23+G23 -> 35.93027
A24: Dyrlæge | C24: 12 | D24: 8.24674 | F24: 83 | G24: 57.83634 | H24: 143 | I24: =C24+F24 -> 95 | J24: =D24+G24 -> 66.08308
A25: Farmaceut | C25: 72 | D25: 62.37635 | F25: 173 | G25: 145.2947 | H25: 66 | I25: =C25+F25 -> 245 | J25: =D25+G25 -> 207.67105
A26: Læge | C26: 123 | D26: 66.37248 | F26: 308 | G26: 169.25404 | H26: 55 | I26: =C26+F26 -> 431 | J26: =D26+G26 -> 235.62652
A27: Tandlæge | C27: 1 | D27: 0.99981 | F27: 24 | G27: 17.03674 | H27: 345 | I27: =C27+F27 -> 25 | J27: =D27+G27 -> 18.03655
A28: Arkitekt | C28: 181 | D28: 155.5417 | F28: 233 | G28: 191.67405 | H28: 7 | I28: =C28+F28 -> 414 | J28: =D28+G28 -> 347.21575
A29: Landinspek. | C29: 7 | D29: 6.81407 | F29: 4 | G29: 2.89154 | H29: 276 | I29: =C29+F29 -> 11 | J29: =D29+G29 -> 9.70561
A30: Bibliotekar | C30: 39 | D30: 34.83316 | F30: 111 | G30: 91.29545 | H30: 32 | I30: =C30+F30 -> 150 | J30: =D30+G30 -> 126.12861
A31: Musikudd. | C31: 11 | D31: 8.57544 | F31: 14 | G31: 10.77528 | H31: 59 | I31: =C31+F31 -> 25 | J31: =D31+G31 -> 19.35072
A32: Teolog | C32: 21 | D32: 17.5513 | F32: 47 | G32: 38.47939 | H32: 279 | I32: =C32+F32 -> 68 | J32: =D32+G32 -> 56.03069
A33: Psykolog | C33: 113 | D33: 96.87644 | F33: 383 | G33: 312.66513 | H33: 372 | I33: =C33+F33 -> 496 | J33: =D33+G33 -> 409.54157
... A44: Bac. Nat. | C44: 121 | D44: 99.07129 | F44: 106 | G44: 80.57756 | H44: 2761 | I44: =C44+F44 -> 227 | J44: =D44+G44 -> 179.64885
A45: Andre | C45: 633 | D45: 520.8495 | F45: 980 | G45: 806.00699 | I45: =C45+F45 -> 1613 | J45: =D45+G45 -> 1326.8565
A47: Total | B47: =SUM(B9:B45)-SUM(B17:B20) -> 0 | C47: =SUM(C9:C45)-SUM(C17:C20) -> 8274 | D47: =SUM(D9:D45)-SUM(D17:D20) -> 6968.8573 | E47: =SUM(E9:E45)-SUM(E17:E20) -> 0 | F47: =SUM(F9:F45)-SUM(F17:F20) -> 11657 | G47: =SUM(G9:G45)-SUM(G17:G20) -> 9608.3478 | H47: =SUM(H9:H45)-SUM(H17:H20) -> 14256 | I47: =SUM(I9:I45)-SUM(I17:I20) -> 19931 | J47: =SUM(J9:J45)-SUM(J17:J20) -> 16577.205
A49: Ingeniører i alt | C49: 1474 | D49: 1209.8572 | F49: 546 | G49: 434.89989 | I49: =C49+F49 -> 2020 | J49: =D49+G49 -> 1644.7571
A50: Magistre i alt | C50: 1890 | D50: 1612.7799 | F50: 3969 | G50: 3324.6866 | I50: =C50+F50 -> 5859 | J50: =D50+G50 -> 4937.4665
A51: DJØF'ere i alt | C51: 1904 | D51: 1641.0491 | F51: 2413 | G51: 2030.4578 | I51: =C51+F51 -> 4317 | J51: =D51+G51 -> 3671.5069
A52: Se sidste del af statistikken for en oversigt over uddannelsesgrupperingernes indhold

Sheet Tabel 3
A1: Landstatistik
A3: Tabel 3. Antal bruttoledige i procent af antal forsikrede
C5: Mænd | F5: Kvinder | G5: Kvinder | I5: I alt | J5: I alt
C6: Ledigheds-berørte | D6: Fuldtids-personer | F6: Ledigheds-berørte | G6: Fuldtids-personer | I6: Ledigheds-berørte | J6: Fuldtids-personer
A9: Civ. Ing. | C9: =IF(OR('Tabel 1'!$D9<5,'Tabel 2'!C9<0.5),"-",IFERROR('Tabel 2'!C9/'Tabel 1'!$D9*100,"-")) -> 3.168694 | D9: =IF(OR('Tabel 1'!$D9<5,'Tabel 2'!D9<0.5),"-",IFERROR('Tabel 2'!D9/'Tabel 1'!$D9*100,"-")) -> 2.6119158 | F9: =IF(OR('Tabel 1'!$G9<5,'Tabel 2'!F9<0.5),"-",IFERROR('Tabel 2'!F9/'Tabel 1'!$G9*100,"-")) -> 3.9712511 | G9: =IF(OR('Tabel 1'!$G9<5,'Tabel 2'!G9<0.5),"-",IFERROR('Tabel 2'!G9/'Tabel 1'!$G9*100,"-")) -> 3.1962339 | I9: =IF(OR('Tabel 1'!$J9<5,'Tabel 2'!I9<0.5),"-",IFERROR('Tabel 2'!I9/'Tabel 1'!$J9*100,"-")) -> 3.3791121 | J9: =IF(OR('Tabel 1'!$J9<5,'Tabel 2'!J9<0.5),"-",IFERROR('Tabel 2'!J9/'Tabel 1'!$J9*100,"-")) -> 2.765115
A10: Diplom Ing. | C10: =IF(OR('Tabel 1'!$D10<5,'Tabel 2'!C10<0.5),"-",IFERROR('Tabel 2'!C10/'Tabel 1'!$D10*100,"-")) -> 2.691624 | D10: =IF(OR('Tabel 1'!$D10<5,'Tabel 2'!D10<0.5),"-",IFERROR('Tabel 2'!D10/'Tabel 1'!$D10*100,"-")) -> 2.2000164 | F10: =IF(OR('Tabel 1'!$G10<5,'Tabel 2'!F10<0.5),"-",IFERROR('Tabel 2'!F10/'Tabel 1'!$G10*100,"-")) -> 3.4623859 | G10: =IF(OR('Tabel 1'!$G10<5,'Tabel 2'!G10<0.5),"-",IFERROR('Tabel 2'!G10/'Tabel 1'!$G10*100,"-")) -> 2.7151566 | I10: =IF(OR('Tabel 1'!$J10<5,'Tabel 2'!I10<0.5),"-",IFERROR('Tabel 2'!I10/'Tabel 1'!$J10*100,"-")) -> 2.8360013 | J10: =IF(OR('Tabel 1'!$J10<5,'Tabel 2'!J10<0.5),"-",IFERROR('Tabel 2'!J10/'Tabel 1'!$J10*100,"-")) -> 2.2965112
A11: Cand.Scient.Tech. | C11: =IF(OR('Tabel 1'!$D11<5,'Tabel 2'!C11<0.5),"-",IFERROR('Tabel 2'!C11/'Tabel 1'!$D11*100,"-")) -> 9.2596433 | D11: =IF(OR('Tabel 1'!$D11<5,'Tabel 2'!D11<0.5),"-",IFERROR('Tabel 2'!D11/'Tabel 1'!$D11*100,"-")) -> 7.8760462 | F11: =IF(OR('Tabel 1'!$G11<5,'Tabel 2'!F11<0.5),"-",IFERROR('Tabel 2'!F11/'Tabel 1'!$G11*100,"-")) -> 11.670249 | G11: =IF(OR('Tabel 1'!$G11<5,'Tabel 2'!G11<0.5),"-",IFERROR('Tabel 2'!G11/'Tabel 1'!$G11*100,"-")) -> 9.8400144 | I11: =IF(OR('Tabel 1'!$J11<5,'Tabel 2'!I11<0.5),"-",IFERROR('Tabel 2'!I11/'Tabel 1'!$J11*100,"-")) -> 10.34581 | J11: =IF(OR('Tabel 1'!$J11<5,'Tabel 2'!J11<0.5),"-",IFERROR('Tabel 2'!J11/'Tabel 1'!$J11*100,"-")) -> 8.7609676
A12: MA. Hum. | C12: =IF(OR('Tabel 1'!$D12<5,'Tabel 2'!C12<0.5),"-",IFERROR('Tabel 2'!C12/'Tabel 1'!$D12*100,"-")) -> 9.8493087 | D12: =IF(OR('Tabel 1'!$D12<5,'Tabel 2'!D12<0.5),"-",IFERROR('Tabel 2'!D12/'Tabel 1'!$D12*100,"-")) -> 8.3752469 | F12: =IF(OR('Tabel 1'!$G12<5,'Tabel 2'!F12<0.5),"-",IFERROR('Tabel 2'!F12/'Tabel 1'!$G12*100,"-")) -> 10.335629 | G12: =IF(OR('Tabel 1'!$G12<5,'Tabel 2'!G12<0.5),"-",IFERROR('Tabel 2'!G12/'Tabel 1'!$G12*100,"-")) -> 8.6831797 | I12: =IF(OR('Tabel 1'!$J12<5,'Tabel 2'!I12<0.5),"-",IFERROR('Tabel 2'!I12/'Tabel 1'!$J12*100,"-")) -> 10.181469 | J12: =IF(OR('Tabel 1'!$J12<5,'Tabel 2'!J12<0.5),"-",IFERROR('Tabel 2'!J12/'Tabel 1'!$J12*100,"-")) -> 8.5855674
A13: MA. Nat. | C13: =IF(OR('Tabel 1'!$D13<5,'Tabel 2'!C13<0.5),"-",IFERROR('Tabel 2'!C13/'Tabel 1'!$D13*100,"-")) -> 3.5607148 | D13: =IF(OR('Tabel 1'!$D13<5,'Tabel 2'!D13<0.5),"-",IFERROR('Tabel 2'!D13/'Tabel 1'!$D13*100,"-")) -> 2.9965504 | F13: =IF(OR('Tabel 1'!$G13<5,'Tabel 2'!F13<0.5),"-",IFERROR('Tabel 2'!F13/'Tabel 1'!$G13*100,"-")) -> 5.2513023 | G13: =IF(OR('Tabel 1'!$G13<5,'Tabel 2'!G13<0.5),"-",IFERROR('Tabel 2'!G13/'Tabel 1'!$G13*100,"-")) -> 4.3518402 | I13: =IF(OR('Tabel 1'!$J13<5,'Tabel 2'!I13<0.5),"-",IFERROR('Tabel 2'!I13/'Tabel 1'!$J13*100,"-")) -> 4.3737305 | J13: =IF(OR('Tabel 1'!$J13<5,'Tabel 2'!J13<0.5),"-",IFERROR('Tabel 2'!J13/'Tabel 1'!$J13*100,"-")) -> 3.6483191
A14: MA. Ph.d. | C14: =IF(OR('Tabel 1'!$D14<5,'Tabel 2'!C14<0.5),"-",IFERROR('Tabel 2'!C14/'Tabel 1'!$D14*100,"-")) -> 4.2347697 | D14: =IF(OR('Tabel 1'!$D14<5,'Tabel 2'!D14<0.5),"-",IFERROR('Tabel 2'!D14/'Tabel 1'!$D14*100,"-")) -> 3.6957578 | F14: =IF(OR('Tabel 1'!$G14<5,'Tabel 2'!F14<0.5),"-",IFERROR('Tabel 2'!F14/'Tabel 1'!$G14*100,"-")) -> 5.9424327 | G14: =IF(OR('Tabel 1'!$G14<5,'Tabel 2'!G14<0.5),"-",IFERROR('Tabel 2'!G14/'Tabel 1'!$G14*100,"-")) -> 4.9926045 | I14: =IF(OR('Tabel 1'!$J14<5,'Tabel 2'!I14<0.5),"-",IFERROR('Tabel 2'!I14/'Tabel 1'!$J14*100,"-")) -> 4.9938093 | J14: =IF(OR('Tabel 1'!$J14<5,'Tabel 2'!J14<0.5),"-",IFERROR('Tabel 2'!J14/'Tabel 1'!$J14*100,"-")) -> 4.2721936
A15: MA. Samf. | C15: =IF(OR('Tabel 1'!$D15<5,'Tabel 2'!C15<0.5),"-",IFERROR('Tabel 2'!C15/'Tabel 1'!$D15*100,"-")) -> 14.48737 | D15: =IF(OR('Tabel 1'!$D15<5,'Tabel 2'!D15<0.5),"-",IFERROR('Tabel 2'!D15/'Tabel 1'!$D15*100,"-")) -> 12.659672 | F15: =IF(OR('Tabel 1'!$G15<5,'Tabel 2'!F15<0.5),"-",IFERROR('Tabel 2'!F15/'Tabel 1'!$G15*100,"-")) -> 14.213483 | G15: =IF(OR('Tabel 1'!$G15<5,'Tabel 2'!G15<0.5),"-",IFERROR('Tabel 2'!G15/'Tabel 1'!$G15*100,"-")) -> 11.909916 | I15: =IF(OR('Tabel 1'!$J15<5,'Tabel 2'!I15<0.5),"-",IFERROR('Tabel 2'!I15/'Tabel 1'!$J15*100,"-")) -> 14.288626 | J15: =IF(OR('Tabel 1'!$J15<5,'Tabel 2'!J15<0.5),"-",IFERROR('Tabel 2'!J15/'Tabel 1'!$J15*100,"-")) -> 12.115617
A16: Øvrige Mag. | C16: =IF(OR('Tabel 1'!$D16<5,'Tabel 2'!C16<0.5),"-",IFERROR('Tabel 2'!C16/'Tabel 1'!$D16*100,"-")) -> 8.576481 | D16: =IF(OR('Tabel 1'!$D16<5,'Tabel 2'!D16<0.5),"-",IFERROR('Tabel 2'!D16/'Tabel 1'!$D16*100,"-")) -> 7.4855004 | F16: =IF(OR('Tabel 1'!$G16<5,'Tabel 2'!F16<0.5),"-",IFERROR('Tabel 2'!F16/'Tabel 1'!$G16*100,"-")) -> 7.6185913 | G16: =IF(OR('Tabel 1'!$G16<5,'Tabel 2'!G16<0.5),"-",IFERROR('Tabel 2'!G16/'Tabel 1'!$G16*100,"-")) -> 6.1899765 | I16: =IF(OR('Tabel 1'!$J16<5,'Tabel 2'!I16<0.5),"-",IFERROR('Tabel 2'!I16/'Tabel 1'!$J16*100,"-")) -> 7.9552517 | J16: =IF(OR('Tabel 1'!$J16<5,'Tabel 2'!J16<0.5),"-",IFERROR('Tabel 2'!J16/'Tabel 1'!$J16*100,"-")) -> 6.6453021
A17: Agronom | C17: =IF(OR('Tabel 1'!$D17<5,'Tabel 2'!C17<0.5),"-",IFERROR('Tabel 2'!C17/'Tabel 1'!$D17*100,"-")) -> 3.3772652 | D17: =IF(OR('Tabel 1'!$D17<5,'Tabel 2'!D17<0.5),"-",IFERROR('Tabel 2'!D17/'Tabel 1'!$D17*100,"-")) -> 2.9290395 | F17: =IF(OR('Tabel 1'!$G17<5,'Tabel 2'!F17<0.5),"-",IFERROR('Tabel 2'!F17/'Tabel 1'!$G17*100,"-")) -> 5.1457976 | G17: =IF(OR('Tabel 1'!$G17<5,'Tabel 2'!G17<0.5),"-",IFERROR('Tabel 2'!G17/'Tabel 1'!$G17*100,"-")) -> 4.1739597 | I17: =IF(OR('Tabel 1'!$J17<5,'Tabel 2'!I17<0.5),"-",IFERROR('Tabel 2'!I17/'Tabel 1'!$J17*100,"-")) -> 4.2436975 | J17: =IF(OR('Tabel 1'!$J17<5,'Tabel 2'!J17<0.5),"-",IFERROR('Tabel 2'!J17/'Tabel 1'!$J17*100,"-")) -> 3.5389458
A18: Landsk. Arkt. | C18: =IF(OR('Tabel 1'!$D18<5,'Tabel 2'!C18<0.5),"-",IFERROR('Tabel 2'!C18/'Tabel 1'!$D18*100,"-")) -> 8.4210526 | D18: =IF(OR('Tabel 1'!$D18<5,'Tabel 2'!D18<0.5),"-",IFERROR('Tabel 2'!D18/'Tabel 1'!$D18*100,"-")) -> 6.9406211 | F18: =IF(OR('Tabel 1'!$G18<5,'Tabel 2'!F18<0.5),"-",IFERROR('Tabel 2'!F18/'Tabel 1'!$G18*100,"-")) -> 6.8136273 | G18: =IF(OR('Tabel 1'!$G18<5,'Tabel 2'!G18<0.5),"-",IFERROR('Tabel 2'!G18/'Tabel 1'!$G18*100,"-")) -> 5.7981623 | I18: =IF(OR('Tabel 1'!$J18<5,'Tabel 2'!I18<0.5),"-",IFERROR('Tabel 2'!I18/'Tabel 1'!$J18*100,"-")) -> 7.256894 | J18: =IF(OR('Tabel 1'!$J18<5,'Tabel 2'!J18<0.5),"-",IFERROR('Tabel 2'!J18/'Tabel 1'!$J18*100,"-")) -> 6.113209
A19: Hortonom | C19: =IF(OR('Tabel 1'!$D19<5,'Tabel 2'!C19<0.5),"-",IFERROR('Tabel 2'!C19/'Tabel 1'!$D19*100,"-")) -> 3.3057851 | D19: =IF(OR('Tabel 1'!$D19<5,'Tabel 2'!D19<0.5),"-",IFERROR('Tabel 2'!D19/'Tabel 1'!$D19*100,"-")) -> 3.3051653 | F19: =IF(OR('Tabel 1'!$G19<5,'Tabel 2'!F19<0.5),"-",IFERROR('Tabel 2'!F19/'Tabel 1'!$G19*100,"-")) -> 2.4630542 | G19: =IF(OR('Tabel 1'!$G19<5,'Tabel 2'!G19<0.5),"-",IFERROR('Tabel 2'!G19/'Tabel 1'!$G19*100,"-")) -> 2.0533399 | I19: =IF(OR('Tabel 1'!$J19<5,'Tabel 2'!I19<0.5),"-",IFERROR('Tabel 2'!I19/'Tabel 1'!$J19*100,"-")) -> 2.7777778 | J19: =IF(OR('Tabel 1'!$J19<5,'Tabel 2'!J19<0.5),"-",IFERROR('Tabel 2'!J19/'Tabel 1'!$J19*100,"-")) -> 2.5208426
A20: Forstkand. | C20: =IF(OR('Tabel 1'!$D20<5,'Tabel 2'!C20<0.5),"-",IFERROR('Tabel 2'!C20/'Tabel 1'!$D20*100,"-")) -> 3.9473684 | D20: =IF(OR('Tabel 1'!$D20<5,'Tabel 2'!D20<0.5),"-",IFERROR('Tabel 2'!D20/'Tabel 1'!$D20*100,"-")) -> 3.5758474 | F20: =IF(OR('Tabel 1'!$G20<5,'Tabel 2'!F20<0.5),"-",IFERROR('Tabel 2'!F20/'Tabel 1'!$G20*100,"-")) -> 8.4615385 | G20: =IF(OR('Tabel 1'!$G20<5,'Tabel 2'!G20<0.5),"-",IFERROR('Tabel 2'!G20/'Tabel 1'!$G20*100,"-")) -> 7.7791462 | I20: =IF(OR('Tabel 1'!$J20<5,'Tabel 2'!I20<0.5),"-",IFERROR('Tabel 2'!I20/'Tabel 1'!$J20*100,"-")) -> 5.0980392 | J20: =IF(OR('Tabel 1'!$J20<5,'Tabel 2'!J20<0.5),"-",IFERROR('Tabel 2'!J20/'Tabel 1'!$J20*100,"-")) -> 4.6472765
A21: Jordbrugsakad. | B21: 0 | C21: =IF(OR('Tabel 1'!$D21<5,'Tabel 2'!C21<0.5),"-",IFERROR('Tabel 2'!C21/'Tabel 1'!$D21*100,"-")) -> 3.9895013 | D21: =IF(OR('Tabel 1'!$D21<5,'Tabel 2'!D21<0.5),"-",IFERROR('Tabel 2'!D21/'Tabel 1'!$D21*100,"-")) -> 3.4820572 | F21: =IF(OR('Tabel 1'!$G21<5,'Tabel 2'!F21<0.5),"-",IFERROR('Tabel 2'!F21/'Tabel 1'!$G21*100,"-")) -> 5.5055055 | G21: =IF(OR('Tabel 1'!$G21<5,'Tabel 2'!G21<0.5),"-",IFERROR('Tabel 2'!G21/'Tabel 1'!$G21*100,"-")) -> 4.5987172 | I21: =IF(OR('Tabel 1'!$J21<5,'Tabel 2'!I21<0.5),"-",IFERROR('Tabel 2'!I21/'Tabel 1'!$J21*100,"-")) -> 4.765565 | J21: =IF(OR('Tabel 1'!$J21<5,'Tabel 2'!J21<0.5),"-",IFERROR('Tabel 2'!J21/'Tabel 1'!$J21*100,"-")) -> 4.053691
A22: Mejeriing. | C22: =IF(OR('Tabel 1'!$D22<5,'Tabel 2'!C22<0.5),"-",IFERROR('Tabel 2'!C22/'Tabel 1'!$D22*100,"-")) -> 3.7433155 | D22: =IF(OR('Tabel 1'!$D22<5,'Tabel 2'!D22<0.5),"-",IFERROR('Tabel 2'!D22/'Tabel 1'!$D22*100,"-")) -> 2.5292086 | F22: =IF(OR('Tabel 1'!$G22<5,'Tabel 2'!F22<0.5),"-",IFERROR('Tabel 2'!F22/'Tabel 1'!$G22*100,"-")) -> 4.8780488 | G22: =IF(OR('Tabel 1'!$G22<5,'Tabel 2'!G22<0.5),"-",IFERROR('Tabel 2'!G22/'Tabel 1'!$G22*100,"-")) -> 4.8771341 | I22: =IF(OR('Tabel 1'!$J22<5,'Tabel 2'!I22<0.5),"-",IFERROR('Tabel 2'!I22/'Tabel 1'!$J22*100,"-")) -> 4.2735043 | J22: =IF(OR('Tabel 1'!$J22<5,'Tabel 2'!J22<0.5),"-",IFERROR('Tabel 2'!J22/'Tabel 1'!$J22*100,"-")) -> 3.626245
A23: Levn.m.kand. | C23: =IF(OR('Tabel 1'!$D23<5,'Tabel 2'!C23<0.5),"-",IFERROR('Tabel 2'!C23/'Tabel 1'!$D23*100,"-")) -> 18.867925 | D23: =IF(OR('Tabel 1'!$D23<5,'Tabel 2'!D23<0.5),"-",IFERROR('Tabel 2'!D23/'Tabel 1'!$D23*100,"-")) -> 13.689925 | F23: =IF(OR('Tabel 1'!$G23<5,'Tabel 2'!F23<0.5),"-",IFERROR('Tabel 2'!F23/'Tabel 1'!$G23*100,"-")) -> 8.6834734 | G23: =IF(OR('Tabel 1'!$G23<5,'Tabel 2'!G23<0.5),"-",IFERROR('Tabel 2'!G23/'Tabel 1'!$G23*100,"-")) -> 8.0321036 | I23: =IF(OR('Tabel 1'!$J23<5,'Tabel 2'!I23<0.5),"-",IFERROR('Tabel 2'!I23/'Tabel 1'!$J23*100,"-")) -> 10 | J23: =IF(OR('Tabel 1'!$J23<5,'Tabel 2'!J23<0.5),"-",IFERROR('Tabel 2'!J23/'Tabel 1'!$J23*100,"-")) -> 8.7634805
A24: Dyrlæge | C24: =IF(OR('Tabel 1'!$D24<5,'Tabel 2'!C24<0.5),"-",IFERROR('Tabel 2'!C24/'Tabel 1'!$D24*100,"-")) -> 2.690583 | D24: =IF(OR('Tabel 1'!$D24<5,'Tabel 2'!D24<0.5),"-",IFERROR('Tabel 2'!D24/'Tabel 1'!$D24*100,"-")) -> 1.8490448 | F24: =IF(OR('Tabel 1'!$G24<5,'Tabel 2'!F24<0.5),"-",IFERROR('Tabel 2'!F24/'Tabel 1'!$G24*100,"-")) -> 4.3961864 | G24: =IF(OR('Tabel 1'!$G24<5,'Tabel 2'!G24<0.5),"-",IFERROR('Tabel 2'!G24/'Tabel 1'!$G24*100,"-")) -> 3.0633655 | I24: =IF(OR('Tabel 1'!$J24<5,'Tabel 2'!I24<0.5),"-",IFERROR('Tabel 2'!I24/'Tabel 1'!$J24*100,"-")) -> 4.0702656 | J24: =IF(OR('Tabel 1'!$J24<5,'Tabel 2'!J24<0.5),"-",IFERROR('Tabel 2'!J24/'Tabel 1'!$J24*100,"-")) -> 2.8313231
A25: Farmaceut | C25: =IF(OR('Tabel 1'!$D25<5,'Tabel 2'!C25<0.5),"-",IFERROR('Tabel 2'!C25/'Tabel 1'!$D25*100,"-")) -> 5.2401747 | D25: =IF(OR('Tabel 1'!$D25<5,'Tabel 2'!D25<0.5),"-",IFERROR('Tabel 2'!D25/'Tabel 1'!$D25*100,"-")) -> 4.5397635 | F25: =IF(OR('Tabel 1'!$G25<5,'Tabel 2'!F25<0.5),"-",IFERROR('Tabel 2'!F25/'Tabel 1'!$G25*100,"-")) -> 4.4484443 | G25: =IF(OR('Tabel 1'!$G25<5,'Tabel 2'!G25<0.5),"-",IFERROR('Tabel 2'!G25/'Tabel 1'!$G25*100,"-")) -> 3.7360427 | I25: =IF(OR('Tabel 1'!$J25<5,'Tabel 2'!I25<0.5),"-",IFERROR('Tabel 2'!I25/'Tabel 1'!$J25*100,"-")) -> 4.6551397 | J25: =IF(OR('Tabel 1'!$J25<5,'Tabel 2'!J25<0.5),"-",IFERROR('Tabel 2'!J25/'Tabel 1'!$J25*100,"-")) -> 3.9458683
A26: Læge | C26: =IF(OR('Tabel 1'!$D26<5,'Tabel 2'!C26<0.5),"-",IFERROR('Tabel 2'!C26/'Tabel 1'!$D26*100,"-")) -> 3.4319196 | D26: =IF(OR('Tabel 1'!$D26<5,'Tabel 2'!D26<0.5),"-",IFERROR('Tabel 2'!D26/'Tabel 1'!$D26*100,"-")) -> 1.8519107 | F26: =IF(OR('Tabel 1'!$G26<5,'Tabel 2'!F26<0.5),"-",IFERROR('Tabel 2'!F26/'Tabel 1'!$G26*100,"-")) -> 3.8095238 | G26: =IF(OR('Tabel 1'!$G26<5,'Tabel 2'!G26<0.5),"-",IFERROR('Tabel 2'!G26/'Tabel 1'!$G26*100,"-")) -> 2.0934328 | I26: =IF(OR('Tabel 1'!$J26<5,'Tabel 2'!I26<0.5),"-",IFERROR('Tabel 2'!I26/'Tabel 1'!$J26*100,"-")) -> 3.693547 | J26: =IF(OR('Tabel 1'!$J26<5,'Tabel 2'!J26<0.5),"-",IFERROR('Tabel 2'!J26/'Tabel 1'!$J26*100,"-")) -> 2.019252
A27: Tandlæge | C27: =IF(OR('Tabel 1'!$D27<5,'Tabel 2'!C27<0.5),"-",IFERROR('Tabel 2'!C27/'Tabel 1'!$D27*100,"-")) -> 0.34129693 | D27: =IF(OR('Tabel 1'!$D27<5,'Tabel 2'!D27<0.5),"-",IFERROR('Tabel 2'!D27/'Tabel 1'!$D27*100,"-")) -> 0.34123208 | F27: =IF(OR('Tabel 1'!$G27<5,'Tabel 2'!F27<0.5),"-",IFERROR('Tabel 2'!F27/'Tabel 1'!$G27*100,"-")) -> 1.4184397 | G27: =IF(OR('Tabel 1'!$G27<5,'Tabel 2'!G27<0.5),"-",IFERROR('Tabel 2'!G27/'Tabel 1'!$G27*100,"-")) -> 1.0068995 | I27: =IF(OR('Tabel 1'!$J27<5,'Tabel 2'!I27<0.5),"-",IFERROR('Tabel 2'!I27/'Tabel 1'!$J27*100,"-")) -> 1.2594458 | J27: =IF(OR('Tabel 1'!$J27<5,'Tabel 2'!J27<0.5),"-",IFERROR('Tabel 2'!J27/'Tabel 1'!$J27*100,"-")) -> 0.90864232
A28: Arkitekt | C28: =IF(OR('Tabel 1'!$D28<5,'Tabel 2'!C28<0.5),"-",IFERROR('Tabel 2'!C28/'Tabel 1'!$D28*100,"-")) -> 6.6422018 | D28: =IF(OR('Tabel 1'!$D28<5,'Tabel 2'!D28<0.5),"-",IFERROR('Tabel 2'!D28/'Tabel 1'!$D28*100,"-")) -> 5.7079523 | F28: =IF(OR('Tabel 1'!$G28<5,'Tabel 2'!F28<0.5),"-",IFERROR('Tabel 2'!F28/'Tabel 1'!$G28*100,"-")) -> 7.0691748 | G28: =IF(OR('Tabel 1'!$G28<5,'Tabel 2'!G28<0.5),"-",IFERROR('Tabel 2'!G28/'Tabel 1'!$G28*100,"-")) -> 5.8153535 | I28: =IF(OR('Tabel 1'!$J28<5,'Tabel 2'!I28<0.5),"-",IFERROR('Tabel 2'!I28/'Tabel 1'!$J28*100,"-")) -> 6.8759342 | J28: =IF(OR('Tabel 1'!$J28<5,'Tabel 2'!J28<0.5),"-",IFERROR('Tabel 2'!J28/'Tabel 1'!$J28*100,"-")) -> 5.7667456
A29: Landinspek. | C29: =IF(OR('Tabel 1'!$D29<5,'Tabel 2'!C29<0.5),"-",IFERROR('Tabel 2'!C29/'Tabel 1'!$D29*100,"-")) -> 1.1686144 | D29: =IF(OR('Tabel 1'!$D29<5,'Tabel 2'!D29<0.5),"-",IFERROR('Tabel 2'!D29/'Tabel 1'!$D29*100,"-")) -> 1.1375743 | F29: =IF(OR('Tabel 1'!$G29<5,'Tabel 2'!F29<0.5),"-",IFERROR('Tabel 2'!F29/'Tabel 1'!$G29*100,"-")) -> 1.6129032 | G29: =IF(OR('Tabel 1'!$G29<5,'Tabel 2'!G29<0.5),"-",IFERROR('Tabel 2'!G29/'Tabel 1'!$G29*100,"-")) -> 1.1659435 | I29: =IF(OR('Tabel 1'!$J29<5,'Tabel 2'!I29<0.5),"-",IFERROR('Tabel 2'!I29/'Tabel 1'!$J29*100,"-")) -> 1.2987013 | J29: =IF(OR('Tabel 1'!$J29<5,'Tabel 2'!J29<0.5),"-",IFERROR('Tabel 2'!J29/'Tabel 1'!$J29*100,"-")) -> 1.1458808
A30: Bibliotekar | C30: =IF(OR('Tabel 1'!$D30<5,'Tabel 2'!C30<0.5),"-",IFERROR('Tabel 2'!C30/'Tabel 1'!$D30*100,"-")) -> 4.3333333 | D30: =IF(OR('Tabel 1'!$D30<5,'Tabel 2'!D30<0.5),"-",IFERROR('Tabel 2'!D30/'Tabel 1'!$D30*100,"-")) -> 3.8703511 | F30: =IF(OR('Tabel 1'!$G30<5,'Tabel 2'!F30<0.5),"-",IFERROR('Tabel 2'!F30/'Tabel 1'!$G30*100,"-")) -> 4.2824074 | G30: =IF(OR('Tabel 1'!$G30<5,'Tabel 2'!G30<0.5),"-",IFERROR('Tabel 2'!G30/'Tabel 1'!$G30*100,"-")) -> 3.522201 | I30: =IF(OR('Tabel 1'!$J30<5,'Tabel 2'!I30<0.5),"-",IFERROR('Tabel 2'!I30/'Tabel 1'!$J30*100,"-")) -> 4.2955326 | J30: =IF(OR('Tabel 1'!$J30<5,'Tabel 2'!J30<0.5),"-",IFERROR('Tabel 2'!J30/'Tabel 1'!$J30*100,"-")) -> 3.6119304
A31: Musikudd. | C31: =IF(OR('Tabel 1'!$D31<5,'Tabel 2'!C31<0.5),"-",IFERROR('Tabel 2'!C31/'Tabel 1'!$D31*100,"-")) -> 2.6634383 | D31: =IF(OR('Tabel 1'!$D31<5,'Tabel 2'!D31<0.5),"-",IFERROR('Tabel 2'!D31/'Tabel 1'!$D31*100,"-")) -> 2.0763777 | F31: =IF(OR('Tabel 1'!$G31<5,'Tabel 2'!F31<0.5),"-",IFERROR('Tabel 2'!F31/'Tabel 1'!$G31*100,"-")) -> 2.6022305 | G31: =IF(OR('Tabel 1'!$G31<5,'Tabel 2'!G31<0.5),"-",IFERROR('Tabel 2'!G31/'Tabel 1'!$G31*100,"-")) -> 2.0028401 | I31: =IF(OR('Tabel 1'!$J31<5,'Tabel 2'!I31<0.5),"-",IFERROR('Tabel 2'!I31/'Tabel 1'!$J31*100,"-")) -> 2.6288118 | J31: =IF(OR('Tabel 1'!$J31<5,'Tabel 2'!J31<0.5),"-",IFERROR('Tabel 2'!J31/'Tabel 1'!$J31*100,"-")) -> 2.034776
A32: Teolog | C32: =IF(OR('Tabel 1'!$D32<5,'Tabel 2'!C32<0.5),"-",IFERROR('Tabel 2'!C32/'Tabel 1'!$D32*100,"-")) -> 3.1626506 | D32: =IF(OR('Tabel 1'!$D32<5,'Tabel 2'!D32<0.5),"-",IFERROR('Tabel 2'!D32/'Tabel 1'!$D32*100,"-")) -> 2.6432681 | F32: =IF(OR('Tabel 1'!$G32<5,'Tabel 2'!F32<0.5),"-",IFERROR('Tabel 2'!F32/'Tabel 1'!$G32*100,"-")) -> 4.3761639 | G32: =IF(OR('Tabel 1'!$G32<5,'Tabel 2'!G32<0.5),"-",IFERROR('Tabel 2'!G32/'Tabel 1'!$G32*100,"-")) -> 3.582811 | I32: =IF(OR('Tabel 1'!$J32<5,'Tabel 2'!I32<0.5),"-",IFERROR('Tabel 2'!I32/'Tabel 1'!$J32*100,"-")) -> 3.9125432 | J32: =IF(OR('Tabel 1'!$J32<5,'Tabel 2'!J32<0.5),"-",IFERROR('Tabel 2'!J32/'Tabel 1'!$J32*100,"-")) -> 3.2238602
A33: Psykolog | C33: =IF(OR('Tabel 1'!$D33<5,'Tabel 2'!C33<0.5),"-",IFERROR('Tabel 2'!C33/'Tabel 1'!$D33*100,"-")) -> 7.9858657 | D33: =IF(OR('Tabel 1'!$D33<5,'Tabel 2'!D33<0.5),"-",IFERROR('Tabel 2'!D33/'Tabel 1'!$D33*100,"-")) -> 6.8463915 | F33: =IF(OR('Tabel 1'!$G33<5,'Tabel 2'!F33<0.5),"-",IFERROR('Tabel 2'!F33/'Tabel 1'!$G33*100,"-")) -> 5.8932143 | G33: =IF(OR('Tabel 1'!$G33<5,'Tabel 2'!G33<0.5),"-",IFERROR('Tabel 2'!G33/'Tabel 1'!$G33*100,"-")) -> 4.8109729 | I33: =IF(OR('Tabel 1'!$J33<5,'Tabel 2'!I33<0.5),"-",IFERROR('Tabel 2'!I33/'Tabel 1'!$J33*100,"-")) -> 6.2673743 | J33: =IF(OR('Tabel 1'!$J33<5,'Tabel 2'!J33<0.5),"-",IFERROR('Tabel 2'!J33/'Tabel 1'!$J33*100,"-")) -> 5.1748998
... A45: Andre | C45: =IF(OR('Tabel 1'!$D45<5,'Tabel 2'!C45<0.5),"-",IFERROR('Tabel 2'!C45/'Tabel 1'!$D45*100,"-")) -> 5.7534994 | D45: =IF(OR('Tabel 1'!$D45<5,'Tabel 2'!D45<0.5),"-",IFERROR('Tabel 2'!D45/'Tabel 1'!$D45*100,"-")) -> 4.7341347 | F45: =IF(OR('Tabel 1'!$G45<5,'Tabel 2'!F45<0.5),"-",IFERROR('Tabel 2'!F45/'Tabel 1'!$G45*100,"-")) -> 8.8583567 | G45: =IF(OR('Tabel 1'!$G45<5,'Tabel 2'!G45<0.5),"-",IFERROR('Tabel 2'!G45/'Tabel 1'!$G45*100,"-")) -> 7.2856096 | I45: =IF(OR('Tabel 1'!$J45<5,'Tabel 2'!I45<0.5),"-",IFERROR('Tabel 2'!I45/'Tabel 1'!$J45*100,"-")) -> 7.3102198 | J45: =IF(OR('Tabel 1'!$J45<5,'Tabel 2'!J45<0.5),"-",IFERROR('Tabel 2'!J45/'Tabel 1'!$J45*100,"-")) -> 6.013399
A47: Total | B47: =SUM(B9:B45)-SUM(B17:B20) -> 0 | C47: =IF(OR('Tabel 1'!$D47<5,'Tabel 2'!C47<0.5),"-",IFERROR('Tabel 2'!C47/'Tabel 1'!$D47*100,"-")) -> 5.084777 | D47: =IF(OR('Tabel 1'!$D47<5,'Tabel 2'!D47<0.5),"-",IFERROR('Tabel 2'!D47/'Tabel 1'!$D47*100,"-")) -> 4.2827031 | E47: =IF('Tabel 1'!$G47<10,"-",'Tabel 2'!E47/'Tabel 1'!$G47*100) -> 0 | F47: =IF(OR('Tabel 1'!$G47<5,'Tabel 2'!F47<0.5),"-",IFERROR('Tabel 2'!F47/'Tabel 1'!$G47*100,"-")) -> 6.8121786 | G47: =IF(OR('Tabel 1'!$G47<5,'Tabel 2'!G47<0.5),"-",IFERROR('Tabel 2'!G47/'Tabel 1'!$G47*100,"-")) -> 5.6149765 | H47: =IF('Tabel 1'!$G47<10,"-",'Tabel 2'!H47/'Tabel 1'!$G47*100) -> 8.3309958 | I47: =IF(OR('Tabel 1'!$J47<5,'Tabel 2'!I47<0.5),"-",IFERROR('Tabel 2'!I47/'Tabel 1'!$J47*100,"-")) -> 5.9702074 | J47: =IF(OR('Tabel 1'!$J47<5,'Tabel 2'!J47<0.5),"-",IFERROR('Tabel 2'!J47/'Tabel 1'!$J47*100,"-")) -> 4.9655989
A49: Ingeniører i alt | B49: =IF('Tabel 1'!$D49<10,"-",'Tabel 2'!B49/'Tabel 1'!$D49*100) -> 0 | C49: =IF(OR('Tabel 1'!$D49<5,'Tabel 2'!C49<0.5),"-",IFERROR('Tabel 2'!C49/'Tabel 1'!$D49*100,"-")) -> 2.909134 | D49: =IF(OR('Tabel 1'!$D49<5,'Tabel 2'!D49<0.5),"-",IFERROR('Tabel 2'!D49/'Tabel 1'!$D49*100,"-")) -> 2.3878132 | F49: =IF(OR('Tabel 1'!$G49<5,'Tabel 2'!F49<0.5),"-",IFERROR('Tabel 2'!F49/'Tabel 1'!$G49*100,"-")) -> 3.7492275 | G49: =IF(OR('Tabel 1'!$G49<5,'Tabel 2'!G49<0.5),"-",IFERROR('Tabel 2'!G49/'Tabel 1'!$G49*100,"-")) -> 2.9863345 | I49: =IF(OR('Tabel 1'!$J49<5,'Tabel 2'!I49<0.5),"-",IFERROR('Tabel 2'!I49/'Tabel 1'!$J49*100,"-")) -> 3.0966872 | J49: =IF(OR('Tabel 1'!$J49<5,'Tabel 2'!J49<0.5),"-",IFERROR('Tabel 2'!J49/'Tabel 1'!$J49*100,"-")) -> 2.5214347
A50: Magistre i alt | C50: =IF(OR('Tabel 1'!$D50<5,'Tabel 2'!C50<0.5),"-",IFERROR('Tabel 2'!C50/'Tabel 1'!$D50*100,"-")) -> 7.7573469 | D50: =IF(OR('Tabel 1'!$D50<5,'Tabel 2'!D50<0.5),"-",IFERROR('Tabel 2'!D50/'Tabel 1'!$D50*100,"-")) -> 6.6195202 | F50: =IF(OR('Tabel 1'!$G50<5,'Tabel 2'!F50<0.5),"-",IFERROR('Tabel 2'!F50/'Tabel 1'!$G50*100,"-")) -> 9.5486696 | G50: =IF(OR('Tabel 1'!$G50<5,'Tabel 2'!G50<0.5),"-",IFERROR('Tabel 2'!G50/'Tabel 1'!$G50*100,"-")) -> 7.9985723 | I50: =IF(OR('Tabel 1'!$J50<5,'Tabel 2'!I50<0.5),"-",IFERROR('Tabel 2'!I50/'Tabel 1'!$J50*100,"-")) -> 8.886698 | J50: =IF(OR('Tabel 1'!$J50<5,'Tabel 2'!J50<0.5),"-",IFERROR('Tabel 2'!J50/'Tabel 1'!$J50*100,"-")) -> 7.4889526
A51: DJØF'ere i alt | C51: =IF(OR('Tabel 1'!$D51<5,'Tabel 2'!C51<0.5),"-",IFERROR('Tabel 2'!C51/'Tabel 1'!$D51*100,"-")) -> 4.4846429 | D51: =IF(OR('Tabel 1'!$D51<5,'Tabel 2'!D51<0.5),"-",IFERROR('Tabel 2'!D51/'Tabel 1'!$D51*100,"-")) -> 3.8652937 | F51: =IF(OR('Tabel 1'!$G51<5,'Tabel 2'!F51<0.5),"-",IFERROR('Tabel 2'!F51/'Tabel 1'!$G51*100,"-")) -> 4.9168636 | G51: =IF(OR('Tabel 1'!$G51<5,'Tabel 2'!G51<0.5),"-",IFERROR('Tabel 2'!G51/'Tabel 1'!$G51*100,"-")) -> 4.1373743 | I51: =IF(OR('Tabel 1'!$J51<5,'Tabel 2'!I51<0.5),"-",IFERROR('Tabel 2'!I51/'Tabel 1'!$J51*100,"-")) -> 4.7163833 | J51: =IF(OR('Tabel 1'!$J51<5,'Tabel 2'!J51<0.5),"-",IFERROR('Tabel 2'!J51/'Tabel 1'!$J51*100,"-")) -> 4.011173
A52: Se sidste del af statistikken for en oversigt over uddannelsesgrupperingernes indhold

Sheet Tabel 4 F
A1: Landstatistik
A3: Tabel 4. Antal forsikrede medlemmer - aldersfordelt
B7: Under 30 år | C7: 30 - 39 år | D7: 40 - 49 år | E7: 50 - 59 år | F7: Over 60 år | H7: I alt
A9: Civ. Ing. | B9: 4871 | C9: 10493 | D9: 7785 | E9: 6429 | F9: 1732 | H9: =B9+C9+D9+E9+F9 -> 31310
A10: Diplom Ing. | B10: 3067 | C10: 6042 | D10: 9217 | E10: 12137 | F10: 3458 | H10: =B10+C10+D10+E10+F10 -> 33921
A11: Cand.Scient.Tech. | B11: 5656 | C11: 8139 | D11: 2629 | E11: 943 | F11: 186 | H11: =B11+C11+D11+E11+F11 -> 17553
A12: MA. Hum. | B12: 5654 | C12: 13981 | D12: 13327 | E12: 5367 | F12: 2284 | H12: =B12+C12+D12+E12+F12 -> 40613
A13: MA. Nat. | B13: 1037 | C13: 3283 | D13: 5218 | E13: 3778 | F13: 1454 | H13: =B13+C13+D13+E13+F13 -> 14770
A14: MA. Ph.d. | B14: 44 | C14: 757 | D14: 894 | E14: 587 | F14: 141 | H14: =B14+C14+D14+E14+F14 -> 2423
A15: MA. Samf. | B15: 1457 | C15: 2273 | D15: 787 | E15: 316 | F15: 73 | H15: =B15+C15+D15+E15+F15 -> 4906
A16: Øvrige Mag. | B16: 325 | C16: 690 | D16: 1003 | E16: 877 | F16: 323 | H16: =B16+C16+D16+E16+F16 -> 3218
A17: Agronom | B17: 133 | C17: 320 | D17: 668 | E17: 902 | F17: 357 | H17: =B17+C17+D17+E17+F17 -> 2380
A18: Landsk. Arkt. | B18: 72 | C18: 233 | D18: 218 | E18: 129 | F18: 37 | H18: =B18+C18+D18+E18+F18 -> 689
A19: Hortonom | B19: 2 | C19: 28 | D19: 89 | E19: 142 | F19: 63 | H19: =B19+C19+D19+E19+F19 -> 324
A20: Forstkand. | B20: 29 | C20: 77 | D20: 216 | E20: 128 | F20: 60 | H20: =B20+C20+D20+E20+F20 -> 510
... A45: Andre | B45: 2768 | C45: 7990 | D45: 5803 | E45: 3860 | F45: 1644 | H45: =B45+C45+D45+E45+F45 -> 22065
A47: Total | B47: =SUM(B9:B45)-SUM(B17:B20) -> 53851 | C47: =SUM(C9:C45)-SUM(C17:C20) -> 108485 | D47: =SUM(D9:D45)-SUM(D17:D20) -> 87646 | E47: =SUM(E9:E45)-SUM(E17:E20) -> 63712 | F47: =SUM(F9:F45)-SUM(F17:F20) -> 20147 | H47: =SUM(H9:H45)-SUM(H17:H20) -> 333841
A49: Ingeniører i alt | B49: 7938 | C49: 16535 | D49: 17002 | E49: 18566 | F49: 5190 | H49: =B49+C49+D49+E49+F49 -> 65231
A50: Magistre i alt | B50: 8517 | C50: 20984 | D50: 21229 | E50: 10925 | F50: 4275 | H50: =B50+C50+D50+E50+F50 -> 65930
A51: DJØF'ere i alt | B51: 17213 | C51: 32909 | D51: 22944 | E51: 15410 | F51: 3056 | H51: =B51+C51+D51+E51+F51 -> 91532
A52: Se sidste del af statistikken for en oversigt over uddannelsesgrupperingernes indhold

Sheet Tabel 4 Be
A1: Landstatistik
A3: Tabel 4. Antal bruttoledige målt i berørte medlemmer - aldersfordelt
B7: Under 30 år | C7: 30 - 39 år | D7: 40 - 49 år | E7: 50 - 59 år | F7: Over 60 år | H7: I alt
A9: Civ. Ing. | B9: 557 | C9: 249 | D9: 99 | E9: 104 | F9: 49 | H9: =B9+C9+D9+E9+F9 -> 1058
A10: Diplom Ing. | B10: 302 | C10: 164 | D10: 130 | E10: 247 | F10: 119 | H10: =B10+C10+D10+E10+F10 -> 962
A11: Cand.Scient.Tech. | B11: 1141 | C11: 547 | D11: 81 | E11: 36 | F11: 11 | H11: =B11+C11+D11+E11+F11 -> 1816
A12: MA. Hum. | B12: 1574 | C12: 1473 | D12: 658 | E12: 277 | F12: 153 | H12: =B12+C12+D12+E12+F12 -> 4135
A13: MA. Nat. | B13: 199 | C13: 219 | D13: 108 | E13: 81 | F13: 39 | H13: =B13+C13+D13+E13+F13 -> 646
A14: MA. Ph.d. | B14: 3 | C14: 37 | D14: 44 | E14: 26 | F14: 11 | H14: =B14+C14+D14+E14+F14 -> 121
A15: MA. Samf. | B15: 353 | C15: 272 | D15: 50 | E15: 23 | F15: 3 | H15: =B15+C15+D15+E15+F15 -> 701
A16: Øvrige Mag. | B16: 93 | C16: 71 | D16: 50 | E16: 26 | F16: 16 | H16: =B16+C16+D16+E16+F16 -> 256
A17: Agronom | B17: 29 | C17: 24 | D17: 11 | E17: 19 | F17: 18 | H17: =B17+C17+D17+E17+F17 -> 101
A18: Landsk. Arkt. | B18: 18 | C18: 19 | D18: 8 | E18: 4 | F18: 1 | H18: =B18+C18+D18+E18+F18 -> 50
A19: Hortonom | B19: 0 | C19: 0 | D19: 2 | E19: 4 | F19: 3 | H19: =B19+C19+D19+E19+F19 -> 9
A20: Forstkand. | B20: 11 | C20: 6 | D20: 3 | E20: 5 | F20: 1 | H20: =B20+C20+D20+E20+F20 -> 26
... A45: Andre | B45: 426 | C45: 524 | D45: 287 | E45: 259 | F45: 117 | H45: =B45+C45+D45+E45+F45 -> 1613
A47: Total | B47: =SUM(B9:B45)-SUM(B17:B20) -> 8587 | C47: =SUM(C9:C45)-SUM(C17:C20) -> 6031 | D47: =SUM(D9:D45)-SUM(D17:D20) -> 2500 | E47: =SUM(E9:E45)-SUM(E17:E20) -> 1920 | F47: =SUM(F9:F45)-SUM(F17:F20) -> 893 | H47: =SUM(H9:H45)-SUM(H17:H20) -> 19931 | I47: 7.6206738 | J47: 7.4339568 | K47: 7.4889526
A49: Ingeniører i alt | B49: 859 | C49: 413 | D49: 229 | E49: 351 | F49: 168 | H49: =B49+C49+D49+E49+F49 -> 2020
A50: Magistre i alt | B50: 2222 | C50: 2072 | D50: 910 | E50: 433 | F50: 222 | H50: =B50+C50+D50+E50+F50 -> 5859
A51: DJØF'ere i alt | B51: 1875 | C51: 1318 | D51: 532 | E51: 453 | F51: 139 | H51: =B51+C51+D51+E51+F51 -> 4317
A52: Se sidste del af statistikken for en oversigt over uddannelsesgrupperingernes indhold

Sheet Tabel 4 Br
A1: Landstatistik
A3: Tabel 4. Antal bruttoledige målt i fuldtidspersoner - aldersfordelt
B7: Under 30 år | C7: 30 - 39 år | D7: 40 - 49 år | E7: 50 - 59 år | F7: Over 60 år | H7: I alt
A9: Civ. Ing. | B9: 435.09886 | C9: 209.00268 | D9: 84.971 | E9: 91.48693 | F9: 45.19803 | H9: =SUM(B9:F9) -> 865.7575
A10: Diplom Ing. | B10: 210.55635 | C10: 136.34878 | D10: 114.95665 | E10: 213.756 | F10: 103.38178 | H10: =SUM(B10:F10) -> 778.99956
A11: Cand.Scient.Tech. | B11: 959.78794 | C11: 463.58573 | D11: 72.37884 | E11: 32.63394 | F11: 9.42618 | H11: =SUM(B11:F11) -> 1537.8126
A12: MA. Hum. | B12: 1342.9651 | C12: 1232.5148 | D12: 551.05595 | E12: 230.71852 | F12: 129.60207 | H12: =SUM(B12:F12) -> 3486.8565
A13: MA. Nat. | B13: 164.57244 | C13: 183.6113 | D13: 89.61829 | E13: 69.20851 | F13: 31.84619 | H13: =SUM(B13:F13) -> 538.85673
A14: MA. Ph.d. | B14: 1.98403 | C14: 30.52829 | D14: 39.06006 | E14: 22.78114 | F14: 9.16173 | H14: =SUM(B14:F14) -> 103.51525
A15: MA. Samf. | B15: 298.9453 | C15: 232.86908 | D15: 40.08358 | E15: 19.66257 | F15: 2.83166 | H15: =SUM(B15:F15) -> 594.39219
A16: Øvrige Mag. | B16: 75.3945 | C16: 59.7948 | D16: 43.30319 | E16: 20.49086 | F16: 14.86247 | H16: =SUM(B16:F16) -> 213.84582
A17: Agronom | B17: 25.83047 | C17: 18.82368 | D17: 8.63282 | E17: 14.8263 | F17: 16.11364 | H17: =SUM(B17:F17) -> 84.22691
A18: Landsk. Arkt. | B18: 16.58579 | C18: 15.84981 | D18: 5.65459 | E18: 3.07616 | F18: 0.95366 | H18: =SUM(B18:F18) -> 42.12001
A19: Hortonom | B19: 0 | C19: 0 | D19: 1.99963 | E19: 3.30693 | F19: 2.86097 | H19: =SUM(B19:F19) -> 8.16753
A20: Forstkand. | B20: 9.97443 | C20: 5.72195 | D20: 2.6302 | E20: 4.37473 | F20: 0.99981 | H20: =SUM(B20:F20) -> 23.70112
... A45: Andre | B45: 344.60176 | C45: 451.62914 | D45: 230.57382 | E45: 209.8079 | F45: 90.24387 | H45: =SUM(B45:F45) -> 1326.8565
A47: Total | B47: =SUM(B9:B45)-SUM(B17:B20) -> 6978.6366 | C47: =SUM(C9:C45)-SUM(C17:C20) -> 5080.4809 | D47: =SUM(D9:D45)-SUM(D17:D20) -> 2118.2704 | E47: =SUM(E9:E45)-SUM(E17:E20) -> 1644.3822 | F47: =SUM(F9:F45)-SUM(F17:F20) -> 755.43503 | H47: =SUM(H9:H45)-SUM(H17:H20) -> 16577.205 | I47: 7.6206738 | J47: 7.4339568 | K47: 7.4889526
A49: Ingeniører i alt | B49: 645.65521 | C49: 345.35146 | D49: 199.92765 | E49: 305.24294 | F49: 148.5798 | H49: =SUM(B49:F49) -> 1644.7571
A50: Magistre i alt | B50: 1883.8614 | C50: 1739.3183 | D50: 763.12106 | E50: 362.8616 | F50: 188.30412 | H50: =SUM(B50:F50) -> 4937.4665
A51: DJØF'ere i alt | B51: 1570.2077 | C51: 1117.9131 | D51: 464.50945 | E51: 399.33886 | F51: 119.53783 | H51: =SUM(B51:F51) -> 3671.5069
A52: Se sidste del af statistikken for en oversigt over uddannelsesgrupperingernes indhold

Sheet Tabel 4 p (Be)
A1: Landstatistik
A3: Tabel 4.2 Bruttoledighedsprocenten målt i ledighedsberørte - aldersfordelt
B7: Under 30 år | C7: 30 - 39 år | D7: 40 - 49 år | E7: 50 - 59 år | F7: Over 60 år | H7: I alt
A9: Civ. Ing. | B9: =IF(OR('Tabel 4 F'!B9<5,'Tabel 4 Be'!B9<0.5),"-",IFERROR('Tabel 4 Be'!B9/'Tabel 4 F'!B9*100,"-")) -> 11.435024 | C9: =IF(OR('Tabel 4 F'!C9<5,'Tabel 4 Be'!C9<0.5),"-",IFERROR('Tabel 4 Be'!C9/'Tabel 4 F'!C9*100,"-")) -> 2.3730106 | D9: =IF(OR('Tabel 4 F'!D9<5,'Tabel 4 Be'!D9<0.5),"-",IFERROR('Tabel 4 Be'!D9/'Tabel 4 F'!D9*100,"-")) -> 1.2716763 | E9: =IF(OR('Tabel 4 F'!E9<5,'Tabel 4 Be'!E9<0.5),"-",IFERROR('Tabel 4 Be'!E9/'Tabel 4 F'!E9*100,"-")) -> 1.6176699 | F9: =IF(OR('Tabel 4 F'!F9<5,'Tabel 4 Be'!F9<0.5),"-",IFERROR('Tabel 4 Be'!F9/'Tabel 4 F'!F9*100,"-")) -> 2.8290993 | H9: =IF(OR('Tabel 4 F'!H9<5,'Tabel 4 Be'!H9<0.5),"-",IFERROR('Tabel 4 Be'!H9/'Tabel 4 F'!H9*100,"-")) -> 3.3791121
A10: Diplom Ing. | B10: =IF(OR('Tabel 4 F'!B10<5,'Tabel 4 Be'!B10<0.5),"-",IFERROR('Tabel 4 Be'!B10/'Tabel 4 F'!B10*100,"-")) -> 9.8467558 | C10: =IF(OR('Tabel 4 F'!C10<5,'Tabel 4 Be'!C10<0.5),"-",IFERROR('Tabel 4 Be'!C10/'Tabel 4 F'!C10*100,"-")) -> 2.714333 | D10: =IF(OR('Tabel 4 F'!D10<5,'Tabel 4 Be'!D10<0.5),"-",IFERROR('Tabel 4 Be'!D10/'Tabel 4 F'!D10*100,"-")) -> 1.4104372 | E10: =IF(OR('Tabel 4 F'!E10<5,'Tabel 4 Be'!E10<0.5),"-",IFERROR('Tabel 4 Be'!E10/'Tabel 4 F'!E10*100,"-")) -> 2.0350993 | F10: =IF(OR('Tabel 4 F'!F10<5,'Tabel 4 Be'!F10<0.5),"-",IFERROR('Tabel 4 Be'!F10/'Tabel 4 F'!F10*100,"-")) -> 3.4412955 | H10: =IF(OR('Tabel 4 F'!H10<5,'Tabel 4 Be'!H10<0.5),"-",IFERROR('Tabel 4 Be'!H10/'Tabel 4 F'!H10*100,"-")) -> 2.8360013
A11: Cand.Scient.Tech. | B11: =IF(OR('Tabel 4 F'!B11<5,'Tabel 4 Be'!B11<0.5),"-",IFERROR('Tabel 4 Be'!B11/'Tabel 4 F'!B11*100,"-")) -> 20.173267 | C11: =IF(OR('Tabel 4 F'!C11<5,'Tabel 4 Be'!C11<0.5),"-",IFERROR('Tabel 4 Be'!C11/'Tabel 4 F'!C11*100,"-")) -> 6.7207274 | D11: =IF(OR('Tabel 4 F'!D11<5,'Tabel 4 Be'!D11<0.5),"-",IFERROR('Tabel 4 Be'!D11/'Tabel 4 F'!D11*100,"-")) -> 3.0810194 | E11: =IF(OR('Tabel 4 F'!E11<5,'Tabel 4 Be'!E11<0.5),"-",IFERROR('Tabel 4 Be'!E11/'Tabel 4 F'!E11*100,"-")) -> 3.8176034 | F11: =IF(OR('Tabel 4 F'!F11<5,'Tabel 4 Be'!F11<0.5),"-",IFERROR('Tabel 4 Be'!F11/'Tabel 4 F'!F11*100,"-")) -> 5.9139785 | H11: =IF(OR('Tabel 4 F'!H11<5,'Tabel 4 Be'!H11<0.5),"-",IFERROR('Tabel 4 Be'!H11/'Tabel 4 F'!H11*100,"-")) -> 10.34581
A12: MA. Hum. | B12: =IF(OR('Tabel 4 F'!B12<5,'Tabel 4 Be'!B12<0.5),"-",IFERROR('Tabel 4 Be'!B12/'Tabel 4 F'!B12*100,"-")) -> 27.838698 | C12: =IF(OR('Tabel 4 F'!C12<5,'Tabel 4 Be'!C12<0.5),"-",IFERROR('Tabel 4 Be'!C12/'Tabel 4 F'!C12*100,"-")) -> 10.535727 | D12: =IF(OR('Tabel 4 F'!D12<5,'Tabel 4 Be'!D12<0.5),"-",IFERROR('Tabel 4 Be'!D12/'Tabel 4 F'!D12*100,"-")) -> 4.9373452 | E12: =IF(OR('Tabel 4 F'!E12<5,'Tabel 4 Be'!E12<0.5),"-",IFERROR('Tabel 4 Be'!E12/'Tabel 4 F'!E12*100,"-")) -> 5.1611701 | F12: =IF(OR('Tabel 4 F'!F12<5,'Tabel 4 Be'!F12<0.5),"-",IFERROR('Tabel 4 Be'!F12/'Tabel 4 F'!F12*100,"-")) -> 6.6987741 | H12: =IF(OR('Tabel 4 F'!H12<5,'Tabel 4 Be'!H12<0.5),"-",IFERROR('Tabel 4 Be'!H12/'Tabel 4 F'!H12*100,"-")) -> 10.181469
A13: MA. Nat. | B13: =IF(OR('Tabel 4 F'!B13<5,'Tabel 4 Be'!B13<0.5),"-",IFERROR('Tabel 4 Be'!B13/'Tabel 4 F'!B13*100,"-")) -> 19.189971 | C13: =IF(OR('Tabel 4 F'!C13<5,'Tabel 4 Be'!C13<0.5),"-",IFERROR('Tabel 4 Be'!C13/'Tabel 4 F'!C13*100,"-")) -> 6.670728 | D13: =IF(OR('Tabel 4 F'!D13<5,'Tabel 4 Be'!D13<0.5),"-",IFERROR('Tabel 4 Be'!D13/'Tabel 4 F'!D13*100,"-")) -> 2.0697585 | E13: =IF(OR('Tabel 4 F'!E13<5,'Tabel 4 Be'!E13<0.5),"-",IFERROR('Tabel 4 Be'!E13/'Tabel 4 F'!E13*100,"-")) -> 2.1439915 | F13: =IF(OR('Tabel 4 F'!F13<5,'Tabel 4 Be'!F13<0.5),"-",IFERROR('Tabel 4 Be'!F13/'Tabel 4 F'!F13*100,"-")) -> 2.6822558 | H13: =IF(OR('Tabel 4 F'!H13<5,'Tabel 4 Be'!H13<0.5),"-",IFERROR('Tabel 4 Be'!H13/'Tabel 4 F'!H13*100,"-")) -> 4.3737305
A14: MA. Ph.d. | B14: =IF(OR('Tabel 4 F'!B14<5,'Tabel 4 Be'!B14<0.5),"-",IFERROR('Tabel 4 Be'!B14/'Tabel 4 F'!B14*100,"-")) -> 6.8181818 | C14: =IF(OR('Tabel 4 F'!C14<5,'Tabel 4 Be'!C14<0.5),"-",IFERROR('Tabel 4 Be'!C14/'Tabel 4 F'!C14*100,"-")) -> 4.8877147 | D14: =IF(OR('Tabel 4 F'!D14<5,'Tabel 4 Be'!D14<0.5),"-",IFERROR('Tabel 4 Be'!D14/'Tabel 4 F'!D14*100,"-")) -> 4.9217002 | E14: =IF(OR('Tabel 4 F'!E14<5,'Tabel 4 Be'!E14<0.5),"-",IFERROR('Tabel 4 Be'!E14/'Tabel 4 F'!E14*100,"-")) -> 4.4293015 | F14: =IF(OR('Tabel 4 F'!F14<5,'Tabel 4 Be'!F14<0.5),"-",IFERROR('Tabel 4 Be'!F14/'Tabel 4 F'!F14*100,"-")) -> 7.8014184 | H14: =IF(OR('Tabel 4 F'!H14<5,'Tabel 4 Be'!H14<0.5),"-",IFERROR('Tabel 4 Be'!H14/'Tabel 4 F'!H14*100,"-")) -> 4.9938093
A15: MA. Samf. | B15: =IF(OR('Tabel 4 F'!B15<5,'Tabel 4 Be'!B15<0.5),"-",IFERROR('Tabel 4 Be'!B15/'Tabel 4 F'!B15*100,"-")) -> 24.227865 | C15: =IF(OR('Tabel 4 F'!C15<5,'Tabel 4 Be'!C15<0.5),"-",IFERROR('Tabel 4 Be'!C15/'Tabel 4 F'!C15*100,"-")) -> 11.966564 | D15: =IF(OR('Tabel 4 F'!D15<5,'Tabel 4 Be'!D15<0.5),"-",IFERROR('Tabel 4 Be'!D15/'Tabel 4 F'!D15*100,"-")) -> 6.3532402 | E15: =IF(OR('Tabel 4 F'!E15<5,'Tabel 4 Be'!E15<0.5),"-",IFERROR('Tabel 4 Be'!E15/'Tabel 4 F'!E15*100,"-")) -> 7.278481 | F15: =IF(OR('Tabel 4 F'!F15<5,'Tabel 4 Be'!F15<0.5),"-",IFERROR('Tabel 4 Be'!F15/'Tabel 4 F'!F15*100,"-")) -> 4.109589 | H15: =IF(OR('Tabel 4 F'!H15<5,'Tabel 4 Be'!H15<0.5),"-",IFERROR('Tabel 4 Be'!H15/'Tabel 4 F'!H15*100,"-")) -> 14.288626
A16: Øvrige Mag. | B16: =IF(OR('Tabel 4 F'!B16<5,'Tabel 4 Be'!B16<0.5),"-",IFERROR('Tabel 4 Be'!B16/'Tabel 4 F'!B16*100,"-")) -> 28.615385 | C16: =IF(OR('Tabel 4 F'!C16<5,'Tabel 4 Be'!C16<0.5),"-",IFERROR('Tabel 4 Be'!C16/'Tabel 4 F'!C16*100,"-")) -> 10.289855 | D16: =IF(OR('Tabel 4 F'!D16<5,'Tabel 4 Be'!D16<0.5),"-",IFERROR('Tabel 4 Be'!D16/'Tabel 4 F'!D16*100,"-")) -> 4.9850449 | E16: =IF(OR('Tabel 4 F'!E16<5,'Tabel 4 Be'!E16<0.5),"-",IFERROR('Tabel 4 Be'!E16/'Tabel 4 F'!E16*100,"-")) -> 2.9646522 | F16: =IF(OR('Tabel 4 F'!F16<5,'Tabel 4 Be'!F16<0.5),"-",IFERROR('Tabel 4 Be'!F16/'Tabel 4 F'!F16*100,"-")) -> 4.9535604 | H16: =IF(OR('Tabel 4 F'!H16<5,'Tabel 4 Be'!H16<0.5),"-",IFERROR('Tabel 4 Be'!H16/'Tabel 4 F'!H16*100,"-")) -> 7.9552517
A17: Agronom | B17: =IF(OR('Tabel 4 F'!B17<5,'Tabel 4 Be'!B17<0.5),"-",IFERROR('Tabel 4 Be'!B17/'Tabel 4 F'!B17*100,"-")) -> 21.804511 | C17: =IF(OR('Tabel 4 F'!C17<5,'Tabel 4 Be'!C17<0.5),"-",IFERROR('Tabel 4 Be'!C17/'Tabel 4 F'!C17*100,"-")) -> 7.5 | D17: =IF(OR('Tabel 4 F'!D17<5,'Tabel 4 Be'!D17<0.5),"-",IFERROR('Tabel 4 Be'!D17/'Tabel 4 F'!D17*100,"-")) -> 1.6467066 | E17: =IF(OR('Tabel 4 F'!E17<5,'Tabel 4 Be'!E17<0.5),"-",IFERROR('Tabel 4 Be'!E17/'Tabel 4 F'!E17*100,"-")) -> 2.1064302 | F17: =IF(OR('Tabel 4 F'!F17<5,'Tabel 4 Be'!F17<0.5),"-",IFERROR('Tabel 4 Be'!F17/'Tabel 4 F'!F17*100,"-")) -> 5.0420168 | H17: =IF(OR('Tabel 4 F'!H17<5,'Tabel 4 Be'!H17<0.5),"-",IFERROR('Tabel 4 Be'!H17/'Tabel 4 F'!H17*100,"-")) -> 4.2436975
A18: Landsk. Arkt. | B18: =IF(OR('Tabel 4 F'!B18<5,'Tabel 4 Be'!B18<0.5),"-",IFERROR('Tabel 4 Be'!B18/'Tabel 4 F'!B18*100,"-")) -> 25 | C18: =IF(OR('Tabel 4 F'!C18<5,'Tabel 4 Be'!C18<0.5),"-",IFERROR('Tabel 4 Be'!C18/'Tabel 4 F'!C18*100,"-")) -> 8.1545064 | D18: =IF(OR('Tabel 4 F'!D18<5,'Tabel 4 Be'!D18<0.5),"-",IFERROR('Tabel 4 Be'!D18/'Tabel 4 F'!D18*100,"-")) -> 3.6697248 | E18: =IF(OR('Tabel 4 F'!E18<5,'Tabel 4 Be'!E18<0.5),"-",IFERROR('Tabel 4 Be'!E18/'Tabel 4 F'!E18*100,"-")) -> 3.1007752 | F18: =IF(OR('Tabel 4 F'!F18<5,'Tabel 4 Be'!F18<0.5),"-",IFERROR('Tabel 4 Be'!F18/'Tabel 4 F'!F18*100,"-")) -> 2.7027027 | H18: =IF(OR('Tabel 4 F'!H18<5,'Tabel 4 Be'!H18<0.5),"-",IFERROR('Tabel 4 Be'!H18/'Tabel 4 F'!H18*100,"-")) -> 7.256894
A19: Hortonom | B19: =IF(OR('Tabel 4 F'!B19<5,'Tabel 4 Be'!B19<0.5),"-",IFERROR('Tabel 4 Be'!B19/'Tabel 4 F'!B19*100,"-")) -> - | C19: =IF(OR('Tabel 4 F'!C19<5,'Tabel 4 Be'!C19<0.5),"-",IFERROR('Tabel 4 Be'!C19/'Tabel 4 F'!C19*100,"-")) -> - | D19: =IF(OR('Tabel 4 F'!D19<5,'Tabel 4 Be'!D19<0.5),"-",IFERROR('Tabel 4 Be'!D19/'Tabel 4 F'!D19*100,"-")) -> 2.247191 | E19: =IF(OR('Tabel 4 F'!E19<5,'Tabel 4 Be'!E19<0.5),"-",IFERROR('Tabel 4 Be'!E19/'Tabel 4 F'!E19*100,"-")) -> 2.8169014 | F19: =IF(OR('Tabel 4 F'!F19<5,'Tabel 4 Be'!F19<0.5),"-",IFERROR('Tabel 4 Be'!F19/'Tabel 4 F'!F19*100,"-")) -> 4.7619048 | H19: =IF(OR('Tabel 4 F'!H19<5,'Tabel 4 Be'!H19<0.5),"-",IFERROR('Tabel 4 Be'!H19/'Tabel 4 F'!H19*100,"-")) -> 2.7777778
A20: Forstkand. | B20: =IF(OR('Tabel 4 F'!B20<5,'Tabel 4 Be'!B20<0.5),"-",IFERROR('Tabel 4 Be'!B20/'Tabel 4 F'!B20*100,"-")) -> 37.931034 | C20: =IF(OR('Tabel 4 F'!C20<5,'Tabel 4 Be'!C20<0.5),"-",IFERROR('Tabel 4 Be'!C20/'Tabel 4 F'!C20*100,"-")) -> 7.7922078 | D20: =IF(OR('Tabel 4 F'!D20<5,'Tabel 4 Be'!D20<0.5),"-",IFERROR('Tabel 4 Be'!D20/'Tabel 4 F'!D20*100,"-")) -> 1.3888889 | E20: =IF(OR('Tabel 4 F'!E20<5,'Tabel 4 Be'!E20<0.5),"-",IFERROR('Tabel 4 Be'!E20/'Tabel 4 F'!E20*100,"-")) -> 3.90625 | F20: =IF(OR('Tabel 4 F'!F20<5,'Tabel 4 Be'!F20<0.5),"-",IFERROR('Tabel 4 Be'!F20/'Tabel 4 F'!F20*100,"-")) -> 1.6666667 | H20: =IF(OR('Tabel 4 F'!H20<5,'Tabel 4 Be'!H20<0.5),"-",IFERROR('Tabel 4 Be'!H20/'Tabel 4 F'!H20*100,"-")) -> 5.0980392
... A45: Andre | B45: =IF(OR('Tabel 4 F'!B45<5,'Tabel 4 Be'!B45<0.5),"-",IFERROR('Tabel 4 Be'!B45/'Tabel 4 F'!B45*100,"-")) -> 15.390173 | C45: =IF(OR('Tabel 4 F'!C45<5,'Tabel 4 Be'!C45<0.5),"-",IFERROR('Tabel 4 Be'!C45/'Tabel 4 F'!C45*100,"-")) -> 6.5581977 | D45: =IF(OR('Tabel 4 F'!D45<5,'Tabel 4 Be'!D45<0.5),"-",IFERROR('Tabel 4 Be'!D45/'Tabel 4 F'!D45*100,"-")) -> 4.9457177 | E45: =IF(OR('Tabel 4 F'!E45<5,'Tabel 4 Be'!E45<0.5),"-",IFERROR('Tabel 4 Be'!E45/'Tabel 4 F'!E45*100,"-")) -> 6.7098446 | F45: =IF(OR('Tabel 4 F'!F45<5,'Tabel 4 Be'!F45<0.5),"-",IFERROR('Tabel 4 Be'!F45/'Tabel 4 F'!F45*100,"-")) -> 7.1167883 | H45: =IF(OR('Tabel 4 F'!H45<5,'Tabel 4 Be'!H45<0.5),"-",IFERROR('Tabel 4 Be'!H45/'Tabel 4 F'!H45*100,"-")) -> 7.3102198
A47: Total | B47: =IF(OR('Tabel 4 F'!B47<5,'Tabel 4 Be'!B47<0.5),"-",IFERROR('Tabel 4 Be'!B47/'Tabel 4 F'!B47*100,"-")) -> 15.945851 | C47: =IF(OR('Tabel 4 F'!C47<5,'Tabel 4 Be'!C47<0.5),"-",IFERROR('Tabel 4 Be'!C47/'Tabel 4 F'!C47*100,"-")) -> 5.5592939 | D47: =IF(OR('Tabel 4 F'!D47<5,'Tabel 4 Be'!D47<0.5),"-",IFERROR('Tabel 4 Be'!D47/'Tabel 4 F'!D47*100,"-")) -> 2.8523835 | E47: =IF(OR('Tabel 4 F'!E47<5,'Tabel 4 Be'!E47<0.5),"-",IFERROR('Tabel 4 Be'!E47/'Tabel 4 F'!E47*100,"-")) -> 3.013561 | F47: =IF(OR('Tabel 4 F'!F47<5,'Tabel 4 Be'!F47<0.5),"-",IFERROR('Tabel 4 Be'!F47/'Tabel 4 F'!F47*100,"-")) -> 4.4324217 | H47: =IF(OR('Tabel 4 F'!H47<5,'Tabel 4 Be'!H47<0.5),"-",IFERROR('Tabel 4 Be'!H47/'Tabel 4 F'!H47*100,"-")) -> 5.9702074 | J47: 7.4339568 | K47: 7.4889526
A49: Ingeniører i alt | B49: =IF(OR('Tabel 4 F'!B49<5,'Tabel 4 Be'!B49<0.5),"-",IFERROR('Tabel 4 Be'!B49/'Tabel 4 F'!B49*100,"-")) -> 10.821366 | C49: =IF(OR('Tabel 4 F'!C49<5,'Tabel 4 Be'!C49<0.5),"-",IFERROR('Tabel 4 Be'!C49/'Tabel 4 F'!C49*100,"-")) -> 2.4977321 | D49: =IF(OR('Tabel 4 F'!D49<5,'Tabel 4 Be'!D49<0.5),"-",IFERROR('Tabel 4 Be'!D49/'Tabel 4 F'!D49*100,"-")) -> 1.3469004 | E49: =IF(OR('Tabel 4 F'!E49<5,'Tabel 4 Be'!E49<0.5),"-",IFERROR('Tabel 4 Be'!E49/'Tabel 4 F'!E49*100,"-")) -> 1.8905526 | F49: =IF(OR('Tabel 4 F'!F49<5,'Tabel 4 Be'!F49<0.5),"-",IFERROR('Tabel 4 Be'!F49/'Tabel 4 F'!F49*100,"-")) -> 3.2369942 | H49: =IF(OR('Tabel 4 F'!H49<5,'Tabel 4 Be'!H49<0.5),"-",IFERROR('Tabel 4 Be'!H49/'Tabel 4 F'!H49*100,"-")) -> 3.0966872
A50: Magistre i alt | B50: =IF(OR('Tabel 4 F'!B50<5,'Tabel 4 Be'!B50<0.5),"-",IFERROR('Tabel 4 Be'!B50/'Tabel 4 F'!B50*100,"-")) -> 26.088998 | C50: =IF(OR('Tabel 4 F'!C50<5,'Tabel 4 Be'!C50<0.5),"-",IFERROR('Tabel 4 Be'!C50/'Tabel 4 F'!C50*100,"-")) -> 9.8741899 | D50: =IF(OR('Tabel 4 F'!D50<5,'Tabel 4 Be'!D50<0.5),"-",IFERROR('Tabel 4 Be'!D50/'Tabel 4 F'!D50*100,"-")) -> 4.2865891 | E50: =IF(OR('Tabel 4 F'!E50<5,'Tabel 4 Be'!E50<0.5),"-",IFERROR('Tabel 4 Be'!E50/'Tabel 4 F'!E50*100,"-")) -> 3.9633867 | F50: =IF(OR('Tabel 4 F'!F50<5,'Tabel 4 Be'!F50<0.5),"-",IFERROR('Tabel 4 Be'!F50/'Tabel 4 F'!F50*100,"-")) -> 5.1929825 | H50: =IF(OR('Tabel 4 F'!H50<5,'Tabel 4 Be'!H50<0.5),"-",IFERROR('Tabel 4 Be'!H50/'Tabel 4 F'!H50*100,"-")) -> 8.886698
A51: DJØF'ere i alt | B51: =IF(OR('Tabel 4 F'!B51<5,'Tabel 4 Be'!B51<0.5),"-",IFERROR('Tabel 4 Be'!B51/'Tabel 4 F'!B51*100,"-")) -> 10.89293 | C51: =IF(OR('Tabel 4 F'!C51<5,'Tabel 4 Be'!C51<0.5),"-",IFERROR('Tabel 4 Be'!C51/'Tabel 4 F'!C51*100,"-")) -> 4.0049834 | D51: =IF(OR('Tabel 4 F'!D51<5,'Tabel 4 Be'!D51<0.5),"-",IFERROR('Tabel 4 Be'!D51/'Tabel 4 F'!D51*100,"-")) -> 2.318689 | E51: =IF(OR('Tabel 4 F'!E51<5,'Tabel 4 Be'!E51<0.5),"-",IFERROR('Tabel 4 Be'!E51/'Tabel 4 F'!E51*100,"-")) -> 2.9396496 | F51: =IF(OR('Tabel 4 F'!F51<5,'Tabel 4 Be'!F51<0.5),"-",IFERROR('Tabel 4 Be'!F51/'Tabel 4 F'!F51*100,"-")) -> 4.5484293 | H51: =IF(OR('Tabel 4 F'!H51<5,'Tabel 4 Be'!H51<0.5),"-",IFERROR('Tabel 4 Be'!H51/'Tabel 4 F'!H51*100,"-")) -> 4.7163833
A52: Se sidste del af statistikken for en oversigt over uddannelsesgrupperingernes indhold

Sheet Tabel 4 p (Br)
A1: Landstatistik
A3: Tabel 4.2 Bruttoledighedsprocenten målt i fuldtidspersoner - aldersfordelt
B7: Under 30 år | C7: 30 - 39 år | D7: 40 - 49 år | E7: 50 - 59 år | F7: Over 60 år | H7: I alt
A9: Civ. Ing. | B9: =IF(OR('Tabel 4 F'!B9<5,'Tabel 4 Br'!B9<0.5),"-",IFERROR('Tabel 4 Br'!B9/'Tabel 4 F'!B9*100,"-")) -> 8.932434 | C9: =IF(OR('Tabel 4 F'!C9<5,'Tabel 4 Br'!C9<0.5),"-",IFERROR('Tabel 4 Br'!C9/'Tabel 4 F'!C9*100,"-")) -> 1.9918296 | D9: =IF(OR('Tabel 4 F'!D9<5,'Tabel 4 Br'!D9<0.5),"-",IFERROR('Tabel 4 Br'!D9/'Tabel 4 F'!D9*100,"-")) -> 1.0914708 | E9: =IF(OR('Tabel 4 F'!E9<5,'Tabel 4 Br'!E9<0.5),"-",IFERROR('Tabel 4 Br'!E9/'Tabel 4 F'!E9*100,"-")) -> 1.4230352 | F9: =IF(OR('Tabel 4 F'!F9<5,'Tabel 4 Br'!F9<0.5),"-",IFERROR('Tabel 4 Br'!F9/'Tabel 4 F'!F9*100,"-")) -> 2.609586 | H9: =IF(OR('Tabel 4 F'!H9<5,'Tabel 4 Br'!H9<0.5),"-",IFERROR('Tabel 4 Br'!H9/'Tabel 4 F'!H9*100,"-")) -> 2.765115
A10: Diplom Ing. | B10: =IF(OR('Tabel 4 F'!B10<5,'Tabel 4 Br'!B10<0.5),"-",IFERROR('Tabel 4 Br'!B10/'Tabel 4 F'!B10*100,"-")) -> 6.8652217 | C10: =IF(OR('Tabel 4 F'!C10<5,'Tabel 4 Br'!C10<0.5),"-",IFERROR('Tabel 4 Br'!C10/'Tabel 4 F'!C10*100,"-")) -> 2.2566829 | D10: =IF(OR('Tabel 4 F'!D10<5,'Tabel 4 Br'!D10<0.5),"-",IFERROR('Tabel 4 Br'!D10/'Tabel 4 F'!D10*100,"-")) -> 1.2472242 | E10: =IF(OR('Tabel 4 F'!E10<5,'Tabel 4 Br'!E10<0.5),"-",IFERROR('Tabel 4 Br'!E10/'Tabel 4 F'!E10*100,"-")) -> 1.761193 | F10: =IF(OR('Tabel 4 F'!F10<5,'Tabel 4 Br'!F10<0.5),"-",IFERROR('Tabel 4 Br'!F10/'Tabel 4 F'!F10*100,"-")) -> 2.9896408 | H10: =IF(OR('Tabel 4 F'!H10<5,'Tabel 4 Br'!H10<0.5),"-",IFERROR('Tabel 4 Br'!H10/'Tabel 4 F'!H10*100,"-")) -> 2.2965112
A11: Cand.Scient.Tech. | B11: =IF(OR('Tabel 4 F'!B11<5,'Tabel 4 Br'!B11<0.5),"-",IFERROR('Tabel 4 Br'!B11/'Tabel 4 F'!B11*100,"-")) -> 16.969377 | C11: =IF(OR('Tabel 4 F'!C11<5,'Tabel 4 Br'!C11<0.5),"-",IFERROR('Tabel 4 Br'!C11/'Tabel 4 F'!C11*100,"-")) -> 5.6958561 | D11: =IF(OR('Tabel 4 F'!D11<5,'Tabel 4 Br'!D11<0.5),"-",IFERROR('Tabel 4 Br'!D11/'Tabel 4 F'!D11*100,"-")) -> 2.753094 | E11: =IF(OR('Tabel 4 F'!E11<5,'Tabel 4 Br'!E11<0.5),"-",IFERROR('Tabel 4 Br'!E11/'Tabel 4 F'!E11*100,"-")) -> 3.4606511 | F11: =IF(OR('Tabel 4 F'!F11<5,'Tabel 4 Br'!F11<0.5),"-",IFERROR('Tabel 4 Br'!F11/'Tabel 4 F'!F11*100,"-")) -> 5.0678387 | H11: =IF(OR('Tabel 4 F'!H11<5,'Tabel 4 Br'!H11<0.5),"-",IFERROR('Tabel 4 Br'!H11/'Tabel 4 F'!H11*100,"-")) -> 8.7609675
A12: MA. Hum. | B12: =IF(OR('Tabel 4 F'!B12<5,'Tabel 4 Br'!B12<0.5),"-",IFERROR('Tabel 4 Br'!B12/'Tabel 4 F'!B12*100,"-")) -> 23.752478 | C12: =IF(OR('Tabel 4 F'!C12<5,'Tabel 4 Br'!C12<0.5),"-",IFERROR('Tabel 4 Br'!C12/'Tabel 4 F'!C12*100,"-")) -> 8.8156413 | D12: =IF(OR('Tabel 4 F'!D12<5,'Tabel 4 Br'!D12<0.5),"-",IFERROR('Tabel 4 Br'!D12/'Tabel 4 F'!D12*100,"-")) -> 4.1348837 | E12: =IF(OR('Tabel 4 F'!E12<5,'Tabel 4 Br'!E12<0.5),"-",IFERROR('Tabel 4 Br'!E12/'Tabel 4 F'!E12*100,"-")) -> 4.2988358 | F12: =IF(OR('Tabel 4 F'!F12<5,'Tabel 4 Br'!F12<0.5),"-",IFERROR('Tabel 4 Br'!F12/'Tabel 4 F'!F12*100,"-")) -> 5.6743463 | H12: =IF(OR('Tabel 4 F'!H12<5,'Tabel 4 Br'!H12<0.5),"-",IFERROR('Tabel 4 Br'!H12/'Tabel 4 F'!H12*100,"-")) -> 8.5855674
A13: MA. Nat. | B13: =IF(OR('Tabel 4 F'!B13<5,'Tabel 4 Br'!B13<0.5),"-",IFERROR('Tabel 4 Br'!B13/'Tabel 4 F'!B13*100,"-")) -> 15.870052 | C13: =IF(OR('Tabel 4 F'!C13<5,'Tabel 4 Br'!C13<0.5),"-",IFERROR('Tabel 4 Br'!C13/'Tabel 4 F'!C13*100,"-")) -> 5.5927901 | D13: =IF(OR('Tabel 4 F'!D13<5,'Tabel 4 Br'!D13<0.5),"-",IFERROR('Tabel 4 Br'!D13/'Tabel 4 F'!D13*100,"-")) -> 1.7174835 | E13: =IF(OR('Tabel 4 F'!E13<5,'Tabel 4 Br'!E13<0.5),"-",IFERROR('Tabel 4 Br'!E13/'Tabel 4 F'!E13*100,"-")) -> 1.8318822 | F13: =IF(OR('Tabel 4 F'!F13<5,'Tabel 4 Br'!F13<0.5),"-",IFERROR('Tabel 4 Br'!F13/'Tabel 4 F'!F13*100,"-")) -> 2.1902469 | H13: =IF(OR('Tabel 4 F'!H13<5,'Tabel 4 Br'!H13<0.5),"-",IFERROR('Tabel 4 Br'!H13/'Tabel 4 F'!H13*100,"-")) -> 3.6483191
A14: MA. Ph.d. | B14: =IF(OR('Tabel 4 F'!B14<5,'Tabel 4 Br'!B14<0.5),"-",IFERROR('Tabel 4 Br'!B14/'Tabel 4 F'!B14*100,"-")) -> 4.5091591 | C14: =IF(OR('Tabel 4 F'!C14<5,'Tabel 4 Br'!C14<0.5),"-",IFERROR('Tabel 4 Br'!C14/'Tabel 4 F'!C14*100,"-")) -> 4.0327992 | D14: =IF(OR('Tabel 4 F'!D14<5,'Tabel 4 Br'!D14<0.5),"-",IFERROR('Tabel 4 Br'!D14/'Tabel 4 F'!D14*100,"-")) -> 4.3691342 | E14: =IF(OR('Tabel 4 F'!E14<5,'Tabel 4 Br'!E14<0.5),"-",IFERROR('Tabel 4 Br'!E14/'Tabel 4 F'!E14*100,"-")) -> 3.8809438 | F14: =IF(OR('Tabel 4 F'!F14<5,'Tabel 4 Br'!F14<0.5),"-",IFERROR('Tabel 4 Br'!F14/'Tabel 4 F'!F14*100,"-")) -> 6.4976809 | H14: =IF(OR('Tabel 4 F'!H14<5,'Tabel 4 Br'!H14<0.5),"-",IFERROR('Tabel 4 Br'!H14/'Tabel 4 F'!H14*100,"-")) -> 4.2721936
A15: MA. Samf. | B15: =IF(OR('Tabel 4 F'!B15<5,'Tabel 4 Br'!B15<0.5),"-",IFERROR('Tabel 4 Br'!B15/'Tabel 4 F'!B15*100,"-")) -> 20.517865 | C15: =IF(OR('Tabel 4 F'!C15<5,'Tabel 4 Br'!C15<0.5),"-",IFERROR('Tabel 4 Br'!C15/'Tabel 4 F'!C15*100,"-")) -> 10.24501 | D15: =IF(OR('Tabel 4 F'!D15<5,'Tabel 4 Br'!D15<0.5),"-",IFERROR('Tabel 4 Br'!D15/'Tabel 4 F'!D15*100,"-")) -> 5.0932122 | E15: =IF(OR('Tabel 4 F'!E15<5,'Tabel 4 Br'!E15<0.5),"-",IFERROR('Tabel 4 Br'!E15/'Tabel 4 F'!E15*100,"-")) -> 6.2223323 | F15: =IF(OR('Tabel 4 F'!F15<5,'Tabel 4 Br'!F15<0.5),"-",IFERROR('Tabel 4 Br'!F15/'Tabel 4 F'!F15*100,"-")) -> 3.8789863 | H15: =IF(OR('Tabel 4 F'!H15<5,'Tabel 4 Br'!H15<0.5),"-",IFERROR('Tabel 4 Br'!H15/'Tabel 4 F'!H15*100,"-")) -> 12.115617
A16: Øvrige Mag. | B16: =IF(OR('Tabel 4 F'!B16<5,'Tabel 4 Br'!B16<0.5),"-",IFERROR('Tabel 4 Br'!B16/'Tabel 4 F'!B16*100,"-")) -> 23.198308 | C16: =IF(OR('Tabel 4 F'!C16<5,'Tabel 4 Br'!C16<0.5),"-",IFERROR('Tabel 4 Br'!C16/'Tabel 4 F'!C16*100,"-")) -> 8.665913 | D16: =IF(OR('Tabel 4 F'!D16<5,'Tabel 4 Br'!D16<0.5),"-",IFERROR('Tabel 4 Br'!D16/'Tabel 4 F'!D16*100,"-")) -> 4.3173669 | E16: =IF(OR('Tabel 4 F'!E16<5,'Tabel 4 Br'!E16<0.5),"-",IFERROR('Tabel 4 Br'!E16/'Tabel 4 F'!E16*100,"-")) -> 2.3364721 | F16: =IF(OR('Tabel 4 F'!F16<5,'Tabel 4 Br'!F16<0.5),"-",IFERROR('Tabel 4 Br'!F16/'Tabel 4 F'!F16*100,"-")) -> 4.6013839 | H16: =IF(OR('Tabel 4 F'!H16<5,'Tabel 4 Br'!H16<0.5),"-",IFERROR('Tabel 4 Br'!H16/'Tabel 4 F'!H16*100,"-")) -> 6.6453021
A17: Agronom | B17: =IF(OR('Tabel 4 F'!B17<5,'Tabel 4 Br'!B17<0.5),"-",IFERROR('Tabel 4 Br'!B17/'Tabel 4 F'!B17*100,"-")) -> 19.421406 | C17: =IF(OR('Tabel 4 F'!C17<5,'Tabel 4 Br'!C17<0.5),"-",IFERROR('Tabel 4 Br'!C17/'Tabel 4 F'!C17*100,"-")) -> 5.8824 | D17: =IF(OR('Tabel 4 F'!D17<5,'Tabel 4 Br'!D17<0.5),"-",IFERROR('Tabel 4 Br'!D17/'Tabel 4 F'!D17*100,"-")) -> 1.2923383 | E17: =IF(OR('Tabel 4 F'!E17<5,'Tabel 4 Br'!E17<0.5),"-",IFERROR('Tabel 4 Br'!E17/'Tabel 4 F'!E17*100,"-")) -> 1.643714 | F17: =IF(OR('Tabel 4 F'!F17<5,'Tabel 4 Br'!F17<0.5),"-",IFERROR('Tabel 4 Br'!F17/'Tabel 4 F'!F17*100,"-")) -> 4.5136246 | H17: =IF(OR('Tabel 4 F'!H17<5,'Tabel 4 Br'!H17<0.5),"-",IFERROR('Tabel 4 Br'!H17/'Tabel 4 F'!H17*100,"-")) -> 3.5389458
A18: Landsk. Arkt. | B18: =IF(OR('Tabel 4 F'!B18<5,'Tabel 4 Br'!B18<0.5),"-",IFERROR('Tabel 4 Br'!B18/'Tabel 4 F'!B18*100,"-")) -> 23.035819 | C18: =IF(OR('Tabel 4 F'!C18<5,'Tabel 4 Br'!C18<0.5),"-",IFERROR('Tabel 4 Br'!C18/'Tabel 4 F'!C18*100,"-")) -> 6.8024936 | D18: =IF(OR('Tabel 4 F'!D18<5,'Tabel 4 Br'!D18<0.5),"-",IFERROR('Tabel 4 Br'!D18/'Tabel 4 F'!D18*100,"-")) -> 2.5938486 | E18: =IF(OR('Tabel 4 F'!E18<5,'Tabel 4 Br'!E18<0.5),"-",IFERROR('Tabel 4 Br'!E18/'Tabel 4 F'!E18*100,"-")) -> 2.3846202 | F18: =IF(OR('Tabel 4 F'!F18<5,'Tabel 4 Br'!F18<0.5),"-",IFERROR('Tabel 4 Br'!F18/'Tabel 4 F'!F18*100,"-")) -> 2.5774595 | H18: =IF(OR('Tabel 4 F'!H18<5,'Tabel 4 Br'!H18<0.5),"-",IFERROR('Tabel 4 Br'!H18/'Tabel 4 F'!H18*100,"-")) -> 6.113209
A19: Hortonom | B19: =IF(OR('Tabel 4 F'!B19<5,'Tabel 4 Br'!B19<0.5),"-",IFERROR('Tabel 4 Br'!B19/'Tabel 4 F'!B19*100,"-")) -> - | C19: =IF(OR('Tabel 4 F'!C19<5,'Tabel 4 Br'!C19<0.5),"-",IFERROR('Tabel 4 Br'!C19/'Tabel 4 F'!C19*100,"-")) -> - | D19: =IF(OR('Tabel 4 F'!D19<5,'Tabel 4 Br'!D19<0.5),"-",IFERROR('Tabel 4 Br'!D19/'Tabel 4 F'!D19*100,"-")) -> 2.2467753 | E19: =IF(OR('Tabel 4 F'!E19<5,'Tabel 4 Br'!E19<0.5),"-",IFERROR('Tabel 4 Br'!E19/'Tabel 4 F'!E19*100,"-")) -> 2.3288239 | F19: =IF(OR('Tabel 4 F'!F19<5,'Tabel 4 Br'!F19<0.5),"-",IFERROR('Tabel 4 Br'!F19/'Tabel 4 F'!F19*100,"-")) -> 4.5412222 | H19: =IF(OR('Tabel 4 F'!H19<5,'Tabel 4 Br'!H19<0.5),"-",IFERROR('Tabel 4 Br'!H19/'Tabel 4 F'!H19*100,"-")) -> 2.5208426
A20: Forstkand. | B20: =IF(OR('Tabel 4 F'!B20<5,'Tabel 4 Br'!B20<0.5),"-",IFERROR('Tabel 4 Br'!B20/'Tabel 4 F'!B20*100,"-")) -> 34.394586 | C20: =IF(OR('Tabel 4 F'!C20<5,'Tabel 4 Br'!C20<0.5),"-",IFERROR('Tabel 4 Br'!C20/'Tabel 4 F'!C20*100,"-")) -> 7.4311039 | D20: =IF(OR('Tabel 4 F'!D20<5,'Tabel 4 Br'!D20<0.5),"-",IFERROR('Tabel 4 Br'!D20/'Tabel 4 F'!D20*100,"-")) -> 1.2176852 | E20: =IF(OR('Tabel 4 F'!E20<5,'Tabel 4 Br'!E20<0.5),"-",IFERROR('Tabel 4 Br'!E20/'Tabel 4 F'!E20*100,"-")) -> 3.4177578 | F20: =IF(OR('Tabel 4 F'!F20<5,'Tabel 4 Br'!F20<0.5),"-",IFERROR('Tabel 4 Br'!F20/'Tabel 4 F'!F20*100,"-")) -> 1.66635 | H20: =IF(OR('Tabel 4 F'!H20<5,'Tabel 4 Br'!H20<0.5),"-",IFERROR('Tabel 4 Br'!H20/'Tabel 4 F'!H20*100,"-")) -> 4.6472784
... A51: DJØF'ere i alt | B51: =IF(OR('Tabel 4 F'!B51<5,'Tabel 4 Br'!B51<0.5),"-",IFERROR('Tabel 4 Br'!B51/'Tabel 4 F'!B51*100,"-")) -> 9.1222198 | C51: =IF(OR('Tabel 4 F'!C51<5,'Tabel 4 Br'!C51<0.5),"-",IFERROR('Tabel 4 Br'!C51/'Tabel 4 F'!C51*100,"-")) -> 3.3969827 | D51: =IF(OR('Tabel 4 F'!D51<5,'Tabel 4 Br'!D51<0.5),"-",IFERROR('Tabel 4 Br'!D51/'Tabel 4 F'!D51*100,"-")) -> 2.0245356 | E51: =IF(OR('Tabel 4 F'!E51<5,'Tabel 4 Br'!E51<0.5),"-",IFERROR('Tabel 4 Br'!E51/'Tabel 4 F'!E51*100,"-")) -> 2.5914267 | F51: =IF(OR('Tabel 4 F'!F51<5,'Tabel 4 Br'!F51<0.5),"-",IFERROR('Tabel 4 Br'!F51/'Tabel 4 F'!F51*100,"-")) -> 3.9115782 | H51: =IF(OR('Tabel 4 F'!H51<5,'Tabel 4 Br'!H51<0.5),"-",IFERROR('Tabel 4 Br'!H51/'Tabel 4 F'!H51*100,"-")) -> 4.011173
A52: Ledighedsprocenten er ikke angivet, når antallet af observationer er mindre end 10
A53: Se sidste del af statistikken for en oversigt over uddannelsesgrupperingernes indhold

Sheet Tabel 5 F
A1: Landstatistik
A3: Tabel 5. Antal forsikrede medlemmer - fordelt på kandidatalder (år siden dimission)
B7: 0 - 1 år | C7: 1 - 2 år | D7: 2 - 4 år | E7: 5 - 9 år | F7: 10 - 14 år | G7: Over 15 år | H7: Uoplyst | J7: I alt
A9: Civ. Ing. | B9: 1617 | C9: 1362 | D9: 3674 | E9: 5183 | F9: 4642 | G9: 13870 | H9: 962 | J9: =SUM(B9:H9) -> 31310
A10: Diplom Ing. | B10: 892 | C10: 916 | D10: 2124 | E10: 2671 | F10: 3379 | G10: 23148 | H10: 791 | J10: =SUM(B10:H10) -> 33921
A11: Cand.Scient.Tech. | B11: 2020 | C11: 1708 | D11: 4461 | E11: 3113 | F11: 1488 | G11: 1902 | H11: 2861 | J11: =SUM(B11:H11) -> 17553
A12: MA. Hum. | B12: 2492 | C12: 2411 | D12: 6699 | E12: 7262 | F12: 6515 | G12: 12106 | H12: 3128 | J12: =SUM(B12:H12) -> 40613
A13: MA. Nat. | B13: 396 | C13: 404 | D13: 1296 | E13: 1745 | F13: 2037 | G13: 8378 | H13: 514 | J13: =SUM(B13:H13) -> 14770
A14: MA. Ph.d. | B14: 53 | C14: 57 | D14: 277 | E14: 601 | F14: 401 | G14: 927 | H14: 107 | J14: =SUM(B14:H14) -> 2423
A15: MA. Samf. | B15: 622 | C15: 595 | D15: 1454 | E15: 878 | F15: 403 | G15: 619 | H15: 335 | J15: =SUM(B15:H15) -> 4906
A16: Øvrige Mag. | B16: 182 | C16: 136 | D16: 368 | E16: 468 | F16: 611 | G16: 1318 | H16: 135 | J16: =SUM(B16:H16) -> 3218
A17: Agronom | B17: 51 | C17: 69 | D17: 95 | E17: 153 | F17: 191 | G17: 1540 | H17: 281 | J17: =SUM(B17:H17) -> 2380
A18: Landsk. Arkt. | B18: 39 | C18: 29 | D18: 105 | E18: 108 | F18: 101 | G18: 257 | H18: 50 | J18: =SUM(B18:H18) -> 689
A19: Hortonom | B19: 0 | C19: 0 | D19: 6 | E19: 17 | F19: 24 | G19: 249 | H19: 28 | J19: =SUM(B19:H19) -> 324
A20: Forstkand. | B20: 18 | C20: 15 | D20: 28 | E20: 28 | F20: 71 | G20: 297 | H20: 53 | J20: =SUM(B20:H20) -> 510
... A45: Andre | B45: 1293 | C45: 1018 | D45: 2888 | E45: 3757 | F45: 2947 | G45: 6579 | H45: 3583 | J45: =SUM(B45:H45) -> 22065
A47: Total | B47: =SUM(B9:B45)-SUM(B17:B20) -> 20120 | C47: =SUM(C9:C45)-SUM(C17:C20) -> 17972 | D47: =SUM(D9:D45)-SUM(D17:D20) -> 47102 | E47: =SUM(E9:E45)-SUM(E17:E20) -> 51683 | F47: =SUM(F9:F45)-SUM(F17:F20) -> 40486 | G47: =SUM(G9:G45)-SUM(G17:G20) -> 122984 | H47: =SUM(H9:H45)-SUM(H17:H20) -> 33494 | I47: =SUM(I9:I45)-SUM(I17:I20) -> 0 | J47: =SUM(J9:J45)-SUM(J17:J20) -> 333841 | K47: 7.4889526
A49: Ingeniører i alt | B49: 2509 | C49: 2278 | D49: 5798 | E49: 7854 | F49: 8021 | G49: 37018 | H49: 1753 | J49: =SUM(B49:H49) -> 65231
A50: Magistre i alt | B50: 3745 | C50: 3603 | D50: 10094 | E50: 10954 | F50: 9967 | G50: 23348 | H50: 4219 | J50: =SUM(B50:H50) -> 65930
A51: DJØF'ere i alt | B51: 5611 | C51: 5247 | D51: 14157 | E51: 15884 | F51: 10117 | G51: 28904 | H51: 11612 | J51: =SUM(B51:H51) -> 91532
A52: Se sidste del af statistikken for en oversigt over uddannelsesgrupperingernes indhold

Sheet Tabel 5 Be
A1: Landstatistik
A3: Tabel 5. Antal bruttoledige målt i berørte medlemmer - fordelt på kandidatalder (år siden dimission)
B7: 0 - 1 år | C7: 1 - 2 år | D7: 2 - 4 år | E7: 5 - 9 år | F7: 10 - 14 år | G7: Over 15 år | H7: Uoplyst | J7: I alt
A9: Civ. Ing. | B9: 460 | C9: 116 | D9: 113 | E9: 84 | F9: 57 | G9: 195 | H9: 33 | J9: =SUM(B9:H9) -> 1058
A10: Diplom Ing. | B10: 242 | C10: 81 | D10: 72 | E10: 56 | F10: 47 | G10: 438 | H10: 26 | J10: =SUM(B10:H10) -> 962
A11: Cand.Scient.Tech. | B11: 866 | C11: 308 | D11: 303 | E11: 120 | F11: 21 | G11: 35 | H11: 163 | J11: =SUM(B11:H11) -> 1816
A12: MA. Hum. | B12: 1217 | C12: 687 | D12: 775 | E12: 504 | F12: 278 | G12: 484 | H12: 190 | J12: =SUM(B12:H12) -> 4135
A13: MA. Nat. | B13: 164 | C13: 81 | D13: 101 | E13: 82 | F13: 54 | G13: 148 | H13: 16 | J13: =SUM(B13:H13) -> 646
A14: MA. Ph.d. | B14: 15 | C14: 8 | D14: 11 | E14: 30 | F14: 15 | G14: 38 | H14: 4 | J14: =SUM(B14:H14) -> 121
A15: MA. Samf. | B15: 283 | C15: 134 | D15: 150 | E15: 63 | F15: 18 | G15: 28 | H15: 25 | J15: =SUM(B15:H15) -> 701
A16: Øvrige Mag. | B16: 82 | C16: 31 | D16: 44 | E16: 29 | F16: 20 | G16: 41 | H16: 9 | J16: =SUM(B16:H16) -> 256
A17: Agronom | B17: 24 | C17: 9 | D17: 8 | E17: 7 | F17: 3 | G17: 34 | H17: 16 | J17: =SUM(B17:H17) -> 101
A18: Landsk. Arkt. | B18: 18 | C18: 8 | D18: 10 | E18: 4 | F18: 2 | G18: 7 | H18: 1 | J18: =SUM(B18:H18) -> 50
A19: Hortonom | B19: 0 | C19: 0 | D19: 0 | E19: 1 | F19: 0 | G19: 7 | H19: 1 | J19: =SUM(B19:H19) -> 9
A20: Forstkand. | B20: 11 | C20: 4 | D20: 2 | E20: 1 | F20: 2 | G20: 4 | H20: 2 | J20: =SUM(B20:H20) -> 26
... A45: Andre | B45: 293 | C45: 140 | D45: 248 | E45: 220 | F45: 130 | G45: 399 | H45: 183 | J45: =SUM(B45:H45) -> 1613
A47: Total | B47: =SUM(B9:B45)-SUM(B17:B20) -> 6779 | C47: =SUM(C9:C45)-SUM(C17:C20) -> 2726 | D47: =SUM(D9:D45)-SUM(D17:D20) -> 2984 | E47: =SUM(E9:E45)-SUM(E17:E20) -> 2033 | F47: =SUM(F9:F45)-SUM(F17:F20) -> 1060 | G47: =SUM(G9:G45)-SUM(G17:G20) -> 3088 | H47: =SUM(H9:H45)-SUM(H17:H20) -> 1261 | J47: =SUM(J9:J45)-SUM(J17:J20) -> 19931 | K47: 7.4889526
A49: Ingeniører i alt | B49: 702 | C49: 197 | D49: 185 | E49: 140 | F49: 104 | G49: 633 | H49: 59 | J49: =SUM(B49:H49) -> 2020
A50: Magistre i alt | B50: 1761 | C50: 941 | D50: 1081 | E50: 708 | F50: 385 | G50: 739 | H50: 244 | J50: =SUM(B50:H50) -> 5859
A51: DJØF'ere i alt | B51: 1455 | C51: 584 | D51: 598 | E51: 500 | F51: 193 | G51: 669 | H51: 318 | J51: =SUM(B51:H51) -> 4317
A52: Se sidste del af statistikken for en oversigt over uddannelsesgrupperingernes indhold

Sheet Tabel 5 Br
A1: Landstatistik
A3: Tabel 5. Antal bruttoledige målt i fuldtidspersoner - fordelt på kandidatalder (år siden dimission)
B7: 0 - 1 år | C7: 1 - 2 år | D7: 2 - 4 år | E7: 5 - 9 år | F7: 10 - 14 år | G7: Over 15 år | H7: Uoplyst | J7: I alt
A9: Civ. Ing. | B9: 349.5029 | C9: 107.04422 | D9: 93.79717 | E9: 70.53016 | F9: 46.28579 | G9: 172.90401 | H9: 25.69326 | J9: =SUM(B9:H9) -> 865.75751
A10: Diplom Ing. | B10: 148.06711 | C10: 76.26832 | D10: 62.08258 | E10: 50.46529 | F10: 40.6181 | G10: 378.94218 | H10: 22.55598 | J10: =SUM(B10:H10) -> 778.99956
A11: Cand.Scient.Tech. | B11: 723.56764 | C11: 269.63388 | D11: 251.07216 | E11: 106.11614 | F11: 19.42681 | G11: 31.21936 | H11: 136.77665 | J11: =SUM(B11:H11) -> 1537.8126
A12: MA. Hum. | B12: 1026.8191 | C12: 597.43778 | D12: 642.99258 | E12: 421.88486 | F12: 232.90152 | G12: 400.42288 | H12: 164.3978 | J12: =SUM(B12:H12) -> 3486.8565
A13: MA. Nat. | B13: 133.01877 | C13: 73.27263 | D13: 83.03561 | E13: 65.20801 | F13: 45.91655 | G13: 125.17745 | H13: 13.22772 | J13: =SUM(B13:H13) -> 538.85674
A14: MA. Ph.d. | B14: 11.88299 | C14: 7.88499 | D14: 8.75881 | E14: 24.59552 | F14: 12.9433 | G14: 33.58885 | H14: 3.86079 | J14: =SUM(B14:H14) -> 103.51525
A15: MA. Samf. | B15: 242.99008 | C15: 118.74197 | D15: 125.48369 | E15: 48.848 | F15: 14.45706 | G15: 23.16472 | H15: 20.70667 | J15: =SUM(B15:H15) -> 594.39219
A16: Øvrige Mag. | B16: 68.12262 | C16: 25.76873 | D16: 36.18973 | E16: 25.96145 | F16: 16.1205 | G16: 34.27743 | H16: 7.40535 | J16: =SUM(B16:H16) -> 213.84581
A17: Agronom | B17: 21.15824 | C17: 7.29059 | D17: 7.10597 | E17: 5.07329 | F17: 2.35327 | G17: 29.26277 | H17: 11.98279 | J17: =SUM(B17:H17) -> 84.22692
A18: Landsk. Arkt. | B18: 16.52404 | C18: 6.80846 | D18: 8.42138 | E18: 3.11607 | F18: 1.86116 | G18: 4.41402 | H18: 0.97486 | J18: =SUM(B18:H18) -> 42.11999
A19: Hortonom | B19: 0 | C19: 0 | D19: 0 | E19: 0.99981 | F19: 0 | G19: 6.86023 | H19: 0.30749 | J19: =SUM(B19:H19) -> 8.16753
A20: Forstkand. | B20: 10.11289 | C20: 3.58386 | D20: 1.99963 | E20: 0.9075 | F20: 1.7227 | G20: 3.37491 | H20: 1.99963 | J20: =SUM(B20:H20) -> 23.70112
A21: Jordbrugsakad. | B21: 47.79517 | C21: 17.6829 | D21: 17.52698 | E21: 10.09668 | F21: 5.93713 | G21: 43.91193 | H21: 15.26477 | I21: 6165.2591 | J21: =SUM(B21:H21) -> 158.21556
A22: Mejeriing. | B22: 3.72232 | C22: 0.99981 | D22: 0.99981 | E22: 1.3073 | F22: 0 | G22: 5.69887 | H22: 0 | J22: =SUM(B22:H22) -> 12.72811
A23: Levn.m.kand. | B23: 14.00736 | C23: 6.50533 | D23: 8.71328 | E23: 3.07428 | F23: 0.63057 | G23: 1.99963 | H23: 0.99981 | J23: =SUM(B23:H23) -> 35.93026
A24: Dyrlæge | B24: 19.65945 | C24: 7.70536 | D24: 10.56696 | E24: 10.75282 | F24: 6.23714 | G24: 8.10703 | H24: 3.05433 | J24: =SUM(B24:H24) -> 66.08309
A25: Farmaceut | B25: 87.49704 | C25: 32.22853 | D25: 27.79954 | E25: 17.18393 | F25: 7.01366 | G25: 24.94355 | H25: 11.0048 | J25: =SUM(B25:H25) -> 207.67105
A26: Læge | B26: 152.07198 | C26: 11.69463 | D26: 37.55691 | E26: 15.08139 | F26: 3.33749 | G26: 6.62384 | H26: 9.26028 | J26: =SUM(B26:H26) -> 235.62652
A27: Tandlæge | B27: 2.84601 | C27: 0 | D27: 3.58386 | E27: 5.2105 | F27: 0 | G27: 6.39618 | H27: 0 | J27: =SUM(B27:H27) -> 18.03655
A28: Arkitekt | B28: 70.1472 | C28: 39.22847 | D28: 33.47471 | E28: 33.81463 | F28: 40.8863 | G28: 99.62951 | H28: 30.03493 | J28: =SUM(B28:H28) -> 347.21575
A29: Landinspek. | B29: 0.21518 | C29: 0.99981 | D29: 0.86135 | E29: 2.95328 | F29: 0 | G29: 3.67617 | H29: 0.99981 | J29: =SUM(B29:H29) -> 9.7056
A30: Bibliotekar | B30: 13.72794 | C30: 16.48912 | D30: 13.99988 | E30: 22.972 | F30: 6.25522 | G30: 34.3529 | H30: 18.33157 | J30: =SUM(B30:H30) -> 126.12863
A31: Musikudd. | B31: 1.3098 | C31: 2.29339 | D31: 3.99925 | E31: 2.07198 | F31: 0 | G31: 4.87058 | H31: 4.80571 | J31: =SUM(B31:H31) -> 19.35071
A32: Teolog | B32: 13.23208 | C32: 8.12574 | D32: 12.2279 | E32: 4.95665 | F32: 7.22198 | G32: 6.8253 | H32: 3.44103 | J32: =SUM(B32:H32) -> 56.03068
A33: Psykolog | B33: 199.79417 | C33: 63.04372 | D33: 67.10784 | E33: 30.60937 | F33: 11.45138 | G33: 20.04865 | H33: 17.48643 | J33: =SUM(B33:H33) -> 409.54156
... A45: Andre | B45: 231.56365 | C45: 122.82418 | D45: 210.51145 | E45: 186.26645 | F45: 105.21425 | G45: 319.15986 | H45: 151.31666 | J45: =SUM(B45:H45) -> 1326.8565
A47: Total | B47: =SUM(B9:B45)-SUM(B17:B20) -> 5396.1779 | C47: =SUM(C9:C45)-SUM(C17:C20) -> 2405.6452 | D47: =SUM(D9:D45)-SUM(D17:D20) -> 2490.4148 | E47: =SUM(E9:E45)-SUM(E17:E20) -> 1702.3377 | F47: =SUM(F9:F45)-SUM(F17:F20) -> 888.21744 | G47: =SUM(G9:G45)-SUM(G17:G20) -> 2633.2333 | H47: =SUM(H9:H45)-SUM(H17:H20) -> 1061.1788 | J47: =SUM(J9:J45)-SUM(J17:J20) -> 16577.205 | K47: 7.4889526
A49: Ingeniører i alt | B49: 497.57001 | C49: 183.31254 | D49: 155.87975 | E49: 120.99545 | F49: 86.90389 | G49: 551.84619 | H49: 48.24924 | J49: =SUM(B49:H49) -> 1644.7571
A50: Magistre i alt | B50: 1482.8335 | C50: 823.10609 | D50: 896.46043 | E50: 586.49785 | F50: 322.33893 | G50: 616.63132 | H50: 209.59833 | J50: =SUM(B50:H50) -> 4937.4665
A51: DJØF'ere i alt | B51: 1201.3603 | C51: 522.21169 | D51: 501.9622 | E51: 422.94143 | F51: 166.13921 | G51: 588.11451 | H51: 268.77752 | J51: =SUM(B51:H51) -> 3671.5069
A52: Se sidste del af statistikken for en oversigt over uddannelsesgrupperingernes indhold

Sheet Tabel 5 p (Be)
A1: Landstatistik
A3: Tabel 5.2 Bruttoledighedsprocenten målt i ledighedsberørte - fordelt efter kandidatalder (år siden dimission)
B7: Under 1 år | C7: Ml. 1 - 2 år | D7: 2 - 4 år | E7: 5 - 9 år | F7: 10 - 14 år | G7: Over 15 år | H7: Uoplyst | J7: I alt
A9: Civ. Ing. | B9: =IF(OR('Tabel 5 F'!B9<5,'Tabel 5 Be'!B9<0.5),"-",IFERROR('Tabel 5 Be'!B9/'Tabel 5 F'!B9*100,"-")) -> 28.447743 | C9: =IF(OR('Tabel 5 F'!C9<5,'Tabel 5 Be'!C9<0.5),"-",IFERROR('Tabel 5 Be'!C9/'Tabel 5 F'!C9*100,"-")) -> 8.5168869 | D9: =IF(OR('Tabel 5 F'!D9<5,'Tabel 5 Be'!D9<0.5),"-",IFERROR('Tabel 5 Be'!D9/'Tabel 5 F'!D9*100,"-")) -> 3.0756668 | E9: =IF(OR('Tabel 5 F'!E9<5,'Tabel 5 Be'!E9<0.5),"-",IFERROR('Tabel 5 Be'!E9/'Tabel 5 F'!E9*100,"-")) -> 1.620683 | F9: =IF(OR('Tabel 5 F'!F9<5,'Tabel 5 Be'!F9<0.5),"-",IFERROR('Tabel 5 Be'!F9/'Tabel 5 F'!F9*100,"-")) -> 1.227919 | G9: =IF(OR('Tabel 5 F'!G9<5,'Tabel 5 Be'!G9<0.5),"-",IFERROR('Tabel 5 Be'!G9/'Tabel 5 F'!G9*100,"-")) -> 1.405912 | H9: =IF(OR('Tabel 5 F'!H9<5,'Tabel 5 Be'!H9<0.5),"-",IFERROR('Tabel 5 Be'!H9/'Tabel 5 F'!H9*100,"-")) -> 3.4303534 | J9: =IF(OR('Tabel 5 F'!J9<5,'Tabel 5 Be'!J9<0.5),"-",IFERROR('Tabel 5 Be'!J9/'Tabel 5 F'!J9*100,"-")) -> 3.3791121
A10: Diplom Ing. | B10: =IF(OR('Tabel 5 F'!B10<5,'Tabel 5 Be'!B10<0.5),"-",IFERROR('Tabel 5 Be'!B10/'Tabel 5 F'!B10*100,"-")) -> 27.130045 | C10: =IF(OR('Tabel 5 F'!C10<5,'Tabel 5 Be'!C10<0.5),"-",IFERROR('Tabel 5 Be'!C10/'Tabel 5 F'!C10*100,"-")) -> 8.8427948 | D10: =IF(OR('Tabel 5 F'!D10<5,'Tabel 5 Be'!D10<0.5),"-",IFERROR('Tabel 5 Be'!D10/'Tabel 5 F'!D10*100,"-")) -> 3.3898305 | E10: =IF(OR('Tabel 5 F'!E10<5,'Tabel 5 Be'!E10<0.5),"-",IFERROR('Tabel 5 Be'!E10/'Tabel 5 F'!E10*100,"-")) -> 2.096593 | F10: =IF(OR('Tabel 5 F'!F10<5,'Tabel 5 Be'!F10<0.5),"-",IFERROR('Tabel 5 Be'!F10/'Tabel 5 F'!F10*100,"-")) -> 1.3909441 | G10: =IF(OR('Tabel 5 F'!G10<5,'Tabel 5 Be'!G10<0.5),"-",IFERROR('Tabel 5 Be'!G10/'Tabel 5 F'!G10*100,"-")) -> 1.8921721 | H10: =IF(OR('Tabel 5 F'!H10<5,'Tabel 5 Be'!H10<0.5),"-",IFERROR('Tabel 5 Be'!H10/'Tabel 5 F'!H10*100,"-")) -> 3.2869785 | J10: =IF(OR('Tabel 5 F'!J10<5,'Tabel 5 Be'!J10<0.5),"-",IFERROR('Tabel 5 Be'!J10/'Tabel 5 F'!J10*100,"-")) -> 2.8360013
A11: Cand.Scient.Tech. | B11: =IF(OR('Tabel 5 F'!B11<5,'Tabel 5 Be'!B11<0.5),"-",IFERROR('Tabel 5 Be'!B11/'Tabel 5 F'!B11*100,"-")) -> 42.871287 | C11: =IF(OR('Tabel 5 F'!C11<5,'Tabel 5 Be'!C11<0.5),"-",IFERROR('Tabel 5 Be'!C11/'Tabel 5 F'!C11*100,"-")) -> 18.032787 | D11: =IF(OR('Tabel 5 F'!D11<5,'Tabel 5 Be'!D11<0.5),"-",IFERROR('Tabel 5 Be'!D11/'Tabel 5 F'!D11*100,"-")) -> 6.7921991 | E11: =IF(OR('Tabel 5 F'!E11<5,'Tabel 5 Be'!E11<0.5),"-",IFERROR('Tabel 5 Be'!E11/'Tabel 5 F'!E11*100,"-")) -> 3.8548024 | F11: =IF(OR('Tabel 5 F'!F11<5,'Tabel 5 Be'!F11<0.5),"-",IFERROR('Tabel 5 Be'!F11/'Tabel 5 F'!F11*100,"-")) -> 1.4112903 | G11: =IF(OR('Tabel 5 F'!G11<5,'Tabel 5 Be'!G11<0.5),"-",IFERROR('Tabel 5 Be'!G11/'Tabel 5 F'!G11*100,"-")) -> 1.8401682 | H11: =IF(OR('Tabel 5 F'!H11<5,'Tabel 5 Be'!H11<0.5),"-",IFERROR('Tabel 5 Be'!H11/'Tabel 5 F'!H11*100,"-")) -> 5.6973086 | J11: =IF(OR('Tabel 5 F'!J11<5,'Tabel 5 Be'!J11<0.5),"-",IFERROR('Tabel 5 Be'!J11/'Tabel 5 F'!J11*100,"-")) -> 10.34581
A12: MA. Hum. | B12: =IF(OR('Tabel 5 F'!B12<5,'Tabel 5 Be'!B12<0.5),"-",IFERROR('Tabel 5 Be'!B12/'Tabel 5 F'!B12*100,"-")) -> 48.836276 | C12: =IF(OR('Tabel 5 F'!C12<5,'Tabel 5 Be'!C12<0.5),"-",IFERROR('Tabel 5 Be'!C12/'Tabel 5 F'!C12*100,"-")) -> 28.494401 | D12: =IF(OR('Tabel 5 F'!D12<5,'Tabel 5 Be'!D12<0.5),"-",IFERROR('Tabel 5 Be'!D12/'Tabel 5 F'!D12*100,"-")) -> 11.568891 | E12: =IF(OR('Tabel 5 F'!E12<5,'Tabel 5 Be'!E12<0.5),"-",IFERROR('Tabel 5 Be'!E12/'Tabel 5 F'!E12*100,"-")) -> 6.9402368 | F12: =IF(OR('Tabel 5 F'!F12<5,'Tabel 5 Be'!F12<0.5),"-",IFERROR('Tabel 5 Be'!F12/'Tabel 5 F'!F12*100,"-")) -> 4.267076 | G12: =IF(OR('Tabel 5 F'!G12<5,'Tabel 5 Be'!G12<0.5),"-",IFERROR('Tabel 5 Be'!G12/'Tabel 5 F'!G12*100,"-")) -> 3.9980175 | H12: =IF(OR('Tabel 5 F'!H12<5,'Tabel 5 Be'!H12<0.5),"-",IFERROR('Tabel 5 Be'!H12/'Tabel 5 F'!H12*100,"-")) -> 6.0741688 | J12: =IF(OR('Tabel 5 F'!J12<5,'Tabel 5 Be'!J12<0.5),"-",IFERROR('Tabel 5 Be'!J12/'Tabel 5 F'!J12*100,"-")) -> 10.181469
A13: MA. Nat. | B13: =IF(OR('Tabel 5 F'!B13<5,'Tabel 5 Be'!B13<0.5),"-",IFERROR('Tabel 5 Be'!B13/'Tabel 5 F'!B13*100,"-")) -> 41.414141 | C13: =IF(OR('Tabel 5 F'!C13<5,'Tabel 5 Be'!C13<0.5),"-",IFERROR('Tabel 5 Be'!C13/'Tabel 5 F'!C13*100,"-")) -> 20.049505 | D13: =IF(OR('Tabel 5 F'!D13<5,'Tabel 5 Be'!D13<0.5),"-",IFERROR('Tabel 5 Be'!D13/'Tabel 5 F'!D13*100,"-")) -> 7.7932099 | E13: =IF(OR('Tabel 5 F'!E13<5,'Tabel 5 Be'!E13<0.5),"-",IFERROR('Tabel 5 Be'!E13/'Tabel 5 F'!E13*100,"-")) -> 4.6991404 | F13: =IF(OR('Tabel 5 F'!F13<5,'Tabel 5 Be'!F13<0.5),"-",IFERROR('Tabel 5 Be'!F13/'Tabel 5 F'!F13*100,"-")) -> 2.6509573 | G13: =IF(OR('Tabel 5 F'!G13<5,'Tabel 5 Be'!G13<0.5),"-",IFERROR('Tabel 5 Be'!G13/'Tabel 5 F'!G13*100,"-")) -> 1.7665314 | H13: =IF(OR('Tabel 5 F'!H13<5,'Tabel 5 Be'!H13<0.5),"-",IFERROR('Tabel 5 Be'!H13/'Tabel 5 F'!H13*100,"-")) -> 3.1128405 | J13: =IF(OR('Tabel 5 F'!J13<5,'Tabel 5 Be'!J13<0.5),"-",IFERROR('Tabel 5 Be'!J13/'Tabel 5 F'!J13*100,"-")) -> 4.3737305
A14: MA. Ph.d. | B14: =IF(OR('Tabel 5 F'!B14<5,'Tabel 5 Be'!B14<0.5),"-",IFERROR('Tabel 5 Be'!B14/'Tabel 5 F'!B14*100,"-")) -> 28.301887 | C14: =IF(OR('Tabel 5 F'!C14<5,'Tabel 5 Be'!C14<0.5),"-",IFERROR('Tabel 5 Be'!C14/'Tabel 5 F'!C14*100,"-")) -> 14.035088 | D14: =IF(OR('Tabel 5 F'!D14<5,'Tabel 5 Be'!D14<0.5),"-",IFERROR('Tabel 5 Be'!D14/'Tabel 5 F'!D14*100,"-")) -> 3.9711191 | E14: =IF(OR('Tabel 5 F'!E14<5,'Tabel 5 Be'!E14<0.5),"-",IFERROR('Tabel 5 Be'!E14/'Tabel 5 F'!E14*100,"-")) -> 4.9916805 | F14: =IF(OR('Tabel 5 F'!F14<5,'Tabel 5 Be'!F14<0.5),"-",IFERROR('Tabel 5 Be'!F14/'Tabel 5 F'!F14*100,"-")) -> 3.7406484 | G14: =IF(OR('Tabel 5 F'!G14<5,'Tabel 5 Be'!G14<0.5),"-",IFERROR('Tabel 5 Be'!G14/'Tabel 5 F'!G14*100,"-")) -> 4.0992449 | H14: =IF(OR('Tabel 5 F'!H14<5,'Tabel 5 Be'!H14<0.5),"-",IFERROR('Tabel 5 Be'!H14/'Tabel 5 F'!H14*100,"-")) -> 3.7383178 | J14: =IF(OR('Tabel 5 F'!J14<5,'Tabel 5 Be'!J14<0.5),"-",IFERROR('Tabel 5 Be'!J14/'Tabel 5 F'!J14*100,"-")) -> 4.9938093
A15: MA. Samf. | B15: =IF(OR('Tabel 5 F'!B15<5,'Tabel 5 Be'!B15<0.5),"-",IFERROR('Tabel 5 Be'!B15/'Tabel 5 F'!B15*100,"-")) -> 45.498392 | C15: =IF(OR('Tabel 5 F'!C15<5,'Tabel 5 Be'!C15<0.5),"-",IFERROR('Tabel 5 Be'!C15/'Tabel 5 F'!C15*100,"-")) -> 22.521008 | D15: =IF(OR('Tabel 5 F'!D15<5,'Tabel 5 Be'!D15<0.5),"-",IFERROR('Tabel 5 Be'!D15/'Tabel 5 F'!D15*100,"-")) -> 10.316369 | E15: =IF(OR('Tabel 5 F'!E15<5,'Tabel 5 Be'!E15<0.5),"-",IFERROR('Tabel 5 Be'!E15/'Tabel 5 F'!E15*100,"-")) -> 7.1753986 | F15: =IF(OR('Tabel 5 F'!F15<5,'Tabel 5 Be'!F15<0.5),"-",IFERROR('Tabel 5 Be'!F15/'Tabel 5 F'!F15*100,"-")) -> 4.4665012 | G15: =IF(OR('Tabel 5 F'!G15<5,'Tabel 5 Be'!G15<0.5),"-",IFERROR('Tabel 5 Be'!G15/'Tabel 5 F'!G15*100,"-")) -> 4.5234249 | H15: =IF(OR('Tabel 5 F'!H15<5,'Tabel 5 Be'!H15<0.5),"-",IFERROR('Tabel 5 Be'!H15/'Tabel 5 F'!H15*100,"-")) -> 7.4626866 | J15: =IF(OR('Tabel 5 F'!J15<5,'Tabel 5 Be'!J15<0.5),"-",IFERROR('Tabel 5 Be'!J15/'Tabel 5 F'!J15*100,"-")) -> 14.288626
A16: Øvrige Mag. | B16: =IF(OR('Tabel 5 F'!B16<5,'Tabel 5 Be'!B16<0.5),"-",IFERROR('Tabel 5 Be'!B16/'Tabel 5 F'!B16*100,"-")) -> 45.054945 | C16: =IF(OR('Tabel 5 F'!C16<5,'Tabel 5 Be'!C16<0.5),"-",IFERROR('Tabel 5 Be'!C16/'Tabel 5 F'!C16*100,"-")) -> 22.794118 | D16: =IF(OR('Tabel 5 F'!D16<5,'Tabel 5 Be'!D16<0.5),"-",IFERROR('Tabel 5 Be'!D16/'Tabel 5 F'!D16*100,"-")) -> 11.956522 | E16: =IF(OR('Tabel 5 F'!E16<5,'Tabel 5 Be'!E16<0.5),"-",IFERROR('Tabel 5 Be'!E16/'Tabel 5 F'!E16*100,"-")) -> 6.1965812 | F16: =IF(OR('Tabel 5 F'!F16<5,'Tabel 5 Be'!F16<0.5),"-",IFERROR('Tabel 5 Be'!F16/'Tabel 5 F'!F16*100,"-")) -> 3.2733224 | G16: =IF(OR('Tabel 5 F'!G16<5,'Tabel 5 Be'!G16<0.5),"-",IFERROR('Tabel 5 Be'!G16/'Tabel 5 F'!G16*100,"-")) -> 3.1107739 | H16: =IF(OR('Tabel 5 F'!H16<5,'Tabel 5 Be'!H16<0.5),"-",IFERROR('Tabel 5 Be'!H16/'Tabel 5 F'!H16*100,"-")) -> 6.6666667 | J16: =IF(OR('Tabel 5 F'!J16<5,'Tabel 5 Be'!J16<0.5),"-",IFERROR('Tabel 5 Be'!J16/'Tabel 5 F'!J16*100,"-")) -> 7.9552517
A17: Agronom | B17: =IF(OR('Tabel 5 F'!B17<5,'Tabel 5 Be'!B17<0.5),"-",IFERROR('Tabel 5 Be'!B17/'Tabel 5 F'!B17*100,"-")) -> 47.058824 | C17: =IF(OR('Tabel 5 F'!C17<5,'Tabel 5 Be'!C17<0.5),"-",IFERROR('Tabel 5 Be'!C17/'Tabel 5 F'!C17*100,"-")) -> 13.043478 | D17: =IF(OR('Tabel 5 F'!D17<5,'Tabel 5 Be'!D17<0.5),"-",IFERROR('Tabel 5 Be'!D17/'Tabel 5 F'!D17*100,"-")) -> 8.4210526 | E17: =IF(OR('Tabel 5 F'!E17<5,'Tabel 5 Be'!E17<0.5),"-",IFERROR('Tabel 5 Be'!E17/'Tabel 5 F'!E17*100,"-")) -> 4.5751634 | F17: =IF(OR('Tabel 5 F'!F17<5,'Tabel 5 Be'!F17<0.5),"-",IFERROR('Tabel 5 Be'!F17/'Tabel 5 F'!F17*100,"-")) -> 1.5706806 | G17: =IF(OR('Tabel 5 F'!G17<5,'Tabel 5 Be'!G17<0.5),"-",IFERROR('Tabel 5 Be'!G17/'Tabel 5 F'!G17*100,"-")) -> 2.2077922 | H17: =IF(OR('Tabel 5 F'!H17<5,'Tabel 5 Be'!H17<0.5),"-",IFERROR('Tabel 5 Be'!H17/'Tabel 5 F'!H17*100,"-")) -> 5.6939502 | J17: =IF(OR('Tabel 5 F'!J17<5,'Tabel 5 Be'!J17<0.5),"-",IFERROR('Tabel 5 Be'!J17/'Tabel 5 F'!J17*100,"-")) -> 4.2436975
A18: Landsk. Arkt. | B18: =IF(OR('Tabel 5 F'!B18<5,'Tabel 5 Be'!B18<0.5),"-",IFERROR('Tabel 5 Be'!B18/'Tabel 5 F'!B18*100,"-")) -> 46.153846 | C18: =IF(OR('Tabel 5 F'!C18<5,'Tabel 5 Be'!C18<0.5),"-",IFERROR('Tabel 5 Be'!C18/'Tabel 5 F'!C18*100,"-")) -> 27.586207 | D18: =IF(OR('Tabel 5 F'!D18<5,'Tabel 5 Be'!D18<0.5),"-",IFERROR('Tabel 5 Be'!D18/'Tabel 5 F'!D18*100,"-")) -> 9.5238095 | E18: =IF(OR('Tabel 5 F'!E18<5,'Tabel 5 Be'!E18<0.5),"-",IFERROR('Tabel 5 Be'!E18/'Tabel 5 F'!E18*100,"-")) -> 3.7037037 | F18: =IF(OR('Tabel 5 F'!F18<5,'Tabel 5 Be'!F18<0.5),"-",IFERROR('Tabel 5 Be'!F18/'Tabel 5 F'!F18*100,"-")) -> 1.980198 | G18: =IF(OR('Tabel 5 F'!G18<5,'Tabel 5 Be'!G18<0.5),"-",IFERROR('Tabel 5 Be'!G18/'Tabel 5 F'!G18*100,"-")) -> 2.7237354 | H18: =IF(OR('Tabel 5 F'!H18<5,'Tabel 5 Be'!H18<0.5),"-",IFERROR('Tabel 5 Be'!H18/'Tabel 5 F'!H18*100,"-")) -> 2 | J18: =IF(OR('Tabel 5 F'!J18<5,'Tabel 5 Be'!J18<0.5),"-",IFERROR('Tabel 5 Be'!J18/'Tabel 5 F'!J18*100,"-")) -> 7.256894
A19: Hortonom | B19: =IF(OR('Tabel 5 F'!B19<5,'Tabel 5 Be'!B19<0.5),"-",IFERROR('Tabel 5 Be'!B19/'Tabel 5 F'!B19*100,"-")) -> - | C19: =IF(OR('Tabel 5 F'!C19<5,'Tabel 5 Be'!C19<0.5),"-",IFERROR('Tabel 5 Be'!C19/'Tabel 5 F'!C19*100,"-")) -> - | D19: =IF(OR('Tabel 5 F'!D19<5,'Tabel 5 Be'!D19<0.5),"-",IFERROR('Tabel 5 Be'!D19/'Tabel 5 F'!D19*100,"-")) -> - | E19: =IF(OR('Tabel 5 F'!E19<5,'Tabel 5 Be'!E19<0.5),"-",IFERROR('Tabel 5 Be'!E19/'Tabel 5 F'!E19*100,"-")) -> 5.8823529 | F19: =IF(OR('Tabel 5 F'!F19<5,'Tabel 5 Be'!F19<0.5),"-",IFERROR('Tabel 5 Be'!F19/'Tabel 5 F'!F19*100,"-")) -> - | G19: =IF(OR('Tabel 5 F'!G19<5,'Tabel 5 Be'!G19<0.5),"-",IFERROR('Tabel 5 Be'!G19/'Tabel 5 F'!G19*100,"-")) -> 2.811245 | H19: =IF(OR('Tabel 5 F'!H19<5,'Tabel 5 Be'!H19<0.5),"-",IFERROR('Tabel 5 Be'!H19/'Tabel 5 F'!H19*100,"-")) -> 3.5714286 | J19: =IF(OR('Tabel 5 F'!J19<5,'Tabel 5 Be'!J19<0.5),"-",IFERROR('Tabel 5 Be'!J19/'Tabel 5 F'!J19*100,"-")) -> 2.7777778
A20: Forstkand. | B20: =IF(OR('Tabel 5 F'!B20<5,'Tabel 5 Be'!B20<0.5),"-",IFERROR('Tabel 5 Be'!B20/'Tabel 5 F'!B20*100,"-")) -> 61.111111 | C20: =IF(OR('Tabel 5 F'!C20<5,'Tabel 5 Be'!C20<0.5),"-",IFERROR('Tabel 5 Be'!C20/'Tabel 5 F'!C20*100,"-")) -> 26.666667 | D20: =IF(OR('Tabel 5 F'!D20<5,'Tabel 5 Be'!D20<0.5),"-",IFERROR('Tabel 5 Be'!D20/'Tabel 5 F'!D20*100,"-")) -> 7.1428571 | E20: =IF(OR('Tabel 5 F'!E20<5,'Tabel 5 Be'!E20<0.5),"-",IFERROR('Tabel 5 Be'!E20/'Tabel 5 F'!E20*100,"-")) -> 3.5714286 | F20: =IF(OR('Tabel 5 F'!F20<5,'Tabel 5 Be'!F20<0.5),"-",IFERROR('Tabel 5 Be'!F20/'Tabel 5 F'!F20*100,"-")) -> 2.8169014 | G20: =IF(OR('Tabel 5 F'!G20<5,'Tabel 5 Be'!G20<0.5),"-",IFERROR('Tabel 5 Be'!G20/'Tabel 5 F'!G20*100,"-")) -> 1.3468013 | H20: =IF(OR('Tabel 5 F'!H20<5,'Tabel 5 Be'!H20<0.5),"-",IFERROR('Tabel 5 Be'!H20/'Tabel 5 F'!H20*100,"-")) -> 3.7735849 | J20: =IF(OR('Tabel 5 F'!J20<5,'Tabel 5 Be'!J20<0.5),"-",IFERROR('Tabel 5 Be'!J20/'Tabel 5 F'!J20*100,"-")) -> 5.0980392
... A51: DJØF'ere i alt | B51: =IF(OR('Tabel 5 F'!B51<5,'Tabel 5 Be'!B51<0.5),"-",IFERROR('Tabel 5 Be'!B51/'Tabel 5 F'!B51*100,"-")) -> 25.931207 | C51: =IF(OR('Tabel 5 F'!C51<5,'Tabel 5 Be'!C51<0.5),"-",IFERROR('Tabel 5 Be'!C51/'Tabel 5 F'!C51*100,"-")) -> 11.13017 | D51: =IF(OR('Tabel 5 F'!D51<5,'Tabel 5 Be'!D51<0.5),"-",IFERROR('Tabel 5 Be'!D51/'Tabel 5 F'!D51*100,"-")) -> 4.2240588 | E51: =IF(OR('Tabel 5 F'!E51<5,'Tabel 5 Be'!E51<0.5),"-",IFERROR('Tabel 5 Be'!E51/'Tabel 5 F'!E51*100,"-")) -> 3.1478217 | F51: =IF(OR('Tabel 5 F'!F51<5,'Tabel 5 Be'!F51<0.5),"-",IFERROR('Tabel 5 Be'!F51/'Tabel 5 F'!F51*100,"-")) -> 1.9076801 | G51: =IF(OR('Tabel 5 F'!G51<5,'Tabel 5 Be'!G51<0.5),"-",IFERROR('Tabel 5 Be'!G51/'Tabel 5 F'!G51*100,"-")) -> 2.3145585 | H51: =IF(OR('Tabel 5 F'!H51<5,'Tabel 5 Be'!H51<0.5),"-",IFERROR('Tabel 5 Be'!H51/'Tabel 5 F'!H51*100,"-")) -> 2.7385463 | J51: =IF(OR('Tabel 5 F'!J51<5,'Tabel 5 Be'!J51<0.5),"-",IFERROR('Tabel 5 Be'!J51/'Tabel 5 F'!J51*100,"-")) -> 4.7163833
A52: Se sidste del af statistikken for en oversigt over uddannelsesgrupperingernes indhold

Sheet Tabel 5 p (Br)
A1: Landstatistik
A3: Tabel 5.3 Bruttoledighedsprocenten målt i fuldtidspersoner - fordelt efter kandidatalder (år siden dimission)
B7: Under 1 år | C7: Ml. 1 - 2 år | D7: 2 - 4 år | E7: 5 - 9 år | F7: 10 - 14 år | G7: Over 15 år | H7: Uoplyst | J7: I alt
A9: Civ. Ing. | B9: =IF(OR('Tabel 5 F'!B9<5,'Tabel 5 Br'!B9<0.5),"-",IFERROR('Tabel 5 Br'!B9/'Tabel 5 F'!B9*100,"-")) -> 21.61428 | C9: =IF(OR('Tabel 5 F'!C9<5,'Tabel 5 Br'!C9<0.5),"-",IFERROR('Tabel 5 Br'!C9/'Tabel 5 F'!C9*100,"-")) -> 7.8593407 | D9: =IF(OR('Tabel 5 F'!D9<5,'Tabel 5 Br'!D9<0.5),"-",IFERROR('Tabel 5 Br'!D9/'Tabel 5 F'!D9*100,"-")) -> 2.5529986 | E9: =IF(OR('Tabel 5 F'!E9<5,'Tabel 5 Br'!E9<0.5),"-",IFERROR('Tabel 5 Br'!E9/'Tabel 5 F'!E9*100,"-")) -> 1.360798 | F9: =IF(OR('Tabel 5 F'!F9<5,'Tabel 5 Br'!F9<0.5),"-",IFERROR('Tabel 5 Br'!F9/'Tabel 5 F'!F9*100,"-")) -> 0.99710879 | G9: =IF(OR('Tabel 5 F'!G9<5,'Tabel 5 Br'!G9<0.5),"-",IFERROR('Tabel 5 Br'!G9/'Tabel 5 F'!G9*100,"-")) -> 1.2466043 | H9: =IF(OR('Tabel 5 F'!H9<5,'Tabel 5 Br'!H9<0.5),"-",IFERROR('Tabel 5 Br'!H9/'Tabel 5 F'!H9*100,"-")) -> 2.670817 | J9: =IF(OR('Tabel 5 F'!J9<5,'Tabel 5 Br'!J9<0.5),"-",IFERROR('Tabel 5 Br'!J9/'Tabel 5 F'!J9*100,"-")) -> 2.765115
A10: Diplom Ing. | B10: =IF(OR('Tabel 5 F'!B10<5,'Tabel 5 Br'!B10<0.5),"-",IFERROR('Tabel 5 Br'!B10/'Tabel 5 F'!B10*100,"-")) -> 16.599452 | C10: =IF(OR('Tabel 5 F'!C10<5,'Tabel 5 Br'!C10<0.5),"-",IFERROR('Tabel 5 Br'!C10/'Tabel 5 F'!C10*100,"-")) -> 8.3262358 | D10: =IF(OR('Tabel 5 F'!D10<5,'Tabel 5 Br'!D10<0.5),"-",IFERROR('Tabel 5 Br'!D10/'Tabel 5 F'!D10*100,"-")) -> 2.9229087 | E10: =IF(OR('Tabel 5 F'!E10<5,'Tabel 5 Br'!E10<0.5),"-",IFERROR('Tabel 5 Br'!E10/'Tabel 5 F'!E10*100,"-")) -> 1.8893781 | F10: =IF(OR('Tabel 5 F'!F10<5,'Tabel 5 Br'!F10<0.5),"-",IFERROR('Tabel 5 Br'!F10/'Tabel 5 F'!F10*100,"-")) -> 1.2020746 | G10: =IF(OR('Tabel 5 F'!G10<5,'Tabel 5 Br'!G10<0.5),"-",IFERROR('Tabel 5 Br'!G10/'Tabel 5 F'!G10*100,"-")) -> 1.6370407 | H10: =IF(OR('Tabel 5 F'!H10<5,'Tabel 5 Br'!H10<0.5),"-",IFERROR('Tabel 5 Br'!H10/'Tabel 5 F'!H10*100,"-")) -> 2.8515777 | J10: =IF(OR('Tabel 5 F'!J10<5,'Tabel 5 Br'!J10<0.5),"-",IFERROR('Tabel 5 Br'!J10/'Tabel 5 F'!J10*100,"-")) -> 2.2965112
A11: Cand.Scient.Tech. | B11: =IF(OR('Tabel 5 F'!B11<5,'Tabel 5 Br'!B11<0.5),"-",IFERROR('Tabel 5 Br'!B11/'Tabel 5 F'!B11*100,"-")) -> 35.82018 | C11: =IF(OR('Tabel 5 F'!C11<5,'Tabel 5 Br'!C11<0.5),"-",IFERROR('Tabel 5 Br'!C11/'Tabel 5 F'!C11*100,"-")) -> 15.786527 | D11: =IF(OR('Tabel 5 F'!D11<5,'Tabel 5 Br'!D11<0.5),"-",IFERROR('Tabel 5 Br'!D11/'Tabel 5 F'!D11*100,"-")) -> 5.6281587 | E11: =IF(OR('Tabel 5 F'!E11<5,'Tabel 5 Br'!E11<0.5),"-",IFERROR('Tabel 5 Br'!E11/'Tabel 5 F'!E11*100,"-")) -> 3.4088063 | F11: =IF(OR('Tabel 5 F'!F11<5,'Tabel 5 Br'!F11<0.5),"-",IFERROR('Tabel 5 Br'!F11/'Tabel 5 F'!F11*100,"-")) -> 1.3055652 | G11: =IF(OR('Tabel 5 F'!G11<5,'Tabel 5 Br'!G11<0.5),"-",IFERROR('Tabel 5 Br'!G11/'Tabel 5 F'!G11*100,"-")) -> 1.6413964 | H11: =IF(OR('Tabel 5 F'!H11<5,'Tabel 5 Br'!H11<0.5),"-",IFERROR('Tabel 5 Br'!H11/'Tabel 5 F'!H11*100,"-")) -> 4.7807288 | J11: =IF(OR('Tabel 5 F'!J11<5,'Tabel 5 Br'!J11<0.5),"-",IFERROR('Tabel 5 Br'!J11/'Tabel 5 F'!J11*100,"-")) -> 8.7609676
A12: MA. Hum. | B12: =IF(OR('Tabel 5 F'!B12<5,'Tabel 5 Br'!B12<0.5),"-",IFERROR('Tabel 5 Br'!B12/'Tabel 5 F'!B12*100,"-")) -> 41.204617 | C12: =IF(OR('Tabel 5 F'!C12<5,'Tabel 5 Br'!C12<0.5),"-",IFERROR('Tabel 5 Br'!C12/'Tabel 5 F'!C12*100,"-")) -> 24.779667 | D12: =IF(OR('Tabel 5 F'!D12<5,'Tabel 5 Br'!D12<0.5),"-",IFERROR('Tabel 5 Br'!D12/'Tabel 5 F'!D12*100,"-")) -> 9.5983368 | E12: =IF(OR('Tabel 5 F'!E12<5,'Tabel 5 Br'!E12<0.5),"-",IFERROR('Tabel 5 Br'!E12/'Tabel 5 F'!E12*100,"-")) -> 5.8094858 | F12: =IF(OR('Tabel 5 F'!F12<5,'Tabel 5 Br'!F12<0.5),"-",IFERROR('Tabel 5 Br'!F12/'Tabel 5 F'!F12*100,"-")) -> 3.5748507 | G12: =IF(OR('Tabel 5 F'!G12<5,'Tabel 5 Br'!G12<0.5),"-",IFERROR('Tabel 5 Br'!G12/'Tabel 5 F'!G12*100,"-")) -> 3.3076398 | H12: =IF(OR('Tabel 5 F'!H12<5,'Tabel 5 Br'!H12<0.5),"-",IFERROR('Tabel 5 Br'!H12/'Tabel 5 F'!H12*100,"-")) -> 5.2556841 | J12: =IF(OR('Tabel 5 F'!J12<5,'Tabel 5 Br'!J12<0.5),"-",IFERROR('Tabel 5 Br'!J12/'Tabel 5 F'!J12*100,"-")) -> 8.5855674
A13: MA. Nat. | B13: =IF(OR('Tabel 5 F'!B13<5,'Tabel 5 Br'!B13<0.5),"-",IFERROR('Tabel 5 Br'!B13/'Tabel 5 F'!B13*100,"-")) -> 33.590598 | C13: =IF(OR('Tabel 5 F'!C13<5,'Tabel 5 Br'!C13<0.5),"-",IFERROR('Tabel 5 Br'!C13/'Tabel 5 F'!C13*100,"-")) -> 18.13679 | D13: =IF(OR('Tabel 5 F'!D13<5,'Tabel 5 Br'!D13<0.5),"-",IFERROR('Tabel 5 Br'!D13/'Tabel 5 F'!D13*100,"-")) -> 6.4070687 | E13: =IF(OR('Tabel 5 F'!E13<5,'Tabel 5 Br'!E13<0.5),"-",IFERROR('Tabel 5 Br'!E13/'Tabel 5 F'!E13*100,"-")) -> 3.7368487 | F13: =IF(OR('Tabel 5 F'!F13<5,'Tabel 5 Br'!F13<0.5),"-",IFERROR('Tabel 5 Br'!F13/'Tabel 5 F'!F13*100,"-")) -> 2.2541262 | G13: =IF(OR('Tabel 5 F'!G13<5,'Tabel 5 Br'!G13<0.5),"-",IFERROR('Tabel 5 Br'!G13/'Tabel 5 F'!G13*100,"-")) -> 1.4941209 | H13: =IF(OR('Tabel 5 F'!H13<5,'Tabel 5 Br'!H13<0.5),"-",IFERROR('Tabel 5 Br'!H13/'Tabel 5 F'!H13*100,"-")) -> 2.5734864 | J13: =IF(OR('Tabel 5 F'!J13<5,'Tabel 5 Br'!J13<0.5),"-",IFERROR('Tabel 5 Br'!J13/'Tabel 5 F'!J13*100,"-")) -> 3.6483192
A14: MA. Ph.d. | B14: =IF(OR('Tabel 5 F'!B14<5,'Tabel 5 Br'!B14<0.5),"-",IFERROR('Tabel 5 Br'!B14/'Tabel 5 F'!B14*100,"-")) -> 22.420736 | C14: =IF(OR('Tabel 5 F'!C14<5,'Tabel 5 Br'!C14<0.5),"-",IFERROR('Tabel 5 Br'!C14/'Tabel 5 F'!C14*100,"-")) -> 13.833316 | D14: =IF(OR('Tabel 5 F'!D14<5,'Tabel 5 Br'!D14<0.5),"-",IFERROR('Tabel 5 Br'!D14/'Tabel 5 F'!D14*100,"-")) -> 3.1620253 | E14: =IF(OR('Tabel 5 F'!E14<5,'Tabel 5 Br'!E14<0.5),"-",IFERROR('Tabel 5 Br'!E14/'Tabel 5 F'!E14*100,"-")) -> 4.0924326 | F14: =IF(OR('Tabel 5 F'!F14<5,'Tabel 5 Br'!F14<0.5),"-",IFERROR('Tabel 5 Br'!F14/'Tabel 5 F'!F14*100,"-")) -> 3.2277556 | G14: =IF(OR('Tabel 5 F'!G14<5,'Tabel 5 Br'!G14<0.5),"-",IFERROR('Tabel 5 Br'!G14/'Tabel 5 F'!G14*100,"-")) -> 3.6233927 | H14: =IF(OR('Tabel 5 F'!H14<5,'Tabel 5 Br'!H14<0.5),"-",IFERROR('Tabel 5 Br'!H14/'Tabel 5 F'!H14*100,"-")) -> 3.608215 | J14: =IF(OR('Tabel 5 F'!J14<5,'Tabel 5 Br'!J14<0.5),"-",IFERROR('Tabel 5 Br'!J14/'Tabel 5 F'!J14*100,"-")) -> 4.2721936
A15: MA. Samf. | B15: =IF(OR('Tabel 5 F'!B15<5,'Tabel 5 Br'!B15<0.5),"-",IFERROR('Tabel 5 Br'!B15/'Tabel 5 F'!B15*100,"-")) -> 39.065929 | C15: =IF(OR('Tabel 5 F'!C15<5,'Tabel 5 Br'!C15<0.5),"-",IFERROR('Tabel 5 Br'!C15/'Tabel 5 F'!C15*100,"-")) -> 19.956634 | D15: =IF(OR('Tabel 5 F'!D15<5,'Tabel 5 Br'!D15<0.5),"-",IFERROR('Tabel 5 Br'!D15/'Tabel 5 F'!D15*100,"-")) -> 8.63024 | E15: =IF(OR('Tabel 5 F'!E15<5,'Tabel 5 Br'!E15<0.5),"-",IFERROR('Tabel 5 Br'!E15/'Tabel 5 F'!E15*100,"-")) -> 5.5635535 | F15: =IF(OR('Tabel 5 F'!F15<5,'Tabel 5 Br'!F15<0.5),"-",IFERROR('Tabel 5 Br'!F15/'Tabel 5 F'!F15*100,"-")) -> 3.5873598 | G15: =IF(OR('Tabel 5 F'!G15<5,'Tabel 5 Br'!G15<0.5),"-",IFERROR('Tabel 5 Br'!G15/'Tabel 5 F'!G15*100,"-")) -> 3.7422811 | H15: =IF(OR('Tabel 5 F'!H15<5,'Tabel 5 Br'!H15<0.5),"-",IFERROR('Tabel 5 Br'!H15/'Tabel 5 F'!H15*100,"-")) -> 6.1810955 | J15: =IF(OR('Tabel 5 F'!J15<5,'Tabel 5 Br'!J15<0.5),"-",IFERROR('Tabel 5 Br'!J15/'Tabel 5 F'!J15*100,"-")) -> 12.115617
A16: Øvrige Mag. | B16: =IF(OR('Tabel 5 F'!B16<5,'Tabel 5 Br'!B16<0.5),"-",IFERROR('Tabel 5 Br'!B16/'Tabel 5 F'!B16*100,"-")) -> 37.430011 | C16: =IF(OR('Tabel 5 F'!C16<5,'Tabel 5 Br'!C16<0.5),"-",IFERROR('Tabel 5 Br'!C16/'Tabel 5 F'!C16*100,"-")) -> 18.947596 | D16: =IF(OR('Tabel 5 F'!D16<5,'Tabel 5 Br'!D16<0.5),"-",IFERROR('Tabel 5 Br'!D16/'Tabel 5 F'!D16*100,"-")) -> 9.8341658 | E16: =IF(OR('Tabel 5 F'!E16<5,'Tabel 5 Br'!E16<0.5),"-",IFERROR('Tabel 5 Br'!E16/'Tabel 5 F'!E16*100,"-")) -> 5.5473184 | F16: =IF(OR('Tabel 5 F'!F16<5,'Tabel 5 Br'!F16<0.5),"-",IFERROR('Tabel 5 Br'!F16/'Tabel 5 F'!F16*100,"-")) -> 2.6383797 | G16: =IF(OR('Tabel 5 F'!G16<5,'Tabel 5 Br'!G16<0.5),"-",IFERROR('Tabel 5 Br'!G16/'Tabel 5 F'!G16*100,"-")) -> 2.6007155 | H16: =IF(OR('Tabel 5 F'!H16<5,'Tabel 5 Br'!H16<0.5),"-",IFERROR('Tabel 5 Br'!H16/'Tabel 5 F'!H16*100,"-")) -> 5.4854444 | J16: =IF(OR('Tabel 5 F'!J16<5,'Tabel 5 Br'!J16<0.5),"-",IFERROR('Tabel 5 Br'!J16/'Tabel 5 F'!J16*100,"-")) -> 6.6453017
A17: Agronom | B17: =IF(OR('Tabel 5 F'!B17<5,'Tabel 5 Br'!B17<0.5),"-",IFERROR('Tabel 5 Br'!B17/'Tabel 5 F'!B17*100,"-")) -> 41.486745 | C17: =IF(OR('Tabel 5 F'!C17<5,'Tabel 5 Br'!C17<0.5),"-",IFERROR('Tabel 5 Br'!C17/'Tabel 5 F'!C17*100,"-")) -> 10.566072 | D17: =IF(OR('Tabel 5 F'!D17<5,'Tabel 5 Br'!D17<0.5),"-",IFERROR('Tabel 5 Br'!D17/'Tabel 5 F'!D17*100,"-")) -> 7.4799684 | E17: =IF(OR('Tabel 5 F'!E17<5,'Tabel 5 Br'!E17<0.5),"-",IFERROR('Tabel 5 Br'!E17/'Tabel 5 F'!E17*100,"-")) -> 3.3158758 | F17: =IF(OR('Tabel 5 F'!F17<5,'Tabel 5 Br'!F17<0.5),"-",IFERROR('Tabel 5 Br'!F17/'Tabel 5 F'!F17*100,"-")) -> 1.2320785 | G17: =IF(OR('Tabel 5 F'!G17<5,'Tabel 5 Br'!G17<0.5),"-",IFERROR('Tabel 5 Br'!G17/'Tabel 5 F'!G17*100,"-")) -> 1.9001799 | H17: =IF(OR('Tabel 5 F'!H17<5,'Tabel 5 Br'!H17<0.5),"-",IFERROR('Tabel 5 Br'!H17/'Tabel 5 F'!H17*100,"-")) -> 4.2643381 | J17: =IF(OR('Tabel 5 F'!J17<5,'Tabel 5 Br'!J17<0.5),"-",IFERROR('Tabel 5 Br'!J17/'Tabel 5 F'!J17*100,"-")) -> 3.5389462
A18: Landsk. Arkt. | B18: =IF(OR('Tabel 5 F'!B18<5,'Tabel 5 Br'!B18<0.5),"-",IFERROR('Tabel 5 Br'!B18/'Tabel 5 F'!B18*100,"-")) -> 42.369333 | C18: =IF(OR('Tabel 5 F'!C18<5,'Tabel 5 Br'!C18<0.5),"-",IFERROR('Tabel 5 Br'!C18/'Tabel 5 F'!C18*100,"-")) -> 23.477448 | D18: =IF(OR('Tabel 5 F'!D18<5,'Tabel 5 Br'!D18<0.5),"-",IFERROR('Tabel 5 Br'!D18/'Tabel 5 F'!D18*100,"-")) -> 8.0203619 | E18: =IF(OR('Tabel 5 F'!E18<5,'Tabel 5 Br'!E18<0.5),"-",IFERROR('Tabel 5 Br'!E18/'Tabel 5 F'!E18*100,"-")) -> 2.88525 | F18: =IF(OR('Tabel 5 F'!F18<5,'Tabel 5 Br'!F18<0.5),"-",IFERROR('Tabel 5 Br'!F18/'Tabel 5 F'!F18*100,"-")) -> 1.8427327 | G18: =IF(OR('Tabel 5 F'!G18<5,'Tabel 5 Br'!G18<0.5),"-",IFERROR('Tabel 5 Br'!G18/'Tabel 5 F'!G18*100,"-")) -> 1.7175175 | H18: =IF(OR('Tabel 5 F'!H18<5,'Tabel 5 Br'!H18<0.5),"-",IFERROR('Tabel 5 Br'!H18/'Tabel 5 F'!H18*100,"-")) -> 1.94972 | J18: =IF(OR('Tabel 5 F'!J18<5,'Tabel 5 Br'!J18<0.5),"-",IFERROR('Tabel 5 Br'!J18/'Tabel 5 F'!J18*100,"-")) -> 6.1132061
A19: Hortonom | B19: =IF(OR('Tabel 5 F'!B19<5,'Tabel 5 Br'!B19<0.5),"-",IFERROR('Tabel 5 Br'!B19/'Tabel 5 F'!B19*100,"-")) -> - | C19: =IF(OR('Tabel 5 F'!C19<5,'Tabel 5 Br'!C19<0.5),"-",IFERROR('Tabel 5 Br'!C19/'Tabel 5 F'!C19*100,"-")) -> - | D19: =IF(OR('Tabel 5 F'!D19<5,'Tabel 5 Br'!D19<0.5),"-",IFERROR('Tabel 5 Br'!D19/'Tabel 5 F'!D19*100,"-")) -> - | E19: =IF(OR('Tabel 5 F'!E19<5,'Tabel 5 Br'!E19<0.5),"-",IFERROR('Tabel 5 Br'!E19/'Tabel 5 F'!E19*100,"-")) -> 5.8812353 | F19: =IF(OR('Tabel 5 F'!F19<5,'Tabel 5 Br'!F19<0.5),"-",IFERROR('Tabel 5 Br'!F19/'Tabel 5 F'!F19*100,"-")) -> - | G19: =IF(OR('Tabel 5 F'!G19<5,'Tabel 5 Br'!G19<0.5),"-",IFERROR('Tabel 5 Br'!G19/'Tabel 5 F'!G19*100,"-")) -> 2.7551124 | H19: =IF(OR('Tabel 5 F'!H19<5,'Tabel 5 Br'!H19<0.5),"-",IFERROR('Tabel 5 Br'!H19/'Tabel 5 F'!H19*100,"-")) -> - | J19: =IF(OR('Tabel 5 F'!J19<5,'Tabel 5 Br'!J19<0.5),"-",IFERROR('Tabel 5 Br'!J19/'Tabel 5 F'!J19*100,"-")) -> 2.5208426
A20: Forstkand. | B20: =IF(OR('Tabel 5 F'!B20<5,'Tabel 5 Br'!B20<0.5),"-",IFERROR('Tabel 5 Br'!B20/'Tabel 5 F'!B20*100,"-")) -> 56.182722 | C20: =IF(OR('Tabel 5 F'!C20<5,'Tabel 5 Br'!C20<0.5),"-",IFERROR('Tabel 5 Br'!C20/'Tabel 5 F'!C20*100,"-")) -> 23.8924 | D20: =IF(OR('Tabel 5 F'!D20<5,'Tabel 5 Br'!D20<0.5),"-",IFERROR('Tabel 5 Br'!D20/'Tabel 5 F'!D20*100,"-")) -> 7.1415357 | E20: =IF(OR('Tabel 5 F'!E20<5,'Tabel 5 Br'!E20<0.5),"-",IFERROR('Tabel 5 Br'!E20/'Tabel 5 F'!E20*100,"-")) -> 3.2410714 | F20: =IF(OR('Tabel 5 F'!F20<5,'Tabel 5 Br'!F20<0.5),"-",IFERROR('Tabel 5 Br'!F20/'Tabel 5 F'!F20*100,"-")) -> 2.426338 | G20: =IF(OR('Tabel 5 F'!G20<5,'Tabel 5 Br'!G20<0.5),"-",IFERROR('Tabel 5 Br'!G20/'Tabel 5 F'!G20*100,"-")) -> 1.1363333 | H20: =IF(OR('Tabel 5 F'!H20<5,'Tabel 5 Br'!H20<0.5),"-",IFERROR('Tabel 5 Br'!H20/'Tabel 5 F'!H20*100,"-")) -> 3.7728868 | J20: =IF(OR('Tabel 5 F'!J20<5,'Tabel 5 Br'!J20<0.5),"-",IFERROR('Tabel 5 Br'!J20/'Tabel 5 F'!J20*100,"-")) -> 4.6472784
... A45: Andre | B45: =IF(OR('Tabel 5 F'!B45<5,'Tabel 5 Br'!B45<0.5),"-",IFERROR('Tabel 5 Br'!B45/'Tabel 5 F'!B45*100,"-")) -> 17.909022 | C45: =IF(OR('Tabel 5 F'!C45<5,'Tabel 5 Br'!C45<0.5),"-",IFERROR('Tabel 5 Br'!C45/'Tabel 5 F'!C45*100,"-")) -> 12.065244 | D45: =IF(OR('Tabel 5 F'!D45<5,'Tabel 5 Br'!D45<0.5),"-",IFERROR('Tabel 5 Br'!D45/'Tabel 5 F'!D45*100,"-")) -> 7.2891776 | E45: =IF(OR('Tabel 5 F'!E45<5,'Tabel 5 Br'!E45<0.5),"-",IFERROR('Tabel 5 Br'!E45/'Tabel 5 F'!E45*100,"-")) -> 4.9578507 | F45: =IF(OR('Tabel 5 F'!F45<5,'Tabel 5 Br'!F45<0.5),"-",IFERROR('Tabel 5 Br'!F45/'Tabel 5 F'!F45*100,"-")) -> 3.5702155 | G45: =IF(OR('Tabel 5 F'!G45<5,'Tabel 5 Br'!G45<0.5),"-",IFERROR('Tabel 5 Br'!G45/'Tabel 5 F'!G45*100,"-")) -> 4.8511911 | H45: =IF(OR('Tabel 5 F'!H45<5,'Tabel 5 Br'!H45<0.5),"-",IFERROR('Tabel 5 Br'!H45/'Tabel 5 F'!H45*100,"-")) -> 4.2231834 | J45: =IF(OR('Tabel 5 F'!J45<5,'Tabel 5 Br'!J45<0.5),"-",IFERROR('Tabel 5 Br'!J45/'Tabel 5 F'!J45*100,"-")) -> 6.013399
A47: Total | B47: =IF(OR('Tabel 5 F'!B47<5,'Tabel 5 Br'!B47<0.5),"-",IFERROR('Tabel 5 Br'!B47/'Tabel 5 F'!B47*100,"-")) -> 26.81997 | C47: =IF(OR('Tabel 5 F'!C47<5,'Tabel 5 Br'!C47<0.5),"-",IFERROR('Tabel 5 Br'!C47/'Tabel 5 F'!C47*100,"-")) -> 13.385518 | D47: =IF(OR('Tabel 5 F'!D47<5,'Tabel 5 Br'!D47<0.5),"-",IFERROR('Tabel 5 Br'!D47/'Tabel 5 F'!D47*100,"-")) -> 5.2872803 | E47: =IF(OR('Tabel 5 F'!E47<5,'Tabel 5 Br'!E47<0.5),"-",IFERROR('Tabel 5 Br'!E47/'Tabel 5 F'!E47*100,"-")) -> 3.2938058 | F47: =IF(OR('Tabel 5 F'!F47<5,'Tabel 5 Br'!F47<0.5),"-",IFERROR('Tabel 5 Br'!F47/'Tabel 5 F'!F47*100,"-")) -> 2.1938879 | G47: =IF(OR('Tabel 5 F'!G47<5,'Tabel 5 Br'!G47<0.5),"-",IFERROR('Tabel 5 Br'!G47/'Tabel 5 F'!G47*100,"-")) -> 2.1411186 | H47: =IF(OR('Tabel 5 F'!H47<5,'Tabel 5 Br'!H47<0.5),"-",IFERROR('Tabel 5 Br'!H47/'Tabel 5 F'!H47*100,"-")) -> 3.1682654 | J47: =IF(OR('Tabel 5 F'!J47<5,'Tabel 5 Br'!J47<0.5),"-",IFERROR('Tabel 5 Br'!J47/'Tabel 5 F'!J47*100,"-")) -> 4.9655989 | K47: 7.4889526
A49: Ingeniører i alt | B49: =IF(OR('Tabel 5 F'!B49<5,'Tabel 5 Br'!B49<0.5),"-",IFERROR('Tabel 5 Br'!B49/'Tabel 5 F'!B49*100,"-")) -> 19.831407 | C49: =IF(OR('Tabel 5 F'!C49<5,'Tabel 5 Br'!C49<0.5),"-",IFERROR('Tabel 5 Br'!C49/'Tabel 5 F'!C49*100,"-")) -> 8.0470825 | D49: =IF(OR('Tabel 5 F'!D49<5,'Tabel 5 Br'!D49<0.5),"-",IFERROR('Tabel 5 Br'!D49/'Tabel 5 F'!D49*100,"-")) -> 2.688509 | E49: =IF(OR('Tabel 5 F'!E49<5,'Tabel 5 Br'!E49<0.5),"-",IFERROR('Tabel 5 Br'!E49/'Tabel 5 F'!E49*100,"-")) -> 1.5405583 | F49: =IF(OR('Tabel 5 F'!F49<5,'Tabel 5 Br'!F49<0.5),"-",IFERROR('Tabel 5 Br'!F49/'Tabel 5 F'!F49*100,"-")) -> 1.0834546 | G49: =IF(OR('Tabel 5 F'!G49<5,'Tabel 5 Br'!G49<0.5),"-",IFERROR('Tabel 5 Br'!G49/'Tabel 5 F'!G49*100,"-")) -> 1.490751 | H49: =IF(OR('Tabel 5 F'!H49<5,'Tabel 5 Br'!H49<0.5),"-",IFERROR('Tabel 5 Br'!H49/'Tabel 5 F'!H49*100,"-")) -> 2.7523811 | J49: =IF(OR('Tabel 5 F'!J49<5,'Tabel 5 Br'!J49<0.5),"-",IFERROR('Tabel 5 Br'!J49/'Tabel 5 F'!J49*100,"-")) -> 2.5214347
A50: Magistre i alt | B50: =IF(OR('Tabel 5 F'!B50<5,'Tabel 5 Br'!B50<0.5),"-",IFERROR('Tabel 5 Br'!B50/'Tabel 5 F'!B50*100,"-")) -> 39.595021 | C50: =IF(OR('Tabel 5 F'!C50<5,'Tabel 5 Br'!C50<0.5),"-",IFERROR('Tabel 5 Br'!C50/'Tabel 5 F'!C50*100,"-")) -> 22.845021 | D50: =IF(OR('Tabel 5 F'!D50<5,'Tabel 5 Br'!D50<0.5),"-",IFERROR('Tabel 5 Br'!D50/'Tabel 5 F'!D50*100,"-")) -> 8.8811218 | E50: =IF(OR('Tabel 5 F'!E50<5,'Tabel 5 Br'!E50<0.5),"-",IFERROR('Tabel 5 Br'!E50/'Tabel 5 F'!E50*100,"-")) -> 5.3541889 | F50: =IF(OR('Tabel 5 F'!F50<5,'Tabel 5 Br'!F50<0.5),"-",IFERROR('Tabel 5 Br'!F50/'Tabel 5 F'!F50*100,"-")) -> 3.2340617 | G50: =IF(OR('Tabel 5 F'!G50<5,'Tabel 5 Br'!G50<0.5),"-",IFERROR('Tabel 5 Br'!G50/'Tabel 5 F'!G50*100,"-")) -> 2.6410456 | H50: =IF(OR('Tabel 5 F'!H50<5,'Tabel 5 Br'!H50<0.5),"-",IFERROR('Tabel 5 Br'!H50/'Tabel 5 F'!H50*100,"-")) -> 4.9679623 | J50: =IF(OR('Tabel 5 F'!J50<5,'Tabel 5 Br'!J50<0.5),"-",IFERROR('Tabel 5 Br'!J50/'Tabel 5 F'!J50*100,"-")) -> 7.4889526
A51: DJØF'ere i alt | B51: =IF(OR('Tabel 5 F'!B51<5,'Tabel 5 Br'!B51<0.5),"-",IFERROR('Tabel 5 Br'!B51/'Tabel 5 F'!B51*100,"-")) -> 21.410806 | C51: =IF(OR('Tabel 5 F'!C51<5,'Tabel 5 Br'!C51<0.5),"-",IFERROR('Tabel 5 Br'!C51/'Tabel 5 F'!C51*100,"-")) -> 9.9525765 | D51: =IF(OR('Tabel 5 F'!D51<5,'Tabel 5 Br'!D51<0.5),"-",IFERROR('Tabel 5 Br'!D51/'Tabel 5 F'!D51*100,"-")) -> 3.545682 | E51: =IF(OR('Tabel 5 F'!E51<5,'Tabel 5 Br'!E51<0.5),"-",IFERROR('Tabel 5 Br'!E51/'Tabel 5 F'!E51*100,"-")) -> 2.6626884 | F51: =IF(OR('Tabel 5 F'!F51<5,'Tabel 5 Br'!F51<0.5),"-",IFERROR('Tabel 5 Br'!F51/'Tabel 5 F'!F51*100,"-")) -> 1.6421786 | G51: =IF(OR('Tabel 5 F'!G51<5,'Tabel 5 Br'!G51<0.5),"-",IFERROR('Tabel 5 Br'!G51/'Tabel 5 F'!G51*100,"-")) -> 2.0347167 | H51: =IF(OR('Tabel 5 F'!H51<5,'Tabel 5 Br'!H51<0.5),"-",IFERROR('Tabel 5 Br'!H51/'Tabel 5 F'!H51*100,"-")) -> 2.3146531 | J51: =IF(OR('Tabel 5 F'!J51<5,'Tabel 5 Br'!J51<0.5),"-",IFERROR('Tabel 5 Br'!J51/'Tabel 5 F'!J51*100,"-")) -> 4.011173
A52: Ledighedsprocenten er ikke angivet, når antallet af observationer er mindre end 10
A53: Se sidste del af statistikken for en oversigt over uddannelsesgrupperingernes indhold

Sheet Tabel 5 Dim F
A1: Landstatistik
A3: Tabel 5. Antal forsikrede medlemmer med dimission indenfor de seneste 2 år
B7: 0 - 3 mdr. | C7: 3 - 6 mdr. | D7: 6 - 9 mdr. | E7: 9 - 12 mdr. | F7: 12 - 15 mdr. | G7: 15 - 18 mdr. | H7: 18 - 21 mdr. | I7: 21 - 24 mdr.
A9: Civ. Ing. | B9: 261 | C9: 229 | D9: 872 | E9: 255 | F9: 210 | G9: 195 | H9: 765 | I9: 192
A10: Diplom Ing. | B10: 453 | C10: 81 | D10: 246 | E10: 112 | F10: 509 | G10: 60 | H10: 216 | I10: 131
A11: Cand.Scient.Tech. | B11: 340 | C11: 465 | D11: 1004 | E11: 211 | F11: 285 | G11: 429 | H11: 841 | I11: 153
A12: MA. Hum. | B12: 476 | C12: 517 | D12: 1221 | E12: 278 | F12: 454 | G12: 683 | H12: 986 | I12: 288
A13: MA. Nat. | B13: 78 | C13: 102 | D13: 164 | E13: 52 | F13: 60 | G13: 96 | H13: 199 | I13: 49
A14: MA. Ph.d. | B14: 14 | C14: 19 | D14: 10 | E14: 10 | F14: 22 | G14: 13 | H14: 9 | I14: 13
A15: MA. Samf. | B15: 107 | C15: 139 | D15: 298 | E15: 78 | F15: 120 | G15: 175 | H15: 234 | I15: 66
A16: Øvrige Mag. | B16: 50 | C16: 37 | D16: 78 | E16: 17 | F16: 22 | G16: 29 | H16: 71 | I16: 14
A17: Agronom | B17: 14 | C17: 24 | D17: 7 | E17: 6 | F17: 18 | G17: 36 | H17: 9 | I17: 6
A18: Landsk. Arkt. | B18: 3 | C18: 12 | D18: 14 | E18: 10 | F18: 11 | G18: 10 | H18: 4 | I18: 4
A19: Hortonom | B19: 0 | C19: 0 | D19: 0 | E19: 0 | F19: 0 | G19: 0 | H19: 0 | I19: 0
A20: Forstkand. | B20: 3 | C20: 7 | D20: 5 | E20: 3 | F20: 3 | G20: 9 | H20: 3 | I20: 0
... A45: Andre | B45: 384 | C45: 252 | D45: 505 | E45: 152 | F45: 290 | G45: 202 | H45: 384 | I45: 142
A47: Total | B47: =SUM(B9:B45)-SUM(B17:B20) -> 4267 | C47: =SUM(C9:C45)-SUM(C17:C20) -> 3508 | D47: =SUM(D9:D45)-SUM(D17:D20) -> 10322 | E47: =SUM(E9:E45)-SUM(E17:E20) -> 2023 | F47: =SUM(F9:F45)-SUM(F17:F20) -> 3776 | G47: =SUM(G9:G45)-SUM(G17:G20) -> 3699 | H47: =SUM(H9:H45)-SUM(H17:H20) -> 8632 | I47: =SUM(I9:I45)-SUM(I17:I20) -> 1865
A49: Ingeniører i alt | B49: 714 | C49: 310 | D49: 1118 | E49: 367 | F49: 719 | G49: 255 | H49: 981 | I49: 323
A50: Magistre i alt | B50: 725 | C50: 814 | D50: 1771 | E50: 435 | F50: 678 | G50: 996 | H50: 1499 | I50: 430
A51: DJØF'ere i alt | B51: 773 | C51: 979 | D51: 3346 | E51: 513 | F51: 856 | G51: 1100 | H51: 2809 | I51: 482
A52: Se sidste del af statistikken for en oversigt over uddannelsesgrupperingernes indhold

Sheet Tabel 5 Dim Br
A1: Landstatistik
A3: Tabel 5. Antal bruttoledige målt i fuldtidspersoner - akademikere med dimission indenfor de seneste 2 år
B7: 0 - 3 mdr. | C7: 3 - 6 mdr. | D7: 6 - 9 mdr. | E7: 9 - 12 mdr. | F7: 12 - 15 mdr. | G7: 15 - 18 mdr. | H7: 18 - 21 mdr. | I7: 21 - 24 mdr.
A9: Civ. Ing. | B9: 51.32477 | C9: 77.35234 | D9: 188.66338 | E9: 32.16242 | F9: 18.16379 | G9: 21.09399 | H9: 57.61929 | I9: 10.16716
A10: Diplom Ing. | B10: 52.86347 | C10: 25.66394 | D10: 59.51101 | E10: 10.02869 | F10: 49.47359 | G10: 4.81445 | H10: 17.58124 | I10: 4.39905
A11: Cand.Scient.Tech. | B11: 112.71565 | C11: 214.48887 | D11: 343.63064 | E11: 52.73249 | F11: 55.64398 | G11: 83.50215 | H11: 110.47277 | I11: 20.01497
A12: MA. Hum. | B12: 112.94268 | C12: 281.60357 | D12: 527.25005 | E12: 105.02277 | F12: 134.32982 | G12: 189.49853 | H12: 215.95335 | I12: 57.65608
A13: MA. Nat. | B13: 25.23483 | C13: 37.97543 | D13: 53.30443 | E13: 16.50409 | F13: 13.55454 | G13: 19.90083 | H13: 23.4666 | I13: 16.35065
A14: MA. Ph.d. | B14: 0.82829 | C14: 7.70099 | D14: 2.3539 | E14: 0.99981 | F14: 3.88574 | G14: 0.99981 | H14: 0 | I14: 2.99944
A15: MA. Samf. | B15: 21.68028 | C15: 77.78332 | D15: 121.05096 | E15: 22.47552 | F15: 32.60837 | G15: 34.06349 | H15: 39.34073 | I15: 12.72937
A16: Øvrige Mag. | B16: 11.68964 | C16: 20.54325 | D16: 32.11813 | E16: 3.7716 | F16: 2.77615 | G16: 8.21368 | H16: 12.78987 | I16: 1.98902
A17: Agronom | B17: 4.86933 | C17: 14.52005 | D17: 1.76885 | E17: 0 | F17: 3.49155 | G17: 2.67636 | H17: 0 | I17: 1.12268
A18: Landsk. Arkt. | B18: 1.23495 | C18: 6.38308 | D18: 6.90638 | E18: 1.99963 | F18: 2.8248 | G18: 1.86116 | H18: 0.99981 | I18: 1.12268
A19: Hortonom | B19: 0 | C19: 0 | D19: 0 | E19: 0 | F19: 0 | G19: 0 | H19: 0 | I19: 0
A20: Forstkand. | B20: 2.86097 | C20: 4.52941 | D20: 1.76885 | E20: 0.95366 | F20: 0.99981 | G20: 1.7227 | H20: 0.86135 | I20: 0
... A45: Andre | B45: 40.39793 | C45: 44.3267 | D45: 135.50864 | E45: 11.33038 | F45: 32.50234 | G45: 18.74197 | H45: 60.63619 | I45: 10.94368
A47: Total | B47: =SUM(B9:B45)-SUM(B17:B20) -> 878.85923 | C47: =SUM(C9:C45)-SUM(C17:C20) -> 1438.1787 | D47: =SUM(D9:D45)-SUM(D17:D20) -> 2661.878 | E47: =SUM(E9:E45)-SUM(E17:E20) -> 417.26189 | F47: =SUM(F9:F45)-SUM(F17:F20) -> 592.92086 | G47: =SUM(G9:G45)-SUM(G17:G20) -> 625.82172 | H47: =SUM(H9:H45)-SUM(H17:H20) -> 963.05557 | I47: =SUM(I9:I45)-SUM(I17:I20) -> 223.84707
A49: Ingeniører i alt | B49: 104.18824 | C49: 103.01628 | D49: 248.17439 | E49: 42.19111 | F49: 67.63737 | G49: 25.90844 | H49: 75.20052 | I49: 14.56621
A50: Magistre i alt | B50: 172.37573 | C50: 425.60656 | D50: 736.07747 | E50: 148.77378 | F50: 187.15462 | G50: 252.67636 | H50: 291.55055 | I50: 91.72457
A51: DJØF'ere i alt | B51: 156.65627 | C51: 358.87607 | D51: 597.61679 | E51: 88.21119 | F51: 133.15911 | G51: 126.99557 | H51: 218.2536 | I51: 43.80341
A52: Se sidste del af statistikken for en oversigt over uddannelsesgrupperingernes indhold

Sheet Tabel 5 Dim p (Br)
A1: Landstatistik
A3: Tabel 5.4 Bruttoledighedsprocenten målt i fuldtidspersoner - akademikere med dimission indenfor de seneste 2 år
B7: 0 - 3 mdr. | C7: 3 - 6 mdr. | D7: 6 - 9 mdr. | E7: 9 - 12 mdr. | F7: 12 - 15 mdr. | G7: 15 - 18 mdr. | H7: 18 - 21 mdr. | I7: 21 - 24 mdr.
A9: Civ. Ing. | B9: =IF(OR('Tabel 5 Dim F'!B9<5,'Tabel 5 Dim Br'!B9<0.5),"-",IFERROR('Tabel 5 Dim Br'!B9/'Tabel 5 Dim F'!B9*100,"-")) -> 19.664663 | C9: =IF(OR('Tabel 5 Dim F'!C9<5,'Tabel 5 Dim Br'!C9<0.5),"-",IFERROR('Tabel 5 Dim Br'!C9/'Tabel 5 Dim F'!C9*100,"-")) -> 33.778314 | D9: =IF(OR('Tabel 5 Dim F'!D9<5,'Tabel 5 Dim Br'!D9<0.5),"-",IFERROR('Tabel 5 Dim Br'!D9/'Tabel 5 Dim F'!D9*100,"-")) -> 21.635709 | E9: =IF(OR('Tabel 5 Dim F'!E9<5,'Tabel 5 Dim Br'!E9<0.5),"-",IFERROR('Tabel 5 Dim Br'!E9/'Tabel 5 Dim F'!E9*100,"-")) -> 12.612714 | F9: =IF(OR('Tabel 5 Dim F'!F9<5,'Tabel 5 Dim Br'!F9<0.5),"-",IFERROR('Tabel 5 Dim Br'!F9/'Tabel 5 Dim F'!F9*100,"-")) -> 8.6494238 | G9: =IF(OR('Tabel 5 Dim F'!G9<5,'Tabel 5 Dim Br'!G9<0.5),"-",IFERROR('Tabel 5 Dim Br'!G9/'Tabel 5 Dim F'!G9*100,"-")) -> 10.817431 | H9: =IF(OR('Tabel 5 Dim F'!H9<5,'Tabel 5 Dim Br'!H9<0.5),"-",IFERROR('Tabel 5 Dim Br'!H9/'Tabel 5 Dim F'!H9*100,"-")) -> 7.5319333 | I9: =IF(OR('Tabel 5 Dim F'!I9<5,'Tabel 5 Dim Br'!I9<0.5),"-",IFERROR('Tabel 5 Dim Br'!I9/'Tabel 5 Dim F'!I9*100,"-")) -> 5.2953958
A10: Diplom Ing. | B10: =IF(OR('Tabel 5 Dim F'!B10<5,'Tabel 5 Dim Br'!B10<0.5),"-",IFERROR('Tabel 5 Dim Br'!B10/'Tabel 5 Dim F'!B10*100,"-")) -> 11.66964 | C10: =IF(OR('Tabel 5 Dim F'!C10<5,'Tabel 5 Dim Br'!C10<0.5),"-",IFERROR('Tabel 5 Dim Br'!C10/'Tabel 5 Dim F'!C10*100,"-")) -> 31.683877 | D10: =IF(OR('Tabel 5 Dim F'!D10<5,'Tabel 5 Dim Br'!D10<0.5),"-",IFERROR('Tabel 5 Dim Br'!D10/'Tabel 5 Dim F'!D10*100,"-")) -> 24.191467 | E10: =IF(OR('Tabel 5 Dim F'!E10<5,'Tabel 5 Dim Br'!E10<0.5),"-",IFERROR('Tabel 5 Dim Br'!E10/'Tabel 5 Dim F'!E10*100,"-")) -> 8.9541875 | F10: =IF(OR('Tabel 5 Dim F'!F10<5,'Tabel 5 Dim Br'!F10<0.5),"-",IFERROR('Tabel 5 Dim Br'!F10/'Tabel 5 Dim F'!F10*100,"-")) -> 9.7197623 | G10: =IF(OR('Tabel 5 Dim F'!G10<5,'Tabel 5 Dim Br'!G10<0.5),"-",IFERROR('Tabel 5 Dim Br'!G10/'Tabel 5 Dim F'!G10*100,"-")) -> 8.0240833 | H10: =IF(OR('Tabel 5 Dim F'!H10<5,'Tabel 5 Dim Br'!H10<0.5),"-",IFERROR('Tabel 5 Dim Br'!H10/'Tabel 5 Dim F'!H10*100,"-")) -> 8.139463 | I10: =IF(OR('Tabel 5 Dim F'!I10<5,'Tabel 5 Dim Br'!I10<0.5),"-",IFERROR('Tabel 5 Dim Br'!I10/'Tabel 5 Dim F'!I10*100,"-")) -> 3.3580534
A11: Cand.Scient.Tech. | B11: =IF(OR('Tabel 5 Dim F'!B11<5,'Tabel 5 Dim Br'!B11<0.5),"-",IFERROR('Tabel 5 Dim Br'!B11/'Tabel 5 Dim F'!B11*100,"-")) -> 33.151662 | C11: =IF(OR('Tabel 5 Dim F'!C11<5,'Tabel 5 Dim Br'!C11<0.5),"-",IFERROR('Tabel 5 Dim Br'!C11/'Tabel 5 Dim F'!C11*100,"-")) -> 46.126639 | D11: =IF(OR('Tabel 5 Dim F'!D11<5,'Tabel 5 Dim Br'!D11<0.5),"-",IFERROR('Tabel 5 Dim Br'!D11/'Tabel 5 Dim F'!D11*100,"-")) -> 34.226159 | E11: =IF(OR('Tabel 5 Dim F'!E11<5,'Tabel 5 Dim Br'!E11<0.5),"-",IFERROR('Tabel 5 Dim Br'!E11/'Tabel 5 Dim F'!E11*100,"-")) -> 24.991701 | F11: =IF(OR('Tabel 5 Dim F'!F11<5,'Tabel 5 Dim Br'!F11<0.5),"-",IFERROR('Tabel 5 Dim Br'!F11/'Tabel 5 Dim F'!F11*100,"-")) -> 19.524204 | G11: =IF(OR('Tabel 5 Dim F'!G11<5,'Tabel 5 Dim Br'!G11<0.5),"-",IFERROR('Tabel 5 Dim Br'!G11/'Tabel 5 Dim F'!G11*100,"-")) -> 19.464371 | H11: =IF(OR('Tabel 5 Dim F'!H11<5,'Tabel 5 Dim Br'!H11<0.5),"-",IFERROR('Tabel 5 Dim Br'!H11/'Tabel 5 Dim F'!H11*100,"-")) -> 13.135882 | I11: =IF(OR('Tabel 5 Dim F'!I11<5,'Tabel 5 Dim Br'!I11<0.5),"-",IFERROR('Tabel 5 Dim Br'!I11/'Tabel 5 Dim F'!I11*100,"-")) -> 13.08168
A12: MA. Hum. | B12: =IF(OR('Tabel 5 Dim F'!B12<5,'Tabel 5 Dim Br'!B12<0.5),"-",IFERROR('Tabel 5 Dim Br'!B12/'Tabel 5 Dim F'!B12*100,"-")) -> 23.727454 | C12: =IF(OR('Tabel 5 Dim F'!C12<5,'Tabel 5 Dim Br'!C12<0.5),"-",IFERROR('Tabel 5 Dim Br'!C12/'Tabel 5 Dim F'!C12*100,"-")) -> 54.468776 | D12: =IF(OR('Tabel 5 Dim F'!D12<5,'Tabel 5 Dim Br'!D12<0.5),"-",IFERROR('Tabel 5 Dim Br'!D12/'Tabel 5 Dim F'!D12*100,"-")) -> 43.181822 | E12: =IF(OR('Tabel 5 Dim F'!E12<5,'Tabel 5 Dim Br'!E12<0.5),"-",IFERROR('Tabel 5 Dim Br'!E12/'Tabel 5 Dim F'!E12*100,"-")) -> 37.777975 | F12: =IF(OR('Tabel 5 Dim F'!F12<5,'Tabel 5 Dim Br'!F12<0.5),"-",IFERROR('Tabel 5 Dim Br'!F12/'Tabel 5 Dim F'!F12*100,"-")) -> 29.588066 | G12: =IF(OR('Tabel 5 Dim F'!G12<5,'Tabel 5 Dim Br'!G12<0.5),"-",IFERROR('Tabel 5 Dim Br'!G12/'Tabel 5 Dim F'!G12*100,"-")) -> 27.745026 | H12: =IF(OR('Tabel 5 Dim F'!H12<5,'Tabel 5 Dim Br'!H12<0.5),"-",IFERROR('Tabel 5 Dim Br'!H12/'Tabel 5 Dim F'!H12*100,"-")) -> 21.901962 | I12: =IF(OR('Tabel 5 Dim F'!I12<5,'Tabel 5 Dim Br'!I12<0.5),"-",IFERROR('Tabel 5 Dim Br'!I12/'Tabel 5 Dim F'!I12*100,"-")) -> 20.019472
A13: MA. Nat. | B13: =IF(OR('Tabel 5 Dim F'!B13<5,'Tabel 5 Dim Br'!B13<0.5),"-",IFERROR('Tabel 5 Dim Br'!B13/'Tabel 5 Dim F'!B13*100,"-")) -> 32.352346 | C13: =IF(OR('Tabel 5 Dim F'!C13<5,'Tabel 5 Dim Br'!C13<0.5),"-",IFERROR('Tabel 5 Dim Br'!C13/'Tabel 5 Dim F'!C13*100,"-")) -> 37.230814 | D13: =IF(OR('Tabel 5 Dim F'!D13<5,'Tabel 5 Dim Br'!D13<0.5),"-",IFERROR('Tabel 5 Dim Br'!D13/'Tabel 5 Dim F'!D13*100,"-")) -> 32.502701 | E13: =IF(OR('Tabel 5 Dim F'!E13<5,'Tabel 5 Dim Br'!E13<0.5),"-",IFERROR('Tabel 5 Dim Br'!E13/'Tabel 5 Dim F'!E13*100,"-")) -> 31.738635 | F13: =IF(OR('Tabel 5 Dim F'!F13<5,'Tabel 5 Dim Br'!F13<0.5),"-",IFERROR('Tabel 5 Dim Br'!F13/'Tabel 5 Dim F'!F13*100,"-")) -> 22.5909 | G13: =IF(OR('Tabel 5 Dim F'!G13<5,'Tabel 5 Dim Br'!G13<0.5),"-",IFERROR('Tabel 5 Dim Br'!G13/'Tabel 5 Dim F'!G13*100,"-")) -> 20.730031 | H13: =IF(OR('Tabel 5 Dim F'!H13<5,'Tabel 5 Dim Br'!H13<0.5),"-",IFERROR('Tabel 5 Dim Br'!H13/'Tabel 5 Dim F'!H13*100,"-")) -> 11.792261 | I13: =IF(OR('Tabel 5 Dim F'!I13<5,'Tabel 5 Dim Br'!I13<0.5),"-",IFERROR('Tabel 5 Dim Br'!I13/'Tabel 5 Dim F'!I13*100,"-")) -> 33.368673
A14: MA. Ph.d. | B14: =IF(OR('Tabel 5 Dim F'!B14<5,'Tabel 5 Dim Br'!B14<0.5),"-",IFERROR('Tabel 5 Dim Br'!B14/'Tabel 5 Dim F'!B14*100,"-")) -> 5.9163571 | C14: =IF(OR('Tabel 5 Dim F'!C14<5,'Tabel 5 Dim Br'!C14<0.5),"-",IFERROR('Tabel 5 Dim Br'!C14/'Tabel 5 Dim F'!C14*100,"-")) -> 40.531526 | D14: =IF(OR('Tabel 5 Dim F'!D14<5,'Tabel 5 Dim Br'!D14<0.5),"-",IFERROR('Tabel 5 Dim Br'!D14/'Tabel 5 Dim F'!D14*100,"-")) -> 23.539 | E14: =IF(OR('Tabel 5 Dim F'!E14<5,'Tabel 5 Dim Br'!E14<0.5),"-",IFERROR('Tabel 5 Dim Br'!E14/'Tabel 5 Dim F'!E14*100,"-")) -> 9.9981 | F14: =IF(OR('Tabel 5 Dim F'!F14<5,'Tabel 5 Dim Br'!F14<0.5),"-",IFERROR('Tabel 5 Dim Br'!F14/'Tabel 5 Dim F'!F14*100,"-")) -> 17.662455 | G14: =IF(OR('Tabel 5 Dim F'!G14<5,'Tabel 5 Dim Br'!G14<0.5),"-",IFERROR('Tabel 5 Dim Br'!G14/'Tabel 5 Dim F'!G14*100,"-")) -> 7.6908462 | H14: =IF(OR('Tabel 5 Dim F'!H14<5,'Tabel 5 Dim Br'!H14<0.5),"-",IFERROR('Tabel 5 Dim Br'!H14/'Tabel 5 Dim F'!H14*100,"-")) -> - | I14: =IF(OR('Tabel 5 Dim F'!I14<5,'Tabel 5 Dim Br'!I14<0.5),"-",IFERROR('Tabel 5 Dim Br'!I14/'Tabel 5 Dim F'!I14*100,"-")) -> 23.072615
A15: MA. Samf. | B15: =IF(OR('Tabel 5 Dim F'!B15<5,'Tabel 5 Dim Br'!B15<0.5),"-",IFERROR('Tabel 5 Dim Br'!B15/'Tabel 5 Dim F'!B15*100,"-")) -> 20.261944 | C15: =IF(OR('Tabel 5 Dim F'!C15<5,'Tabel 5 Dim Br'!C15<0.5),"-",IFERROR('Tabel 5 Dim Br'!C15/'Tabel 5 Dim F'!C15*100,"-")) -> 55.959223 | D15: =IF(OR('Tabel 5 Dim F'!D15<5,'Tabel 5 Dim Br'!D15<0.5),"-",IFERROR('Tabel 5 Dim Br'!D15/'Tabel 5 Dim F'!D15*100,"-")) -> 40.621128 | E15: =IF(OR('Tabel 5 Dim F'!E15<5,'Tabel 5 Dim Br'!E15<0.5),"-",IFERROR('Tabel 5 Dim Br'!E15/'Tabel 5 Dim F'!E15*100,"-")) -> 28.814769 | F15: =IF(OR('Tabel 5 Dim F'!F15<5,'Tabel 5 Dim Br'!F15<0.5),"-",IFERROR('Tabel 5 Dim Br'!F15/'Tabel 5 Dim F'!F15*100,"-")) -> 27.173642 | G15: =IF(OR('Tabel 5 Dim F'!G15<5,'Tabel 5 Dim Br'!G15<0.5),"-",IFERROR('Tabel 5 Dim Br'!G15/'Tabel 5 Dim F'!G15*100,"-")) -> 19.464851 | H15: =IF(OR('Tabel 5 Dim F'!H15<5,'Tabel 5 Dim Br'!H15<0.5),"-",IFERROR('Tabel 5 Dim Br'!H15/'Tabel 5 Dim F'!H15*100,"-")) -> 16.812278 | I15: =IF(OR('Tabel 5 Dim F'!I15<5,'Tabel 5 Dim Br'!I15<0.5),"-",IFERROR('Tabel 5 Dim Br'!I15/'Tabel 5 Dim F'!I15*100,"-")) -> 19.286924
A16: Øvrige Mag. | B16: =IF(OR('Tabel 5 Dim F'!B16<5,'Tabel 5 Dim Br'!B16<0.5),"-",IFERROR('Tabel 5 Dim Br'!B16/'Tabel 5 Dim F'!B16*100,"-")) -> 23.37928 | C16: =IF(OR('Tabel 5 Dim F'!C16<5,'Tabel 5 Dim Br'!C16<0.5),"-",IFERROR('Tabel 5 Dim Br'!C16/'Tabel 5 Dim F'!C16*100,"-")) -> 55.522297 | D16: =IF(OR('Tabel 5 Dim F'!D16<5,'Tabel 5 Dim Br'!D16<0.5),"-",IFERROR('Tabel 5 Dim Br'!D16/'Tabel 5 Dim F'!D16*100,"-")) -> 41.17709 | E16: =IF(OR('Tabel 5 Dim F'!E16<5,'Tabel 5 Dim Br'!E16<0.5),"-",IFERROR('Tabel 5 Dim Br'!E16/'Tabel 5 Dim F'!E16*100,"-")) -> 22.185882 | F16: =IF(OR('Tabel 5 Dim F'!F16<5,'Tabel 5 Dim Br'!F16<0.5),"-",IFERROR('Tabel 5 Dim Br'!F16/'Tabel 5 Dim F'!F16*100,"-")) -> 12.618864 | G16: =IF(OR('Tabel 5 Dim F'!G16<5,'Tabel 5 Dim Br'!G16<0.5),"-",IFERROR('Tabel 5 Dim Br'!G16/'Tabel 5 Dim F'!G16*100,"-")) -> 28.323034 | H16: =IF(OR('Tabel 5 Dim F'!H16<5,'Tabel 5 Dim Br'!H16<0.5),"-",IFERROR('Tabel 5 Dim Br'!H16/'Tabel 5 Dim F'!H16*100,"-")) -> 18.013901 | I16: =IF(OR('Tabel 5 Dim F'!I16<5,'Tabel 5 Dim Br'!I16<0.5),"-",IFERROR('Tabel 5 Dim Br'!I16/'Tabel 5 Dim F'!I16*100,"-")) -> 14.207286
A17: Agronom | B17: =IF(OR('Tabel 5 Dim F'!B17<5,'Tabel 5 Dim Br'!B17<0.5),"-",IFERROR('Tabel 5 Dim Br'!B17/'Tabel 5 Dim F'!B17*100,"-")) -> 34.780929 | C17: =IF(OR('Tabel 5 Dim F'!C17<5,'Tabel 5 Dim Br'!C17<0.5),"-",IFERROR('Tabel 5 Dim Br'!C17/'Tabel 5 Dim F'!C17*100,"-")) -> 60.500208 | D17: =IF(OR('Tabel 5 Dim F'!D17<5,'Tabel 5 Dim Br'!D17<0.5),"-",IFERROR('Tabel 5 Dim Br'!D17/'Tabel 5 Dim F'!D17*100,"-")) -> 25.269286 | E17: =IF(OR('Tabel 5 Dim F'!E17<5,'Tabel 5 Dim Br'!E17<0.5),"-",IFERROR('Tabel 5 Dim Br'!E17/'Tabel 5 Dim F'!E17*100,"-")) -> - | F17: =IF(OR('Tabel 5 Dim F'!F17<5,'Tabel 5 Dim Br'!F17<0.5),"-",IFERROR('Tabel 5 Dim Br'!F17/'Tabel 5 Dim F'!F17*100,"-")) -> 19.3975 | G17: =IF(OR('Tabel 5 Dim F'!G17<5,'Tabel 5 Dim Br'!G17<0.5),"-",IFERROR('Tabel 5 Dim Br'!G17/'Tabel 5 Dim F'!G17*100,"-")) -> 7.4343333 | H17: =IF(OR('Tabel 5 Dim F'!H17<5,'Tabel 5 Dim Br'!H17<0.5),"-",IFERROR('Tabel 5 Dim Br'!H17/'Tabel 5 Dim F'!H17*100,"-")) -> - | I17: =IF(OR('Tabel 5 Dim F'!I17<5,'Tabel 5 Dim Br'!I17<0.5),"-",IFERROR('Tabel 5 Dim Br'!I17/'Tabel 5 Dim F'!I17*100,"-")) -> 18.711333
A18: Landsk. Arkt. | B18: =IF(OR('Tabel 5 Dim F'!B18<5,'Tabel 5 Dim Br'!B18<0.5),"-",IFERROR('Tabel 5 Dim Br'!B18/'Tabel 5 Dim F'!B18*100,"-")) -> - | C18: =IF(OR('Tabel 5 Dim F'!C18<5,'Tabel 5 Dim Br'!C18<0.5),"-",IFERROR('Tabel 5 Dim Br'!C18/'Tabel 5 Dim F'!C18*100,"-")) -> 53.192333 | D18: =IF(OR('Tabel 5 Dim F'!D18<5,'Tabel 5 Dim Br'!D18<0.5),"-",IFERROR('Tabel 5 Dim Br'!D18/'Tabel 5 Dim F'!D18*100,"-")) -> 49.331286 | E18: =IF(OR('Tabel 5 Dim F'!E18<5,'Tabel 5 Dim Br'!E18<0.5),"-",IFERROR('Tabel 5 Dim Br'!E18/'Tabel 5 Dim F'!E18*100,"-")) -> 19.9963 | F18: =IF(OR('Tabel 5 Dim F'!F18<5,'Tabel 5 Dim Br'!F18<0.5),"-",IFERROR('Tabel 5 Dim Br'!F18/'Tabel 5 Dim F'!F18*100,"-")) -> 25.68 | G18: =IF(OR('Tabel 5 Dim F'!G18<5,'Tabel 5 Dim Br'!G18<0.5),"-",IFERROR('Tabel 5 Dim Br'!G18/'Tabel 5 Dim F'!G18*100,"-")) -> 18.6116 | H18: =IF(OR('Tabel 5 Dim F'!H18<5,'Tabel 5 Dim Br'!H18<0.5),"-",IFERROR('Tabel 5 Dim Br'!H18/'Tabel 5 Dim F'!H18*100,"-")) -> - | I18: =IF(OR('Tabel 5 Dim F'!I18<5,'Tabel 5 Dim Br'!I18<0.5),"-",IFERROR('Tabel 5 Dim Br'!I18/'Tabel 5 Dim F'!I18*100,"-")) -> -
A19: Hortonom | B19: =IF(OR('Tabel 5 Dim F'!B19<5,'Tabel 5 Dim Br'!B19<0.5),"-",IFERROR('Tabel 5 Dim Br'!B19/'Tabel 5 Dim F'!B19*100,"-")) -> - | C19: =IF(OR('Tabel 5 Dim F'!C19<5,'Tabel 5 Dim Br'!C19<0.5),"-",IFERROR('Tabel 5 Dim Br'!C19/'Tabel 5 Dim F'!C19*100,"-")) -> - | D19: =IF(OR('Tabel 5 Dim F'!D19<5,'Tabel 5 Dim Br'!D19<0.5),"-",IFERROR('Tabel 5 Dim Br'!D19/'Tabel 5 Dim F'!D19*100,"-")) -> - | E19: =IF(OR('Tabel 5 Dim F'!E19<5,'Tabel 5 Dim Br'!E19<0.5),"-",IFERROR('Tabel 5 Dim Br'!E19/'Tabel 5 Dim F'!E19*100,"-")) -> - | F19: =IF(OR('Tabel 5 Dim F'!F19<5,'Tabel 5 Dim Br'!F19<0.5),"-",IFERROR('Tabel 5 Dim Br'!F19/'Tabel 5 Dim F'!F19*100,"-")) -> - | G19: =IF(OR('Tabel 5 Dim F'!G19<5,'Tabel 5 Dim Br'!G19<0.5),"-",IFERROR('Tabel 5 Dim Br'!G19/'Tabel 5 Dim F'!G19*100,"-")) -> - | H19: =IF(OR('Tabel 5 Dim F'!H19<5,'Tabel 5 Dim Br'!H19<0.5),"-",IFERROR('Tabel 5 Dim Br'!H19/'Tabel 5 Dim F'!H19*100,"-")) -> - | I19: =IF(OR('Tabel 5 Dim F'!I19<5,'Tabel 5 Dim Br'!I19<0.5),"-",IFERROR('Tabel 5 Dim Br'!I19/'Tabel 5 Dim F'!I19*100,"-")) -> -
A20: Forstkand. | B20: =IF(OR('Tabel 5 Dim F'!B20<5,'Tabel 5 Dim Br'!B20<0.5),"-",IFERROR('Tabel 5 Dim Br'!B20/'Tabel 5 Dim F'!B20*100,"-")) -> - | C20: =IF(OR('Tabel 5 Dim F'!C20<5,'Tabel 5 Dim Br'!C20<0.5),"-",IFERROR('Tabel 5 Dim Br'!C20/'Tabel 5 Dim F'!C20*100,"-")) -> 64.705857 | D20: =IF(OR('Tabel 5 Dim F'!D20<5,'Tabel 5 Dim Br'!D20<0.5),"-",IFERROR('Tabel 5 Dim Br'!D20/'Tabel 5 Dim F'!D20*100,"-")) -> 35.377 | E20: =IF(OR('Tabel 5 Dim F'!E20<5,'Tabel 5 Dim Br'!E20<0.5),"-",IFERROR('Tabel 5 Dim Br'!E20/'Tabel 5 Dim F'!E20*100,"-")) -> - | F20: =IF(OR('Tabel 5 Dim F'!F20<5,'Tabel 5 Dim Br'!F20<0.5),"-",IFERROR('Tabel 5 Dim Br'!F20/'Tabel 5 Dim F'!F20*100,"-")) -> - | G20: =IF(OR('Tabel 5 Dim F'!G20<5,'Tabel 5 Dim Br'!G20<0.5),"-",IFERROR('Tabel 5 Dim Br'!G20/'Tabel 5 Dim F'!G20*100,"-")) -> 19.141111 | H20: =IF(OR('Tabel 5 Dim F'!H20<5,'Tabel 5 Dim Br'!H20<0.5),"-",IFERROR('Tabel 5 Dim Br'!H20/'Tabel 5 Dim F'!H20*100,"-")) -> - | I20: =IF(OR('Tabel 5 Dim F'!I20<5,'Tabel 5 Dim Br'!I20<0.5),"-",IFERROR('Tabel 5 Dim Br'!I20/'Tabel 5 Dim F'!I20*100,"-")) -> -
... A51: DJØF'ere i alt | B51: =IF(OR('Tabel 5 Dim F'!B51<5,'Tabel 5 Dim Br'!B51<0.5),"-",IFERROR('Tabel 5 Dim Br'!B51/'Tabel 5 Dim F'!B51*100,"-")) -> 20.266012 | C51: =IF(OR('Tabel 5 Dim F'!C51<5,'Tabel 5 Dim Br'!C51<0.5),"-",IFERROR('Tabel 5 Dim Br'!C51/'Tabel 5 Dim F'!C51*100,"-")) -> 36.657413 | D51: =IF(OR('Tabel 5 Dim F'!D51<5,'Tabel 5 Dim Br'!D51<0.5),"-",IFERROR('Tabel 5 Dim Br'!D51/'Tabel 5 Dim F'!D51*100,"-")) -> 17.860633 | E51: =IF(OR('Tabel 5 Dim F'!E51<5,'Tabel 5 Dim Br'!E51<0.5),"-",IFERROR('Tabel 5 Dim Br'!E51/'Tabel 5 Dim F'!E51*100,"-")) -> 17.195164 | F51: =IF(OR('Tabel 5 Dim F'!F51<5,'Tabel 5 Dim Br'!F51<0.5),"-",IFERROR('Tabel 5 Dim Br'!F51/'Tabel 5 Dim F'!F51*100,"-")) -> 15.555971 | G51: =IF(OR('Tabel 5 Dim F'!G51<5,'Tabel 5 Dim Br'!G51<0.5),"-",IFERROR('Tabel 5 Dim Br'!G51/'Tabel 5 Dim F'!G51*100,"-")) -> 11.545052 | H51: =IF(OR('Tabel 5 Dim F'!H51<5,'Tabel 5 Dim Br'!H51<0.5),"-",IFERROR('Tabel 5 Dim Br'!H51/'Tabel 5 Dim F'!H51*100,"-")) -> 7.7697971 | I51: =IF(OR('Tabel 5 Dim F'!I51<5,'Tabel 5 Dim Br'!I51<0.5),"-",IFERROR('Tabel 5 Dim Br'!I51/'Tabel 5 Dim F'!I51*100,"-")) -> 9.0878444
A52: Se sidste del af statistikken for en oversigt over uddannelsesgrupperingernes indhold

Sheet Tabel 6
A1: Landstatistik
A3: Tabel 6. Antal deltagere
A4: i arbejdspolitiske ordninger
B6: Efterløn | C6: Løntilskud
A7: Civ. Ing. | B7: 94 | C7: 1
A8: Diplom Ing. | B8: 281 | C8: 1
A9: Cand.Scient.Tech. | B9: 9 | C9: 4
A10: MA. Hum. | B10: 287 | C10: 2
A11: MA. Nat. | B11: 140 | C11: 0
A12: MA. Ph.d. | B12: 6 | C12: 0
A13: MA. Samf. | B13: 10 | C13: 0
A14: Øvrige Mag. | B14: 63 | C14: 0
A15: Agronom | B15: 24 | C15: 0
A16: Landsk. Arkt. | B16: 3 | C16: 0
A17: Hortonom | B17: 10 | C17: 0
A18: Forstkand. | B18: 4 | C18: 0
... A43: Andre | B43: 262 | C43: 1
A45: Total | B45: =SUM(B7:B43)-SUM(B15:B18) -> 1940 | C45: =SUM(C7:C43)-SUM(C15:C18) -> 41 | D45: =SUM(D7:D43)-SUM(D15:D18) -> 0
A47: Ingeniører i alt | B47: 375 | C47: 2
A48: Magistre i alt | B48: 506 | C48: 9
A49: DJØF'ere i alt | B49: 154 | C49: 0
A51: Andel af forsikrede medlemmer | B51: =B45/'Tabel 1'!W47 -> 0.0057748064 | C51: =C45/'Tabel 1'!W47 -> 0.00012204488
A52: Se sidste del af statistikken for en oversigt
A53: over uddannelsesgrupperingernes indhold

Sheet Tabel 7.1
A1: Landstatistik
A3: Tabel 7.1: Antal bruttoledige målt i berørte medlemmer - fordelt efter ledighedsanciennitet
B7: Under 3 mdr. | C7: 3-5 mdr. | D7: 6-8 mdr. | E7: 9-11 mdr. | F7: 12-14 mdr. | G7: 15-17 mdr. | H7: 18-20 mdr. | I7: 21-23 mdr. | J7: 24 mdr. og over
A9: Civ. Ing. | B9: 323 | C9: 242 | D9: 214 | E9: 88 | F9: 43 | G9: 56 | H9: 45 | I9: 24 | J9: 20
A10: Diplom Ing. | B10: 353 | C10: 192 | D10: 151 | E10: 111 | F10: 40 | G10: 36 | H10: 26 | I10: 30 | J10: 21
A11: Cand.Scient.Tech. | B11: 468 | C11: 475 | D11: 354 | E11: 122 | F11: 108 | G11: 115 | H11: 87 | I11: 45 | J11: 38
A12: MA. Hum. | B12: 804 | C12: 950 | D12: 818 | E12: 357 | F12: 309 | G12: 347 | H12: 220 | I12: 149 | J12: 161
A13: MA. Nat. | B13: 191 | C13: 137 | D13: 114 | E13: 49 | F13: 47 | G13: 28 | H13: 34 | I13: 23 | J13: 21
A14: MA. Ph.d. | B14: 37 | C14: 26 | D14: 14 | E14: 14 | F14: 13 | G14: 4 | H14: 5 | I14: 5 | J14: 1
A15: MA. Samf. | B15: 144 | C15: 174 | D15: 148 | E15: 50 | F15: 52 | G15: 46 | H15: 33 | I15: 24 | J15: 28
A16: Øvrige Mag. | B16: 59 | C16: 63 | D16: 40 | E16: 27 | F16: 14 | G16: 20 | H16: 10 | I16: 10 | J16: 11
A17: Agronom | B17: 31 | C17: 27 | D17: 18 | E17: 6 | F17: 7 | G17: 4 | H17: 3 | I17: 3 | J17: 2
A18: Landsk. Arkt. | B18: 14 | C18: 11 | D18: 12 | E18: 2 | F18: 4 | G18: 3 | H18: 0 | I18: 2 | J18: 2
A19: Hortonom | B19: 3 | C19: 3 | D19: 0 | E19: 1 | F19: 0 | G19: 2 | H19: 0 | I19: 0 | J19: 0
A20: Forstkand. | B20: 8 | C20: 4 | D20: 5 | E20: 2 | F20: 4 | G20: 1 | H20: 1 | I20: 0 | J20: 1
... A45: Andre | B45: 441 | C45: 359 | D45: 261 | E45: 155 | F45: 120 | G45: 100 | H45: 73 | I45: 47 | J45: 52
A47: Total | B47: =SUM(B9:B45)-SUM(B17:B20) -> 5380 | C47: =SUM(C9:C45)-SUM(C17:C20) -> 4565 | D47: =SUM(D9:D45)-SUM(D17:D20) -> 3645 | E47: =SUM(E9:E45)-SUM(E17:E20) -> 1664 | F47: =SUM(F9:F45)-SUM(F17:F20) -> 1293 | G47: =SUM(G9:G45)-SUM(G17:G20) -> 1232 | H47: =SUM(H9:H45)-SUM(H17:H20) -> 915 | I47: =SUM(I9:I45)-SUM(I17:I20) -> 584 | J47: =SUM(J9:J45)-SUM(J17:J20) -> 583
A49: Ingeniører i alt | B49: 676 | C49: 434 | D49: 365 | E49: 199 | F49: 83 | G49: 92 | H49: 71 | I49: 54 | J49: 41
A50: Magistre i alt | B50: 1235 | C50: 1350 | D50: 1134 | E50: 497 | F50: 435 | G50: 445 | H50: 302 | I50: 211 | J50: 222
A51: DJØF'ere i alt | B51: 1133 | C51: 1006 | D51: 814 | E51: 361 | F51: 298 | G51: 236 | H51: 207 | I51: 123 | J51: 125
A52: Se sidste del af statistikken for en oversigt over uddannelsesgrupperingernes indhold

Sheet Tabel 7.2
A1: Landstatistik
A3: Tabel 7.2: Antal bruttoledige dimittender målt i berørte medlemmer efter ledighedsanciennitet
B7: Under 3 mdr. | C7: 3-5 mdr. | D7: 6-8 mdr. | E7: 9-11 mdr. | F7: 12-14 mdr. | G7: 15-17 mdr. | H7: 18-20 mdr. | I7: 21-23 mdr. | J7: 24 mdr. og over
A9: Civ. Ing. | B9: 107 | C9: 118 | D9: 141 | E9: 37 | F9: 11 | G9: 21 | H9: 18 | I9: 6 | J9: 2
A10: Diplom Ing. | B10: 98 | C10: 37 | D10: 42 | E10: 39 | F10: 5 | G10: 5 | H10: 7 | I10: 3 | J10: 4
A11: Cand.Scient.Tech. | B11: 217 | C11: 309 | D11: 240 | E11: 55 | F11: 44 | G11: 73 | H11: 53 | I11: 23 | J11: 8
A12: MA. Hum. | B12: 236 | C12: 430 | D12: 463 | E12: 126 | F12: 125 | G12: 179 | H12: 99 | I12: 58 | J12: 13
A13: MA. Nat. | B13: 39 | C13: 52 | D13: 53 | E13: 16 | F13: 15 | G13: 7 | H13: 12 | I13: 6 | J13: 1
A14: MA. Ph.d. | B14: 1 | C14: 1 | D14: 0 | E14: 0 | F14: 1 | G14: 0 | H14: 1 | I14: 1 | J14: 0
A15: MA. Samf. | B15: 57 | C15: 103 | D15: 98 | E15: 32 | F15: 31 | G15: 22 | H15: 15 | I15: 12 | J15: 1
A16: Øvrige Mag. | B16: 20 | C16: 21 | D16: 23 | E16: 10 | F16: 4 | G16: 10 | H16: 4 | I16: 4 | J16: 2
A17: Agronom | B17: 10 | C17: 10 | D17: 1 | E17: 2 | F17: 1 | G17: 2 | H17: 1 | I17: 1 | J17: 0
A18: Landsk. Arkt. | B18: 4 | C18: 4 | D18: 6 | E18: 2 | F18: 1 | G18: 2 | H18: 0 | I18: 1 | J18: 0
A19: Hortonom | B19: 0 | C19: 0 | D19: 0 | E19: 0 | F19: 0 | G19: 0 | H19: 0 | I19: 0 | J19: 0
A20: Forstkand. | B20: 6 | C20: 2 | D20: 1 | E20: 1 | F20: 3 | G20: 0 | H20: 1 | I20: 0 | J20: 0
... A45: Andre | B45: 69 | C45: 95 | D45: 83 | E45: 27 | F45: 13 | G45: 21 | H45: 13 | I45: 9 | J45: 1
A47: Total | B47: =SUM(B9:B45)-SUM(B17:B20) -> 1804 | C47: =SUM(C9:C45)-SUM(C17:C20) -> 2053 | D47: =SUM(D9:D45)-SUM(D17:D20) -> 1976 | E47: =SUM(E9:E45)-SUM(E17:E20) -> 588 | F47: =SUM(F9:F45)-SUM(F17:F20) -> 446 | G47: =SUM(G9:G45)-SUM(G17:G20) -> 548 | H47: =SUM(H9:H45)-SUM(H17:H20) -> 390 | I47: =SUM(I9:I45)-SUM(I17:I20) -> 191 | J47: =SUM(J9:J45)-SUM(J17:J20) -> 50
A49: Ingeniører i alt | B49: 205 | C49: 155 | D49: 183 | E49: 76 | F49: 16 | G49: 26 | H49: 25 | I49: 9 | J49: 6
A50: Magistre i alt | B50: 353 | C50: 607 | D50: 637 | E50: 184 | F50: 176 | G50: 218 | H50: 131 | I50: 81 | J50: 17
A51: DJØF'ere i alt | B51: 363 | C51: 439 | D51: 433 | E51: 135 | F51: 106 | G51: 101 | H51: 96 | I51: 30 | J51: 9
A52: Se sidste del af statistikken for en oversigt over uddannelsesgrupperingernes indhold

Sheet Tabel A F
A3: Tabel A1: Forsikrede medlemmer fordelt på regioner
B6: Nord- | C6: Vest- | D6: Øst- | E6: Syd- | F6: Fyn | G6: Sjælland | H6: Hoved- | I6: Bornholm | K6: Hele
B7: Jylland | C7: Jylland | D7: Jylland | E7: Jylland | H7: staden | K7: Landet
A9: Civ. Ing. | B9: 3717 | C9: 854 | D9: 3932 | E9: 1922 | F9: 1308 | G9: 2163 | H9: 17037 | I9: 31 | K9: 31310
A10: Diplom Ing. | B10: 1476 | C10: 1695 | D10: 6866 | E10: 4201 | F10: 3161 | G10: 3798 | H10: 12425 | I10: 61 | K10: 33921
A11: Cand.Scient.Tech. | B11: 1379 | C11: 345 | D11: 2712 | E11: 805 | F11: 1148 | G11: 1082 | H11: 9760 | I11: 30 | K11: 17553
A12: MA. Hum. | B12: 2913 | C12: 1150 | D12: 8003 | E12: 2252 | F12: 3175 | G12: 2859 | H12: 19716 | I12: 117 | K12: 40613
A13: MA. Nat. | B13: 692 | C13: 442 | D13: 2897 | E13: 744 | F13: 1159 | G13: 1409 | H13: 7181 | I13: 49 | K13: 14770
A14: MA. Ph.d. | B14: 89 | C14: 41 | D14: 542 | E14: 74 | F14: 158 | G14: 142 | H14: 1240 | I14: 5 | K14: 2423
A15: MA. Samf. | B15: 313 | C15: 62 | D15: 668 | E15: 119 | F15: 166 | G15: 349 | H15: 3158 | I15: 16 | K15: 4906
A16: Øvrige Mag. | B16: 212 | C16: 98 | D16: 547 | E16: 222 | F16: 221 | G16: 250 | H16: 1558 | I16: 14 | K16: 3218
A17: Agronom | B17: 138 | C17: 230 | D17: 344 | E17: 225 | F17: 150 | G17: 457 | H17: 808 | I17: 12 | K17: 2380
A18: Landsk. Arkt. | B18: 13 | C18: 8 | D18: 38 | E18: 29 | F18: 28 | G18: 98 | H18: 468 | I18: 4 | K18: 689
A19: Hortonom | B19: 4 | C19: 10 | D19: 28 | E19: 17 | F19: 41 | G19: 59 | H19: 157 | I19: 2 | K19: 324
A20: Forstkand. | B20: 23 | C20: 24 | D20: 50 | E20: 43 | F20: 27 | G20: 75 | H20: 256 | I20: 1 | K20: 510
... A45: Andre | B45: 1104 | C45: 592 | D45: 2909 | E45: 1286 | F45: 1232 | G45: 1651 | H45: 12651 | I45: 90 | K45: 22065
A47: Total | B47: =SUM(B9:B45)-SUM(B17:B20) -> 21370 | C47: =SUM(C9:C45)-SUM(C17:C20) -> 9856 | D47: =SUM(D9:D45)-SUM(D17:D20) -> 55995 | E47: =SUM(E9:E45)-SUM(E17:E20) -> 21167 | F47: =SUM(F9:F45)-SUM(F17:F20) -> 21008 | G47: =SUM(G9:G45)-SUM(G17:G20) -> 25699 | H47: =SUM(H9:H45)-SUM(H17:H20) -> 173821 | I47: =SUM(I9:I45)-SUM(I17:I20) -> 730 | K47: =SUM(K9:K45)-SUM(K17:K20) -> 333841
A49: Ingeniører i alt | B49: 5193 | C49: 2549 | D49: 10798 | E49: 6123 | F49: 4469 | G49: 5961 | H49: 29462 | I49: 92 | K49: 65231
A50: Magistre i alt | B50: 4219 | C50: 1793 | D50: 12657 | E50: 3411 | F50: 4879 | G50: 5009 | H50: 32853 | I50: 201 | K50: 65930
A51: DJØF'ere i alt | B51: 4818 | C51: 2175 | D51: 14084 | E51: 4858 | F51: 4645 | G51: 6051 | H51: 53621 | I51: 128 | J51: =SUM(J35:J37) -> 0 | K51: 91532
A52: Se sidste del af statistikken for en oversigt over uddannelsesgrupperingernes indhold

Sheet Tabel A Be
A3: Tabel A1: Antal bruttoledige målt i berørte medlemmer fordelt på regioner
B6: Nord- | C6: Vest- | D6: Øst- | E6: Syd- | F6: Fyn | G6: Sjælland | H6: Hoved- | I6: Bornholm | K6: Hele
B7: Jylland | C7: Jylland | D7: Jylland | E7: Jylland | H7: staden | K7: Landet
A9: Civ. Ing. | B9: 141 | C9: 17 | D9: 161 | E9: 70 | F9: 85 | G9: 48 | H9: 536 | I9: 0 | K9: 1058
A10: Diplom Ing. | B10: 48 | C10: 37 | D10: 208 | E10: 92 | F10: 108 | G10: 74 | H10: 393 | I10: 1 | K10: 962
A11: Cand.Scient.Tech. | B11: 204 | C11: 22 | D11: 293 | E11: 53 | F11: 176 | G11: 84 | H11: 982 | I11: 2 | K11: 1816
A12: MA. Hum. | B12: 356 | C12: 92 | D12: 1053 | E12: 171 | F12: 377 | G12: 206 | H12: 1863 | I12: 12 | K12: 4135
A13: MA. Nat. | B13: 40 | C13: 11 | D13: 143 | E13: 23 | F13: 75 | G13: 37 | H13: 309 | I13: 6 | K13: 646
A14: MA. Ph.d. | B14: 5 | C14: 0 | D14: 29 | E14: 4 | F14: 7 | G14: 6 | H14: 69 | I14: 0 | K14: 121
A15: MA. Samf. | B15: 61 | C15: 8 | D15: 123 | E15: 19 | F15: 36 | G15: 41 | H15: 409 | I15: 3 | K15: 701
A16: Øvrige Mag. | B16: 18 | C16: 5 | D16: 63 | E16: 10 | F16: 18 | G16: 9 | H16: 128 | I16: 1 | K16: 256
A17: Agronom | B17: 3 | C17: 6 | D17: 14 | E17: 4 | F17: 4 | G17: 16 | H17: 52 | I17: 1 | K17: 101
A18: Landsk. Arkt. | B18: 1 | C18: 0 | D18: 2 | E18: 0 | F18: 3 | G18: 4 | H18: 40 | I18: 0 | K18: 50
A19: Hortonom | B19: 0 | C19: 0 | D19: 0 | E19: 0 | F19: 3 | G19: 0 | H19: 6 | I19: 0 | K19: 9
A20: Forstkand. | B20: 0 | C20: 0 | D20: 3 | E20: 1 | F20: 1 | G20: 1 | H20: 20 | I20: 0 | K20: 26
... A45: Andre | B45: 75 | C45: 25 | D45: 212 | E45: 62 | F45: 104 | G45: 118 | H45: 1008 | I45: 6 | K45: 1613
A47: Total | B47: =SUM(B9:B45)-SUM(B17:B20) -> 1624 | C47: =SUM(C9:C45)-SUM(C17:C20) -> 406 | D47: =SUM(D9:D45)-SUM(D17:D20) -> 3959 | E47: =SUM(E9:E45)-SUM(E17:E20) -> 874 | F47: =SUM(F9:F45)-SUM(F17:F20) -> 1637 | G47: =SUM(G9:G45)-SUM(G17:G20) -> 1052 | H47: =SUM(H9:H45)-SUM(H17:H20) -> 10303 | I47: =SUM(I9:I45)-SUM(I17:I20) -> 44 | K47: =SUM(K9:K45)-SUM(K17:K20) -> 19931
A49: Ingeniører i alt | B49: 189 | C49: 54 | D49: 369 | E49: 162 | F49: 193 | G49: 122 | H49: 929 | I49: 1 | K49: 2020
A50: Magistre i alt | B50: 480 | C50: 116 | D50: 1411 | E50: 227 | F50: 513 | G50: 299 | H50: 2778 | I50: 22 | J50: =SUM(J35:J37) -> 0 | K50: 5859
A51: DJØF'ere i alt | B51: 324 | C51: 99 | D51: 733 | E51: 203 | F51: 318 | G51: 221 | H51: 2409 | I51: 4 | K51: 4317
A52: Se sidste del af statistikken for en oversigt over uddannelsesgrupperingernes indhold

Sheet Tabel A Br
A3: Tabel A2: Antal bruttoledige målt i fuldtidspersoner fordelt på regioner
B6: Nord- | C6: Vest- | D6: Øst- | E6: Syd- | F6: Fyn | G6: Sjælland | H6: Hoved- | I6: Bornholm | K6: Hele
B7: Jylland | C7: Jylland | D7: Jylland | E7: Jylland | H7: staden | K7: Landet
A9: Civ. Ing. | B9: 123.6244 | C9: 14.6423 | D9: 112.61274 | E9: 62.88343 | F9: 63.99988 | G9: 41.99401 | H9: 446.00075 | I9: 0 | K9: 865.7575
A10: Diplom Ing. | B10: 41.3834 | C10: 32.13061 | D10: 161.45201 | E10: 74.06661 | F10: 75.8286 | G10: 61.43828 | H10: 330.70043 | I10: 0.99981 | K10: 778.99956
A11: Cand.Scient.Tech. | B11: 175.45999 | C11: 17.55879 | D11: 250.67486 | E11: 43.60257 | F11: 147.212 | G11: 71.42643 | H11: 829.87838 | I11: 1.99963 | K11: 1537.8126
A12: MA. Hum. | B12: 294.92422 | C12: 81.55804 | D12: 901.43392 | E12: 143.94312 | F12: 323.24019 | G12: 172.79985 | H12: 1556.0556 | I12: 10.37111 | K12: 3486.8565
A13: MA. Nat. | B13: 33.60756 | C13: 9.56091 | D13: 119.15861 | E13: 19.29957 | F13: 62.09069 | G13: 32.39069 | H13: 255.77372 | I13: 4.97536 | K13: 538.85673
A14: MA. Ph.d. | B14: 3.64186 | C14: 0 | D14: 25.83983 | E14: 3.41171 | F14: 5.98827 | G14: 4.75644 | H14: 59.33886 | I14: 0 | K14: 103.51525
A15: MA. Samf. | B15: 52.93395 | C15: 6.42737 | D15: 103.6612 | E15: 15.97767 | F15: 31.03911 | G15: 33.83334 | H15: 347.30493 | I15: 2.86097 | K15: 594.39219
A16: Øvrige Mag. | B16: 16.41489 | C16: 3.68365 | D16: 53.90195 | E16: 7.65234 | F16: 15.33088 | G16: 6.73673 | H16: 107.01865 | I16: 0.72288 | K16: 213.84582
A17: Agronom | B17: 2.86097 | C17: 5.07828 | D17: 11.71833 | E17: 2.80546 | F17: 3.577 | G17: 12.36949 | H17: 43.86391 | I17: 0.99981 | K17: 84.22691
A18: Landsk. Arkt. | B18: 0.53203 | C18: 0 | D18: 1.86116 | E18: 0 | F18: 2.95328 | G18: 3.63001 | H18: 33.14352 | I18: 0 | K18: 42.12
A19: Hortonom | B19: 0 | C19: 0 | D19: 0 | E19: 0 | F19: 2.99944 | G19: 0 | H19: 5.16809 | I19: 0 | K19: 8.16753
A20: Forstkand. | B20: 0 | C20: 0 | D20: 2.99944 | E20: 0.99981 | F20: 0.99981 | G20: 0.99981 | H20: 17.70224 | I20: 0 | K20: 23.70112
... A45: Andre | B45: 61.87925 | C45: 18.5193 | D45: 173.07678 | E45: 46.98996 | F45: 72.15431 | G45: 99.76112 | H45: 847.30618 | I45: 4.17015 | K45: 1326.8565
A47: Total | B47: =SUM(B9:B45)-SUM(B17:B20) -> 1380.8058 | C47: =SUM(C9:C45)-SUM(C17:C20) -> 343.01315 | D47: =SUM(D9:D45)-SUM(D17:D20) -> 3263.8128 | E47: =SUM(E9:E45)-SUM(E17:E20) -> 727.52447 | F47: =SUM(F9:F45)-SUM(F17:F20) -> 1330.7035 | G47: =SUM(G9:G45)-SUM(G17:G20) -> 888.11013 | H47: =SUM(H9:H45)-SUM(H17:H20) -> 8583.5614 | I47: =SUM(I9:I45)-SUM(I17:I20) -> 38.55172 | K47: =SUM(K9:K45)-SUM(K17:K20) -> 16577.205
A49: Ingeniører i alt | B49: 165.0078 | C49: 46.77291 | D49: 274.06474 | E49: 136.95004 | F49: 139.82848 | G49: 103.4323 | H49: 776.70118 | I49: 0.99981 | K49: 1644.7571
A50: Magistre i alt | B50: 401.52248 | C50: 101.22996 | D50: 1203.9955 | E50: 190.28441 | F50: 437.68914 | G50: 250.51706 | H50: 2325.4918 | I50: 18.93033 | K50: 4937.4665
A51: DJØF'ere i alt | B51: 280.94243 | C51: 84.88804 | D51: 624.5344 | E51: 171.03786 | F51: 271.68777 | G51: 192.22104 | H51: 2038.3958 | I51: 3.74166 | K51: 3671.5069
A52: Se sidste del af statistikken for en oversigt over uddannelsesgrupperingernes indhold

Sheet Tabel A p (Be)
A3: Tabel B1: Bruttoledighedsprocenten målt i ledighedsberørte fordelt på regioner
B6: Nord- | C6: Vest- | D6: Øst- | E6: Syd- | F6: Fyn | G6: Sjælland | H6: Hoved- | I6: Bornholm | K6: Hele
B7: Jylland | C7: Jylland | D7: Jylland | E7: Jylland | H7: staden | K7: Landet
A9: Civ. Ing. | B9: =IF(OR('Tabel A F'!B9<5,'Tabel A Be'!B9<0.5),"-",IFERROR('Tabel A Be'!B9/'Tabel A F'!B9*100,"-")) -> 3.7933818 | C9: =IF(OR('Tabel A F'!C9<5,'Tabel A Be'!C9<0.5),"-",IFERROR('Tabel A Be'!C9/'Tabel A F'!C9*100,"-")) -> 1.9906323 | D9: =IF(OR('Tabel A F'!D9<5,'Tabel A Be'!D9<0.5),"-",IFERROR('Tabel A Be'!D9/'Tabel A F'!D9*100,"-")) -> 4.0946083 | E9: =IF(OR('Tabel A F'!E9<5,'Tabel A Be'!E9<0.5),"-",IFERROR('Tabel A Be'!E9/'Tabel A F'!E9*100,"-")) -> 3.6420395 | F9: =IF(OR('Tabel A F'!F9<5,'Tabel A Be'!F9<0.5),"-",IFERROR('Tabel A Be'!F9/'Tabel A F'!F9*100,"-")) -> 6.4984709 | G9: =IF(OR('Tabel A F'!G9<5,'Tabel A Be'!G9<0.5),"-",IFERROR('Tabel A Be'!G9/'Tabel A F'!G9*100,"-")) -> 2.2191401 | H9: =IF(OR('Tabel A F'!H9<5,'Tabel A Be'!H9<0.5),"-",IFERROR('Tabel A Be'!H9/'Tabel A F'!H9*100,"-")) -> 3.1460938 | I9: =IF(OR('Tabel A F'!I9<5,'Tabel A Be'!I9<0.5),"-",IFERROR('Tabel A Be'!I9/'Tabel A F'!I9*100,"-")) -> - | K9: =IF(OR('Tabel A F'!K9<5,'Tabel A Be'!K9<0.5),"-",IFERROR('Tabel A Be'!K9/'Tabel A F'!K9*100,"-")) -> 3.3791121
A10: Diplom Ing. | B10: =IF(OR('Tabel A F'!B10<5,'Tabel A Be'!B10<0.5),"-",IFERROR('Tabel A Be'!B10/'Tabel A F'!B10*100,"-")) -> 3.2520325 | C10: =IF(OR('Tabel A F'!C10<5,'Tabel A Be'!C10<0.5),"-",IFERROR('Tabel A Be'!C10/'Tabel A F'!C10*100,"-")) -> 2.1828909 | D10: =IF(OR('Tabel A F'!D10<5,'Tabel A Be'!D10<0.5),"-",IFERROR('Tabel A Be'!D10/'Tabel A F'!D10*100,"-")) -> 3.0294203 | E10: =IF(OR('Tabel A F'!E10<5,'Tabel A Be'!E10<0.5),"-",IFERROR('Tabel A Be'!E10/'Tabel A F'!E10*100,"-")) -> 2.1899548 | F10: =IF(OR('Tabel A F'!F10<5,'Tabel A Be'!F10<0.5),"-",IFERROR('Tabel A Be'!F10/'Tabel A F'!F10*100,"-")) -> 3.4166403 | G10: =IF(OR('Tabel A F'!G10<5,'Tabel A Be'!G10<0.5),"-",IFERROR('Tabel A Be'!G10/'Tabel A F'!G10*100,"-")) -> 1.9483939 | H10: =IF(OR('Tabel A F'!H10<5,'Tabel A Be'!H10<0.5),"-",IFERROR('Tabel A Be'!H10/'Tabel A F'!H10*100,"-")) -> 3.1629779 | I10: =IF(OR('Tabel A F'!I10<5,'Tabel A Be'!I10<0.5),"-",IFERROR('Tabel A Be'!I10/'Tabel A F'!I10*100,"-")) -> 1.6393443 | K10: =IF(OR('Tabel A F'!K10<5,'Tabel A Be'!K10<0.5),"-",IFERROR('Tabel A Be'!K10/'Tabel A F'!K10*100,"-")) -> 2.8360013
A11: Cand.Scient.Tech. | B11: =IF(OR('Tabel A F'!B11<5,'Tabel A Be'!B11<0.5),"-",IFERROR('Tabel A Be'!B11/'Tabel A F'!B11*100,"-")) -> 14.793328 | C11: =IF(OR('Tabel A F'!C11<5,'Tabel A Be'!C11<0.5),"-",IFERROR('Tabel A Be'!C11/'Tabel A F'!C11*100,"-")) -> 6.3768116 | D11: =IF(OR('Tabel A F'!D11<5,'Tabel A Be'!D11<0.5),"-",IFERROR('Tabel A Be'!D11/'Tabel A F'!D11*100,"-")) -> 10.803835 | E11: =IF(OR('Tabel A F'!E11<5,'Tabel A Be'!E11<0.5),"-",IFERROR('Tabel A Be'!E11/'Tabel A F'!E11*100,"-")) -> 6.5838509 | F11: =IF(OR('Tabel A F'!F11<5,'Tabel A Be'!F11<0.5),"-",IFERROR('Tabel A Be'!F11/'Tabel A F'!F11*100,"-")) -> 15.33101 | G11: =IF(OR('Tabel A F'!G11<5,'Tabel A Be'!G11<0.5),"-",IFERROR('Tabel A Be'!G11/'Tabel A F'!G11*100,"-")) -> 7.7634011 | H11: =IF(OR('Tabel A F'!H11<5,'Tabel A Be'!H11<0.5),"-",IFERROR('Tabel A Be'!H11/'Tabel A F'!H11*100,"-")) -> 10.061475 | I11: =IF(OR('Tabel A F'!I11<5,'Tabel A Be'!I11<0.5),"-",IFERROR('Tabel A Be'!I11/'Tabel A F'!I11*100,"-")) -> 6.6666667 | K11: =IF(OR('Tabel A F'!K11<5,'Tabel A Be'!K11<0.5),"-",IFERROR('Tabel A Be'!K11/'Tabel A F'!K11*100,"-")) -> 10.34581
A12: MA. Hum. | B12: =IF(OR('Tabel A F'!B12<5,'Tabel A Be'!B12<0.5),"-",IFERROR('Tabel A Be'!B12/'Tabel A F'!B12*100,"-")) -> 12.221078 | C12: =IF(OR('Tabel A F'!C12<5,'Tabel A Be'!C12<0.5),"-",IFERROR('Tabel A Be'!C12/'Tabel A F'!C12*100,"-")) -> 8 | D12: =IF(OR('Tabel A F'!D12<5,'Tabel A Be'!D12<0.5),"-",IFERROR('Tabel A Be'!D12/'Tabel A F'!D12*100,"-")) -> 13.157566 | E12: =IF(OR('Tabel A F'!E12<5,'Tabel A Be'!E12<0.5),"-",IFERROR('Tabel A Be'!E12/'Tabel A F'!E12*100,"-")) -> 7.5932504 | F12: =IF(OR('Tabel A F'!F12<5,'Tabel A Be'!F12<0.5),"-",IFERROR('Tabel A Be'!F12/'Tabel A F'!F12*100,"-")) -> 11.874016 | G12: =IF(OR('Tabel A F'!G12<5,'Tabel A Be'!G12<0.5),"-",IFERROR('Tabel A Be'!G12/'Tabel A F'!G12*100,"-")) -> 7.2053165 | H12: =IF(OR('Tabel A F'!H12<5,'Tabel A Be'!H12<0.5),"-",IFERROR('Tabel A Be'!H12/'Tabel A F'!H12*100,"-")) -> 9.4491783 | I12: =IF(OR('Tabel A F'!I12<5,'Tabel A Be'!I12<0.5),"-",IFERROR('Tabel A Be'!I12/'Tabel A F'!I12*100,"-")) -> 10.25641 | K12: =IF(OR('Tabel A F'!K12<5,'Tabel A Be'!K12<0.5),"-",IFERROR('Tabel A Be'!K12/'Tabel A F'!K12*100,"-")) -> 10.181469
A13: MA. Nat. | B13: =IF(OR('Tabel A F'!B13<5,'Tabel A Be'!B13<0.5),"-",IFERROR('Tabel A Be'!B13/'Tabel A F'!B13*100,"-")) -> 5.7803468 | C13: =IF(OR('Tabel A F'!C13<5,'Tabel A Be'!C13<0.5),"-",IFERROR('Tabel A Be'!C13/'Tabel A F'!C13*100,"-")) -> 2.4886878 | D13: =IF(OR('Tabel A F'!D13<5,'Tabel A Be'!D13<0.5),"-",IFERROR('Tabel A Be'!D13/'Tabel A F'!D13*100,"-")) -> 4.9361408 | E13: =IF(OR('Tabel A F'!E13<5,'Tabel A Be'!E13<0.5),"-",IFERROR('Tabel A Be'!E13/'Tabel A F'!E13*100,"-")) -> 3.0913978 | F13: =IF(OR('Tabel A F'!F13<5,'Tabel A Be'!F13<0.5),"-",IFERROR('Tabel A Be'!F13/'Tabel A F'!F13*100,"-")) -> 6.4710958 | G13: =IF(OR('Tabel A F'!G13<5,'Tabel A Be'!G13<0.5),"-",IFERROR('Tabel A Be'!G13/'Tabel A F'!G13*100,"-")) -> 2.6259759 | H13: =IF(OR('Tabel A F'!H13<5,'Tabel A Be'!H13<0.5),"-",IFERROR('Tabel A Be'!H13/'Tabel A F'!H13*100,"-")) -> 4.3030219 | I13: =IF(OR('Tabel A F'!I13<5,'Tabel A Be'!I13<0.5),"-",IFERROR('Tabel A Be'!I13/'Tabel A F'!I13*100,"-")) -> 12.244898 | K13: =IF(OR('Tabel A F'!K13<5,'Tabel A Be'!K13<0.5),"-",IFERROR('Tabel A Be'!K13/'Tabel A F'!K13*100,"-")) -> 4.3737305
A14: MA. Ph.d. | B14: =IF(OR('Tabel A F'!B14<5,'Tabel A Be'!B14<0.5),"-",IFERROR('Tabel A Be'!B14/'Tabel A F'!B14*100,"-")) -> 5.6179775 | C14: =IF(OR('Tabel A F'!C14<5,'Tabel A Be'!C14<0.5),"-",IFERROR('Tabel A Be'!C14/'Tabel A F'!C14*100,"-")) -> - | D14: =IF(OR('Tabel A F'!D14<5,'Tabel A Be'!D14<0.5),"-",IFERROR('Tabel A Be'!D14/'Tabel A F'!D14*100,"-")) -> 5.3505535 | E14: =IF(OR('Tabel A F'!E14<5,'Tabel A Be'!E14<0.5),"-",IFERROR('Tabel A Be'!E14/'Tabel A F'!E14*100,"-")) -> 5.4054054 | F14: =IF(OR('Tabel A F'!F14<5,'Tabel A Be'!F14<0.5),"-",IFERROR('Tabel A Be'!F14/'Tabel A F'!F14*100,"-")) -> 4.4303797 | G14: =IF(OR('Tabel A F'!G14<5,'Tabel A Be'!G14<0.5),"-",IFERROR('Tabel A Be'!G14/'Tabel A F'!G14*100,"-")) -> 4.2253521 | H14: =IF(OR('Tabel A F'!H14<5,'Tabel A Be'!H14<0.5),"-",IFERROR('Tabel A Be'!H14/'Tabel A F'!H14*100,"-")) -> 5.5645161 | I14: =IF(OR('Tabel A F'!I14<5,'Tabel A Be'!I14<0.5),"-",IFERROR('Tabel A Be'!I14/'Tabel A F'!I14*100,"-")) -> - | K14: =IF(OR('Tabel A F'!K14<5,'Tabel A Be'!K14<0.5),"-",IFERROR('Tabel A Be'!K14/'Tabel A F'!K14*100,"-")) -> 4.9938093
A15: MA. Samf. | B15: =IF(OR('Tabel A F'!B15<5,'Tabel A Be'!B15<0.5),"-",IFERROR('Tabel A Be'!B15/'Tabel A F'!B15*100,"-")) -> 19.488818 | C15: =IF(OR('Tabel A F'!C15<5,'Tabel A Be'!C15<0.5),"-",IFERROR('Tabel A Be'!C15/'Tabel A F'!C15*100,"-")) -> 12.903226 | D15: =IF(OR('Tabel A F'!D15<5,'Tabel A Be'!D15<0.5),"-",IFERROR('Tabel A Be'!D15/'Tabel A F'!D15*100,"-")) -> 18.413174 | E15: =IF(OR('Tabel A F'!E15<5,'Tabel A Be'!E15<0.5),"-",IFERROR('Tabel A Be'!E15/'Tabel A F'!E15*100,"-")) -> 15.966387 | F15: =IF(OR('Tabel A F'!F15<5,'Tabel A Be'!F15<0.5),"-",IFERROR('Tabel A Be'!F15/'Tabel A F'!F15*100,"-")) -> 21.686747 | G15: =IF(OR('Tabel A F'!G15<5,'Tabel A Be'!G15<0.5),"-",IFERROR('Tabel A Be'!G15/'Tabel A F'!G15*100,"-")) -> 11.747851 | H15: =IF(OR('Tabel A F'!H15<5,'Tabel A Be'!H15<0.5),"-",IFERROR('Tabel A Be'!H15/'Tabel A F'!H15*100,"-")) -> 12.951235 | I15: =IF(OR('Tabel A F'!I15<5,'Tabel A Be'!I15<0.5),"-",IFERROR('Tabel A Be'!I15/'Tabel A F'!I15*100,"-")) -> 18.75 | K15: =IF(OR('Tabel A F'!K15<5,'Tabel A Be'!K15<0.5),"-",IFERROR('Tabel A Be'!K15/'Tabel A F'!K15*100,"-")) -> 14.288626
A16: Øvrige Mag. | B16: =IF(OR('Tabel A F'!B16<5,'Tabel A Be'!B16<0.5),"-",IFERROR('Tabel A Be'!B16/'Tabel A F'!B16*100,"-")) -> 8.490566 | C16: =IF(OR('Tabel A F'!C16<5,'Tabel A Be'!C16<0.5),"-",IFERROR('Tabel A Be'!C16/'Tabel A F'!C16*100,"-")) -> 5.1020408 | D16: =IF(OR('Tabel A F'!D16<5,'Tabel A Be'!D16<0.5),"-",IFERROR('Tabel A Be'!D16/'Tabel A F'!D16*100,"-")) -> 11.517367 | E16: =IF(OR('Tabel A F'!E16<5,'Tabel A Be'!E16<0.5),"-",IFERROR('Tabel A Be'!E16/'Tabel A F'!E16*100,"-")) -> 4.5045045 | F16: =IF(OR('Tabel A F'!F16<5,'Tabel A Be'!F16<0.5),"-",IFERROR('Tabel A Be'!F16/'Tabel A F'!F16*100,"-")) -> 8.1447964 | G16: =IF(OR('Tabel A F'!G16<5,'Tabel A Be'!G16<0.5),"-",IFERROR('Tabel A Be'!G16/'Tabel A F'!G16*100,"-")) -> 3.6 | H16: =IF(OR('Tabel A F'!H16<5,'Tabel A Be'!H16<0.5),"-",IFERROR('Tabel A Be'!H16/'Tabel A F'!H16*100,"-")) -> 8.2156611 | I16: =IF(OR('Tabel A F'!I16<5,'Tabel A Be'!I16<0.5),"-",IFERROR('Tabel A Be'!I16/'Tabel A F'!I16*100,"-")) -> 7.1428571 | K16: =IF(OR('Tabel A F'!K16<5,'Tabel A Be'!K16<0.5),"-",IFERROR('Tabel A Be'!K16/'Tabel A F'!K16*100,"-")) -> 7.9552517
A17: Agronom | B17: =IF(OR('Tabel A F'!B17<5,'Tabel A Be'!B17<0.5),"-",IFERROR('Tabel A Be'!B17/'Tabel A F'!B17*100,"-")) -> 2.173913 | C17: =IF(OR('Tabel A F'!C17<5,'Tabel A Be'!C17<0.5),"-",IFERROR('Tabel A Be'!C17/'Tabel A F'!C17*100,"-")) -> 2.6086957 | D17: =IF(OR('Tabel A F'!D17<5,'Tabel A Be'!D17<0.5),"-",IFERROR('Tabel A Be'!D17/'Tabel A F'!D17*100,"-")) -> 4.0697674 | E17: =IF(OR('Tabel A F'!E17<5,'Tabel A Be'!E17<0.5),"-",IFERROR('Tabel A Be'!E17/'Tabel A F'!E17*100,"-")) -> 1.7777778 | F17: =IF(OR('Tabel A F'!F17<5,'Tabel A Be'!F17<0.5),"-",IFERROR('Tabel A Be'!F17/'Tabel A F'!F17*100,"-")) -> 2.6666667 | G17: =IF(OR('Tabel A F'!G17<5,'Tabel A Be'!G17<0.5),"-",IFERROR('Tabel A Be'!G17/'Tabel A F'!G17*100,"-")) -> 3.5010941 | H17: =IF(OR('Tabel A F'!H17<5,'Tabel A Be'!H17<0.5),"-",IFERROR('Tabel A Be'!H17/'Tabel A F'!H17*100,"-")) -> 6.4356436 | I17: =IF(OR('Tabel A F'!I17<5,'Tabel A Be'!I17<0.5),"-",IFERROR('Tabel A Be'!I17/'Tabel A F'!I17*100,"-")) -> 8.3333333 | K17: =IF(OR('Tabel A F'!K17<5,'Tabel A Be'!K17<0.5),"-",IFERROR('Tabel A Be'!K17/'Tabel A F'!K17*100,"-")) -> 4.2436975
A18: Landsk. Arkt. | B18: =IF(OR('Tabel A F'!B18<5,'Tabel A Be'!B18<0.5),"-",IFERROR('Tabel A Be'!B18/'Tabel A F'!B18*100,"-")) -> 7.6923077 | C18: =IF(OR('Tabel A F'!C18<5,'Tabel A Be'!C18<0.5),"-",IFERROR('Tabel A Be'!C18/'Tabel A F'!C18*100,"-")) -> - | D18: =IF(OR('Tabel A F'!D18<5,'Tabel A Be'!D18<0.5),"-",IFERROR('Tabel A Be'!D18/'Tabel A F'!D18*100,"-")) -> 5.2631579 | E18: =IF(OR('Tabel A F'!E18<5,'Tabel A Be'!E18<0.5),"-",IFERROR('Tabel A Be'!E18/'Tabel A F'!E18*100,"-")) -> - | F18: =IF(OR('Tabel A F'!F18<5,'Tabel A Be'!F18<0.5),"-",IFERROR('Tabel A Be'!F18/'Tabel A F'!F18*100,"-")) -> 10.714286 | G18: =IF(OR('Tabel A F'!G18<5,'Tabel A Be'!G18<0.5),"-",IFERROR('Tabel A Be'!G18/'Tabel A F'!G18*100,"-")) -> 4.0816327 | H18: =IF(OR('Tabel A F'!H18<5,'Tabel A Be'!H18<0.5),"-",IFERROR('Tabel A Be'!H18/'Tabel A F'!H18*100,"-")) -> 8.5470085 | I18: =IF(OR('Tabel A F'!I18<5,'Tabel A Be'!I18<0.5),"-",IFERROR('Tabel A Be'!I18/'Tabel A F'!I18*100,"-")) -> - | K18: =IF(OR('Tabel A F'!K18<5,'Tabel A Be'!K18<0.5),"-",IFERROR('Tabel A Be'!K18/'Tabel A F'!K18*100,"-")) -> 7.256894
A19: Hortonom | B19: =IF(OR('Tabel A F'!B19<5,'Tabel A Be'!B19<0.5),"-",IFERROR('Tabel A Be'!B19/'Tabel A F'!B19*100,"-")) -> - | C19: =IF(OR('Tabel A F'!C19<5,'Tabel A Be'!C19<0.5),"-",IFERROR('Tabel A Be'!C19/'Tabel A F'!C19*100,"-")) -> - | D19: =IF(OR('Tabel A F'!D19<5,'Tabel A Be'!D19<0.5),"-",IFERROR('Tabel A Be'!D19/'Tabel A F'!D19*100,"-")) -> - | E19: =IF(OR('Tabel A F'!E19<5,'Tabel A Be'!E19<0.5),"-",IFERROR('Tabel A Be'!E19/'Tabel A F'!E19*100,"-")) -> - | F19: =IF(OR('Tabel A F'!F19<5,'Tabel A Be'!F19<0.5),"-",IFERROR('Tabel A Be'!F19/'Tabel A F'!F19*100,"-")) -> 7.3170732 | G19: =IF(OR('Tabel A F'!G19<5,'Tabel A Be'!G19<0.5),"-",IFERROR('Tabel A Be'!G19/'Tabel A F'!G19*100,"-")) -> - | H19: =IF(OR('Tabel A F'!H19<5,'Tabel A Be'!H19<0.5),"-",IFERROR('Tabel A Be'!H19/'Tabel A F'!H19*100,"-")) -> 3.8216561 | I19: =IF(OR('Tabel A F'!I19<5,'Tabel A Be'!I19<0.5),"-",IFERROR('Tabel A Be'!I19/'Tabel A F'!I19*100,"-")) -> - | K19: =IF(OR('Tabel A F'!K19<5,'Tabel A Be'!K19<0.5),"-",IFERROR('Tabel A Be'!K19/'Tabel A F'!K19*100,"-")) -> 2.7777778
A20: Forstkand. | B20: =IF(OR('Tabel A F'!B20<5,'Tabel A Be'!B20<0.5),"-",IFERROR('Tabel A Be'!B20/'Tabel A F'!B20*100,"-")) -> - | C20: =IF(OR('Tabel A F'!C20<5,'Tabel A Be'!C20<0.5),"-",IFERROR('Tabel A Be'!C20/'Tabel A F'!C20*100,"-")) -> - | D20: =IF(OR('Tabel A F'!D20<5,'Tabel A Be'!D20<0.5),"-",IFERROR('Tabel A Be'!D20/'Tabel A F'!D20*100,"-")) -> 6 | E20: =IF(OR('Tabel A F'!E20<5,'Tabel A Be'!E20<0.5),"-",IFERROR('Tabel A Be'!E20/'Tabel A F'!E20*100,"-")) -> 2.3255814 | F20: =IF(OR('Tabel A F'!F20<5,'Tabel A Be'!F20<0.5),"-",IFERROR('Tabel A Be'!F20/'Tabel A F'!F20*100,"-")) -> 3.7037037 | G20: =IF(OR('Tabel A F'!G20<5,'Tabel A Be'!G20<0.5),"-",IFERROR('Tabel A Be'!G20/'Tabel A F'!G20*100,"-")) -> 1.3333333 | H20: =IF(OR('Tabel A F'!H20<5,'Tabel A Be'!H20<0.5),"-",IFERROR('Tabel A Be'!H20/'Tabel A F'!H20*100,"-")) -> 7.8125 | I20: =IF(OR('Tabel A F'!I20<5,'Tabel A Be'!I20<0.5),"-",IFERROR('Tabel A Be'!I20/'Tabel A F'!I20*100,"-")) -> - | K20: =IF(OR('Tabel A F'!K20<5,'Tabel A Be'!K20<0.5),"-",IFERROR('Tabel A Be'!K20/'Tabel A F'!K20*100,"-")) -> 5.0980392
... A51: DJØF'ere i alt | B51: =IF(OR('Tabel A F'!B51<5,'Tabel A Be'!B51<0.5),"-",IFERROR('Tabel A Be'!B51/'Tabel A F'!B51*100,"-")) -> 6.7247821 | C51: =IF(OR('Tabel A F'!C51<5,'Tabel A Be'!C51<0.5),"-",IFERROR('Tabel A Be'!C51/'Tabel A F'!C51*100,"-")) -> 4.5517241 | D51: =IF(OR('Tabel A F'!D51<5,'Tabel A Be'!D51<0.5),"-",IFERROR('Tabel A Be'!D51/'Tabel A F'!D51*100,"-")) -> 5.2044874 | E51: =IF(OR('Tabel A F'!E51<5,'Tabel A Be'!E51<0.5),"-",IFERROR('Tabel A Be'!E51/'Tabel A F'!E51*100,"-")) -> 4.1786744 | F51: =IF(OR('Tabel A F'!F51<5,'Tabel A Be'!F51<0.5),"-",IFERROR('Tabel A Be'!F51/'Tabel A F'!F51*100,"-")) -> 6.846071 | G51: =IF(OR('Tabel A F'!G51<5,'Tabel A Be'!G51<0.5),"-",IFERROR('Tabel A Be'!G51/'Tabel A F'!G51*100,"-")) -> 3.6522889 | H51: =IF(OR('Tabel A F'!H51<5,'Tabel A Be'!H51<0.5),"-",IFERROR('Tabel A Be'!H51/'Tabel A F'!H51*100,"-")) -> 4.4926428 | I51: =IF(OR('Tabel A F'!I51<5,'Tabel A Be'!I51<0.5),"-",IFERROR('Tabel A Be'!I51/'Tabel A F'!I51*100,"-")) -> 3.125 | K51: =IF(OR('Tabel A F'!K51<5,'Tabel A Be'!K51<0.5),"-",IFERROR('Tabel A Be'!K51/'Tabel A F'!K51*100,"-")) -> 4.7163833
A52: Se sidste del af statistikken for en oversigt over uddannelsesgrupperingernes indhold

Sheet Tabel A p (Br)
A3: Tabel B2: Bruttoledighedsprocenten målt i fuldtidspersoner fordelt på regioner
B6: Nord- | C6: Vest- | D6: Øst- | E6: Syd- | F6: Fyn | G6: Sjælland | H6: Hoved- | I6: Bornholm | K6: Hele
B7: Jylland | C7: Jylland | D7: Jylland | E7: Jylland | H7: staden | K7: Landet
A9: Civ. Ing. | B9: =IF(OR('Tabel A F'!B9<5,'Tabel A Br'!B9<0.5),"-",IFERROR('Tabel A Br'!B9/'Tabel A F'!B9*100,"-")) -> 3.3259188 | C9: =IF(OR('Tabel A F'!C9<5,'Tabel A Br'!C9<0.5),"-",IFERROR('Tabel A Br'!C9/'Tabel A F'!C9*100,"-")) -> 1.714555 | D9: =IF(OR('Tabel A F'!D9<5,'Tabel A Br'!D9<0.5),"-",IFERROR('Tabel A Br'!D9/'Tabel A F'!D9*100,"-")) -> 2.8640066 | E9: =IF(OR('Tabel A F'!E9<5,'Tabel A Br'!E9<0.5),"-",IFERROR('Tabel A Br'!E9/'Tabel A F'!E9*100,"-")) -> 3.2717706 | F9: =IF(OR('Tabel A F'!F9<5,'Tabel A Br'!F9<0.5),"-",IFERROR('Tabel A Br'!F9/'Tabel A F'!F9*100,"-")) -> 4.8929572 | G9: =IF(OR('Tabel A F'!G9<5,'Tabel A Br'!G9<0.5),"-",IFERROR('Tabel A Br'!G9/'Tabel A F'!G9*100,"-")) -> 1.9414706 | H9: =IF(OR('Tabel A F'!H9<5,'Tabel A Br'!H9<0.5),"-",IFERROR('Tabel A Br'!H9/'Tabel A F'!H9*100,"-")) -> 2.6178362 | I9: =IF(OR('Tabel A F'!I9<5,'Tabel A Br'!I9<0.5),"-",IFERROR('Tabel A Br'!I9/'Tabel A F'!I9*100,"-")) -> - | K9: =IF(OR('Tabel A F'!K9<5,'Tabel A Br'!K9<0.5),"-",IFERROR('Tabel A Br'!K9/'Tabel A F'!K9*100,"-")) -> 2.765115
A10: Diplom Ing. | B10: =IF(OR('Tabel A F'!B10<5,'Tabel A Br'!B10<0.5),"-",IFERROR('Tabel A Br'!B10/'Tabel A F'!B10*100,"-")) -> 2.8037534 | C10: =IF(OR('Tabel A F'!C10<5,'Tabel A Br'!C10<0.5),"-",IFERROR('Tabel A Br'!C10/'Tabel A F'!C10*100,"-")) -> 1.8956112 | D10: =IF(OR('Tabel A F'!D10<5,'Tabel A Br'!D10<0.5),"-",IFERROR('Tabel A Br'!D10/'Tabel A F'!D10*100,"-")) -> 2.3514712 | E10: =IF(OR('Tabel A F'!E10<5,'Tabel A Br'!E10<0.5),"-",IFERROR('Tabel A Br'!E10/'Tabel A F'!E10*100,"-")) -> 1.7630709 | F10: =IF(OR('Tabel A F'!F10<5,'Tabel A Br'!F10<0.5),"-",IFERROR('Tabel A Br'!F10/'Tabel A F'!F10*100,"-")) -> 2.3988801 | G10: =IF(OR('Tabel A F'!G10<5,'Tabel A Br'!G10<0.5),"-",IFERROR('Tabel A Br'!G10/'Tabel A F'!G10*100,"-")) -> 1.6176482 | H10: =IF(OR('Tabel A F'!H10<5,'Tabel A Br'!H10<0.5),"-",IFERROR('Tabel A Br'!H10/'Tabel A F'!H10*100,"-")) -> 2.6615729 | I10: =IF(OR('Tabel A F'!I10<5,'Tabel A Br'!I10<0.5),"-",IFERROR('Tabel A Br'!I10/'Tabel A F'!I10*100,"-")) -> 1.6390328 | K10: =IF(OR('Tabel A F'!K10<5,'Tabel A Br'!K10<0.5),"-",IFERROR('Tabel A Br'!K10/'Tabel A F'!K10*100,"-")) -> 2.2965112
A11: Cand.Scient.Tech. | B11: =IF(OR('Tabel A F'!B11<5,'Tabel A Br'!B11<0.5),"-",IFERROR('Tabel A Br'!B11/'Tabel A F'!B11*100,"-")) -> 12.723712 | C11: =IF(OR('Tabel A F'!C11<5,'Tabel A Br'!C11<0.5),"-",IFERROR('Tabel A Br'!C11/'Tabel A F'!C11*100,"-")) -> 5.0895043 | D11: =IF(OR('Tabel A F'!D11<5,'Tabel A Br'!D11<0.5),"-",IFERROR('Tabel A Br'!D11/'Tabel A F'!D11*100,"-")) -> 9.2431733 | E11: =IF(OR('Tabel A F'!E11<5,'Tabel A Br'!E11<0.5),"-",IFERROR('Tabel A Br'!E11/'Tabel A F'!E11*100,"-")) -> 5.4164683 | F11: =IF(OR('Tabel A F'!F11<5,'Tabel A Br'!F11<0.5),"-",IFERROR('Tabel A Br'!F11/'Tabel A F'!F11*100,"-")) -> 12.823345 | G11: =IF(OR('Tabel A F'!G11<5,'Tabel A Br'!G11<0.5),"-",IFERROR('Tabel A Br'!G11/'Tabel A F'!G11*100,"-")) -> 6.6013336 | H11: =IF(OR('Tabel A F'!H11<5,'Tabel A Br'!H11<0.5),"-",IFERROR('Tabel A Br'!H11/'Tabel A F'!H11*100,"-")) -> 8.5028523 | I11: =IF(OR('Tabel A F'!I11<5,'Tabel A Br'!I11<0.5),"-",IFERROR('Tabel A Br'!I11/'Tabel A F'!I11*100,"-")) -> 6.6654333 | K11: =IF(OR('Tabel A F'!K11<5,'Tabel A Br'!K11<0.5),"-",IFERROR('Tabel A Br'!K11/'Tabel A F'!K11*100,"-")) -> 8.7609676
A12: MA. Hum. | B12: =IF(OR('Tabel A F'!B12<5,'Tabel A Br'!B12<0.5),"-",IFERROR('Tabel A Br'!B12/'Tabel A F'!B12*100,"-")) -> 10.124415 | C12: =IF(OR('Tabel A F'!C12<5,'Tabel A Br'!C12<0.5),"-",IFERROR('Tabel A Br'!C12/'Tabel A F'!C12*100,"-")) -> 7.0920035 | D12: =IF(OR('Tabel A F'!D12<5,'Tabel A Br'!D12<0.5),"-",IFERROR('Tabel A Br'!D12/'Tabel A F'!D12*100,"-")) -> 11.2637 | E12: =IF(OR('Tabel A F'!E12<5,'Tabel A Br'!E12<0.5),"-",IFERROR('Tabel A Br'!E12/'Tabel A F'!E12*100,"-")) -> 6.3917904 | F12: =IF(OR('Tabel A F'!F12<5,'Tabel A Br'!F12<0.5),"-",IFERROR('Tabel A Br'!F12/'Tabel A F'!F12*100,"-")) -> 10.180793 | G12: =IF(OR('Tabel A F'!G12<5,'Tabel A Br'!G12<0.5),"-",IFERROR('Tabel A Br'!G12/'Tabel A F'!G12*100,"-")) -> 6.0440661 | H12: =IF(OR('Tabel A F'!H12<5,'Tabel A Br'!H12<0.5),"-",IFERROR('Tabel A Br'!H12/'Tabel A F'!H12*100,"-")) -> 7.8923496 | I12: =IF(OR('Tabel A F'!I12<5,'Tabel A Br'!I12<0.5),"-",IFERROR('Tabel A Br'!I12/'Tabel A F'!I12*100,"-")) -> 8.8641966 | K12: =IF(OR('Tabel A F'!K12<5,'Tabel A Br'!K12<0.5),"-",IFERROR('Tabel A Br'!K12/'Tabel A F'!K12*100,"-")) -> 8.5855674
A13: MA. Nat. | B13: =IF(OR('Tabel A F'!B13<5,'Tabel A Br'!B13<0.5),"-",IFERROR('Tabel A Br'!B13/'Tabel A F'!B13*100,"-")) -> 4.8565838 | C13: =IF(OR('Tabel A F'!C13<5,'Tabel A Br'!C13<0.5),"-",IFERROR('Tabel A Br'!C13/'Tabel A F'!C13*100,"-")) -> 2.1631018 | D13: =IF(OR('Tabel A F'!D13<5,'Tabel A Br'!D13<0.5),"-",IFERROR('Tabel A Br'!D13/'Tabel A F'!D13*100,"-")) -> 4.1131726 | E13: =IF(OR('Tabel A F'!E13<5,'Tabel A Br'!E13<0.5),"-",IFERROR('Tabel A Br'!E13/'Tabel A F'!E13*100,"-")) -> 2.5940282 | F13: =IF(OR('Tabel A F'!F13<5,'Tabel A Br'!F13<0.5),"-",IFERROR('Tabel A Br'!F13/'Tabel A F'!F13*100,"-")) -> 5.357264 | G13: =IF(OR('Tabel A F'!G13<5,'Tabel A Br'!G13<0.5),"-",IFERROR('Tabel A Br'!G13/'Tabel A F'!G13*100,"-")) -> 2.2988424 | H13: =IF(OR('Tabel A F'!H13<5,'Tabel A Br'!H13<0.5),"-",IFERROR('Tabel A Br'!H13/'Tabel A F'!H13*100,"-")) -> 3.561812 | I13: =IF(OR('Tabel A F'!I13<5,'Tabel A Br'!I13<0.5),"-",IFERROR('Tabel A Br'!I13/'Tabel A F'!I13*100,"-")) -> 10.153796 | K13: =IF(OR('Tabel A F'!K13<5,'Tabel A Br'!K13<0.5),"-",IFERROR('Tabel A Br'!K13/'Tabel A F'!K13*100,"-")) -> 3.6483191
A14: MA. Ph.d. | B14: =IF(OR('Tabel A F'!B14<5,'Tabel A Br'!B14<0.5),"-",IFERROR('Tabel A Br'!B14/'Tabel A F'!B14*100,"-")) -> 4.0919775 | C14: =IF(OR('Tabel A F'!C14<5,'Tabel A Br'!C14<0.5),"-",IFERROR('Tabel A Br'!C14/'Tabel A F'!C14*100,"-")) -> - | D14: =IF(OR('Tabel A F'!D14<5,'Tabel A Br'!D14<0.5),"-",IFERROR('Tabel A Br'!D14/'Tabel A F'!D14*100,"-")) -> 4.7674963 | E14: =IF(OR('Tabel A F'!E14<5,'Tabel A Br'!E14<0.5),"-",IFERROR('Tabel A Br'!E14/'Tabel A F'!E14*100,"-")) -> 4.6104189 | F14: =IF(OR('Tabel A F'!F14<5,'Tabel A Br'!F14<0.5),"-",IFERROR('Tabel A Br'!F14/'Tabel A F'!F14*100,"-")) -> 3.7900443 | G14: =IF(OR('Tabel A F'!G14<5,'Tabel A Br'!G14<0.5),"-",IFERROR('Tabel A Br'!G14/'Tabel A F'!G14*100,"-")) -> 3.3496056 | H14: =IF(OR('Tabel A F'!H14<5,'Tabel A Br'!H14<0.5),"-",IFERROR('Tabel A Br'!H14/'Tabel A F'!H14*100,"-")) -> 4.7853919 | I14: =IF(OR('Tabel A F'!I14<5,'Tabel A Br'!I14<0.5),"-",IFERROR('Tabel A Br'!I14/'Tabel A F'!I14*100,"-")) -> - | K14: =IF(OR('Tabel A F'!K14<5,'Tabel A Br'!K14<0.5),"-",IFERROR('Tabel A Br'!K14/'Tabel A F'!K14*100,"-")) -> 4.2721936
A15: MA. Samf. | B15: =IF(OR('Tabel A F'!B15<5,'Tabel A Br'!B15<0.5),"-",IFERROR('Tabel A Br'!B15/'Tabel A F'!B15*100,"-")) -> 16.911805 | C15: =IF(OR('Tabel A F'!C15<5,'Tabel A Br'!C15<0.5),"-",IFERROR('Tabel A Br'!C15/'Tabel A F'!C15*100,"-")) -> 10.366726 | D15: =IF(OR('Tabel A F'!D15<5,'Tabel A Br'!D15<0.5),"-",IFERROR('Tabel A Br'!D15/'Tabel A F'!D15*100,"-")) -> 15.518144 | E15: =IF(OR('Tabel A F'!E15<5,'Tabel A Br'!E15<0.5),"-",IFERROR('Tabel A Br'!E15/'Tabel A F'!E15*100,"-")) -> 13.426613 | F15: =IF(OR('Tabel A F'!F15<5,'Tabel A Br'!F15<0.5),"-",IFERROR('Tabel A Br'!F15/'Tabel A F'!F15*100,"-")) -> 18.698259 | G15: =IF(OR('Tabel A F'!G15<5,'Tabel A Br'!G15<0.5),"-",IFERROR('Tabel A Br'!G15/'Tabel A F'!G15*100,"-")) -> 9.6943668 | H15: =IF(OR('Tabel A F'!H15<5,'Tabel A Br'!H15<0.5),"-",IFERROR('Tabel A Br'!H15/'Tabel A F'!H15*100,"-")) -> 10.997623 | I15: =IF(OR('Tabel A F'!I15<5,'Tabel A Br'!I15<0.5),"-",IFERROR('Tabel A Br'!I15/'Tabel A F'!I15*100,"-")) -> 17.881062 | K15: =IF(OR('Tabel A F'!K15<5,'Tabel A Br'!K15<0.5),"-",IFERROR('Tabel A Br'!K15/'Tabel A F'!K15*100,"-")) -> 12.115617
A16: Øvrige Mag. | B16: =IF(OR('Tabel A F'!B16<5,'Tabel A Br'!B16<0.5),"-",IFERROR('Tabel A Br'!B16/'Tabel A F'!B16*100,"-")) -> 7.7428726 | C16: =IF(OR('Tabel A F'!C16<5,'Tabel A Br'!C16<0.5),"-",IFERROR('Tabel A Br'!C16/'Tabel A F'!C16*100,"-")) -> 3.7588265 | D16: =IF(OR('Tabel A F'!D16<5,'Tabel A Br'!D16<0.5),"-",IFERROR('Tabel A Br'!D16/'Tabel A F'!D16*100,"-")) -> 9.8541042 | E16: =IF(OR('Tabel A F'!E16<5,'Tabel A Br'!E16<0.5),"-",IFERROR('Tabel A Br'!E16/'Tabel A F'!E16*100,"-")) -> 3.447 | F16: =IF(OR('Tabel A F'!F16<5,'Tabel A Br'!F16<0.5),"-",IFERROR('Tabel A Br'!F16/'Tabel A F'!F16*100,"-")) -> 6.9370498 | G16: =IF(OR('Tabel A F'!G16<5,'Tabel A Br'!G16<0.5),"-",IFERROR('Tabel A Br'!G16/'Tabel A F'!G16*100,"-")) -> 2.694692 | H16: =IF(OR('Tabel A F'!H16<5,'Tabel A Br'!H16<0.5),"-",IFERROR('Tabel A Br'!H16/'Tabel A F'!H16*100,"-")) -> 6.8689763 | I16: =IF(OR('Tabel A F'!I16<5,'Tabel A Br'!I16<0.5),"-",IFERROR('Tabel A Br'!I16/'Tabel A F'!I16*100,"-")) -> 5.1634286 | K16: =IF(OR('Tabel A F'!K16<5,'Tabel A Br'!K16<0.5),"-",IFERROR('Tabel A Br'!K16/'Tabel A F'!K16*100,"-")) -> 6.6453021
A17: Agronom | B17: =IF(OR('Tabel A F'!B17<5,'Tabel A Br'!B17<0.5),"-",IFERROR('Tabel A Br'!B17/'Tabel A F'!B17*100,"-")) -> 2.0731667 | C17: =IF(OR('Tabel A F'!C17<5,'Tabel A Br'!C17<0.5),"-",IFERROR('Tabel A Br'!C17/'Tabel A F'!C17*100,"-")) -> 2.2079478 | D17: =IF(OR('Tabel A F'!D17<5,'Tabel A Br'!D17<0.5),"-",IFERROR('Tabel A Br'!D17/'Tabel A F'!D17*100,"-")) -> 3.4064913 | E17: =IF(OR('Tabel A F'!E17<5,'Tabel A Br'!E17<0.5),"-",IFERROR('Tabel A Br'!E17/'Tabel A F'!E17*100,"-")) -> 1.2468711 | F17: =IF(OR('Tabel A F'!F17<5,'Tabel A Br'!F17<0.5),"-",IFERROR('Tabel A Br'!F17/'Tabel A F'!F17*100,"-")) -> 2.3846667 | G17: =IF(OR('Tabel A F'!G17<5,'Tabel A Br'!G17<0.5),"-",IFERROR('Tabel A Br'!G17/'Tabel A F'!G17*100,"-")) -> 2.7066718 | H17: =IF(OR('Tabel A F'!H17<5,'Tabel A Br'!H17<0.5),"-",IFERROR('Tabel A Br'!H17/'Tabel A F'!H17*100,"-")) -> 5.4287017 | I17: =IF(OR('Tabel A F'!I17<5,'Tabel A Br'!I17<0.5),"-",IFERROR('Tabel A Br'!I17/'Tabel A F'!I17*100,"-")) -> 8.33175 | K17: =IF(OR('Tabel A F'!K17<5,'Tabel A Br'!K17<0.5),"-",IFERROR('Tabel A Br'!K17/'Tabel A F'!K17*100,"-")) -> 3.5389458
A18: Landsk. Arkt. | B18: =IF(OR('Tabel A F'!B18<5,'Tabel A Br'!B18<0.5),"-",IFERROR('Tabel A Br'!B18/'Tabel A F'!B18*100,"-")) -> 4.0925385 | C18: =IF(OR('Tabel A F'!C18<5,'Tabel A Br'!C18<0.5),"-",IFERROR('Tabel A Br'!C18/'Tabel A F'!C18*100,"-")) -> - | D18: =IF(OR('Tabel A F'!D18<5,'Tabel A Br'!D18<0.5),"-",IFERROR('Tabel A Br'!D18/'Tabel A F'!D18*100,"-")) -> 4.8977895 | E18: =IF(OR('Tabel A F'!E18<5,'Tabel A Br'!E18<0.5),"-",IFERROR('Tabel A Br'!E18/'Tabel A F'!E18*100,"-")) -> - | F18: =IF(OR('Tabel A F'!F18<5,'Tabel A Br'!F18<0.5),"-",IFERROR('Tabel A Br'!F18/'Tabel A F'!F18*100,"-")) -> 10.547429 | G18: =IF(OR('Tabel A F'!G18<5,'Tabel A Br'!G18<0.5),"-",IFERROR('Tabel A Br'!G18/'Tabel A F'!G18*100,"-")) -> 3.7040918 | H18: =IF(OR('Tabel A F'!H18<5,'Tabel A Br'!H18<0.5),"-",IFERROR('Tabel A Br'!H18/'Tabel A F'!H18*100,"-")) -> 7.0819487 | I18: =IF(OR('Tabel A F'!I18<5,'Tabel A Br'!I18<0.5),"-",IFERROR('Tabel A Br'!I18/'Tabel A F'!I18*100,"-")) -> - | K18: =IF(OR('Tabel A F'!K18<5,'Tabel A Br'!K18<0.5),"-",IFERROR('Tabel A Br'!K18/'Tabel A F'!K18*100,"-")) -> 6.1132075
A19: Hortonom | B19: =IF(OR('Tabel A F'!B19<5,'Tabel A Br'!B19<0.5),"-",IFERROR('Tabel A Br'!B19/'Tabel A F'!B19*100,"-")) -> - | C19: =IF(OR('Tabel A F'!C19<5,'Tabel A Br'!C19<0.5),"-",IFERROR('Tabel A Br'!C19/'Tabel A F'!C19*100,"-")) -> - | D19: =IF(OR('Tabel A F'!D19<5,'Tabel A Br'!D19<0.5),"-",IFERROR('Tabel A Br'!D19/'Tabel A F'!D19*100,"-")) -> - | E19: =IF(OR('Tabel A F'!E19<5,'Tabel A Br'!E19<0.5),"-",IFERROR('Tabel A Br'!E19/'Tabel A F'!E19*100,"-")) -> - | F19: =IF(OR('Tabel A F'!F19<5,'Tabel A Br'!F19<0.5),"-",IFERROR('Tabel A Br'!F19/'Tabel A F'!F19*100,"-")) -> 7.3157073 | G19: =IF(OR('Tabel A F'!G19<5,'Tabel A Br'!G19<0.5),"-",IFERROR('Tabel A Br'!G19/'Tabel A F'!G19*100,"-")) -> - | H19: =IF(OR('Tabel A F'!H19<5,'Tabel A Br'!H19<0.5),"-",IFERROR('Tabel A Br'!H19/'Tabel A F'!H19*100,"-")) -> 3.2917771 | I19: =IF(OR('Tabel A F'!I19<5,'Tabel A Br'!I19<0.5),"-",IFERROR('Tabel A Br'!I19/'Tabel A F'!I19*100,"-")) -> - | K19: =IF(OR('Tabel A F'!K19<5,'Tabel A Br'!K19<0.5),"-",IFERROR('Tabel A Br'!K19/'Tabel A F'!K19*100,"-")) -> 2.5208426
A20: Forstkand. | B20: =IF(OR('Tabel A F'!B20<5,'Tabel A Br'!B20<0.5),"-",IFERROR('Tabel A Br'!B20/'Tabel A F'!B20*100,"-")) -> - | C20: =IF(OR('Tabel A F'!C20<5,'Tabel A Br'!C20<0.5),"-",IFERROR('Tabel A Br'!C20/'Tabel A F'!C20*100,"-")) -> - | D20: =IF(OR('Tabel A F'!D20<5,'Tabel A Br'!D20<0.5),"-",IFERROR('Tabel A Br'!D20/'Tabel A F'!D20*100,"-")) -> 5.99888 | E20: =IF(OR('Tabel A F'!E20<5,'Tabel A Br'!E20<0.5),"-",IFERROR('Tabel A Br'!E20/'Tabel A F'!E20*100,"-")) -> 2.3251395 | F20: =IF(OR('Tabel A F'!F20<5,'Tabel A Br'!F20<0.5),"-",IFERROR('Tabel A Br'!F20/'Tabel A F'!F20*100,"-")) -> 3.703 | G20: =IF(OR('Tabel A F'!G20<5,'Tabel A Br'!G20<0.5),"-",IFERROR('Tabel A Br'!G20/'Tabel A F'!G20*100,"-")) -> 1.33308 | H20: =IF(OR('Tabel A F'!H20<5,'Tabel A Br'!H20<0.5),"-",IFERROR('Tabel A Br'!H20/'Tabel A F'!H20*100,"-")) -> 6.9149375 | I20: =IF(OR('Tabel A F'!I20<5,'Tabel A Br'!I20<0.5),"-",IFERROR('Tabel A Br'!I20/'Tabel A F'!I20*100,"-")) -> - | K20: =IF(OR('Tabel A F'!K20<5,'Tabel A Br'!K20<0.5),"-",IFERROR('Tabel A Br'!K20/'Tabel A F'!K20*100,"-")) -> 4.6472784
... A51: DJØF'ere i alt | B51: =IF(OR('Tabel A F'!B51<5,'Tabel A Br'!B51<0.5),"-",IFERROR('Tabel A Br'!B51/'Tabel A F'!B51*100,"-")) -> 5.8311007 | C51: =IF(OR('Tabel A F'!C51<5,'Tabel A Br'!C51<0.5),"-",IFERROR('Tabel A Br'!C51/'Tabel A F'!C51*100,"-")) -> 3.9028984 | D51: =IF(OR('Tabel A F'!D51<5,'Tabel A Br'!D51<0.5),"-",IFERROR('Tabel A Br'!D51/'Tabel A F'!D51*100,"-")) -> 4.4343539 | E51: =IF(OR('Tabel A F'!E51<5,'Tabel A Br'!E51<0.5),"-",IFERROR('Tabel A Br'!E51/'Tabel A F'!E51*100,"-")) -> 3.5207464 | F51: =IF(OR('Tabel A F'!F51<5,'Tabel A Br'!F51<0.5),"-",IFERROR('Tabel A Br'!F51/'Tabel A F'!F51*100,"-")) -> 5.849037 | G51: =IF(OR('Tabel A F'!G51<5,'Tabel A Br'!G51<0.5),"-",IFERROR('Tabel A Br'!G51/'Tabel A F'!G51*100,"-")) -> 3.1766822 | H51: =IF(OR('Tabel A F'!H51<5,'Tabel A Br'!H51<0.5),"-",IFERROR('Tabel A Br'!H51/'Tabel A F'!H51*100,"-")) -> 3.8014879 | I51: =IF(OR('Tabel A F'!I51<5,'Tabel A Br'!I51<0.5),"-",IFERROR('Tabel A Br'!I51/'Tabel A F'!I51*100,"-")) -> 2.9231719 | K51: =IF(OR('Tabel A F'!K51<5,'Tabel A Br'!K51<0.5),"-",IFERROR('Tabel A Br'!K51/'Tabel A F'!K51*100,"-")) -> 4.011173
A52: Se sidste del af statistikken for en oversigt over uddannelsesgrupperingernes indhold

Sheet Tabel B1
A3: Tabel A3 - Bruttoledigheden målt i fuldtidspersoner i de store kommuner
B5: Antal fuldtidspersoner | G5: Ledighedspct. | Y5: Bruttoledighed | Z5: Gennemsnitlig bruttoledighed
B6: København | C6: Århus | D6: Aalborg | E6: Odense | G6: København | H6: Århus | I6: Aalborg | J6: Odense | L6: Hele landet | T6: København | U6: Århus | V6: Aalborg | W6: Odense | X6: Hele | Y6: Hele | Z6: Hele
X7: Landet | Y7: Landet | Z7: Lande
A9: Civ. Ing. | B9: 186.66812 | C9: 76.22591 | D9: 106.55086 | E9: 52.43311 | G9: =IF(OR('Tabel B1'!T9<5,'Tabel B1'!B9<0.5),"-",IFERROR('Tabel B1'!B9/'Tabel B1'!T9*100,"-")) -> 3.2881473 | H9: =IF(OR('Tabel B1'!U9<5,'Tabel B1'!C9<0.5),"-",IFERROR('Tabel B1'!C9/'Tabel B1'!U9*100,"-")) -> 3.5636237 | I9: =IF(OR('Tabel B1'!V9<5,'Tabel B1'!D9<0.5),"-",IFERROR('Tabel B1'!D9/'Tabel B1'!V9*100,"-")) -> 4.0498236 | J9: =IF(OR('Tabel B1'!W9<5,'Tabel B1'!E9<0.5),"-",IFERROR('Tabel B1'!E9/'Tabel B1'!W9*100,"-")) -> 6.1397084 | L9: =IF(OR('Tabel B1'!X9<5,'Tabel B1'!Z9<0.5),"-",IFERROR('Tabel B1'!Z9/'Tabel B1'!X9*100,"-")) -> 2.765115 | R9: Civ. ing. | T9: 5677 | U9: 2139 | V9: 2631 | W9: 854 | X9: 31310 | Y9: 1058 | Z9: 865.7575
A10: Diplom Ing. | B10: 114.54188 | C10: 88.56608 | D10: 24.56371 | E10: 54.42774 | G10: =IF(OR('Tabel B1'!T10<5,'Tabel B1'!B10<0.5),"-",IFERROR('Tabel B1'!B10/'Tabel B1'!T10*100,"-")) -> 3.6110303 | H10: =IF(OR('Tabel B1'!U10<5,'Tabel B1'!C10<0.5),"-",IFERROR('Tabel B1'!C10/'Tabel B1'!U10*100,"-")) -> 3.0093809 | I10: =IF(OR('Tabel B1'!V10<5,'Tabel B1'!D10<0.5),"-",IFERROR('Tabel B1'!D10/'Tabel B1'!V10*100,"-")) -> 3.2448758 | J10: =IF(OR('Tabel B1'!W10<5,'Tabel B1'!E10<0.5),"-",IFERROR('Tabel B1'!E10/'Tabel B1'!W10*100,"-")) -> 3.1190682 | L10: =IF(OR('Tabel B1'!X10<5,'Tabel B1'!Z10<0.5),"-",IFERROR('Tabel B1'!Z10/'Tabel B1'!X10*100,"-")) -> 2.2965112 | R10: Diplom ing. | T10: 3172 | U10: 2943 | V10: 757 | W10: 1745 | X10: 33921 | Y10: 962 | Z10: 778.99956
A11: Cand.Scient.Tech. | B11: 525.52236 | C11: 201.74702 | D11: 148.40392 | E11: 123.82087 | G11: =IF(OR('Tabel B1'!T11<5,'Tabel B1'!B11<0.5),"-",IFERROR('Tabel B1'!B11/'Tabel B1'!T11*100,"-")) -> 9.8320367 | H11: =IF(OR('Tabel B1'!U11<5,'Tabel B1'!C11<0.5),"-",IFERROR('Tabel B1'!C11/'Tabel B1'!U11*100,"-")) -> 10.680096 | I11: =IF(OR('Tabel B1'!V11<5,'Tabel B1'!D11<0.5),"-",IFERROR('Tabel B1'!D11/'Tabel B1'!V11*100,"-")) -> 13.81787 | J11: =IF(OR('Tabel B1'!W11<5,'Tabel B1'!E11<0.5),"-",IFERROR('Tabel B1'!E11/'Tabel B1'!W11*100,"-")) -> 14.498931 | L11: =IF(OR('Tabel B1'!X11<5,'Tabel B1'!Z11<0.5),"-",IFERROR('Tabel B1'!Z11/'Tabel B1'!X11*100,"-")) -> 8.7609676 | R11: Cand.scient.tek. | T11: 5345 | U11: 1889 | V11: 1074 | W11: 854 | X11: 17553 | Y11: 1816 | Z11: 1537.8126
A12: MA. Hum. | B12: 1135.1263 | C12: 702.36512 | D12: 209.83783 | E12: 220.76343 | G12: =IF(OR('Tabel B1'!T12<5,'Tabel B1'!B12<0.5),"-",IFERROR('Tabel B1'!B12/'Tabel B1'!T12*100,"-")) -> 9.1831268 | H12: =IF(OR('Tabel B1'!U12<5,'Tabel B1'!C12<0.5),"-",IFERROR('Tabel B1'!C12/'Tabel B1'!U12*100,"-")) -> 12.85912 | I12: =IF(OR('Tabel B1'!V12<5,'Tabel B1'!D12<0.5),"-",IFERROR('Tabel B1'!D12/'Tabel B1'!V12*100,"-")) -> 10.963314 | J12: =IF(OR('Tabel B1'!W12<5,'Tabel B1'!E12<0.5),"-",IFERROR('Tabel B1'!E12/'Tabel B1'!W12*100,"-")) -> 10.695903 | L12: =IF(OR('Tabel B1'!X12<5,'Tabel B1'!Z12<0.5),"-",IFERROR('Tabel B1'!Z12/'Tabel B1'!X12*100,"-")) -> 8.5855674 | R12: MA. Hum. | T12: 12361 | U12: 5462 | V12: 1914 | W12: 2064 | X12: 40613 | Y12: 4135 | Z12: 3486.8565
A13: MA. Nat. | B13: 154.28803 | C13: 86.8858 | D13: 24.55311 | E13: 45.63837 | G13: =IF(OR('Tabel B1'!T13<5,'Tabel B1'!B13<0.5),"-",IFERROR('Tabel B1'!B13/'Tabel B1'!T13*100,"-")) -> 4.9979925 | H13: =IF(OR('Tabel B1'!U13<5,'Tabel B1'!C13<0.5),"-",IFERROR('Tabel B1'!C13/'Tabel B1'!U13*100,"-")) -> 4.9143552 | I13: =IF(OR('Tabel B1'!V13<5,'Tabel B1'!D13<0.5),"-",IFERROR('Tabel B1'!D13/'Tabel B1'!V13*100,"-")) -> 6.1229701 | J13: =IF(OR('Tabel B1'!W13<5,'Tabel B1'!E13<0.5),"-",IFERROR('Tabel B1'!E13/'Tabel B1'!W13*100,"-")) -> 6.3474784 | L13: =IF(OR('Tabel B1'!X13<5,'Tabel B1'!Z13<0.5),"-",IFERROR('Tabel B1'!Z13/'Tabel B1'!X13*100,"-")) -> 3.6483191 | R13: MA. Nat. | T13: 3087 | U13: 1768 | V13: 401 | W13: 719 | X13: 14770 | Y13: 646 | Z13: 538.85673
A14: MA. Ph.d. | B14: 34.77889 | C14: 20.57818 | D14: 1.44265 | E14: 2.56284 | G14: =IF(OR('Tabel B1'!T14<5,'Tabel B1'!B14<0.5),"-",IFERROR('Tabel B1'!B14/'Tabel B1'!T14*100,"-")) -> 5.4856293 | H14: =IF(OR('Tabel B1'!U14<5,'Tabel B1'!C14<0.5),"-",IFERROR('Tabel B1'!C14/'Tabel B1'!U14*100,"-")) -> 5.0313399 | I14: =IF(OR('Tabel B1'!V14<5,'Tabel B1'!D14<0.5),"-",IFERROR('Tabel B1'!D14/'Tabel B1'!V14*100,"-")) -> 2.4044167 | J14: =IF(OR('Tabel B1'!W14<5,'Tabel B1'!E14<0.5),"-",IFERROR('Tabel B1'!E14/'Tabel B1'!W14*100,"-")) -> 2.2093448 | L14: =IF(OR('Tabel B1'!X14<5,'Tabel B1'!Z14<0.5),"-",IFERROR('Tabel B1'!Z14/'Tabel B1'!X14*100,"-")) -> 4.2721936 | R14: MA. Ph.d. | T14: 634 | U14: 409 | V14: 60 | W14: 116 | X14: 2423 | Y14: 121 | Z14: 103.51525
A15: MA. Samf. | B15: 262.88717 | C15: 82.60338 | D15: 41.61479 | E15: 22.36824 | G15: =IF(OR('Tabel B1'!T15<5,'Tabel B1'!B15<0.5),"-",IFERROR('Tabel B1'!B15/'Tabel B1'!T15*100,"-")) -> 11.96029 | H15: =IF(OR('Tabel B1'!U15<5,'Tabel B1'!C15<0.5),"-",IFERROR('Tabel B1'!C15/'Tabel B1'!U15*100,"-")) -> 16.38956 | I15: =IF(OR('Tabel B1'!V15<5,'Tabel B1'!D15<0.5),"-",IFERROR('Tabel B1'!D15/'Tabel B1'!V15*100,"-")) -> 18.332507 | J15: =IF(OR('Tabel B1'!W15<5,'Tabel B1'!E15<0.5),"-",IFERROR('Tabel B1'!E15/'Tabel B1'!W15*100,"-")) -> 20.904897 | L15: =IF(OR('Tabel B1'!X15<5,'Tabel B1'!Z15<0.5),"-",IFERROR('Tabel B1'!Z15/'Tabel B1'!X15*100,"-")) -> 12.115617 | R15: MA. Samf. | T15: 2198 | U15: 504 | V15: 227 | W15: 107 | X15: 4906 | Y15: 701 | Z15: 594.39219
A16: Øvrige Mag. | B16: 74.6055 | C16: 40.78401 | D16: 9.86091 | E16: 7.05545 | G16: =IF(OR('Tabel B1'!T16<5,'Tabel B1'!B16<0.5),"-",IFERROR('Tabel B1'!B16/'Tabel B1'!T16*100,"-")) -> 8.2895 | H16: =IF(OR('Tabel B1'!U16<5,'Tabel B1'!C16<0.5),"-",IFERROR('Tabel B1'!C16/'Tabel B1'!U16*100,"-")) -> 11.855817 | I16: =IF(OR('Tabel B1'!V16<5,'Tabel B1'!D16<0.5),"-",IFERROR('Tabel B1'!D16/'Tabel B1'!V16*100,"-")) -> 8.4281282 | J16: =IF(OR('Tabel B1'!W16<5,'Tabel B1'!E16<0.5),"-",IFERROR('Tabel B1'!E16/'Tabel B1'!W16*100,"-")) -> 5.4693411 | L16: =IF(OR('Tabel B1'!X16<5,'Tabel B1'!Z16<0.5),"-",IFERROR('Tabel B1'!Z16/'Tabel B1'!X16*100,"-")) -> 6.6453021 | R16: Øvrige Mag. | T16: 900 | U16: 344 | V16: 117 | W16: 129 | X16: 3218 | Y16: 256 | Z16: 213.84582
A17: Agronom | B17: 21.7832 | C17: 4.36849 | D17: 1.99963 | E17: 1.99963 | G17: =IF(OR('Tabel B1'!T17<5,'Tabel B1'!B17<0.5),"-",IFERROR('Tabel B1'!B17/'Tabel B1'!T17*100,"-")) -> 7.6701408 | H17: =IF(OR('Tabel B1'!U17<5,'Tabel B1'!C17<0.5),"-",IFERROR('Tabel B1'!C17/'Tabel B1'!U17*100,"-")) -> 5.3931975 | I17: =IF(OR('Tabel B1'!V17<5,'Tabel B1'!D17<0.5),"-",IFERROR('Tabel B1'!D17/'Tabel B1'!V17*100,"-")) -> 5.4044054 | J17: =IF(OR('Tabel B1'!W17<5,'Tabel B1'!E17<0.5),"-",IFERROR('Tabel B1'!E17/'Tabel B1'!W17*100,"-")) -> 5.7132286 | L17: =IF(OR('Tabel B1'!X17<5,'Tabel B1'!Z17<0.5),"-",IFERROR('Tabel B1'!Z17/'Tabel B1'!X17*100,"-")) -> 3.5389458 | R17: Agronom | T17: 284 | U17: 81 | V17: 37 | W17: 35 | X17: 2380 | Y17: 101 | Z17: 84.22691
A18: Landsk. Arkt. | B18: 24.3766 | C18: 0.99981 | D18: 0 | E18: 0.99981 | G18: =IF(OR('Tabel B1'!T18<5,'Tabel B1'!B18<0.5),"-",IFERROR('Tabel B1'!B18/'Tabel B1'!T18*100,"-")) -> 9.7117928 | H18: =IF(OR('Tabel B1'!U18<5,'Tabel B1'!C18<0.5),"-",IFERROR('Tabel B1'!C18/'Tabel B1'!U18*100,"-")) -> 5.5545 | I18: =IF(OR('Tabel B1'!V18<5,'Tabel B1'!D18<0.5),"-",IFERROR('Tabel B1'!D18/'Tabel B1'!V18*100,"-")) -> - | J18: =IF(OR('Tabel B1'!W18<5,'Tabel B1'!E18<0.5),"-",IFERROR('Tabel B1'!E18/'Tabel B1'!W18*100,"-")) -> 11.109 | L18: =IF(OR('Tabel B1'!X18<5,'Tabel B1'!Z18<0.5),"-",IFERROR('Tabel B1'!Z18/'Tabel B1'!X18*100,"-")) -> 6.1132075 | R18: Landsk. Arkt. | T18: 251 | U18: 18 | V18: 4 | W18: 9 | X18: 689 | Y18: 50 | Z18: 42.12
A19: Hortonom | B19: 1.95347 | C19: 0 | D19: 0 | E19: 0 | G19: =IF(OR('Tabel B1'!T19<5,'Tabel B1'!B19<0.5),"-",IFERROR('Tabel B1'!B19/'Tabel B1'!T19*100,"-")) -> 3.6857925 | H19: =IF(OR('Tabel B1'!U19<5,'Tabel B1'!C19<0.5),"-",IFERROR('Tabel B1'!C19/'Tabel B1'!U19*100,"-")) -> - | I19: =IF(OR('Tabel B1'!V19<5,'Tabel B1'!D19<0.5),"-",IFERROR('Tabel B1'!D19/'Tabel B1'!V19*100,"-")) -> - | J19: =IF(OR('Tabel B1'!W19<5,'Tabel B1'!E19<0.5),"-",IFERROR('Tabel B1'!E19/'Tabel B1'!W19*100,"-")) -> - | L19: =IF(OR('Tabel B1'!X19<5,'Tabel B1'!Z19<0.5),"-",IFERROR('Tabel B1'!Z19/'Tabel B1'!X19*100,"-")) -> 2.5208426 | R19: Hortonom | T19: 53 | U19: 9 | V19: 2 | W19: 18 | X19: 324 | Y19: 9 | Z19: 8.16753
A20: Forstkand. | B20: 11.11271 | C20: 1.99963 | D20: 0 | E20: 0.99981 | G20: =IF(OR('Tabel B1'!T20<5,'Tabel B1'!B20<0.5),"-",IFERROR('Tabel B1'!B20/'Tabel B1'!T20*100,"-")) -> 13.388807 | H20: =IF(OR('Tabel B1'!U20<5,'Tabel B1'!C20<0.5),"-",IFERROR('Tabel B1'!C20/'Tabel B1'!U20*100,"-")) -> 24.995375 | I20: =IF(OR('Tabel B1'!V20<5,'Tabel B1'!D20<0.5),"-",IFERROR('Tabel B1'!D20/'Tabel B1'!V20*100,"-")) -> - | J20: =IF(OR('Tabel B1'!W20<5,'Tabel B1'!E20<0.5),"-",IFERROR('Tabel B1'!E20/'Tabel B1'!W20*100,"-")) -> 19.9962 | L20: =IF(OR('Tabel B1'!X20<5,'Tabel B1'!Z20<0.5),"-",IFERROR('Tabel B1'!Z20/'Tabel B1'!X20*100,"-")) -> 4.6472784 | R20: Forstkand. | T20: 83 | U20: 8 | V20: 4 | W20: 5 | X20: 510 | Y20: 26 | Z20: 23.70112
... A45: Andre | B45: 522.5959 | C45: 111.03474 | D45: 40.19273 | E45: 45.65459 | G45: =IF(OR('Tabel B1'!T45<5,'Tabel B1'!B45<0.5),"-",IFERROR('Tabel B1'!B45/'Tabel B1'!T45*100,"-")) -> 7.7295652 | H45: =IF(OR('Tabel B1'!U45<5,'Tabel B1'!C45<0.5),"-",IFERROR('Tabel B1'!C45/'Tabel B1'!U45*100,"-")) -> 6.6170882 | I45: =IF(OR('Tabel B1'!V45<5,'Tabel B1'!D45<0.5),"-",IFERROR('Tabel B1'!D45/'Tabel B1'!V45*100,"-")) -> 6.1456774 | J45: =IF(OR('Tabel B1'!W45<5,'Tabel B1'!E45<0.5),"-",IFERROR('Tabel B1'!E45/'Tabel B1'!W45*100,"-")) -> 6.3321207 | L45: =IF(OR('Tabel B1'!X45<5,'Tabel B1'!Z45<0.5),"-",IFERROR('Tabel B1'!Z45/'Tabel B1'!X45*100,"-")) -> 6.013399 | R45: Andre | T45: 6761 | U45: 1678 | V45: 654 | W45: 721 | X45: 22065 | Y45: 1613 | Z45: 1326.8565
A47: Total | B47: =SUM(B9:B45)-SUM(B17:B20) -> 5425.4987 | C47: =SUM(C9:C45)-SUM(C17:C20) -> 2412.1618 | D47: =SUM(D9:D45)-SUM(D17:D20) -> 1066.0438 | E47: =SUM(E9:E45)-SUM(E17:E20) -> 975.35398 | F47: =SUM(F9:F45)-SUM(F17:F20) -> 0 | G47: =IF(OR('Tabel B1'!T47<5,'Tabel B1'!B47<0.5),"-",IFERROR('Tabel B1'!B47/'Tabel B1'!T47*100,"-")) -> 6.3878244 | H47: =IF(OR('Tabel B1'!U47<5,'Tabel B1'!C47<0.5),"-",IFERROR('Tabel B1'!C47/'Tabel B1'!U47*100,"-")) -> 7.0582642 | I47: =IF(OR('Tabel B1'!V47<5,'Tabel B1'!D47<0.5),"-",IFERROR('Tabel B1'!D47/'Tabel B1'!V47*100,"-")) -> 7.5810253 | J47: =IF(OR('Tabel B1'!W47<5,'Tabel B1'!E47<0.5),"-",IFERROR('Tabel B1'!E47/'Tabel B1'!W47*100,"-")) -> 7.3406637 | L47: =IF(OR('Tabel B1'!X47<5,'Tabel B1'!Z47<0.5),"-",IFERROR('Tabel B1'!Z47/'Tabel B1'!X47*100,"-")) -> 4.9655989 | R47: Total | T47: 84935 | U47: 34175 | V47: 14062 | W47: 13287 | X47: 333841 | Y47: 19931 | Z47: 16577.205
A49: Ingeniører i alt | B49: 301.21 | C49: 164.79199 | D49: 131.11458 | E49: 106.86085 | G49: =IF(OR('Tabel B1'!T49<5,'Tabel B1'!B49<0.5),"-",IFERROR('Tabel B1'!B49/'Tabel B1'!T49*100,"-")) -> 3.4038874 | H49: =IF(OR('Tabel B1'!U49<5,'Tabel B1'!C49<0.5),"-",IFERROR('Tabel B1'!C49/'Tabel B1'!U49*100,"-")) -> 3.2426602 | I49: =IF(OR('Tabel B1'!V49<5,'Tabel B1'!D49<0.5),"-",IFERROR('Tabel B1'!D49/'Tabel B1'!V49*100,"-")) -> 3.8699699 | J49: =IF(OR('Tabel B1'!W49<5,'Tabel B1'!E49<0.5),"-",IFERROR('Tabel B1'!E49/'Tabel B1'!W49*100,"-")) -> 4.1116141 | L49: =IF(OR('Tabel B1'!X49<5,'Tabel B1'!Z49<0.5),"-",IFERROR('Tabel B1'!Z49/'Tabel B1'!X49*100,"-")) -> 2.5214347 | R49: Ing | T49: 8849 | U49: 5082 | V49: 3388 | W49: 2599 | X49: 65231 | Y49: 2020 | Z49: 1644.7571
A50: Magistre i alt | B50: 1661.6859 | C50: 933.21649 | D50: 287.3093 | E50: 298.38832 | G50: =IF(OR('Tabel B1'!T50<5,'Tabel B1'!B50<0.5),"-",IFERROR('Tabel B1'!B50/'Tabel B1'!T50*100,"-")) -> 8.6636387 | H50: =IF(OR('Tabel B1'!U50<5,'Tabel B1'!C50<0.5),"-",IFERROR('Tabel B1'!C50/'Tabel B1'!U50*100,"-")) -> 10.995835 | I50: =IF(OR('Tabel B1'!V50<5,'Tabel B1'!D50<0.5),"-",IFERROR('Tabel B1'!D50/'Tabel B1'!V50*100,"-")) -> 10.566727 | J50: =IF(OR('Tabel B1'!W50<5,'Tabel B1'!E50<0.5),"-",IFERROR('Tabel B1'!E50/'Tabel B1'!W50*100,"-")) -> 9.5179687 | L50: =IF(OR('Tabel B1'!X50<5,'Tabel B1'!Z50<0.5),"-",IFERROR('Tabel B1'!Z50/'Tabel B1'!X50*100,"-")) -> 7.4889526 | R50: Mag | T50: 19180 | U50: 8487 | V50: 2719 | W50: 3135 | X50: 65930 | Y50: 5859 | Z50: 4937.4665
A51: DJØF'ere i alt | B51: 1295.3814 | C51: 449.66444 | D51: 222.87969 | E51: 200.43785 | G51: =IF(OR('Tabel B1'!T51<5,'Tabel B1'!B51<0.5),"-",IFERROR('Tabel B1'!B51/'Tabel B1'!T51*100,"-")) -> 4.7552638 | H51: =IF(OR('Tabel B1'!U51<5,'Tabel B1'!C51<0.5),"-",IFERROR('Tabel B1'!C51/'Tabel B1'!U51*100,"-")) -> 5.064359 | I51: =IF(OR('Tabel B1'!V51<5,'Tabel B1'!D51<0.5),"-",IFERROR('Tabel B1'!D51/'Tabel B1'!V51*100,"-")) -> 6.7294592 | J51: =IF(OR('Tabel B1'!W51<5,'Tabel B1'!E51<0.5),"-",IFERROR('Tabel B1'!E51/'Tabel B1'!W51*100,"-")) -> 6.457405 | L51: =IF(OR('Tabel B1'!X51<5,'Tabel B1'!Z51<0.5),"-",IFERROR('Tabel B1'!Z51/'Tabel B1'!X51*100,"-")) -> 4.011173 | R51: Djøf | T51: 27241 | U51: 8879 | V51: 3312 | W51: 3104 | X51: 91532 | Y51: 4317 | Z51: 3671.5069
A52: Se sidste del af statistikken for en oversigt over uddannelsesgrupperingernes indhold | R52: Jord. | T52: 671 | U52: 116 | V52: 47 | W52: 67 | X52: 3903 | Y52: 186 | Z52: 158.21556

Sheet Udd.oversigt
A3: Oversigt over uddannelsesgrupperingernes indhold
C7: Indhold
A9: Civ. Ing. | C9: Civilingeniører og levnedsmiddelingeniører
A10: Diplom Ing. | C10: Diplomingeniører, akademiingeniører og teknikumingeniører
A11: Cand.Scient.Tech. | C11: Kandidater indenfor det tekniske naturvidenskabelige område (Ny katagori oprettet i januar 2015)
A12: MA.Hum. | C12: Kandidatretninger indenfor det humanistiske område
A13: MA.Nat | C13: Kandidatretninger indenfor biologi, geologi, geografi og legemsøvelser, matematik, datalogi, fysik, kemi og biokemi | AA13: <
A14: MA.Ph.d. | C14: Medlemmer af Magistrenes A-kasse med en Ph.d.-grad
A15: Mag.Samf. | C15: Kandidatretninger indenfor kultursociologi, antropologi, samfundsfag og aktuarer
A16: Øvrige Mag. | C16: Medlemmer af Magistrenes Arbejdsløshedskasse, som ikke kan placeres under de andre magisterkategorier
A17: Jordbrugsakad. | C17: Bachelorer og kandidater uddannet fra KULIFE (tidligere KVL) - Cand.agro., cand.silv., cand.hort., cand.hort.arch., cand.oecon.agro., cand.scient., cand.scient.oecon. med mange forskellige tillægstitler inden for de nævnte kandidattitler.
A18: Mejeriing. | C18: Cand.lact.
A19: Levn.m.kand. | C19: Levnedsmiddelkandidater (tidligere bromatologer)
A20: Dyrlæge | C20: Cand.med.vet.
A21: Farmaceut | B21: 0 | C21: Cand. pharm., cand.psych., cand. scient lægemiddelvidenskab, cand. scient medicinalkemi, cand. scient medicinalbiologi, cand. scient molekylær medicin, humanbiologer, Ph.d. farmaceuter
A22: Læge | C22: Cand.med.
A23: Tandlæge | C23: Cand.odont.
A24: Arkitekt | C24: Cand.arch.
A25: Landinspek. | C25: Cand.geom.
A26: Bibliotekar | C26: Bibliotekar D.B. og cand.scient.bibl.
A27: Musikudd. | C27: Musikuddannede kandidater
A28: Teolog | C28: Cand.teol.
A29: Psykolog | C29: Cand.psych.
A30: Jurist | C30: Cand.jur.
A31: Økonom | C31: Cand.oecon., cand.polit. og cand.scient.oecon.
A32: Samf.Adm. | C32: Cand.scient.pol., cand.rer.soc., cand.tech.soc., cand. scient.adm., cand.adm.pol., cand.negot., cand.comm., kand.-samf. og cand.-scient.soc.
A33: Cand.Merc. | C33: Alle retninger indenfor cand.merc-uddannelserne.
... A41: Andre | C41: Kiropraktorer og medlemmer af AAK, CA og IAK som ikke kan placeres indenfor en af de øvrige uddannelseskategorier. Cand.design, ph.d. i arkitektur og design samt master of architecture and design indgår også her
B47: =SUM(B9:B45)-SUM(B17:B20) -> 0
