Workbook
Name _Toc364257418: Udd.oversigt!$A$3

Sheet Nøgletalstabeller
A1: Nøgletal 1: Ledighed (sæsonkorrigeret)
C3: Seneste udvikling | M3: Årlig udvikling
C4: Fuldtidspersoner | H4: Ledighedspct. | M4: Fuldtidspersoner | P4: Ledighedspct.
C5: 2020 | D5: 2020 | E5: 2020 | F5: 2020 | H5: 2020 | I5: 2020 | J5: 2020 | K5: 2020 | M5: 2019 | N5: 2020 | P5: 2019 | Q5: 2020
C6: Juli | D6: Aug | E6: Sep | F6: Okt | H6: Juli | I6: Aug | J6: Sep | K6: Okt | M6: Okt | N6: Okt | P6: Okt | Q6: Okt
A8: Bruttoledighed | C8: 22703.882 | D8: 22338.677 | E8: 21864.615 | F8: 21265.651 | H8: 6.4770775 | I8: 6.3266481 | J8: 6.1541404 | K8: 5.9673246 | M8: 16787.884 | N8: =F8 -> 21265.651 | P8: 5.0506458 | Q8: =K8 -> 5.9673246
A9: Fordelt på kandidatalder
A10: Kandidatalder
A11: - op til 1 år | C11: 7534.9297 | D11: 7235.6626 | E11: 7076.4664 | F11: 6779.1892 | H11: 34.103994 | I11: 33.639154 | J11: 32.915106 | K11: 31.702309 | M11: 6109.5978 | N11: =F11 -> 6779.1892 | P11: 31.046838 | Q11: =K11 -> 31.702309
A12: - mellem 1 - 2 år | C12: 3221.5824 | D12: 2989.0704 | E12: 2904.4638 | F12: 2811.9862 | H12: 16.697466 | I12: 15.929967 | J12: 14.989667 | K12: 14.609923 | M12: 2350.8365 | N12: =F12 -> 2811.9862 | P12: 13.305184 | Q12: =K12 -> 14.609923
A13: - øvrige | C13: 10958.275 | D13: 10832.805 | E13: 10663.483 | F13: 10490.699 | H13: 3.9746447 | I13: 3.9070215 | J13: 3.8407288 | K13: 3.77167 | M13: 7310.4344 | N13: =F13 -> 10490.699 | P13: 2.8027982 | Q13: =K13 -> 3.77167
A15: Fordelt på akademiske hovedgrupper
A16: DJØF'ere | C16: 5237.5454 | D16: 5269.7608 | E16: 5129.9491 | F16: 4913.4198 | H16: 5.5506056 | I16: 5.5494961 | J16: 5.3987315 | K16: 5.1453624 | M16: 3934.9485 | N16: =F16 -> 4913.4198 | P16: 4.3293192 | Q16: =K16 -> 5.1453624
A17: - kandidatalder op til 1 år | C17: 2052.2003 | D17: 1870.7105 | E17: 1810.9008 | F17: 1667.5215 | H17: 34.7683 | I17: 31.196108 | J17: 29.933345 | K17: 28.335673 | M17: 1467.7035 | N17: =F17 -> 1667.5215 | P17: 26.523021 | Q17: =K17 -> 28.335673
A18: - øvrige | C18: 2981.3176 | D18: 3021.9732 | E18: 2954.4441 | F18: 2855.5563 | H18: 3.8821032 | I18: 3.9402821 | J18: 3.8447829 | K18: 3.709416 | M18: 2189.697 | N18: =F18 -> 2855.5563 | P18: 2.974237 | Q18: =K18 -> 3.709416
A20: Magistre | C20: 6349.7686 | D20: 6207.4207 | E20: 5992.1535 | F20: 5877.5809 | H20: 9.4249943 | I20: 9.2194794 | J20: 8.7816538 | K20: 8.650556 | M20: 4793.3188 | N20: =F20 -> 5877.5809 | P20: 7.2999603 | Q20: =K20 -> 8.650556
A21: - kandidatalder op til 1 år | B21: 21049 | C21: 1675.1057 | D21: 1720.4934 | E21: 1681.9898 | F21: 1635.3396 | H21: 47.16916 | I21: 47.296982 | J21: 45.314866 | K21: 43.849073 | M21: 1577.7086 | N21: =F21 -> 1635.3396 | P21: 42.361702 | Q21: =K21 -> 43.849073
A22: - øvrige | C22: 4424.7456 | D22: 4194.0674 | E22: 4082.1128 | F22: 4056.2216 | H22: 7.4095186 | I22: 7.0813579 | J22: 6.8068645 | K22: 6.7949633 | M22: 3019.3522 | N22: =F22 -> 4056.2216 | P22: 5.2418773 | Q22: =K22 -> 6.7949633
A24: Ingeniører | C24: 2406.1978 | D24: 2442.9366 | E24: 2441.2224 | F24: 2415.6641 | H24: 3.6241852 | I24: 3.6721932 | J24: 3.661546 | K24: 3.6216162 | M24: 1714.7196 | N24: =F24 -> 2415.6641 | P24: 2.6432783 | Q24: =K24 -> 3.6216162
A25: - kandidatalder op til 1 år | C25: 860.20495 | D25: 861.46418 | E25: 880.3012 | F25: 849.96402 | H25: 31.663534 | I25: 31.600009 | J25: 32.007646 | K25: 31.625875 | M25: 669.29631 | N25: =F25 -> 849.96402 | P25: 26.925113 | Q25: =K25 -> 31.625875
A26: - øvrige | C26: 1496.8544 | D26: 1542.6196 | E26: 1512.0417 | F26: 1510.517 | H26: 2.4254591 | I26: 2.4972089 | J26: 2.4439295 | K26: 2.4388871 | M26: 1005.2241 | N26: =F26 -> 1510.517 | P26: 1.6569474 | Q26: =K26 -> 2.4388871
A28: Nøgletal 2: Ledighed (ikke sæsonkorrigeret)
C30: Seneste udvikling | M30: Årlig udvikling
C31: Fuldtidspersoner | H31: Ledighedspct. | M31: Fuldtidspersoner | P31: Ledighedspct.
C32: 2020 | D32: 2020 | E32: 2020 | F32: 2020 | H32: 2020 | I32: 2020 | J32: 2020 | K32: 2020 | M32: 2019 | N32: 2020 | P32: 2019 | Q32: 2020
C33: Juli | D33: Aug | E33: Sep | F33: Okt | H33: Juli | I33: Aug | J33: Sep | K33: Okt | M33: Okt | N33: Okt | P33: Okt | Q33: Okt
A35: Bruttoledighed | C35: 24230.304 | D35: 25284.274 | E35: 23600.631 | F35: 22266.748 | H35: 6.8041818 | I35: 7.108854 | J35: 6.6220061 | K35: 6.2489646 | M35: 17589.144 | N35: =F35 -> 22266.748 | P35: 5.2902228 | Q35: =K35 -> 6.2489646
A36: Fordelt på kandidatalder
A37: Kandidatalder
A38: - op til 1 år | C38: 9380.4758 | D38: 8984.6794 | E38: 7926.7932 | F38: 7393.949 | H38: 40.333989 | I38: 40.067247 | J38: 35.962223 | K38: 33.490121 | M38: 6704.8706 | N38: =F38 -> 7393.949 | P38: 33.051713 | Q38: =K38 -> 33.490121
A39: - mellem 1 - 2 år | C39: 3440.9583 | D39: 3264.2553 | E39: 3127.7346 | F39: 2938.5285 | H39: 17.223737 | I39: 17.1325 | J39: 15.881662 | K39: 15.207413 | M39: 2449.5896 | N39: =F39 -> 2938.5285 | P39: 13.808284 | Q39: =K39 -> 15.207413
A40: - øvrige | C40: 10029.415 | D40: 11397.86 | E40: 11226.089 | F40: 10695.354 | H40: 3.6187416 | I40: 4.0977682 | J40: 4.0282357 | K40: 3.8372838 | M40: 7449.4649 | N40: =F40 -> 10695.354 | P40: 2.850237 | Q40: =K40 -> 3.8372838
A42: Fordelt på akademiske hovedgrupper
A43: DJØF'ere | C43: 5934.1121 | D43: 6285.1438 | E43: 5590.184 | F43: 5168.8973 | H43: 6.1988657 | I43: 6.5582284 | J43: 5.8342907 | K43: 5.3796169 | M43: 4165.9184 | N43: =F43 -> 5168.8973 | P43: 4.552369 | Q43: =K43 -> 5.3796169
A44: - kandidatalder op til 1 år | C44: 2711.4813 | D44: 2601.1826 | E44: 2064.893 | F44: 1851.1763 | H44: 42.215185 | I44: 41.459716 | J44: 33.591883 | K44: 30.198635 | M44: 1639.5834 | N44: =F44 -> 1851.1763 | P44: 28.317502 | Q44: =K44 -> 30.198635
A45: - øvrige | C45: 2855.193 | D45: 3208.9871 | E45: 3147.8195 | F45: 2966.806 | H45: 3.6984366 | I45: 4.1545126 | J45: 4.0664249 | K45: 3.8261126 | M45: 2274.8668 | N45: =F45 -> 2966.806 | P45: 3.067967 | Q45: =K45 -> 3.8261126
A47: Magistre | B47: =SUM(B9:B45)-SUM(B17:B20) -> 21049 | C47: 6409.4318 | D47: 6619.4773 | E47: 6397.4122 | F47: 6221.4589 | G47: 0 | H47: 9.4357646 | I47: 9.7704462 | J47: 9.3422883 | K47: 9.1420788 | M47: 5067.6717 | N47: =F47 -> 6221.4589 | P47: 7.7045559 | Q47: =K47 -> 9.1420788
A48: - kandidatalder op til 1 år | C48: 1891.656 | D48: 1847.3879 | E48: 1778.2318 | F48: 1807.9392 | H48: 50.66031 | I48: 48.034006 | J48: 47.609954 | K48: 47.930521 | M48: 1750.3586 | N48: =F48 -> 1807.9392 | P48: 46.220191 | Q48: =K48 -> 47.930521
A49: - øvrige | B49: 3113.8913 | C49: 4222.8672 | D49: 4484.371 | E49: 4388.4819 | F49: 4195.5086 | H49: 7.0967787 | I49: 7.5386585 | J49: 7.2697907 | K49: 6.9971792 | M49: 3113.8913 | N49: =F49 -> 4195.5086 | P49: 5.3842812 | Q49: =K49 -> 6.9971792
A51: Ingeniører | C51: 2613.9306 | D51: 2847.1209 | E51: 2679.1256 | F51: 2480.2008 | H51: 3.9111962 | I51: 4.261264 | J51: 4.0114477 | K51: 3.7161021 | M51: 1764.2593 | N51: =F51 -> 2480.2008 | P51: 2.7177155 | Q51: =K51 -> 3.7161021
A52: - kandidatalder op til 1 år | C52: 1143.925 | D52: 1132.3988 | E52: 1022.9502 | F52: 882.23726 | H52: 39.692055 | I52: 41.103405 | J52: 36.691182 | K52: 31.780881 | M52: 699.86029 | N52: =F52 -> 882.23726 | P52: 27.094862 | Q52: =K52 -> 31.780881
A53: - øvrige | C53: 1400.8745 | D53: 1623.7741 | E53: 1605.5298 | F53: 1553.562 | H53: 2.2600581 | I53: 2.6186526 | J53: 2.5902327 | K53: 2.50878 | M53: 1034.4402 | N53: =F53 -> 1553.562 | P53: 1.7055054 | Q53: =K53 -> 2.50878

Sheet Efterløn
A1: Efterlønsmodtagere i forhold til samlet antal medlemmer
D4: I alt | J4: Mænd | P4: Kvinder
B6: Alder | D6: Antal Medlemmer i a-kasse | F6: Antal på efterløn | H6: Pct. på efterløn | J6: Antal Medlemmer i a-kasse | L6: Antal på efterløn | N6: Pct. på efterløn | P6: Antal Medlemmer i a-kasse | R6: Antal på efterløn | T6: Pct. på efterløn
B9: 60 år | D9: 4530 | F9: 0 | H9: =IF(D9<10,"-",F9/D9*100) -> 0 | J9: 2806 | L9: 0 | N9: =IF(J9<10,"-",L9/J9*100) -> 0 | P9: 1724 | R9: 0 | T9: =IF(P9<10,"-",R9/P9*100) -> 0
B10: 61 år | D10: 4282 | F10: 0 | H10: =IF(D10<10,"-",F10/D10*100) -> 0 | J10: 2678 | L10: 0 | N10: =IF(J10<10,"-",L10/J10*100) -> 0 | P10: 1604 | R10: 0 | T10: =IF(P10<10,"-",R10/P10*100) -> 0
B11: 62 år | D11: 4149 | F11: 0 | H11: =IF(D11<10,"-",F11/D11*100) -> 0 | J11: 2585 | L11: 0 | N11: =IF(J11<10,"-",L11/J11*100) -> 0 | P11: 1564 | R11: 0 | T11: =IF(P11<10,"-",R11/P11*100) -> 0
B12: 63 år | D12: 3978 | F12: 265 | H12: =IF(D12<10,"-",F12/D12*100) -> 6.661639 | J12: 2511 | L12: 107 | N12: =IF(J12<10,"-",L12/J12*100) -> 4.2612505 | P12: 1467 | R12: 158 | T12: =IF(P12<10,"-",R12/P12*100) -> 10.770279
B13: 64 år | D13: 3575 | F13: 542 | H13: =IF(D13<10,"-",F13/D13*100) -> 15.160839 | J13: 2274 | L13: 263 | N13: =IF(J13<10,"-",L13/J13*100) -> 11.565523 | P13: 1301 | R13: 279 | T13: =IF(P13<10,"-",R13/P13*100) -> 21.445042
B14: 65 år | D14: 3633 | F14: 1229 | H14: =IF(D14<10,"-",F14/D14*100) -> 33.828792 | J14: 2348 | L14: 636 | N14: =IF(J14<10,"-",L14/J14*100) -> 27.086882 | P14: 1285 | R14: 593 | T14: =IF(P14<10,"-",R14/P14*100) -> 46.14786
B15: 66 år + | D15: 347 | F15: 121 | H15: =IF(D15<10,"-",F15/D15*100) -> 34.870317 | J15: 248 | L15: 73 | N15: =IF(J15<10,"-",L15/J15*100) -> 29.435484 | P15: 99 | R15: 48 | T15: =IF(P15<10,"-",R15/P15*100) -> 48.484848
B17: Total | D17: 1 | F17: 0 | H17: =IF(D17<10,"-",F17/D17*100) -> - | J17: 1 | L17: 0 | N17: =IF(J17<10,"-",L17/J17*100) -> - | P17: 0 | R17: 0 | T17: =IF(P17<10,"-",R17/P17*100) -> -

Sheet Tabel 1
A1: Landstatistik | N1: Landstatistik
A3: Tabel 1. Forsikrede medlemmer | N3: Tabel 1. Forsikrede medlemmer inkl. efterlønnere
C6: Mænd | F6: Kvinder | I6: I alt | P6: Mænd | S6: Kvinder | V6: I alt
C7: =Nøgletalstabeller!$M$5 -> 2019 | D7: =Nøgletalstabeller!$N$5 -> 2020 | F7: =Nøgletalstabeller!$M$5 -> 2019 | G7: =Nøgletalstabeller!$N$5 -> 2020 | I7: =Nøgletalstabeller!$M$5 -> 2019 | J7: =Nøgletalstabeller!$N$5 -> 2020 | P7: =Nøgletalstabeller!$M$5 -> 2019 | Q7: =Nøgletalstabeller!$N$5 -> 2020 | S7: =Nøgletalstabeller!$M$5 -> 2019 | T7: =Nøgletalstabeller!$N$5 -> 2020 | V7: =Nøgletalstabeller!$M$5 -> 2019 | W7: =Nøgletalstabeller!$N$5 -> 2020
A9: Civ. Ing. | C9: 23067 | D9: 24052 | F9: 8136 | G9: 8631 | I9: 31203 | J9: =D9+G9 -> 32683 | N9: Civ. Ing. | P9: 23151 | Q9: 24139 | S9: 8155 | T9: 8652 | V9: 31306 | W9: =Q9+T9 -> 32791
A10: Diplom Ing. | C10: 27441 | D10: 27653 | F10: 6273 | G10: 6406 | I10: 33714 | J10: =D10+G10 -> 34059 | N10: Diplom Ing. | P10: 27714 | Q10: 27938 | S10: 6293 | T10: 6433 | V10: 34007 | W10: =Q10+T10 -> 34371
A11: Cand.Scient.Tech. | C11: 9505 | D11: 10458 | F11: 7757 | G11: 8582 | I11: 17262 | J11: =D11+G11 -> 19040 | N11: Cand.Scient.Tech. | P11: 9513 | Q11: 10466 | S11: 7761 | T11: 8585 | V11: 17274 | W11: =Q11+T11 -> 19051
A12: MA. Hum. | C12: 12896 | D12: 13201 | F12: 27569 | G12: 28655 | I12: 40465 | J12: =D12+G12 -> 41856 | N12: MA. Hum. | P12: 13018 | Q12: 13323 | S12: 27760 | T12: 28861 | V12: 40778 | W12: =Q12+T12 -> 42184
A13: MA. Nat. | C13: 7746 | D13: 7694 | F13: 7122 | G13: 7173 | I13: 14868 | J13: =D13+G13 -> 14867 | N13: MA. Nat. | P13: 7843 | Q13: 7787 | S13: 7172 | T13: 7222 | V13: 15015 | W13: =Q13+T13 -> 15009
A14: MA. Ph.d. | C14: 1336 | D14: 1380 | F14: 1076 | G14: 1118 | I14: 2412 | J14: =D14+G14 -> 2498 | N14: MA. Ph.d. | P14: 1339 | Q14: 1383 | S14: 1079 | T14: 1123 | V14: 2418 | W14: =Q14+T14 -> 2506
A15: MA. Samf. | C15: 1306 | D15: 1422 | F15: 3498 | G15: 3860 | I15: 4804 | J15: =D15+G15 -> 5282 | N15: MA. Samf. | P15: 1309 | Q15: 1426 | S15: 3504 | T15: 3868 | V15: 4813 | W15: =Q15+T15 -> 5294
A16: Øvrige Mag. | C16: 1132 | D16: 1278 | F16: 2094 | G16: 2272 | I16: 3226 | J16: =D16+G16 -> 3550 | N16: Øvrige Mag. | P16: 1153 | Q16: 1301 | S16: 2132 | T16: 2319 | V16: 3285 | W16: =Q16+T16 -> 3620
A17: Agronom | C17: 1231 | D17: 1189 | F17: 1164 | G17: 1177 | I17: 2395 | J17: =D17+G17 -> 2366 | N17: Agronom | P17: 1248 | Q17: 1205 | S17: 1173 | T17: 1190 | V17: 2421 | W17: =Q17+T17 -> 2395
A18: Landsk. Arkt. | C18: 193 | D18: 201 | F18: 495 | G18: 505 | I18: 688 | J18: =D18+G18 -> 706 | N18: Landsk. Arkt. | P18: 195 | Q18: 202 | S18: 497 | T18: 505 | V18: 692 | W18: =Q18+T18 -> 707
A19: Hortonom | C19: 124 | D19: 117 | F19: 205 | G19: 196 | I19: 329 | J19: =D19+G19 -> 313 | N19: Hortonom | P19: 128 | Q19: 119 | S19: 209 | T19: 200 | V19: 337 | W19: =Q19+T19 -> 319
A20: Forstkand. | C20: 387 | D20: 383 | F20: 127 | G20: 129 | I20: 514 | J20: =D20+G20 -> 512 | N20: Forstkand. | P20: 391 | Q20: 387 | S20: 127 | T20: 130 | V20: 518 | W20: =Q20+T20 -> 517
A21: Jordbrugsakad. | B21: 21049 | C21: 1935 | D21: 1890 | F21: 1991 | G21: 2007 | I21: 3926 | J21: =D21+G21 -> 3897 | N21: Jordbrugsakad. | P21: 1962 | Q21: 1913 | S21: 2006 | T21: 2025 | V21: 3968 | W21: =Q21+T21 -> 3938
A22: Mejeriing. | C22: 189 | D22: 185 | F22: 165 | G22: 178 | I22: 354 | J22: =D22+G22 -> 363 | N22: Mejeriing. | P22: 192 | Q22: 188 | S22: 165 | T22: 179 | V22: 357 | W22: =Q22+T22 -> 367
A23: Levn.m.kand. | C23: 52 | D23: 64 | F23: 352 | G23: 372 | I23: 404 | J23: =D23+G23 -> 436 | N23: Levn.m.kand. | P23: 52 | Q23: 64 | S23: 352 | T23: 372 | V23: 404 | W23: =Q23+T23 -> 436
A24: Dyrlæge | C24: 445 | D24: 452 | F24: 1860 | G24: 1938 | I24: 2305 | J24: =D24+G24 -> 2390 | N24: Dyrlæge | P24: 447 | Q24: 456 | S24: 1873 | T24: 1950 | V24: 2320 | W24: =Q24+T24 -> 2406
A25: Farmaceut | C25: 1382 | D25: 1413 | F25: 3884 | G25: 3987 | I25: 5266 | J25: =D25+G25 -> 5400 | N25: Farmaceut | P25: 1388 | Q25: 1420 | S25: 3916 | T25: 4014 | V25: 5304 | W25: =Q25+T25 -> 5434
A26: Læge | C26: 3518 | D26: 3651 | F26: 7867 | G26: 8301 | I26: 11385 | J26: =D26+G26 -> 11952 | N26: Læge | P26: 3525 | Q26: 3660 | S26: 7894 | T26: 8318 | V26: 11419 | W26: =Q26+T26 -> 11978
A27: Tandlæge | C27: 305 | D27: 301 | F27: 1727 | G27: 1764 | I27: 2032 | J27: =D27+G27 -> 2065 | N27: Tandlæge | P27: 306 | Q27: 305 | S27: 1745 | T27: 1782 | V27: 2051 | W27: =Q27+T27 -> 2087
A28: Arkitekt | C28: 2739 | D28: 2761 | F28: 3293 | G28: 3337 | I28: 6032 | J28: =D28+G28 -> 6098 | N28: Arkitekt | P28: 2778 | Q28: 2804 | S28: 3328 | T28: 3372 | V28: 6106 | W28: =Q28+T28 -> 6176
A29: Landinspek. | C29: 604 | D29: 600 | F29: 251 | G29: 255 | I29: 855 | J29: =D29+G29 -> 855 | N29: Landinspek. | P29: 614 | Q29: 612 | S29: 254 | T29: 258 | V29: 868 | W29: =Q29+T29 -> 870
A30: Bibliotekar | C30: 917 | D30: 886 | F30: 2615 | G30: 2540 | I30: 3532 | J30: =D30+G30 -> 3426 | N30: Bibliotekar | P30: 953 | Q30: 921 | S30: 2729 | T30: 2666 | V30: 3682 | W30: =Q30+T30 -> 3587
A31: Musikudd. | C31: 419 | D31: 407 | F31: 538 | G31: 523 | I31: 957 | J31: =D31+G31 -> 930 | N31: Musikudd. | P31: 426 | Q31: 412 | S31: 549 | T31: 535 | V31: 975 | W31: =Q31+T31 -> 947
A32: Teolog | C32: 675 | D32: 658 | F32: 1076 | G32: 1070 | I32: 1751 | J32: =D32+G32 -> 1728 | N32: Teolog | P32: 680 | Q32: 662 | S32: 1081 | T32: 1075 | V32: 1761 | W32: =Q32+T32 -> 1737
A33: Psykolog | C33: 1429 | D33: 1489 | F33: 6465 | G33: 6732 | I33: 7894 | J33: =D33+G33 -> 8221 | N33: Psykolog | P33: 1444 | Q33: 1505 | S33: 6494 | T33: 6767 | V33: 7938 | W33: =Q33+T33 -> 8272
... A46: Andre | C46: 10920 | D46: 11656 | F46: 10977 | G46: 11862 | I46: 21897 | J46: =D46+G46 -> 23518 | N46: Andre | P46: 11085 | Q46: 11834 | S46: 11096 | T46: 11998 | V46: 22181 | W46: =Q46+T46 -> 23832
A48: Total | B48: =SUM(B9:B46)-SUM(B17:B20) -> 21049 | C48: =SUM(C9:C46)-SUM(C17:C20) -> 169382 | D48: =SUM(D9:D46)-SUM(D17:D20) -> 176600 | F48: =SUM(F9:F46)-SUM(F17:F20) -> 171168 | G48: =SUM(G9:G46)-SUM(G17:G20) -> 179727 | H48: =SUM(H9:H46)-SUM(H17:H20) -> 0 | I48: =SUM(I9:I46)-SUM(I17:I20) -> 340550 | J48: =SUM(J9:J46)-SUM(J17:J20) -> 356327 | N48: Total | P48: =SUM(P9:P46)-SUM(P17:P20) -> 170559 | Q48: =SUM(Q9:Q46)-SUM(Q17:Q20) -> 177807 | S48: =SUM(S9:S46)-SUM(S17:S20) -> 172198 | T48: =SUM(T9:T46)-SUM(T17:T20) -> 180858 | V48: =SUM(V9:V46)-SUM(V17:V20) -> 342757 | W48: =SUM(W9:W46)-SUM(W17:W20) -> 358665
A50: Ingeniører i alt | C50: 50508 | D50: 51705 | F50: 14409 | G50: 15037 | I50: 64917 | J50: =D50+G50 -> 66742 | N50: Ingeniører i alt | P50: 50865 | Q50: 52077 | S50: 14448 | T50: 15085 | V50: 65313 | W50: =Q50+T50 -> 67162
A51: Magistre i alt | C51: 24416 | D51: 24975 | F51: 41359 | G51: 43078 | I51: 65775 | J51: =D51+G51 -> 68053 | N51: Magistre i alt | P51: 24662 | Q51: 25220 | S51: 41647 | T51: 43393 | V51: 66309 | W51: =Q51+T51 -> 68613
A52: DJØF'ere i alt | C52: 42588 | D52: 44584 | F52: 48923 | G52: 51499 | I52: 91511 | J52: =D52+G52 -> 96083 | N52: DJØF'ere i alt | P52: 42774 | Q52: 44767 | S52: 48997 | T52: 51582 | V52: 91771 | W52: =Q52+T52 -> 96349
A53: Se sidste del af statistikken for en oversigt over uddannelsesgrupperingernes indhold

Sheet Tabel 2
A1: Landstatistik
A3: Tabel 2. Antal bruttoledige målt i berørte og opregnet til fuldtidspersoner
C5: Mænd | F5: Kvinder | I5: I alt
C6: Ledigheds-berørte | D6: Fuldtids-personer | F6: Ledigheds-berørte | G6: Fuldtids-personer | I6: Ledigheds-berørte | J6: Fuldtids-personer
A9: Civ. Ing. | C9: 987 | D9: 898.90226 | F9: 449 | G9: 402.72251 | H9: 854 | I9: =C9+F9 -> 1436 | J9: =D9+G9 -> 1301.6248
A10: Diplom Ing. | C10: 993 | D10: 908.10952 | F10: 303 | G10: 270.46654 | H10: 738 | I10: =C10+F10 -> 1296 | J10: =D10+G10 -> 1178.5761
A11: Cand.Scient.Tech. | C11: 1022 | D11: 919.74303 | F11: 933 | G11: 808.22928 | H11: 2239 | I11: =C11+F11 -> 1955 | J11: =D11+G11 -> 1727.9723
A12: MA. Hum. | C12: 1592 | D12: 1410.1902 | F12: 3506 | G12: 3055.1307 | H12: 550 | I12: =C12+F12 -> 5098 | J12: =D12+G12 -> 4465.3209
A13: MA. Nat. | C13: 313 | D13: 270.86821 | F13: 395 | G13: 339.34323 | H13: 91 | I13: =C13+F13 -> 708 | J13: =D13+G13 -> 610.21144
A14: MA. Ph.d. | C14: 55 | D14: 48.67897 | F14: 73 | G14: 64.25186 | H14: 349 | I14: =C14+F14 -> 128 | J14: =D14+G14 -> 112.93083
A15: MA. Samf. | C15: 242 | D15: 221.39961 | F15: 580 | G15: 514.58305 | H15: 204 | I15: =C15+F15 -> 822 | J15: =D15+G15 -> 735.98266
A16: Øvrige Mag. | C16: 113 | D16: 99.32327 | F16: 220 | G16: 197.68976 | H16: 66 | I16: =C16+F16 -> 333 | J16: =D16+G16 -> 297.01303
A17: Agronom | C17: 30 | D17: 25.74004 | F17: 59 | G17: 52.49548 | H17: 40 | I17: =C17+F17 -> 89 | J17: =D17+G17 -> 78.23552
A18: Landsk. Arkt. | C18: 13 | D18: 11.8437 | F18: 32 | G18: 28.1432 | H18: 16 | I18: =C18+F18 -> 45 | J18: =D18+G18 -> 39.9869
A19: Hortonom | C19: 1 | D19: 0.85012 | F19: 8 | G19: 7.39974 | H19: 14 | I19: =C19+F19 -> 9 | J19: =D19+G19 -> 8.24986
A20: Forstkand. | C20: 16 | D20: 15.07391 | E20: 83 | F20: 6 | G20: 5.99888 | H20: 136 | I20: =C20+F20 -> 22 | J20: =D20+G20 -> 21.07279
A21: Jordbrugsakad. | B21: 21049 | C21: 60 | D21: 53.50777 | F21: 105 | G21: 94.0373 | I21: =C21+F21 -> 165 | J21: =D21+G21 -> 147.54507
A22: Mejeriing. | C22: 7 | D22: 6.57581 | F22: 3 | G22: 2.07135 | H22: 17 | I22: =C22+F22 -> 10 | J22: =D22+G22 -> 8.64716
A23: Levn.m.kand. | C23: 7 | D23: 6.04191 | F23: 30 | G23: 24.28366 | H23: 110 | I23: =C23+F23 -> 37 | J23: =D23+G23 -> 30.32557
A24: Dyrlæge | C24: 10 | D24: 6.58704 | F24: 60 | G24: 52.77054 | H24: 143 | I24: =C24+F24 -> 70 | J24: =D24+G24 -> 59.35758
A25: Farmaceut | C25: 78 | D25: 69.30019 | F25: 167 | G25: 149.02202 | H25: 66 | I25: =C25+F25 -> 245 | J25: =D25+G25 -> 218.32221
A26: Læge | C26: 70 | D26: 58.21368 | F26: 150 | G26: 122.69881 | H26: 55 | I26: =C26+F26 -> 220 | J26: =D26+G26 -> 180.91249
A27: Tandlæge | C27: 6 | D27: 4.98222 | F27: 50 | G27: 38.14445 | H27: 345 | I27: =C27+F27 -> 56 | J27: =D27+G27 -> 43.12667
A28: Arkitekt | C28: 220 | D28: 199.97755 | F28: 285 | G28: 252.12125 | H28: 7 | I28: =C28+F28 -> 505 | J28: =D28+G28 -> 452.0988
A29: Landinspek. | C29: 9 | D29: 7.8931 | F29: 4 | G29: 3.99925 | H29: 276 | I29: =C29+F29 -> 13 | J29: =D29+G29 -> 11.89235
A30: Bibliotekar | C30: 50 | D30: 42.93769 | F30: 136 | G30: 118.64467 | H30: 32 | I30: =C30+F30 -> 186 | J30: =D30+G30 -> 161.58236
A31: Musikudd. | C31: 17 | D31: 13.60818 | F31: 26 | G31: 19.00019 | H31: 59 | I31: =C31+F31 -> 43 | J31: =D31+G31 -> 32.60837
A32: Teolog | C32: 14 | D32: 12.24849 | F32: 25 | G32: 20.14034 | H32: 279 | I32: =C32+F32 -> 39 | J32: =D32+G32 -> 32.38883
A33: Psykolog | C33: 120 | D33: 104.70155 | F33: 459 | G33: 391.51999 | H33: 372 | I33: =C33+F33 -> 579 | J33: =D33+G33 -> 496.22154
... A40: Komm. og Sprog | C40: 147 | D40: 128.81931 | F40: 608 | G40: 532.39506 | H40: 241 | I40: =C40+F40 -> 755 | J40: =D40+G40 -> 661.21437
A41: Bygningskonst. | C41: 374 | D41: 337.26414 | F41: 111 | G41: 98.41296 | I41: =C41+F41 -> 485 | J41: =D41+G41 -> 435.6771
A42: Cand. IT. | C42: 233 | D42: 212.0963 | F42: 300 | G42: 261.22747 | H42: 78 | I42: =C42+F42 -> 533 | J42: =D42+G42 -> 473.32377
A43: Bac. Samf. | C43: 55 | D43: 50.85012 | F43: 79 | G43: 69.09312 | H43: 326 | I43: =C43+F43 -> 134 | J43: =D43+G43 -> 119.94324
A44: Bac. Hum. | C44: 225 | D44: 202.52292 | F44: 389 | G44: 330.75532 | H44: 12 | I44: =C44+F44 -> 614 | J44: =D44+G44 -> 533.27824
A45: Bac. Nat. | C45: 234 | D45: 215.64773 | F45: 154 | G45: 129.88524 | H45: 2761 | I45: =C45+F45 -> 388 | J45: =D45+G45 -> 345.53297
A46: Andre | C46: 797 | D46: 710.91811 | F46: 1296 | G46: 1120.3031 | I46: =C46+F46 -> 2093 | J46: =D46+G46 -> 1831.2212
A48: Total | B48: =SUM(B9:B46)-SUM(B17:B20) -> 21049 | C48: =SUM(C9:C46)-SUM(C17:C20) -> 10845 | D48: =SUM(D9:D46)-SUM(D17:D20) -> 9746.9666 | E48: =SUM(E9:E46)-SUM(E17:E20) -> 0 | F48: =SUM(F9:F46)-SUM(F17:F20) -> 14359 | G48: =SUM(G9:G46)-SUM(G17:G20) -> 12519.781 | H48: =SUM(H9:H46)-SUM(H17:H20) -> 14256 | I48: =SUM(I9:I46)-SUM(I17:I20) -> 25204 | J48: =SUM(J9:J46)-SUM(J17:J20) -> 22266.748
A50: Ingeniører i alt | C50: 1980 | D50: 1807.0118 | F50: 752 | G50: 673.18905 | I50: =C50+F50 -> 2732 | J50: =D50+G50 -> 2480.2008
A51: Magistre i alt | C51: 2315 | D51: 2050.4603 | F51: 4774 | G51: 4170.9986 | I51: =C51+F51 -> 7089 | J51: =D51+G51 -> 6221.4589
A52: DJØF'ere i alt | C52: 2582 | D52: 2331.8761 | F52: 3232 | G52: 2837.0211 | I52: =C52+F52 -> 5814 | J52: =D52+G52 -> 5168.8973
A53: Se sidste del af statistikken for en oversigt over uddannelsesgrupperingernes indhold

Sheet Tabel 3
A1: Landstatistik
A3: Tabel 3. Antal bruttoledige i procent af antal forsikrede
C5: Mænd | F5: Kvinder | G5: Kvinder | I5: I alt | J5: I alt
C6: Ledigheds-berørte | D6: Fuldtids-personer | F6: Ledigheds-berørte | G6: Fuldtids-personer | I6: Ledigheds-berørte | J6: Fuldtids-personer
A9: Civ. Ing. | C9: =IF(OR('Tabel 1'!$D9<5,'Tabel 2'!C9<0.5),"-",IFERROR('Tabel 2'!C9/'Tabel 1'!$D9*100,"-")) -> 4.1036088 | D9: =IF(OR('Tabel 1'!$D9<5,'Tabel 2'!D9<0.5),"-",IFERROR('Tabel 2'!D9/'Tabel 1'!$D9*100,"-")) -> 3.7373285 | F9: =IF(OR('Tabel 1'!$G9<5,'Tabel 2'!F9<0.5),"-",IFERROR('Tabel 2'!F9/'Tabel 1'!$G9*100,"-")) -> 5.2021782 | G9: =IF(OR('Tabel 1'!$G9<5,'Tabel 2'!G9<0.5),"-",IFERROR('Tabel 2'!G9/'Tabel 1'!$G9*100,"-")) -> 4.6660006 | I9: =IF(OR('Tabel 1'!$J9<5,'Tabel 2'!I9<0.5),"-",IFERROR('Tabel 2'!I9/'Tabel 1'!$J9*100,"-")) -> 4.3937215 | J9: =IF(OR('Tabel 1'!$J9<5,'Tabel 2'!J9<0.5),"-",IFERROR('Tabel 2'!J9/'Tabel 1'!$J9*100,"-")) -> 3.9825743
A10: Diplom Ing. | C10: =IF(OR('Tabel 1'!$D10<5,'Tabel 2'!C10<0.5),"-",IFERROR('Tabel 2'!C10/'Tabel 1'!$D10*100,"-")) -> 3.5909305 | D10: =IF(OR('Tabel 1'!$D10<5,'Tabel 2'!D10<0.5),"-",IFERROR('Tabel 2'!D10/'Tabel 1'!$D10*100,"-")) -> 3.2839458 | F10: =IF(OR('Tabel 1'!$G10<5,'Tabel 2'!F10<0.5),"-",IFERROR('Tabel 2'!F10/'Tabel 1'!$G10*100,"-")) -> 4.7299407 | G10: =IF(OR('Tabel 1'!$G10<5,'Tabel 2'!G10<0.5),"-",IFERROR('Tabel 2'!G10/'Tabel 1'!$G10*100,"-")) -> 4.2220815 | I10: =IF(OR('Tabel 1'!$J10<5,'Tabel 2'!I10<0.5),"-",IFERROR('Tabel 2'!I10/'Tabel 1'!$J10*100,"-")) -> 3.8051616 | J10: =IF(OR('Tabel 1'!$J10<5,'Tabel 2'!J10<0.5),"-",IFERROR('Tabel 2'!J10/'Tabel 1'!$J10*100,"-")) -> 3.4603954
A11: Cand.Scient.Tech. | C11: =IF(OR('Tabel 1'!$D11<5,'Tabel 2'!C11<0.5),"-",IFERROR('Tabel 2'!C11/'Tabel 1'!$D11*100,"-")) -> 9.772423 | D11: =IF(OR('Tabel 1'!$D11<5,'Tabel 2'!D11<0.5),"-",IFERROR('Tabel 2'!D11/'Tabel 1'!$D11*100,"-")) -> 8.794636 | F11: =IF(OR('Tabel 1'!$G11<5,'Tabel 2'!F11<0.5),"-",IFERROR('Tabel 2'!F11/'Tabel 1'!$G11*100,"-")) -> 10.871592 | G11: =IF(OR('Tabel 1'!$G11<5,'Tabel 2'!G11<0.5),"-",IFERROR('Tabel 2'!G11/'Tabel 1'!$G11*100,"-")) -> 9.4177264 | I11: =IF(OR('Tabel 1'!$J11<5,'Tabel 2'!I11<0.5),"-",IFERROR('Tabel 2'!I11/'Tabel 1'!$J11*100,"-")) -> 10.267857 | J11: =IF(OR('Tabel 1'!$J11<5,'Tabel 2'!J11<0.5),"-",IFERROR('Tabel 2'!J11/'Tabel 1'!$J11*100,"-")) -> 9.0754848
A12: MA. Hum. | C12: =IF(OR('Tabel 1'!$D12<5,'Tabel 2'!C12<0.5),"-",IFERROR('Tabel 2'!C12/'Tabel 1'!$D12*100,"-")) -> 12.059692 | D12: =IF(OR('Tabel 1'!$D12<5,'Tabel 2'!D12<0.5),"-",IFERROR('Tabel 2'!D12/'Tabel 1'!$D12*100,"-")) -> 10.68245 | F12: =IF(OR('Tabel 1'!$G12<5,'Tabel 2'!F12<0.5),"-",IFERROR('Tabel 2'!F12/'Tabel 1'!$G12*100,"-")) -> 12.235212 | G12: =IF(OR('Tabel 1'!$G12<5,'Tabel 2'!G12<0.5),"-",IFERROR('Tabel 2'!G12/'Tabel 1'!$G12*100,"-")) -> 10.661772 | I12: =IF(OR('Tabel 1'!$J12<5,'Tabel 2'!I12<0.5),"-",IFERROR('Tabel 2'!I12/'Tabel 1'!$J12*100,"-")) -> 12.179855 | J12: =IF(OR('Tabel 1'!$J12<5,'Tabel 2'!J12<0.5),"-",IFERROR('Tabel 2'!J12/'Tabel 1'!$J12*100,"-")) -> 10.668293
A13: MA. Nat. | C13: =IF(OR('Tabel 1'!$D13<5,'Tabel 2'!C13<0.5),"-",IFERROR('Tabel 2'!C13/'Tabel 1'!$D13*100,"-")) -> 4.068105 | D13: =IF(OR('Tabel 1'!$D13<5,'Tabel 2'!D13<0.5),"-",IFERROR('Tabel 2'!D13/'Tabel 1'!$D13*100,"-")) -> 3.5205122 | F13: =IF(OR('Tabel 1'!$G13<5,'Tabel 2'!F13<0.5),"-",IFERROR('Tabel 2'!F13/'Tabel 1'!$G13*100,"-")) -> 5.5067615 | G13: =IF(OR('Tabel 1'!$G13<5,'Tabel 2'!G13<0.5),"-",IFERROR('Tabel 2'!G13/'Tabel 1'!$G13*100,"-")) -> 4.7308411 | I13: =IF(OR('Tabel 1'!$J13<5,'Tabel 2'!I13<0.5),"-",IFERROR('Tabel 2'!I13/'Tabel 1'!$J13*100,"-")) -> 4.7622251 | J13: =IF(OR('Tabel 1'!$J13<5,'Tabel 2'!J13<0.5),"-",IFERROR('Tabel 2'!J13/'Tabel 1'!$J13*100,"-")) -> 4.1044692
A14: MA. Ph.d. | C14: =IF(OR('Tabel 1'!$D14<5,'Tabel 2'!C14<0.5),"-",IFERROR('Tabel 2'!C14/'Tabel 1'!$D14*100,"-")) -> 3.9855072 | D14: =IF(OR('Tabel 1'!$D14<5,'Tabel 2'!D14<0.5),"-",IFERROR('Tabel 2'!D14/'Tabel 1'!$D14*100,"-")) -> 3.5274616 | F14: =IF(OR('Tabel 1'!$G14<5,'Tabel 2'!F14<0.5),"-",IFERROR('Tabel 2'!F14/'Tabel 1'!$G14*100,"-")) -> 6.529517 | G14: =IF(OR('Tabel 1'!$G14<5,'Tabel 2'!G14<0.5),"-",IFERROR('Tabel 2'!G14/'Tabel 1'!$G14*100,"-")) -> 5.7470358 | I14: =IF(OR('Tabel 1'!$J14<5,'Tabel 2'!I14<0.5),"-",IFERROR('Tabel 2'!I14/'Tabel 1'!$J14*100,"-")) -> 5.1240993 | J14: =IF(OR('Tabel 1'!$J14<5,'Tabel 2'!J14<0.5),"-",IFERROR('Tabel 2'!J14/'Tabel 1'!$J14*100,"-")) -> 4.5208499
A15: MA. Samf. | C15: =IF(OR('Tabel 1'!$D15<5,'Tabel 2'!C15<0.5),"-",IFERROR('Tabel 2'!C15/'Tabel 1'!$D15*100,"-")) -> 17.018284 | D15: =IF(OR('Tabel 1'!$D15<5,'Tabel 2'!D15<0.5),"-",IFERROR('Tabel 2'!D15/'Tabel 1'!$D15*100,"-")) -> 15.569593 | F15: =IF(OR('Tabel 1'!$G15<5,'Tabel 2'!F15<0.5),"-",IFERROR('Tabel 2'!F15/'Tabel 1'!$G15*100,"-")) -> 15.025907 | G15: =IF(OR('Tabel 1'!$G15<5,'Tabel 2'!G15<0.5),"-",IFERROR('Tabel 2'!G15/'Tabel 1'!$G15*100,"-")) -> 13.331167 | I15: =IF(OR('Tabel 1'!$J15<5,'Tabel 2'!I15<0.5),"-",IFERROR('Tabel 2'!I15/'Tabel 1'!$J15*100,"-")) -> 15.562287 | J15: =IF(OR('Tabel 1'!$J15<5,'Tabel 2'!J15<0.5),"-",IFERROR('Tabel 2'!J15/'Tabel 1'!$J15*100,"-")) -> 13.933788
A16: Øvrige Mag. | C16: =IF(OR('Tabel 1'!$D16<5,'Tabel 2'!C16<0.5),"-",IFERROR('Tabel 2'!C16/'Tabel 1'!$D16*100,"-")) -> 8.8419405 | D16: =IF(OR('Tabel 1'!$D16<5,'Tabel 2'!D16<0.5),"-",IFERROR('Tabel 2'!D16/'Tabel 1'!$D16*100,"-")) -> 7.7717739 | F16: =IF(OR('Tabel 1'!$G16<5,'Tabel 2'!F16<0.5),"-",IFERROR('Tabel 2'!F16/'Tabel 1'!$G16*100,"-")) -> 9.6830986 | G16: =IF(OR('Tabel 1'!$G16<5,'Tabel 2'!G16<0.5),"-",IFERROR('Tabel 2'!G16/'Tabel 1'!$G16*100,"-")) -> 8.7011338 | I16: =IF(OR('Tabel 1'!$J16<5,'Tabel 2'!I16<0.5),"-",IFERROR('Tabel 2'!I16/'Tabel 1'!$J16*100,"-")) -> 9.3802817 | J16: =IF(OR('Tabel 1'!$J16<5,'Tabel 2'!J16<0.5),"-",IFERROR('Tabel 2'!J16/'Tabel 1'!$J16*100,"-")) -> 8.3665642
A17: Agronom | C17: =IF(OR('Tabel 1'!$D17<5,'Tabel 2'!C17<0.5),"-",IFERROR('Tabel 2'!C17/'Tabel 1'!$D17*100,"-")) -> 2.5231287 | D17: =IF(OR('Tabel 1'!$D17<5,'Tabel 2'!D17<0.5),"-",IFERROR('Tabel 2'!D17/'Tabel 1'!$D17*100,"-")) -> 2.1648478 | F17: =IF(OR('Tabel 1'!$G17<5,'Tabel 2'!F17<0.5),"-",IFERROR('Tabel 2'!F17/'Tabel 1'!$G17*100,"-")) -> 5.0127443 | G17: =IF(OR('Tabel 1'!$G17<5,'Tabel 2'!G17<0.5),"-",IFERROR('Tabel 2'!G17/'Tabel 1'!$G17*100,"-")) -> 4.4601088 | I17: =IF(OR('Tabel 1'!$J17<5,'Tabel 2'!I17<0.5),"-",IFERROR('Tabel 2'!I17/'Tabel 1'!$J17*100,"-")) -> 3.761623 | J17: =IF(OR('Tabel 1'!$J17<5,'Tabel 2'!J17<0.5),"-",IFERROR('Tabel 2'!J17/'Tabel 1'!$J17*100,"-")) -> 3.3066577
A18: Landsk. Arkt. | C18: =IF(OR('Tabel 1'!$D18<5,'Tabel 2'!C18<0.5),"-",IFERROR('Tabel 2'!C18/'Tabel 1'!$D18*100,"-")) -> 6.4676617 | D18: =IF(OR('Tabel 1'!$D18<5,'Tabel 2'!D18<0.5),"-",IFERROR('Tabel 2'!D18/'Tabel 1'!$D18*100,"-")) -> 5.8923881 | F18: =IF(OR('Tabel 1'!$G18<5,'Tabel 2'!F18<0.5),"-",IFERROR('Tabel 2'!F18/'Tabel 1'!$G18*100,"-")) -> 6.3366337 | G18: =IF(OR('Tabel 1'!$G18<5,'Tabel 2'!G18<0.5),"-",IFERROR('Tabel 2'!G18/'Tabel 1'!$G18*100,"-")) -> 5.5729109 | I18: =IF(OR('Tabel 1'!$J18<5,'Tabel 2'!I18<0.5),"-",IFERROR('Tabel 2'!I18/'Tabel 1'!$J18*100,"-")) -> 6.3739377 | J18: =IF(OR('Tabel 1'!$J18<5,'Tabel 2'!J18<0.5),"-",IFERROR('Tabel 2'!J18/'Tabel 1'!$J18*100,"-")) -> 5.6638669
A19: Hortonom | C19: =IF(OR('Tabel 1'!$D19<5,'Tabel 2'!C19<0.5),"-",IFERROR('Tabel 2'!C19/'Tabel 1'!$D19*100,"-")) -> 0.85470085 | D19: =IF(OR('Tabel 1'!$D19<5,'Tabel 2'!D19<0.5),"-",IFERROR('Tabel 2'!D19/'Tabel 1'!$D19*100,"-")) -> 0.72659829 | F19: =IF(OR('Tabel 1'!$G19<5,'Tabel 2'!F19<0.5),"-",IFERROR('Tabel 2'!F19/'Tabel 1'!$G19*100,"-")) -> 4.0816327 | G19: =IF(OR('Tabel 1'!$G19<5,'Tabel 2'!G19<0.5),"-",IFERROR('Tabel 2'!G19/'Tabel 1'!$G19*100,"-")) -> 3.7753776 | I19: =IF(OR('Tabel 1'!$J19<5,'Tabel 2'!I19<0.5),"-",IFERROR('Tabel 2'!I19/'Tabel 1'!$J19*100,"-")) -> 2.8753994 | J19: =IF(OR('Tabel 1'!$J19<5,'Tabel 2'!J19<0.5),"-",IFERROR('Tabel 2'!J19/'Tabel 1'!$J19*100,"-")) -> 2.635738
A20: Forstkand. | C20: =IF(OR('Tabel 1'!$D20<5,'Tabel 2'!C20<0.5),"-",IFERROR('Tabel 2'!C20/'Tabel 1'!$D20*100,"-")) -> 4.1775457 | D20: =IF(OR('Tabel 1'!$D20<5,'Tabel 2'!D20<0.5),"-",IFERROR('Tabel 2'!D20/'Tabel 1'!$D20*100,"-")) -> 3.9357467 | F20: =IF(OR('Tabel 1'!$G20<5,'Tabel 2'!F20<0.5),"-",IFERROR('Tabel 2'!F20/'Tabel 1'!$G20*100,"-")) -> 4.6511628 | G20: =IF(OR('Tabel 1'!$G20<5,'Tabel 2'!G20<0.5),"-",IFERROR('Tabel 2'!G20/'Tabel 1'!$G20*100,"-")) -> 4.6502946 | I20: =IF(OR('Tabel 1'!$J20<5,'Tabel 2'!I20<0.5),"-",IFERROR('Tabel 2'!I20/'Tabel 1'!$J20*100,"-")) -> 4.296875 | J20: =IF(OR('Tabel 1'!$J20<5,'Tabel 2'!J20<0.5),"-",IFERROR('Tabel 2'!J20/'Tabel 1'!$J20*100,"-")) -> 4.1157793
A21: Jordbrugsakad. | B21: 21049 | C21: =IF(OR('Tabel 1'!$D21<5,'Tabel 2'!C21<0.5),"-",IFERROR('Tabel 2'!C21/'Tabel 1'!$D21*100,"-")) -> 3.1746032 | D21: =IF(OR('Tabel 1'!$D21<5,'Tabel 2'!D21<0.5),"-",IFERROR('Tabel 2'!D21/'Tabel 1'!$D21*100,"-")) -> 2.8310989 | F21: =IF(OR('Tabel 1'!$G21<5,'Tabel 2'!F21<0.5),"-",IFERROR('Tabel 2'!F21/'Tabel 1'!$G21*100,"-")) -> 5.2316891 | G21: =IF(OR('Tabel 1'!$G21<5,'Tabel 2'!G21<0.5),"-",IFERROR('Tabel 2'!G21/'Tabel 1'!$G21*100,"-")) -> 4.6854659 | I21: =IF(OR('Tabel 1'!$J21<5,'Tabel 2'!I21<0.5),"-",IFERROR('Tabel 2'!I21/'Tabel 1'!$J21*100,"-")) -> 4.2340262 | J21: =IF(OR('Tabel 1'!$J21<5,'Tabel 2'!J21<0.5),"-",IFERROR('Tabel 2'!J21/'Tabel 1'!$J21*100,"-")) -> 3.7861193
A22: Mejeriing. | C22: =IF(OR('Tabel 1'!$D22<5,'Tabel 2'!C22<0.5),"-",IFERROR('Tabel 2'!C22/'Tabel 1'!$D22*100,"-")) -> 3.7837838 | D22: =IF(OR('Tabel 1'!$D22<5,'Tabel 2'!D22<0.5),"-",IFERROR('Tabel 2'!D22/'Tabel 1'!$D22*100,"-")) -> 3.5544919 | F22: =IF(OR('Tabel 1'!$G22<5,'Tabel 2'!F22<0.5),"-",IFERROR('Tabel 2'!F22/'Tabel 1'!$G22*100,"-")) -> 1.6853933 | G22: =IF(OR('Tabel 1'!$G22<5,'Tabel 2'!G22<0.5),"-",IFERROR('Tabel 2'!G22/'Tabel 1'!$G22*100,"-")) -> 1.1636798 | I22: =IF(OR('Tabel 1'!$J22<5,'Tabel 2'!I22<0.5),"-",IFERROR('Tabel 2'!I22/'Tabel 1'!$J22*100,"-")) -> 2.7548209 | J22: =IF(OR('Tabel 1'!$J22<5,'Tabel 2'!J22<0.5),"-",IFERROR('Tabel 2'!J22/'Tabel 1'!$J22*100,"-")) -> 2.3821377
A23: Levn.m.kand. | C23: =IF(OR('Tabel 1'!$D23<5,'Tabel 2'!C23<0.5),"-",IFERROR('Tabel 2'!C23/'Tabel 1'!$D23*100,"-")) -> 10.9375 | D23: =IF(OR('Tabel 1'!$D23<5,'Tabel 2'!D23<0.5),"-",IFERROR('Tabel 2'!D23/'Tabel 1'!$D23*100,"-")) -> 9.4404844 | F23: =IF(OR('Tabel 1'!$G23<5,'Tabel 2'!F23<0.5),"-",IFERROR('Tabel 2'!F23/'Tabel 1'!$G23*100,"-")) -> 8.0645161 | G23: =IF(OR('Tabel 1'!$G23<5,'Tabel 2'!G23<0.5),"-",IFERROR('Tabel 2'!G23/'Tabel 1'!$G23*100,"-")) -> 6.5278656 | I23: =IF(OR('Tabel 1'!$J23<5,'Tabel 2'!I23<0.5),"-",IFERROR('Tabel 2'!I23/'Tabel 1'!$J23*100,"-")) -> 8.4862385 | J23: =IF(OR('Tabel 1'!$J23<5,'Tabel 2'!J23<0.5),"-",IFERROR('Tabel 2'!J23/'Tabel 1'!$J23*100,"-")) -> 6.955406
A24: Dyrlæge | C24: =IF(OR('Tabel 1'!$D24<5,'Tabel 2'!C24<0.5),"-",IFERROR('Tabel 2'!C24/'Tabel 1'!$D24*100,"-")) -> 2.2123894 | D24: =IF(OR('Tabel 1'!$D24<5,'Tabel 2'!D24<0.5),"-",IFERROR('Tabel 2'!D24/'Tabel 1'!$D24*100,"-")) -> 1.4573097 | F24: =IF(OR('Tabel 1'!$G24<5,'Tabel 2'!F24<0.5),"-",IFERROR('Tabel 2'!F24/'Tabel 1'!$G24*100,"-")) -> 3.0959752 | G24: =IF(OR('Tabel 1'!$G24<5,'Tabel 2'!G24<0.5),"-",IFERROR('Tabel 2'!G24/'Tabel 1'!$G24*100,"-")) -> 2.7229381 | I24: =IF(OR('Tabel 1'!$J24<5,'Tabel 2'!I24<0.5),"-",IFERROR('Tabel 2'!I24/'Tabel 1'!$J24*100,"-")) -> 2.9288703 | J24: =IF(OR('Tabel 1'!$J24<5,'Tabel 2'!J24<0.5),"-",IFERROR('Tabel 2'!J24/'Tabel 1'!$J24*100,"-")) -> 2.4835808
A25: Farmaceut | C25: =IF(OR('Tabel 1'!$D25<5,'Tabel 2'!C25<0.5),"-",IFERROR('Tabel 2'!C25/'Tabel 1'!$D25*100,"-")) -> 5.5201699 | D25: =IF(OR('Tabel 1'!$D25<5,'Tabel 2'!D25<0.5),"-",IFERROR('Tabel 2'!D25/'Tabel 1'!$D25*100,"-")) -> 4.904472 | F25: =IF(OR('Tabel 1'!$G25<5,'Tabel 2'!F25<0.5),"-",IFERROR('Tabel 2'!F25/'Tabel 1'!$G25*100,"-")) -> 4.188613 | G25: =IF(OR('Tabel 1'!$G25<5,'Tabel 2'!G25<0.5),"-",IFERROR('Tabel 2'!G25/'Tabel 1'!$G25*100,"-")) -> 3.737698 | I25: =IF(OR('Tabel 1'!$J25<5,'Tabel 2'!I25<0.5),"-",IFERROR('Tabel 2'!I25/'Tabel 1'!$J25*100,"-")) -> 4.537037 | J25: =IF(OR('Tabel 1'!$J25<5,'Tabel 2'!J25<0.5),"-",IFERROR('Tabel 2'!J25/'Tabel 1'!$J25*100,"-")) -> 4.0430039
A26: Læge | C26: =IF(OR('Tabel 1'!$D26<5,'Tabel 2'!C26<0.5),"-",IFERROR('Tabel 2'!C26/'Tabel 1'!$D26*100,"-")) -> 1.9172829 | D26: =IF(OR('Tabel 1'!$D26<5,'Tabel 2'!D26<0.5),"-",IFERROR('Tabel 2'!D26/'Tabel 1'!$D26*100,"-")) -> 1.5944585 | F26: =IF(OR('Tabel 1'!$G26<5,'Tabel 2'!F26<0.5),"-",IFERROR('Tabel 2'!F26/'Tabel 1'!$G26*100,"-")) -> 1.8070112 | G26: =IF(OR('Tabel 1'!$G26<5,'Tabel 2'!G26<0.5),"-",IFERROR('Tabel 2'!G26/'Tabel 1'!$G26*100,"-")) -> 1.4781208 | I26: =IF(OR('Tabel 1'!$J26<5,'Tabel 2'!I26<0.5),"-",IFERROR('Tabel 2'!I26/'Tabel 1'!$J26*100,"-")) -> 1.8406961 | J26: =IF(OR('Tabel 1'!$J26<5,'Tabel 2'!J26<0.5),"-",IFERROR('Tabel 2'!J26/'Tabel 1'!$J26*100,"-")) -> 1.5136587
A27: Tandlæge | C27: =IF(OR('Tabel 1'!$D27<5,'Tabel 2'!C27<0.5),"-",IFERROR('Tabel 2'!C27/'Tabel 1'!$D27*100,"-")) -> 1.9933555 | D27: =IF(OR('Tabel 1'!$D27<5,'Tabel 2'!D27<0.5),"-",IFERROR('Tabel 2'!D27/'Tabel 1'!$D27*100,"-")) -> 1.6552226 | F27: =IF(OR('Tabel 1'!$G27<5,'Tabel 2'!F27<0.5),"-",IFERROR('Tabel 2'!F27/'Tabel 1'!$G27*100,"-")) -> 2.8344671 | G27: =IF(OR('Tabel 1'!$G27<5,'Tabel 2'!G27<0.5),"-",IFERROR('Tabel 2'!G27/'Tabel 1'!$G27*100,"-")) -> 2.1623838 | I27: =IF(OR('Tabel 1'!$J27<5,'Tabel 2'!I27<0.5),"-",IFERROR('Tabel 2'!I27/'Tabel 1'!$J27*100,"-")) -> 2.7118644 | J27: =IF(OR('Tabel 1'!$J27<5,'Tabel 2'!J27<0.5),"-",IFERROR('Tabel 2'!J27/'Tabel 1'!$J27*100,"-")) -> 2.0884586
A28: Arkitekt | C28: =IF(OR('Tabel 1'!$D28<5,'Tabel 2'!C28<0.5),"-",IFERROR('Tabel 2'!C28/'Tabel 1'!$D28*100,"-")) -> 7.9681275 | D28: =IF(OR('Tabel 1'!$D28<5,'Tabel 2'!D28<0.5),"-",IFERROR('Tabel 2'!D28/'Tabel 1'!$D28*100,"-")) -> 7.2429392 | F28: =IF(OR('Tabel 1'!$G28<5,'Tabel 2'!F28<0.5),"-",IFERROR('Tabel 2'!F28/'Tabel 1'!$G28*100,"-")) -> 8.5406053 | G28: =IF(OR('Tabel 1'!$G28<5,'Tabel 2'!G28<0.5),"-",IFERROR('Tabel 2'!G28/'Tabel 1'!$G28*100,"-")) -> 7.5553266 | I28: =IF(OR('Tabel 1'!$J28<5,'Tabel 2'!I28<0.5),"-",IFERROR('Tabel 2'!I28/'Tabel 1'!$J28*100,"-")) -> 8.2814037 | J28: =IF(OR('Tabel 1'!$J28<5,'Tabel 2'!J28<0.5),"-",IFERROR('Tabel 2'!J28/'Tabel 1'!$J28*100,"-")) -> 7.4138865
A29: Landinspek. | C29: =IF(OR('Tabel 1'!$D29<5,'Tabel 2'!C29<0.5),"-",IFERROR('Tabel 2'!C29/'Tabel 1'!$D29*100,"-")) -> 1.5 | D29: =IF(OR('Tabel 1'!$D29<5,'Tabel 2'!D29<0.5),"-",IFERROR('Tabel 2'!D29/'Tabel 1'!$D29*100,"-")) -> 1.3155167 | F29: =IF(OR('Tabel 1'!$G29<5,'Tabel 2'!F29<0.5),"-",IFERROR('Tabel 2'!F29/'Tabel 1'!$G29*100,"-")) -> 1.5686275 | G29: =IF(OR('Tabel 1'!$G29<5,'Tabel 2'!G29<0.5),"-",IFERROR('Tabel 2'!G29/'Tabel 1'!$G29*100,"-")) -> 1.5683333 | I29: =IF(OR('Tabel 1'!$J29<5,'Tabel 2'!I29<0.5),"-",IFERROR('Tabel 2'!I29/'Tabel 1'!$J29*100,"-")) -> 1.5204678 | J29: =IF(OR('Tabel 1'!$J29<5,'Tabel 2'!J29<0.5),"-",IFERROR('Tabel 2'!J29/'Tabel 1'!$J29*100,"-")) -> 1.3909181
A30: Bibliotekar | C30: =IF(OR('Tabel 1'!$D30<5,'Tabel 2'!C30<0.5),"-",IFERROR('Tabel 2'!C30/'Tabel 1'!$D30*100,"-")) -> 5.6433409 | D30: =IF(OR('Tabel 1'!$D30<5,'Tabel 2'!D30<0.5),"-",IFERROR('Tabel 2'!D30/'Tabel 1'!$D30*100,"-")) -> 4.8462404 | F30: =IF(OR('Tabel 1'!$G30<5,'Tabel 2'!F30<0.5),"-",IFERROR('Tabel 2'!F30/'Tabel 1'!$G30*100,"-")) -> 5.3543307 | G30: =IF(OR('Tabel 1'!$G30<5,'Tabel 2'!G30<0.5),"-",IFERROR('Tabel 2'!G30/'Tabel 1'!$G30*100,"-")) -> 4.67105 | I30: =IF(OR('Tabel 1'!$J30<5,'Tabel 2'!I30<0.5),"-",IFERROR('Tabel 2'!I30/'Tabel 1'!$J30*100,"-")) -> 5.4290718 | J30: =IF(OR('Tabel 1'!$J30<5,'Tabel 2'!J30<0.5),"-",IFERROR('Tabel 2'!J30/'Tabel 1'!$J30*100,"-")) -> 4.7163561
A31: Musikudd. | C31: =IF(OR('Tabel 1'!$D31<5,'Tabel 2'!C31<0.5),"-",IFERROR('Tabel 2'!C31/'Tabel 1'!$D31*100,"-")) -> 4.1769042 | D31: =IF(OR('Tabel 1'!$D31<5,'Tabel 2'!D31<0.5),"-",IFERROR('Tabel 2'!D31/'Tabel 1'!$D31*100,"-")) -> 3.3435332 | F31: =IF(OR('Tabel 1'!$G31<5,'Tabel 2'!F31<0.5),"-",IFERROR('Tabel 2'!F31/'Tabel 1'!$G31*100,"-")) -> 4.9713193 | G31: =IF(OR('Tabel 1'!$G31<5,'Tabel 2'!G31<0.5),"-",IFERROR('Tabel 2'!G31/'Tabel 1'!$G31*100,"-")) -> 3.6329235 | I31: =IF(OR('Tabel 1'!$J31<5,'Tabel 2'!I31<0.5),"-",IFERROR('Tabel 2'!I31/'Tabel 1'!$J31*100,"-")) -> 4.6236559 | J31: =IF(OR('Tabel 1'!$J31<5,'Tabel 2'!J31<0.5),"-",IFERROR('Tabel 2'!J31/'Tabel 1'!$J31*100,"-")) -> 3.5062763
A32: Teolog | C32: =IF(OR('Tabel 1'!$D32<5,'Tabel 2'!C32<0.5),"-",IFERROR('Tabel 2'!C32/'Tabel 1'!$D32*100,"-")) -> 2.1276596 | D32: =IF(OR('Tabel 1'!$D32<5,'Tabel 2'!D32<0.5),"-",IFERROR('Tabel 2'!D32/'Tabel 1'!$D32*100,"-")) -> 1.8614726 | F32: =IF(OR('Tabel 1'!$G32<5,'Tabel 2'!F32<0.5),"-",IFERROR('Tabel 2'!F32/'Tabel 1'!$G32*100,"-")) -> 2.3364486 | G32: =IF(OR('Tabel 1'!$G32<5,'Tabel 2'!G32<0.5),"-",IFERROR('Tabel 2'!G32/'Tabel 1'!$G32*100,"-")) -> 1.8822748 | I32: =IF(OR('Tabel 1'!$J32<5,'Tabel 2'!I32<0.5),"-",IFERROR('Tabel 2'!I32/'Tabel 1'!$J32*100,"-")) -> 2.2569444 | J32: =IF(OR('Tabel 1'!$J32<5,'Tabel 2'!J32<0.5),"-",IFERROR('Tabel 2'!J32/'Tabel 1'!$J32*100,"-")) -> 1.8743536
A33: Psykolog | C33: =IF(OR('Tabel 1'!$D33<5,'Tabel 2'!C33<0.5),"-",IFERROR('Tabel 2'!C33/'Tabel 1'!$D33*100,"-")) -> 8.0591001 | D33: =IF(OR('Tabel 1'!$D33<5,'Tabel 2'!D33<0.5),"-",IFERROR('Tabel 2'!D33/'Tabel 1'!$D33*100,"-")) -> 7.0316689 | F33: =IF(OR('Tabel 1'!$G33<5,'Tabel 2'!F33<0.5),"-",IFERROR('Tabel 2'!F33/'Tabel 1'!$G33*100,"-")) -> 6.8181818 | G33: =IF(OR('Tabel 1'!$G33<5,'Tabel 2'!G33<0.5),"-",IFERROR('Tabel 2'!G33/'Tabel 1'!$G33*100,"-")) -> 5.815805 | I33: =IF(OR('Tabel 1'!$J33<5,'Tabel 2'!I33<0.5),"-",IFERROR('Tabel 2'!I33/'Tabel 1'!$J33*100,"-")) -> 7.0429388 | J33: =IF(OR('Tabel 1'!$J33<5,'Tabel 2'!J33<0.5),"-",IFERROR('Tabel 2'!J33/'Tabel 1'!$J33*100,"-")) -> 6.0360241
... A46: Andre | C46: =IF(OR('Tabel 1'!$D46<5,'Tabel 2'!C46<0.5),"-",IFERROR('Tabel 2'!C46/'Tabel 1'!$D46*100,"-")) -> 6.8376802 | D46: =IF(OR('Tabel 1'!$D46<5,'Tabel 2'!D46<0.5),"-",IFERROR('Tabel 2'!D46/'Tabel 1'!$D46*100,"-")) -> 6.0991602 | F46: =IF(OR('Tabel 1'!$G46<5,'Tabel 2'!F46<0.5),"-",IFERROR('Tabel 2'!F46/'Tabel 1'!$G46*100,"-")) -> 10.925645 | G46: =IF(OR('Tabel 1'!$G46<5,'Tabel 2'!G46<0.5),"-",IFERROR('Tabel 2'!G46/'Tabel 1'!$G46*100,"-")) -> 9.4444707 | I46: =IF(OR('Tabel 1'!$J46<5,'Tabel 2'!I46<0.5),"-",IFERROR('Tabel 2'!I46/'Tabel 1'!$J46*100,"-")) -> 8.8995663 | J46: =IF(OR('Tabel 1'!$J46<5,'Tabel 2'!J46<0.5),"-",IFERROR('Tabel 2'!J46/'Tabel 1'!$J46*100,"-")) -> 7.7864667
A48: Total | B48: =SUM(B9:B46)-SUM(B17:B20) -> 21049 | C48: =IF(OR('Tabel 1'!$D48<5,'Tabel 2'!C48<0.5),"-",IFERROR('Tabel 2'!C48/'Tabel 1'!$D48*100,"-")) -> 6.1409966 | D48: =IF(OR('Tabel 1'!$D48<5,'Tabel 2'!D48<0.5),"-",IFERROR('Tabel 2'!D48/'Tabel 1'!$D48*100,"-")) -> 5.5192336 | E48: =IF(#REF!<10,"-",'Tabel 2'!E48/#REF!*100) -> #REF! | F48: =IF(OR('Tabel 1'!$G48<5,'Tabel 2'!F48<0.5),"-",IFERROR('Tabel 2'!F48/'Tabel 1'!$G48*100,"-")) -> 7.9893394 | G48: =IF(OR('Tabel 1'!$G48<5,'Tabel 2'!G48<0.5),"-",IFERROR('Tabel 2'!G48/'Tabel 1'!$G48*100,"-")) -> 6.9659992 | H48: =IF(#REF!<10,"-",'Tabel 2'!H48/#REF!*100) -> #REF! | I48: =IF(OR('Tabel 1'!$J48<5,'Tabel 2'!I48<0.5),"-",IFERROR('Tabel 2'!I48/'Tabel 1'!$J48*100,"-")) -> 7.0732782 | J48: =IF(OR('Tabel 1'!$J48<5,'Tabel 2'!J48<0.5),"-",IFERROR('Tabel 2'!J48/'Tabel 1'!$J48*100,"-")) -> 6.2489646
A50: Ingeniører i alt | B50: =IF(#REF!<10,"-",'Tabel 2'!B50/#REF!*100) -> #REF! | C50: =IF(OR('Tabel 1'!$D50<5,'Tabel 2'!C50<0.5),"-",IFERROR('Tabel 2'!C50/'Tabel 1'!$D50*100,"-")) -> 3.8294169 | D50: =IF(OR('Tabel 1'!$D50<5,'Tabel 2'!D50<0.5),"-",IFERROR('Tabel 2'!D50/'Tabel 1'!$D50*100,"-")) -> 3.4948492 | F50: =IF(OR('Tabel 1'!$G50<5,'Tabel 2'!F50<0.5),"-",IFERROR('Tabel 2'!F50/'Tabel 1'!$G50*100,"-")) -> 5.0009975 | G50: =IF(OR('Tabel 1'!$G50<5,'Tabel 2'!G50<0.5),"-",IFERROR('Tabel 2'!G50/'Tabel 1'!$G50*100,"-")) -> 4.476884 | I50: =IF(OR('Tabel 1'!$J50<5,'Tabel 2'!I50<0.5),"-",IFERROR('Tabel 2'!I50/'Tabel 1'!$J50*100,"-")) -> 4.0933745 | J50: =IF(OR('Tabel 1'!$J50<5,'Tabel 2'!J50<0.5),"-",IFERROR('Tabel 2'!J50/'Tabel 1'!$J50*100,"-")) -> 3.7161021
A51: Magistre i alt | C51: =IF(OR('Tabel 1'!$D51<5,'Tabel 2'!C51<0.5),"-",IFERROR('Tabel 2'!C51/'Tabel 1'!$D51*100,"-")) -> 9.2692693 | D51: =IF(OR('Tabel 1'!$D51<5,'Tabel 2'!D51<0.5),"-",IFERROR('Tabel 2'!D51/'Tabel 1'!$D51*100,"-")) -> 8.2100513 | F51: =IF(OR('Tabel 1'!$G51<5,'Tabel 2'!F51<0.5),"-",IFERROR('Tabel 2'!F51/'Tabel 1'!$G51*100,"-")) -> 11.082223 | G51: =IF(OR('Tabel 1'!$G51<5,'Tabel 2'!G51<0.5),"-",IFERROR('Tabel 2'!G51/'Tabel 1'!$G51*100,"-")) -> 9.6824332 | I51: =IF(OR('Tabel 1'!$J51<5,'Tabel 2'!I51<0.5),"-",IFERROR('Tabel 2'!I51/'Tabel 1'!$J51*100,"-")) -> 10.416881 | J51: =IF(OR('Tabel 1'!$J51<5,'Tabel 2'!J51<0.5),"-",IFERROR('Tabel 2'!J51/'Tabel 1'!$J51*100,"-")) -> 9.1420788
A52: DJØF'ere i alt | C52: =IF(OR('Tabel 1'!$D52<5,'Tabel 2'!C52<0.5),"-",IFERROR('Tabel 2'!C52/'Tabel 1'!$D52*100,"-")) -> 5.7913153 | D52: =IF(OR('Tabel 1'!$D52<5,'Tabel 2'!D52<0.5),"-",IFERROR('Tabel 2'!D52/'Tabel 1'!$D52*100,"-")) -> 5.2302982 | F52: =IF(OR('Tabel 1'!$G52<5,'Tabel 2'!F52<0.5),"-",IFERROR('Tabel 2'!F52/'Tabel 1'!$G52*100,"-")) -> 6.27585 | G52: =IF(OR('Tabel 1'!$G52<5,'Tabel 2'!G52<0.5),"-",IFERROR('Tabel 2'!G52/'Tabel 1'!$G52*100,"-")) -> 5.5088859 | I52: =IF(OR('Tabel 1'!$J52<5,'Tabel 2'!I52<0.5),"-",IFERROR('Tabel 2'!I52/'Tabel 1'!$J52*100,"-")) -> 6.0510184 | J52: =IF(OR('Tabel 1'!$J52<5,'Tabel 2'!J52<0.5),"-",IFERROR('Tabel 2'!J52/'Tabel 1'!$J52*100,"-")) -> 5.3796169
A53: Se sidste del af statistikken for en oversigt over uddannelsesgrupperingernes indhold

Sheet Tabel 4 F
A1: Landstatistik
A3: Tabel 4. Antal forsikrede medlemmer - aldersfordelt
B7: Under 30 år | C7: 30 - 39 år | D7: 40 - 49 år | E7: 50 - 59 år | F7: Over 60 år | H7: I alt
A9: Civ. Ing. | B9: 5431 | C9: 10771 | D9: 7961 | E9: 6584 | F9: 1936 | H9: =B9+C9+D9+E9+F9 -> 32683
A10: Diplom Ing. | B10: 2998 | C10: 5996 | D10: 8849 | E10: 12295 | F10: 3921 | H10: =B10+C10+D10+E10+F10 -> 34059
A11: Cand.Scient.Tech. | B11: 5778 | C11: 9145 | D11: 2879 | E11: 1035 | F11: 203 | H11: =B11+C11+D11+E11+F11 -> 19040
A12: MA. Hum. | B12: 5782 | C12: 14363 | D12: 13657 | E12: 5684 | F12: 2370 | H12: =B12+C12+D12+E12+F12 -> 41856
A13: MA. Nat. | B13: 1092 | C13: 3269 | D13: 5069 | E13: 3875 | F13: 1562 | H13: =B13+C13+D13+E13+F13 -> 14867
A14: MA. Ph.d. | B14: 47 | C14: 732 | D14: 933 | E14: 631 | F14: 155 | H14: =B14+C14+D14+E14+F14 -> 2498
A15: MA. Samf. | B15: 1401 | C15: 2620 | D15: 830 | E15: 352 | F15: 79 | H15: =B15+C15+D15+E15+F15 -> 5282
A16: Øvrige Mag. | B16: 618 | C16: 707 | D16: 999 | E16: 881 | F16: 345 | H16: =B16+C16+D16+E16+F16 -> 3550
A17: Agronom | B17: 157 | C17: 303 | D17: 626 | E17: 899 | F17: 381 | H17: =B17+C17+D17+E17+F17 -> 2366
A18: Landsk. Arkt. | B18: 62 | C18: 242 | D18: 225 | E18: 137 | F18: 40 | H18: =B18+C18+D18+E18+F18 -> 706
A19: Hortonom | B19: 1 | C19: 24 | D19: 81 | E19: 139 | F19: 68 | H19: =B19+C19+D19+E19+F19 -> 313
A20: Forstkand. | B20: 28 | C20: 84 | D20: 211 | E20: 125 | F20: 64 | H20: =B20+C20+D20+E20+F20 -> 512
... A46: Andre | B46: 3069 | C46: 8515 | D46: 6172 | E46: 4007 | F46: 1755 | H46: =B46+C46+D46+E46+F46 -> 23518
A48: Total | B48: =SUM(B9:B46)-SUM(B17:B20) -> 59257 | C48: =SUM(C9:C46)-SUM(C17:C20) -> 117171 | D48: =SUM(D9:D46)-SUM(D17:D20) -> 91047 | E48: =SUM(E9:E46)-SUM(E17:E20) -> 66681 | F48: =SUM(F9:F46)-SUM(F17:F20) -> 22171 | H48: =SUM(H9:H46)-SUM(H17:H20) -> 356327
A50: Ingeniører i alt | B50: 8429 | C50: 16767 | D50: 16810 | E50: 18879 | F50: 5857 | H50: =B50+C50+D50+E50+F50 -> 66742
A51: Magistre i alt | B51: 8940 | C51: 21691 | D51: 21488 | E51: 11423 | F51: 4511 | H51: =B51+C51+D51+E51+F51 -> 68053
A52: DJØF'ere i alt | B52: 19032 | C52: 34346 | D52: 23136 | E52: 16190 | F52: 3379 | H52: =B52+C52+D52+E52+F52 -> 96083
A53: Se sidste del af statistikken for en oversigt over uddannelsesgrupperingernes indhold

Sheet Tabel 4 Be
A1: Landstatistik
A3: Tabel 4. Antal bruttoledige målt i berørte medlemmer - aldersfordelt
B7: Under 30 år | C7: 30 - 39 år | D7: 40 - 49 år | E7: 50 - 59 år | F7: Over 60 år | H7: I alt
A9: Civ. Ing. | B9: 788 | C9: 306 | D9: 136 | E9: 133 | F9: 73 | H9: =B9+C9+D9+E9+F9 -> 1436
A10: Diplom Ing. | B10: 366 | C10: 227 | D10: 181 | E10: 351 | F10: 171 | H10: =B10+C10+D10+E10+F10 -> 1296
A11: Cand.Scient.Tech. | B11: 1195 | C11: 601 | D11: 95 | E11: 49 | F11: 15 | H11: =B11+C11+D11+E11+F11 -> 1955
A12: MA. Hum. | B12: 1902 | C12: 1844 | D12: 777 | E12: 386 | F12: 189 | H12: =B12+C12+D12+E12+F12 -> 5098
A13: MA. Nat. | B13: 230 | C13: 226 | D13: 108 | E13: 98 | F13: 46 | H13: =B13+C13+D13+E13+F13 -> 708
A14: MA. Ph.d. | B14: 4 | C14: 42 | D14: 47 | E14: 27 | F14: 8 | H14: =B14+C14+D14+E14+F14 -> 128
A15: MA. Samf. | B15: 387 | C15: 338 | D15: 63 | E15: 26 | F15: 8 | H15: =B15+C15+D15+E15+F15 -> 822
A16: Øvrige Mag. | B16: 131 | C16: 91 | D16: 52 | E16: 42 | F16: 17 | H16: =B16+C16+D16+E16+F16 -> 333
A17: Agronom | B17: 29 | C17: 22 | D17: 8 | E17: 17 | F17: 13 | H17: =B17+C17+D17+E17+F17 -> 89
A18: Landsk. Arkt. | B18: 14 | C18: 19 | D18: 7 | E18: 3 | F18: 2 | H18: =B18+C18+D18+E18+F18 -> 45
A19: Hortonom | B19: 0 | C19: 1 | D19: 3 | E19: 3 | F19: 2 | H19: =B19+C19+D19+E19+F19 -> 9
A20: Forstkand. | B20: 7 | C20: 7 | D20: 3 | E20: 2 | F20: 3 | H20: =B20+C20+D20+E20+F20 -> 22
... A46: Andre | B46: 545 | C46: 726 | D46: 364 | E46: 298 | F46: 160 | H46: =B46+C46+D46+E46+F46 -> 2093
A48: Total | B48: =SUM(B9:B46)-SUM(B17:B20) -> 10905 | C48: =SUM(C9:C46)-SUM(C17:C20) -> 7629 | D48: =SUM(D9:D46)-SUM(D17:D20) -> 3173 | E48: =SUM(E9:E46)-SUM(E17:E20) -> 2444 | F48: =SUM(F9:F46)-SUM(F17:F20) -> 1158 | H48: =SUM(H9:H46)-SUM(H17:H20) -> 25309 | I48: 9.7704462 | J48: 9.3422883 | K48: 9.1420788
A50: Ingeniører i alt | B50: 1154 | C50: 533 | D50: 317 | E50: 484 | F50: 244 | H50: =B50+C50+D50+E50+F50 -> 2732
A51: Magistre i alt | B51: 2654 | C51: 2541 | D51: 1047 | E51: 579 | F51: 268 | H51: =B51+C51+D51+E51+F51 -> 7089
A52: DJØF'ere i alt | B52: 2707 | C52: 1663 | D52: 688 | E52: 571 | F52: 185 | H52: =B52+C52+D52+E52+F52 -> 5814
A53: Se sidste del af statistikken for en oversigt over uddannelsesgrupperingernes indhold

Sheet Tabel 4 Br
A1: Landstatistik
A3: Tabel 4. Antal bruttoledige målt i fuldtidspersoner - aldersfordelt
B7: Under 30 år | C7: 30 - 39 år | D7: 40 - 49 år | E7: 50 - 59 år | F7: Over 60 år | H7: I alt
A9: Civ. Ing. | B9: 722.88468 | C9: 276.09056 | D9: 122.8747 | E9: 117.88935 | F9: 61.88549 | H9: =SUM(B9:F9) -> 1301.6248
A10: Diplom Ing. | B10: 334.51693 | C10: 206.77103 | D10: 165.0895 | E10: 319.88836 | F10: 152.31024 | H10: =SUM(B10:F10) -> 1178.5761
A11: Cand.Scient.Tech. | B11: 1057.1615 | C11: 526.37997 | D11: 86.30325 | E11: 46.35689 | F11: 11.77072 | H11: =SUM(B11:F11) -> 1727.9723
A12: MA. Hum. | B12: 1674.9043 | C12: 1616.9532 | D12: 682.74184 | E12: 332.68197 | F12: 158.03967 | H12: =SUM(B12:F12) -> 4465.3209
A13: MA. Nat. | B13: 200.23015 | C13: 192.08819 | D13: 97.65172 | E13: 85.30219 | F13: 34.93919 | H13: =SUM(B13:F13) -> 610.21144
A14: MA. Ph.d. | B14: 3.66307 | C14: 38.37523 | D14: 41.79505 | E14: 22.34267 | F14: 6.75482 | H14: =SUM(B14:F14) -> 112.93084
A15: MA. Samf. | B15: 345.61904 | C15: 302.42562 | D15: 56.81657 | E15: 24.88243 | F15: 6.23901 | H15: =SUM(B15:F15) -> 735.98267
A16: Øvrige Mag. | B16: 117.09973 | C16: 80.91062 | D16: 48.11202 | E16: 36.77914 | F16: 14.11152 | H16: =SUM(B16:F16) -> 297.01303
A17: Agronom | B17: 25.3708 | C17: 20.33244 | D17: 6.58018 | E17: 14.70717 | F17: 11.24493 | H17: =SUM(B17:F17) -> 78.23552
A18: Landsk. Arkt. | B18: 11.68278 | C18: 17.74528 | D18: 5.63899 | E18: 2.99944 | F18: 1.92041 | H18: =SUM(B18:F18) -> 39.9869
A19: Hortonom | B19: 0 | C19: 0.86135 | D19: 2.75744 | E19: 2.63145 | F19: 1.99963 | H19: =SUM(B19:F19) -> 8.24987
A20: Forstkand. | B20: 6.99869 | C20: 6.18038 | D20: 2.89465 | E20: 1.99963 | F20: 2.99944 | H20: =SUM(B20:F20) -> 21.07279
... A46: Andre | B46: 486.74546 | C46: 632.13809 | D46: 316.02071 | E46: 257.3461 | F46: 138.97087 | H46: =SUM(B46:F46) -> 1831.2212
A48: Total | B48: =SUM(B9:B46)-SUM(B17:B20) -> 9567.1196 | C48: =SUM(C9:C46)-SUM(C17:C20) -> 6718.0549 | D48: =SUM(D9:D46)-SUM(D17:D20) -> 2809.4505 | E48: =SUM(E9:E46)-SUM(E17:E20) -> 2167.6934 | F48: =SUM(F9:F46)-SUM(F17:F20) -> 1004.4296 | H48: =SUM(H9:H46)-SUM(H17:H20) -> 22266.748 | I48: 9.7704462 | J48: 9.3422883 | K48: 9.1420788
A50: Ingeniører i alt | B50: 1057.4016 | C50: 482.8616 | D50: 287.9642 | E50: 437.77771 | F50: 214.19572 | H50: =SUM(B50:F50) -> 2480.2008
A51: Magistre i alt | B51: 2341.5163 | C51: 2230.7528 | D51: 927.1172 | E51: 501.9884 | F51: 220.0842 | H51: =SUM(B51:F51) -> 6221.4589
A52: DJØF'ere i alt | B52: 2395.9209 | C52: 1481.495 | D52: 609.49791 | E52: 516.56459 | F52: 165.41882 | H52: =SUM(B52:F52) -> 5168.8973
A53: Se sidste del af statistikken for en oversigt over uddannelsesgrupperingernes indhold

Sheet Tabel 4 p (Be)
A1: Landstatistik
A3: Tabel 4.2 Bruttoledighedsprocenten målt i ledighedsberørte - aldersfordelt
B7: Under 30 år | C7: 30 - 39 år | D7: 40 - 49 år | E7: 50 - 59 år | F7: Over 60 år | H7: I alt
A9: Civ. Ing. | B9: =IF(OR('Tabel 4 F'!B9<5,'Tabel 4 Be'!B9<0.5),"-",IFERROR('Tabel 4 Be'!B9/'Tabel 4 F'!B9*100,"-")) -> 14.509298 | C9: =IF(OR('Tabel 4 F'!C9<5,'Tabel 4 Be'!C9<0.5),"-",IFERROR('Tabel 4 Be'!C9/'Tabel 4 F'!C9*100,"-")) -> 2.8409618 | D9: =IF(OR('Tabel 4 F'!D9<5,'Tabel 4 Be'!D9<0.5),"-",IFERROR('Tabel 4 Be'!D9/'Tabel 4 F'!D9*100,"-")) -> 1.7083281 | E9: =IF(OR('Tabel 4 F'!E9<5,'Tabel 4 Be'!E9<0.5),"-",IFERROR('Tabel 4 Be'!E9/'Tabel 4 F'!E9*100,"-")) -> 2.0200486 | F9: =IF(OR('Tabel 4 F'!F9<5,'Tabel 4 Be'!F9<0.5),"-",IFERROR('Tabel 4 Be'!F9/'Tabel 4 F'!F9*100,"-")) -> 3.7706612 | H9: =IF(OR('Tabel 4 F'!H9<5,'Tabel 4 Be'!H9<0.5),"-",IFERROR('Tabel 4 Be'!H9/'Tabel 4 F'!H9*100,"-")) -> 4.3937215
A10: Diplom Ing. | B10: =IF(OR('Tabel 4 F'!B10<5,'Tabel 4 Be'!B10<0.5),"-",IFERROR('Tabel 4 Be'!B10/'Tabel 4 F'!B10*100,"-")) -> 12.208139 | C10: =IF(OR('Tabel 4 F'!C10<5,'Tabel 4 Be'!C10<0.5),"-",IFERROR('Tabel 4 Be'!C10/'Tabel 4 F'!C10*100,"-")) -> 3.7858572 | D10: =IF(OR('Tabel 4 F'!D10<5,'Tabel 4 Be'!D10<0.5),"-",IFERROR('Tabel 4 Be'!D10/'Tabel 4 F'!D10*100,"-")) -> 2.0454289 | E10: =IF(OR('Tabel 4 F'!E10<5,'Tabel 4 Be'!E10<0.5),"-",IFERROR('Tabel 4 Be'!E10/'Tabel 4 F'!E10*100,"-")) -> 2.854819 | F10: =IF(OR('Tabel 4 F'!F10<5,'Tabel 4 Be'!F10<0.5),"-",IFERROR('Tabel 4 Be'!F10/'Tabel 4 F'!F10*100,"-")) -> 4.3611324 | H10: =IF(OR('Tabel 4 F'!H10<5,'Tabel 4 Be'!H10<0.5),"-",IFERROR('Tabel 4 Be'!H10/'Tabel 4 F'!H10*100,"-")) -> 3.8051616
A11: Cand.Scient.Tech. | B11: =IF(OR('Tabel 4 F'!B11<5,'Tabel 4 Be'!B11<0.5),"-",IFERROR('Tabel 4 Be'!B11/'Tabel 4 F'!B11*100,"-")) -> 20.681897 | C11: =IF(OR('Tabel 4 F'!C11<5,'Tabel 4 Be'!C11<0.5),"-",IFERROR('Tabel 4 Be'!C11/'Tabel 4 F'!C11*100,"-")) -> 6.5718972 | D11: =IF(OR('Tabel 4 F'!D11<5,'Tabel 4 Be'!D11<0.5),"-",IFERROR('Tabel 4 Be'!D11/'Tabel 4 F'!D11*100,"-")) -> 3.2997569 | E11: =IF(OR('Tabel 4 F'!E11<5,'Tabel 4 Be'!E11<0.5),"-",IFERROR('Tabel 4 Be'!E11/'Tabel 4 F'!E11*100,"-")) -> 4.7342995 | F11: =IF(OR('Tabel 4 F'!F11<5,'Tabel 4 Be'!F11<0.5),"-",IFERROR('Tabel 4 Be'!F11/'Tabel 4 F'!F11*100,"-")) -> 7.3891626 | H11: =IF(OR('Tabel 4 F'!H11<5,'Tabel 4 Be'!H11<0.5),"-",IFERROR('Tabel 4 Be'!H11/'Tabel 4 F'!H11*100,"-")) -> 10.267857
A12: MA. Hum. | B12: =IF(OR('Tabel 4 F'!B12<5,'Tabel 4 Be'!B12<0.5),"-",IFERROR('Tabel 4 Be'!B12/'Tabel 4 F'!B12*100,"-")) -> 32.895192 | C12: =IF(OR('Tabel 4 F'!C12<5,'Tabel 4 Be'!C12<0.5),"-",IFERROR('Tabel 4 Be'!C12/'Tabel 4 F'!C12*100,"-")) -> 12.838543 | D12: =IF(OR('Tabel 4 F'!D12<5,'Tabel 4 Be'!D12<0.5),"-",IFERROR('Tabel 4 Be'!D12/'Tabel 4 F'!D12*100,"-")) -> 5.6893901 | E12: =IF(OR('Tabel 4 F'!E12<5,'Tabel 4 Be'!E12<0.5),"-",IFERROR('Tabel 4 Be'!E12/'Tabel 4 F'!E12*100,"-")) -> 6.7909923 | F12: =IF(OR('Tabel 4 F'!F12<5,'Tabel 4 Be'!F12<0.5),"-",IFERROR('Tabel 4 Be'!F12/'Tabel 4 F'!F12*100,"-")) -> 7.9746835 | H12: =IF(OR('Tabel 4 F'!H12<5,'Tabel 4 Be'!H12<0.5),"-",IFERROR('Tabel 4 Be'!H12/'Tabel 4 F'!H12*100,"-")) -> 12.179855
A13: MA. Nat. | B13: =IF(OR('Tabel 4 F'!B13<5,'Tabel 4 Be'!B13<0.5),"-",IFERROR('Tabel 4 Be'!B13/'Tabel 4 F'!B13*100,"-")) -> 21.062271 | C13: =IF(OR('Tabel 4 F'!C13<5,'Tabel 4 Be'!C13<0.5),"-",IFERROR('Tabel 4 Be'!C13/'Tabel 4 F'!C13*100,"-")) -> 6.9134292 | D13: =IF(OR('Tabel 4 F'!D13<5,'Tabel 4 Be'!D13<0.5),"-",IFERROR('Tabel 4 Be'!D13/'Tabel 4 F'!D13*100,"-")) -> 2.1305978 | E13: =IF(OR('Tabel 4 F'!E13<5,'Tabel 4 Be'!E13<0.5),"-",IFERROR('Tabel 4 Be'!E13/'Tabel 4 F'!E13*100,"-")) -> 2.5290323 | F13: =IF(OR('Tabel 4 F'!F13<5,'Tabel 4 Be'!F13<0.5),"-",IFERROR('Tabel 4 Be'!F13/'Tabel 4 F'!F13*100,"-")) -> 2.9449424 | H13: =IF(OR('Tabel 4 F'!H13<5,'Tabel 4 Be'!H13<0.5),"-",IFERROR('Tabel 4 Be'!H13/'Tabel 4 F'!H13*100,"-")) -> 4.7622251
A14: MA. Ph.d. | B14: =IF(OR('Tabel 4 F'!B14<5,'Tabel 4 Be'!B14<0.5),"-",IFERROR('Tabel 4 Be'!B14/'Tabel 4 F'!B14*100,"-")) -> 8.5106383 | C14: =IF(OR('Tabel 4 F'!C14<5,'Tabel 4 Be'!C14<0.5),"-",IFERROR('Tabel 4 Be'!C14/'Tabel 4 F'!C14*100,"-")) -> 5.7377049 | D14: =IF(OR('Tabel 4 F'!D14<5,'Tabel 4 Be'!D14<0.5),"-",IFERROR('Tabel 4 Be'!D14/'Tabel 4 F'!D14*100,"-")) -> 5.0375134 | E14: =IF(OR('Tabel 4 F'!E14<5,'Tabel 4 Be'!E14<0.5),"-",IFERROR('Tabel 4 Be'!E14/'Tabel 4 F'!E14*100,"-")) -> 4.2789223 | F14: =IF(OR('Tabel 4 F'!F14<5,'Tabel 4 Be'!F14<0.5),"-",IFERROR('Tabel 4 Be'!F14/'Tabel 4 F'!F14*100,"-")) -> 5.1612903 | H14: =IF(OR('Tabel 4 F'!H14<5,'Tabel 4 Be'!H14<0.5),"-",IFERROR('Tabel 4 Be'!H14/'Tabel 4 F'!H14*100,"-")) -> 5.1240993
A15: MA. Samf. | B15: =IF(OR('Tabel 4 F'!B15<5,'Tabel 4 Be'!B15<0.5),"-",IFERROR('Tabel 4 Be'!B15/'Tabel 4 F'!B15*100,"-")) -> 27.623126 | C15: =IF(OR('Tabel 4 F'!C15<5,'Tabel 4 Be'!C15<0.5),"-",IFERROR('Tabel 4 Be'!C15/'Tabel 4 F'!C15*100,"-")) -> 12.900763 | D15: =IF(OR('Tabel 4 F'!D15<5,'Tabel 4 Be'!D15<0.5),"-",IFERROR('Tabel 4 Be'!D15/'Tabel 4 F'!D15*100,"-")) -> 7.5903614 | E15: =IF(OR('Tabel 4 F'!E15<5,'Tabel 4 Be'!E15<0.5),"-",IFERROR('Tabel 4 Be'!E15/'Tabel 4 F'!E15*100,"-")) -> 7.3863636 | F15: =IF(OR('Tabel 4 F'!F15<5,'Tabel 4 Be'!F15<0.5),"-",IFERROR('Tabel 4 Be'!F15/'Tabel 4 F'!F15*100,"-")) -> 10.126582 | H15: =IF(OR('Tabel 4 F'!H15<5,'Tabel 4 Be'!H15<0.5),"-",IFERROR('Tabel 4 Be'!H15/'Tabel 4 F'!H15*100,"-")) -> 15.562287
A16: Øvrige Mag. | B16: =IF(OR('Tabel 4 F'!B16<5,'Tabel 4 Be'!B16<0.5),"-",IFERROR('Tabel 4 Be'!B16/'Tabel 4 F'!B16*100,"-")) -> 21.197411 | C16: =IF(OR('Tabel 4 F'!C16<5,'Tabel 4 Be'!C16<0.5),"-",IFERROR('Tabel 4 Be'!C16/'Tabel 4 F'!C16*100,"-")) -> 12.871287 | D16: =IF(OR('Tabel 4 F'!D16<5,'Tabel 4 Be'!D16<0.5),"-",IFERROR('Tabel 4 Be'!D16/'Tabel 4 F'!D16*100,"-")) -> 5.2052052 | E16: =IF(OR('Tabel 4 F'!E16<5,'Tabel 4 Be'!E16<0.5),"-",IFERROR('Tabel 4 Be'!E16/'Tabel 4 F'!E16*100,"-")) -> 4.7673099 | F16: =IF(OR('Tabel 4 F'!F16<5,'Tabel 4 Be'!F16<0.5),"-",IFERROR('Tabel 4 Be'!F16/'Tabel 4 F'!F16*100,"-")) -> 4.9275362 | H16: =IF(OR('Tabel 4 F'!H16<5,'Tabel 4 Be'!H16<0.5),"-",IFERROR('Tabel 4 Be'!H16/'Tabel 4 F'!H16*100,"-")) -> 9.3802817
A17: Agronom | B17: =IF(OR('Tabel 4 F'!B17<5,'Tabel 4 Be'!B17<0.5),"-",IFERROR('Tabel 4 Be'!B17/'Tabel 4 F'!B17*100,"-")) -> 18.471338 | C17: =IF(OR('Tabel 4 F'!C17<5,'Tabel 4 Be'!C17<0.5),"-",IFERROR('Tabel 4 Be'!C17/'Tabel 4 F'!C17*100,"-")) -> 7.2607261 | D17: =IF(OR('Tabel 4 F'!D17<5,'Tabel 4 Be'!D17<0.5),"-",IFERROR('Tabel 4 Be'!D17/'Tabel 4 F'!D17*100,"-")) -> 1.2779553 | E17: =IF(OR('Tabel 4 F'!E17<5,'Tabel 4 Be'!E17<0.5),"-",IFERROR('Tabel 4 Be'!E17/'Tabel 4 F'!E17*100,"-")) -> 1.89099 | F17: =IF(OR('Tabel 4 F'!F17<5,'Tabel 4 Be'!F17<0.5),"-",IFERROR('Tabel 4 Be'!F17/'Tabel 4 F'!F17*100,"-")) -> 3.4120735 | H17: =IF(OR('Tabel 4 F'!H17<5,'Tabel 4 Be'!H17<0.5),"-",IFERROR('Tabel 4 Be'!H17/'Tabel 4 F'!H17*100,"-")) -> 3.761623
A18: Landsk. Arkt. | B18: =IF(OR('Tabel 4 F'!B18<5,'Tabel 4 Be'!B18<0.5),"-",IFERROR('Tabel 4 Be'!B18/'Tabel 4 F'!B18*100,"-")) -> 22.580645 | C18: =IF(OR('Tabel 4 F'!C18<5,'Tabel 4 Be'!C18<0.5),"-",IFERROR('Tabel 4 Be'!C18/'Tabel 4 F'!C18*100,"-")) -> 7.8512397 | D18: =IF(OR('Tabel 4 F'!D18<5,'Tabel 4 Be'!D18<0.5),"-",IFERROR('Tabel 4 Be'!D18/'Tabel 4 F'!D18*100,"-")) -> 3.1111111 | E18: =IF(OR('Tabel 4 F'!E18<5,'Tabel 4 Be'!E18<0.5),"-",IFERROR('Tabel 4 Be'!E18/'Tabel 4 F'!E18*100,"-")) -> 2.189781 | F18: =IF(OR('Tabel 4 F'!F18<5,'Tabel 4 Be'!F18<0.5),"-",IFERROR('Tabel 4 Be'!F18/'Tabel 4 F'!F18*100,"-")) -> 5 | H18: =IF(OR('Tabel 4 F'!H18<5,'Tabel 4 Be'!H18<0.5),"-",IFERROR('Tabel 4 Be'!H18/'Tabel 4 F'!H18*100,"-")) -> 6.3739377
A19: Hortonom | B19: =IF(OR('Tabel 4 F'!B19<5,'Tabel 4 Be'!B19<0.5),"-",IFERROR('Tabel 4 Be'!B19/'Tabel 4 F'!B19*100,"-")) -> - | C19: =IF(OR('Tabel 4 F'!C19<5,'Tabel 4 Be'!C19<0.5),"-",IFERROR('Tabel 4 Be'!C19/'Tabel 4 F'!C19*100,"-")) -> 4.1666667 | D19: =IF(OR('Tabel 4 F'!D19<5,'Tabel 4 Be'!D19<0.5),"-",IFERROR('Tabel 4 Be'!D19/'Tabel 4 F'!D19*100,"-")) -> 3.7037037 | E19: =IF(OR('Tabel 4 F'!E19<5,'Tabel 4 Be'!E19<0.5),"-",IFERROR('Tabel 4 Be'!E19/'Tabel 4 F'!E19*100,"-")) -> 2.1582734 | F19: =IF(OR('Tabel 4 F'!F19<5,'Tabel 4 Be'!F19<0.5),"-",IFERROR('Tabel 4 Be'!F19/'Tabel 4 F'!F19*100,"-")) -> 2.9411765 | H19: =IF(OR('Tabel 4 F'!H19<5,'Tabel 4 Be'!H19<0.5),"-",IFERROR('Tabel 4 Be'!H19/'Tabel 4 F'!H19*100,"-")) -> 2.8753994
A20: Forstkand. | B20: =IF(OR('Tabel 4 F'!B20<5,'Tabel 4 Be'!B20<0.5),"-",IFERROR('Tabel 4 Be'!B20/'Tabel 4 F'!B20*100,"-")) -> 25 | C20: =IF(OR('Tabel 4 F'!C20<5,'Tabel 4 Be'!C20<0.5),"-",IFERROR('Tabel 4 Be'!C20/'Tabel 4 F'!C20*100,"-")) -> 8.3333333 | D20: =IF(OR('Tabel 4 F'!D20<5,'Tabel 4 Be'!D20<0.5),"-",IFERROR('Tabel 4 Be'!D20/'Tabel 4 F'!D20*100,"-")) -> 1.4218009 | E20: =IF(OR('Tabel 4 F'!E20<5,'Tabel 4 Be'!E20<0.5),"-",IFERROR('Tabel 4 Be'!E20/'Tabel 4 F'!E20*100,"-")) -> 1.6 | F20: =IF(OR('Tabel 4 F'!F20<5,'Tabel 4 Be'!F20<0.5),"-",IFERROR('Tabel 4 Be'!F20/'Tabel 4 F'!F20*100,"-")) -> 4.6875 | H20: =IF(OR('Tabel 4 F'!H20<5,'Tabel 4 Be'!H20<0.5),"-",IFERROR('Tabel 4 Be'!H20/'Tabel 4 F'!H20*100,"-")) -> 4.296875
... A46: Andre | B46: =IF(OR('Tabel 4 F'!B46<5,'Tabel 4 Be'!B46<0.5),"-",IFERROR('Tabel 4 Be'!B46/'Tabel 4 F'!B46*100,"-")) -> 17.758227 | C46: =IF(OR('Tabel 4 F'!C46<5,'Tabel 4 Be'!C46<0.5),"-",IFERROR('Tabel 4 Be'!C46/'Tabel 4 F'!C46*100,"-")) -> 8.5261304 | D46: =IF(OR('Tabel 4 F'!D46<5,'Tabel 4 Be'!D46<0.5),"-",IFERROR('Tabel 4 Be'!D46/'Tabel 4 F'!D46*100,"-")) -> 5.8976021 | E46: =IF(OR('Tabel 4 F'!E46<5,'Tabel 4 Be'!E46<0.5),"-",IFERROR('Tabel 4 Be'!E46/'Tabel 4 F'!E46*100,"-")) -> 7.4369853 | F46: =IF(OR('Tabel 4 F'!F46<5,'Tabel 4 Be'!F46<0.5),"-",IFERROR('Tabel 4 Be'!F46/'Tabel 4 F'!F46*100,"-")) -> 9.1168091 | H46: =IF(OR('Tabel 4 F'!H46<5,'Tabel 4 Be'!H46<0.5),"-",IFERROR('Tabel 4 Be'!H46/'Tabel 4 F'!H46*100,"-")) -> 8.8995663
A48: Total | B48: =IF(OR('Tabel 4 F'!B48<5,'Tabel 4 Be'!B48<0.5),"-",IFERROR('Tabel 4 Be'!B48/'Tabel 4 F'!B48*100,"-")) -> 18.402889 | C48: =IF(OR('Tabel 4 F'!C48<5,'Tabel 4 Be'!C48<0.5),"-",IFERROR('Tabel 4 Be'!C48/'Tabel 4 F'!C48*100,"-")) -> 6.5109967 | D48: =IF(OR('Tabel 4 F'!D48<5,'Tabel 4 Be'!D48<0.5),"-",IFERROR('Tabel 4 Be'!D48/'Tabel 4 F'!D48*100,"-")) -> 3.4850132 | E48: =IF(OR('Tabel 4 F'!E48<5,'Tabel 4 Be'!E48<0.5),"-",IFERROR('Tabel 4 Be'!E48/'Tabel 4 F'!E48*100,"-")) -> 3.665212 | F48: =IF(OR('Tabel 4 F'!F48<5,'Tabel 4 Be'!F48<0.5),"-",IFERROR('Tabel 4 Be'!F48/'Tabel 4 F'!F48*100,"-")) -> 5.2230391 | H48: =IF(OR('Tabel 4 F'!H48<5,'Tabel 4 Be'!H48<0.5),"-",IFERROR('Tabel 4 Be'!H48/'Tabel 4 F'!H48*100,"-")) -> 7.1027455 | J48: 9.3422883 | K48: 9.1420788
A50: Ingeniører i alt | B50: =IF(OR('Tabel 4 F'!B50<5,'Tabel 4 Be'!B50<0.5),"-",IFERROR('Tabel 4 Be'!B50/'Tabel 4 F'!B50*100,"-")) -> 13.690829 | C50: =IF(OR('Tabel 4 F'!C50<5,'Tabel 4 Be'!C50<0.5),"-",IFERROR('Tabel 4 Be'!C50/'Tabel 4 F'!C50*100,"-")) -> 3.1788632 | D50: =IF(OR('Tabel 4 F'!D50<5,'Tabel 4 Be'!D50<0.5),"-",IFERROR('Tabel 4 Be'!D50/'Tabel 4 F'!D50*100,"-")) -> 1.8857823 | E50: =IF(OR('Tabel 4 F'!E50<5,'Tabel 4 Be'!E50<0.5),"-",IFERROR('Tabel 4 Be'!E50/'Tabel 4 F'!E50*100,"-")) -> 2.5636951 | F50: =IF(OR('Tabel 4 F'!F50<5,'Tabel 4 Be'!F50<0.5),"-",IFERROR('Tabel 4 Be'!F50/'Tabel 4 F'!F50*100,"-")) -> 4.1659553 | H50: =IF(OR('Tabel 4 F'!H50<5,'Tabel 4 Be'!H50<0.5),"-",IFERROR('Tabel 4 Be'!H50/'Tabel 4 F'!H50*100,"-")) -> 4.0933745
A51: Magistre i alt | B51: =IF(OR('Tabel 4 F'!B51<5,'Tabel 4 Be'!B51<0.5),"-",IFERROR('Tabel 4 Be'!B51/'Tabel 4 F'!B51*100,"-")) -> 29.686801 | C51: =IF(OR('Tabel 4 F'!C51<5,'Tabel 4 Be'!C51<0.5),"-",IFERROR('Tabel 4 Be'!C51/'Tabel 4 F'!C51*100,"-")) -> 11.714536 | D51: =IF(OR('Tabel 4 F'!D51<5,'Tabel 4 Be'!D51<0.5),"-",IFERROR('Tabel 4 Be'!D51/'Tabel 4 F'!D51*100,"-")) -> 4.872487 | E51: =IF(OR('Tabel 4 F'!E51<5,'Tabel 4 Be'!E51<0.5),"-",IFERROR('Tabel 4 Be'!E51/'Tabel 4 F'!E51*100,"-")) -> 5.068721 | F51: =IF(OR('Tabel 4 F'!F51<5,'Tabel 4 Be'!F51<0.5),"-",IFERROR('Tabel 4 Be'!F51/'Tabel 4 F'!F51*100,"-")) -> 5.941033 | H51: =IF(OR('Tabel 4 F'!H51<5,'Tabel 4 Be'!H51<0.5),"-",IFERROR('Tabel 4 Be'!H51/'Tabel 4 F'!H51*100,"-")) -> 10.416881
A52: DJØF'ere i alt | B52: =IF(OR('Tabel 4 F'!B52<5,'Tabel 4 Be'!B52<0.5),"-",IFERROR('Tabel 4 Be'!B52/'Tabel 4 F'!B52*100,"-")) -> 14.223413 | C52: =IF(OR('Tabel 4 F'!C52<5,'Tabel 4 Be'!C52<0.5),"-",IFERROR('Tabel 4 Be'!C52/'Tabel 4 F'!C52*100,"-")) -> 4.841903 | D52: =IF(OR('Tabel 4 F'!D52<5,'Tabel 4 Be'!D52<0.5),"-",IFERROR('Tabel 4 Be'!D52/'Tabel 4 F'!D52*100,"-")) -> 2.9737206 | E52: =IF(OR('Tabel 4 F'!E52<5,'Tabel 4 Be'!E52<0.5),"-",IFERROR('Tabel 4 Be'!E52/'Tabel 4 F'!E52*100,"-")) -> 3.5268684 | F52: =IF(OR('Tabel 4 F'!F52<5,'Tabel 4 Be'!F52<0.5),"-",IFERROR('Tabel 4 Be'!F52/'Tabel 4 F'!F52*100,"-")) -> 5.4749926 | H52: =IF(OR('Tabel 4 F'!H52<5,'Tabel 4 Be'!H52<0.5),"-",IFERROR('Tabel 4 Be'!H52/'Tabel 4 F'!H52*100,"-")) -> 6.0510184
A53: Se sidste del af statistikken for en oversigt over uddannelsesgrupperingernes indhold

Sheet Tabel 4 p (Br)
A1: Landstatistik
A3: Tabel 4.2 Bruttoledighedsprocenten målt i fuldtidspersoner - aldersfordelt
B7: Under 30 år | C7: 30 - 39 år | D7: 40 - 49 år | E7: 50 - 59 år | F7: Over 60 år | H7: I alt
A9: Civ. Ing. | B9: =IF(OR('Tabel 4 F'!B9<5,'Tabel 4 Br'!B9<0.5),"-",IFERROR('Tabel 4 Br'!B9/'Tabel 4 F'!B9*100,"-")) -> 13.310342 | C9: =IF(OR('Tabel 4 F'!C9<5,'Tabel 4 Br'!C9<0.5),"-",IFERROR('Tabel 4 Br'!C9/'Tabel 4 F'!C9*100,"-")) -> 2.5632769 | D9: =IF(OR('Tabel 4 F'!D9<5,'Tabel 4 Br'!D9<0.5),"-",IFERROR('Tabel 4 Br'!D9/'Tabel 4 F'!D9*100,"-")) -> 1.5434581 | E9: =IF(OR('Tabel 4 F'!E9<5,'Tabel 4 Br'!E9<0.5),"-",IFERROR('Tabel 4 Br'!E9/'Tabel 4 F'!E9*100,"-")) -> 1.790543 | F9: =IF(OR('Tabel 4 F'!F9<5,'Tabel 4 Br'!F9<0.5),"-",IFERROR('Tabel 4 Br'!F9/'Tabel 4 F'!F9*100,"-")) -> 3.1965646 | H9: =IF(OR('Tabel 4 F'!H9<5,'Tabel 4 Br'!H9<0.5),"-",IFERROR('Tabel 4 Br'!H9/'Tabel 4 F'!H9*100,"-")) -> 3.9825744
A10: Diplom Ing. | B10: =IF(OR('Tabel 4 F'!B10<5,'Tabel 4 Br'!B10<0.5),"-",IFERROR('Tabel 4 Br'!B10/'Tabel 4 F'!B10*100,"-")) -> 11.158003 | C10: =IF(OR('Tabel 4 F'!C10<5,'Tabel 4 Br'!C10<0.5),"-",IFERROR('Tabel 4 Br'!C10/'Tabel 4 F'!C10*100,"-")) -> 3.4484828 | D10: =IF(OR('Tabel 4 F'!D10<5,'Tabel 4 Br'!D10<0.5),"-",IFERROR('Tabel 4 Br'!D10/'Tabel 4 F'!D10*100,"-")) -> 1.8656289 | E10: =IF(OR('Tabel 4 F'!E10<5,'Tabel 4 Br'!E10<0.5),"-",IFERROR('Tabel 4 Br'!E10/'Tabel 4 F'!E10*100,"-")) -> 2.601776 | F10: =IF(OR('Tabel 4 F'!F10<5,'Tabel 4 Br'!F10<0.5),"-",IFERROR('Tabel 4 Br'!F10/'Tabel 4 F'!F10*100,"-")) -> 3.8844744 | H10: =IF(OR('Tabel 4 F'!H10<5,'Tabel 4 Br'!H10<0.5),"-",IFERROR('Tabel 4 Br'!H10/'Tabel 4 F'!H10*100,"-")) -> 3.4603954
A11: Cand.Scient.Tech. | B11: =IF(OR('Tabel 4 F'!B11<5,'Tabel 4 Br'!B11<0.5),"-",IFERROR('Tabel 4 Br'!B11/'Tabel 4 F'!B11*100,"-")) -> 18.296322 | C11: =IF(OR('Tabel 4 F'!C11<5,'Tabel 4 Br'!C11<0.5),"-",IFERROR('Tabel 4 Br'!C11/'Tabel 4 F'!C11*100,"-")) -> 5.7559319 | D11: =IF(OR('Tabel 4 F'!D11<5,'Tabel 4 Br'!D11<0.5),"-",IFERROR('Tabel 4 Br'!D11/'Tabel 4 F'!D11*100,"-")) -> 2.9976815 | E11: =IF(OR('Tabel 4 F'!E11<5,'Tabel 4 Br'!E11<0.5),"-",IFERROR('Tabel 4 Br'!E11/'Tabel 4 F'!E11*100,"-")) -> 4.4789266 | F11: =IF(OR('Tabel 4 F'!F11<5,'Tabel 4 Br'!F11<0.5),"-",IFERROR('Tabel 4 Br'!F11/'Tabel 4 F'!F11*100,"-")) -> 5.7983842 | H11: =IF(OR('Tabel 4 F'!H11<5,'Tabel 4 Br'!H11<0.5),"-",IFERROR('Tabel 4 Br'!H11/'Tabel 4 F'!H11*100,"-")) -> 9.0754848
A12: MA. Hum. | B12: =IF(OR('Tabel 4 F'!B12<5,'Tabel 4 Br'!B12<0.5),"-",IFERROR('Tabel 4 Br'!B12/'Tabel 4 F'!B12*100,"-")) -> 28.967559 | C12: =IF(OR('Tabel 4 F'!C12<5,'Tabel 4 Br'!C12<0.5),"-",IFERROR('Tabel 4 Br'!C12/'Tabel 4 F'!C12*100,"-")) -> 11.257768 | D12: =IF(OR('Tabel 4 F'!D12<5,'Tabel 4 Br'!D12<0.5),"-",IFERROR('Tabel 4 Br'!D12/'Tabel 4 F'!D12*100,"-")) -> 4.999208 | E12: =IF(OR('Tabel 4 F'!E12<5,'Tabel 4 Br'!E12<0.5),"-",IFERROR('Tabel 4 Br'!E12/'Tabel 4 F'!E12*100,"-")) -> 5.8529551 | F12: =IF(OR('Tabel 4 F'!F12<5,'Tabel 4 Br'!F12<0.5),"-",IFERROR('Tabel 4 Br'!F12/'Tabel 4 F'!F12*100,"-")) -> 6.6683405 | H12: =IF(OR('Tabel 4 F'!H12<5,'Tabel 4 Br'!H12<0.5),"-",IFERROR('Tabel 4 Br'!H12/'Tabel 4 F'!H12*100,"-")) -> 10.668293
A13: MA. Nat. | B13: =IF(OR('Tabel 4 F'!B13<5,'Tabel 4 Br'!B13<0.5),"-",IFERROR('Tabel 4 Br'!B13/'Tabel 4 F'!B13*100,"-")) -> 18.336094 | C13: =IF(OR('Tabel 4 F'!C13<5,'Tabel 4 Br'!C13<0.5),"-",IFERROR('Tabel 4 Br'!C13/'Tabel 4 F'!C13*100,"-")) -> 5.8760535 | D13: =IF(OR('Tabel 4 F'!D13<5,'Tabel 4 Br'!D13<0.5),"-",IFERROR('Tabel 4 Br'!D13/'Tabel 4 F'!D13*100,"-")) -> 1.9264494 | E13: =IF(OR('Tabel 4 F'!E13<5,'Tabel 4 Br'!E13<0.5),"-",IFERROR('Tabel 4 Br'!E13/'Tabel 4 F'!E13*100,"-")) -> 2.2013468 | F13: =IF(OR('Tabel 4 F'!F13<5,'Tabel 4 Br'!F13<0.5),"-",IFERROR('Tabel 4 Br'!F13/'Tabel 4 F'!F13*100,"-")) -> 2.2368239 | H13: =IF(OR('Tabel 4 F'!H13<5,'Tabel 4 Br'!H13<0.5),"-",IFERROR('Tabel 4 Br'!H13/'Tabel 4 F'!H13*100,"-")) -> 4.1044692
A14: MA. Ph.d. | B14: =IF(OR('Tabel 4 F'!B14<5,'Tabel 4 Br'!B14<0.5),"-",IFERROR('Tabel 4 Br'!B14/'Tabel 4 F'!B14*100,"-")) -> 7.793766 | C14: =IF(OR('Tabel 4 F'!C14<5,'Tabel 4 Br'!C14<0.5),"-",IFERROR('Tabel 4 Br'!C14/'Tabel 4 F'!C14*100,"-")) -> 5.2425178 | D14: =IF(OR('Tabel 4 F'!D14<5,'Tabel 4 Br'!D14<0.5),"-",IFERROR('Tabel 4 Br'!D14/'Tabel 4 F'!D14*100,"-")) -> 4.4796409 | E14: =IF(OR('Tabel 4 F'!E14<5,'Tabel 4 Br'!E14<0.5),"-",IFERROR('Tabel 4 Br'!E14/'Tabel 4 F'!E14*100,"-")) -> 3.5408352 | F14: =IF(OR('Tabel 4 F'!F14<5,'Tabel 4 Br'!F14<0.5),"-",IFERROR('Tabel 4 Br'!F14/'Tabel 4 F'!F14*100,"-")) -> 4.3579484 | H14: =IF(OR('Tabel 4 F'!H14<5,'Tabel 4 Br'!H14<0.5),"-",IFERROR('Tabel 4 Br'!H14/'Tabel 4 F'!H14*100,"-")) -> 4.5208503
A15: MA. Samf. | B15: =IF(OR('Tabel 4 F'!B15<5,'Tabel 4 Br'!B15<0.5),"-",IFERROR('Tabel 4 Br'!B15/'Tabel 4 F'!B15*100,"-")) -> 24.669453 | C15: =IF(OR('Tabel 4 F'!C15<5,'Tabel 4 Br'!C15<0.5),"-",IFERROR('Tabel 4 Br'!C15/'Tabel 4 F'!C15*100,"-")) -> 11.542963 | D15: =IF(OR('Tabel 4 F'!D15<5,'Tabel 4 Br'!D15<0.5),"-",IFERROR('Tabel 4 Br'!D15/'Tabel 4 F'!D15*100,"-")) -> 6.8453699 | E15: =IF(OR('Tabel 4 F'!E15<5,'Tabel 4 Br'!E15<0.5),"-",IFERROR('Tabel 4 Br'!E15/'Tabel 4 F'!E15*100,"-")) -> 7.0688722 | F15: =IF(OR('Tabel 4 F'!F15<5,'Tabel 4 Br'!F15<0.5),"-",IFERROR('Tabel 4 Br'!F15/'Tabel 4 F'!F15*100,"-")) -> 7.897481 | H15: =IF(OR('Tabel 4 F'!H15<5,'Tabel 4 Br'!H15<0.5),"-",IFERROR('Tabel 4 Br'!H15/'Tabel 4 F'!H15*100,"-")) -> 13.933788
A16: Øvrige Mag. | B16: =IF(OR('Tabel 4 F'!B16<5,'Tabel 4 Br'!B16<0.5),"-",IFERROR('Tabel 4 Br'!B16/'Tabel 4 F'!B16*100,"-")) -> 18.948176 | C16: =IF(OR('Tabel 4 F'!C16<5,'Tabel 4 Br'!C16<0.5),"-",IFERROR('Tabel 4 Br'!C16/'Tabel 4 F'!C16*100,"-")) -> 11.444218 | D16: =IF(OR('Tabel 4 F'!D16<5,'Tabel 4 Br'!D16<0.5),"-",IFERROR('Tabel 4 Br'!D16/'Tabel 4 F'!D16*100,"-")) -> 4.816018 | E16: =IF(OR('Tabel 4 F'!E16<5,'Tabel 4 Br'!E16<0.5),"-",IFERROR('Tabel 4 Br'!E16/'Tabel 4 F'!E16*100,"-")) -> 4.1747037 | F16: =IF(OR('Tabel 4 F'!F16<5,'Tabel 4 Br'!F16<0.5),"-",IFERROR('Tabel 4 Br'!F16/'Tabel 4 F'!F16*100,"-")) -> 4.0902957 | H16: =IF(OR('Tabel 4 F'!H16<5,'Tabel 4 Br'!H16<0.5),"-",IFERROR('Tabel 4 Br'!H16/'Tabel 4 F'!H16*100,"-")) -> 8.3665642
A17: Agronom | B17: =IF(OR('Tabel 4 F'!B17<5,'Tabel 4 Br'!B17<0.5),"-",IFERROR('Tabel 4 Br'!B17/'Tabel 4 F'!B17*100,"-")) -> 16.159745 | C17: =IF(OR('Tabel 4 F'!C17<5,'Tabel 4 Br'!C17<0.5),"-",IFERROR('Tabel 4 Br'!C17/'Tabel 4 F'!C17*100,"-")) -> 6.7103762 | D17: =IF(OR('Tabel 4 F'!D17<5,'Tabel 4 Br'!D17<0.5),"-",IFERROR('Tabel 4 Br'!D17/'Tabel 4 F'!D17*100,"-")) -> 1.051147 | E17: =IF(OR('Tabel 4 F'!E17<5,'Tabel 4 Br'!E17<0.5),"-",IFERROR('Tabel 4 Br'!E17/'Tabel 4 F'!E17*100,"-")) -> 1.6359477 | F17: =IF(OR('Tabel 4 F'!F17<5,'Tabel 4 Br'!F17<0.5),"-",IFERROR('Tabel 4 Br'!F17/'Tabel 4 F'!F17*100,"-")) -> 2.9514252 | H17: =IF(OR('Tabel 4 F'!H17<5,'Tabel 4 Br'!H17<0.5),"-",IFERROR('Tabel 4 Br'!H17/'Tabel 4 F'!H17*100,"-")) -> 3.3066577
A18: Landsk. Arkt. | B18: =IF(OR('Tabel 4 F'!B18<5,'Tabel 4 Br'!B18<0.5),"-",IFERROR('Tabel 4 Br'!B18/'Tabel 4 F'!B18*100,"-")) -> 18.843194 | C18: =IF(OR('Tabel 4 F'!C18<5,'Tabel 4 Br'!C18<0.5),"-",IFERROR('Tabel 4 Br'!C18/'Tabel 4 F'!C18*100,"-")) -> 7.3327603 | D18: =IF(OR('Tabel 4 F'!D18<5,'Tabel 4 Br'!D18<0.5),"-",IFERROR('Tabel 4 Br'!D18/'Tabel 4 F'!D18*100,"-")) -> 2.5062178 | E18: =IF(OR('Tabel 4 F'!E18<5,'Tabel 4 Br'!E18<0.5),"-",IFERROR('Tabel 4 Br'!E18/'Tabel 4 F'!E18*100,"-")) -> 2.1893723 | F18: =IF(OR('Tabel 4 F'!F18<5,'Tabel 4 Br'!F18<0.5),"-",IFERROR('Tabel 4 Br'!F18/'Tabel 4 F'!F18*100,"-")) -> 4.801025 | H18: =IF(OR('Tabel 4 F'!H18<5,'Tabel 4 Br'!H18<0.5),"-",IFERROR('Tabel 4 Br'!H18/'Tabel 4 F'!H18*100,"-")) -> 5.6638669
A19: Hortonom | B19: =IF(OR('Tabel 4 F'!B19<5,'Tabel 4 Br'!B19<0.5),"-",IFERROR('Tabel 4 Br'!B19/'Tabel 4 F'!B19*100,"-")) -> - | C19: =IF(OR('Tabel 4 F'!C19<5,'Tabel 4 Br'!C19<0.5),"-",IFERROR('Tabel 4 Br'!C19/'Tabel 4 F'!C19*100,"-")) -> 3.5889583 | D19: =IF(OR('Tabel 4 F'!D19<5,'Tabel 4 Br'!D19<0.5),"-",IFERROR('Tabel 4 Br'!D19/'Tabel 4 F'!D19*100,"-")) -> 3.4042469 | E19: =IF(OR('Tabel 4 F'!E19<5,'Tabel 4 Br'!E19<0.5),"-",IFERROR('Tabel 4 Br'!E19/'Tabel 4 F'!E19*100,"-")) -> 1.8931295 | F19: =IF(OR('Tabel 4 F'!F19<5,'Tabel 4 Br'!F19<0.5),"-",IFERROR('Tabel 4 Br'!F19/'Tabel 4 F'!F19*100,"-")) -> 2.9406324 | H19: =IF(OR('Tabel 4 F'!H19<5,'Tabel 4 Br'!H19<0.5),"-",IFERROR('Tabel 4 Br'!H19/'Tabel 4 F'!H19*100,"-")) -> 2.6357412
A20: Forstkand. | B20: =IF(OR('Tabel 4 F'!B20<5,'Tabel 4 Br'!B20<0.5),"-",IFERROR('Tabel 4 Br'!B20/'Tabel 4 F'!B20*100,"-")) -> 24.995321 | C20: =IF(OR('Tabel 4 F'!C20<5,'Tabel 4 Br'!C20<0.5),"-",IFERROR('Tabel 4 Br'!C20/'Tabel 4 F'!C20*100,"-")) -> 7.3575952 | D20: =IF(OR('Tabel 4 F'!D20<5,'Tabel 4 Br'!D20<0.5),"-",IFERROR('Tabel 4 Br'!D20/'Tabel 4 F'!D20*100,"-")) -> 1.371872 | E20: =IF(OR('Tabel 4 F'!E20<5,'Tabel 4 Br'!E20<0.5),"-",IFERROR('Tabel 4 Br'!E20/'Tabel 4 F'!E20*100,"-")) -> 1.599704 | F20: =IF(OR('Tabel 4 F'!F20<5,'Tabel 4 Br'!F20<0.5),"-",IFERROR('Tabel 4 Br'!F20/'Tabel 4 F'!F20*100,"-")) -> 4.686625 | H20: =IF(OR('Tabel 4 F'!H20<5,'Tabel 4 Br'!H20<0.5),"-",IFERROR('Tabel 4 Br'!H20/'Tabel 4 F'!H20*100,"-")) -> 4.1157793
... A52: DJØF'ere i alt | B52: =IF(OR('Tabel 4 F'!B52<5,'Tabel 4 Br'!B52<0.5),"-",IFERROR('Tabel 4 Br'!B52/'Tabel 4 F'!B52*100,"-")) -> 12.588908 | C52: =IF(OR('Tabel 4 F'!C52<5,'Tabel 4 Br'!C52<0.5),"-",IFERROR('Tabel 4 Br'!C52/'Tabel 4 F'!C52*100,"-")) -> 4.3134427 | D52: =IF(OR('Tabel 4 F'!D52<5,'Tabel 4 Br'!D52<0.5),"-",IFERROR('Tabel 4 Br'!D52/'Tabel 4 F'!D52*100,"-")) -> 2.6344135 | E52: =IF(OR('Tabel 4 F'!E52<5,'Tabel 4 Br'!E52<0.5),"-",IFERROR('Tabel 4 Br'!E52/'Tabel 4 F'!E52*100,"-")) -> 3.1906398 | F52: =IF(OR('Tabel 4 F'!F52<5,'Tabel 4 Br'!F52<0.5),"-",IFERROR('Tabel 4 Br'!F52/'Tabel 4 F'!F52*100,"-")) -> 4.8954963 | H52: =IF(OR('Tabel 4 F'!H52<5,'Tabel 4 Br'!H52<0.5),"-",IFERROR('Tabel 4 Br'!H52/'Tabel 4 F'!H52*100,"-")) -> 5.3796169
A53: Ledighedsprocenten er ikke angivet, når antallet af observationer er mindre end 10
A54: Se sidste del af statistikken for en oversigt over uddannelsesgrupperingernes indhold

Sheet Tabel 5 F
A1: Landstatistik
A3: Tabel 5. Antal forsikrede medlemmer - fordelt på kandidatalder (år siden dimission)
B7: 0 - 1 år | C7: 1 - 2 år | D7: 2 - 4 år | E7: 5 - 9 år | F7: 10 - 14 år | G7: Over 15 år | H7: Uoplyst | J7: I alt
A9: Civ. Ing. | B9: 1842 | C9: 1521 | D9: 3878 | E9: 5350 | F9: 4539 | G9: 14444 | H9: 1109 | J9: =SUM(B9:H9) -> 32683
A10: Diplom Ing. | B10: 934 | C10: 904 | D10: 2241 | E10: 2770 | F10: 3153 | G10: 23125 | H10: 932 | J10: =SUM(B10:H10) -> 34059
A11: Cand.Scient.Tech. | B11: 1756 | C11: 1860 | D11: 4852 | E11: 3634 | F11: 1675 | G11: 2055 | H11: 3208 | J11: =SUM(B11:H11) -> 19040
A12: MA. Hum. | B12: 2465 | C12: 2377 | D12: 6884 | E12: 7717 | F12: 6516 | G12: 12708 | H12: 3189 | J12: =SUM(B12:H12) -> 41856
A13: MA. Nat. | B13: 467 | C13: 361 | D13: 1300 | E13: 1804 | F13: 1908 | G13: 8518 | H13: 509 | J13: =SUM(B13:H13) -> 14867
A14: MA. Ph.d. | B14: 69 | C14: 61 | D14: 238 | E14: 619 | F14: 436 | G14: 971 | H14: 104 | J14: =SUM(B14:H14) -> 2498
A15: MA. Samf. | B15: 545 | C15: 608 | D15: 1606 | E15: 1077 | F15: 406 | G15: 672 | H15: 368 | J15: =SUM(B15:H15) -> 5282
A16: Øvrige Mag. | B16: 226 | C16: 351 | D16: 380 | E16: 495 | F16: 516 | G16: 1431 | H16: 151 | J16: =SUM(B16:H16) -> 3550
A17: Agronom | B17: 64 | C17: 53 | D17: 130 | E17: 132 | F17: 183 | G17: 1526 | H17: 278 | J17: =SUM(B17:H17) -> 2366
A18: Landsk. Arkt. | B18: 30 | C18: 44 | D18: 80 | E18: 134 | F18: 103 | G18: 264 | H18: 51 | J18: =SUM(B18:H18) -> 706
A19: Hortonom | B19: 0 | C19: 0 | D19: 3 | E19: 16 | F19: 20 | G19: 246 | H19: 28 | J19: =SUM(B19:H19) -> 313
A20: Forstkand. | B20: 13 | C20: 18 | D20: 32 | E20: 33 | F20: 61 | G20: 305 | H20: 50 | J20: =SUM(B20:H20) -> 512
... A46: Andre | B46: 1707 | C46: 1114 | D46: 2952 | E46: 3743 | F46: 3250 | G46: 6704 | H46: 4048 | J46: =SUM(B46:H46) -> 23518
A48: Total | B48: =SUM(B9:B46)-SUM(B17:B20) -> 22078 | C48: =SUM(C9:C46)-SUM(C17:C20) -> 19323 | D48: =SUM(D9:D46)-SUM(D17:D20) -> 51562 | E48: =SUM(E9:E46)-SUM(E17:E20) -> 56459 | F48: =SUM(F9:F46)-SUM(F17:F20) -> 42274 | G48: =SUM(G9:G46)-SUM(G17:G20) -> 128427 | H48: =SUM(H9:H46)-SUM(H17:H20) -> 36204 | I48: =SUM(I9:I46)-SUM(I17:I20) -> 0 | J48: =SUM(J9:J46)-SUM(J17:J20) -> 356327 | K48: 9.1420788
A50: Ingeniører i alt | B50: 2776 | C50: 2425 | D50: 6119 | E50: 8120 | F50: 7692 | G50: 37569 | H50: 2041 | J50: =SUM(B50:H50) -> 66742
A51: Magistre i alt | B51: 3772 | C51: 3758 | D51: 10408 | E51: 11712 | F51: 9782 | G51: 24300 | H51: 4321 | J51: =SUM(B51:H51) -> 68053
A52: DJØF'ere i alt | B52: 6130 | C52: 5378 | D52: 15118 | E52: 16674 | F52: 10509 | G52: 29862 | H52: 12412 | J52: =SUM(B52:H52) -> 96083
A53: Se sidste del af statistikken for en oversigt over uddannelsesgrupperingernes indhold

Sheet Tabel 5 Be
A1: Landstatistik
A3: Tabel 5. Antal bruttoledige målt i berørte medlemmer - fordelt på kandidatalder (år siden dimission)
B7: 0 - 1 år | C7: 1 - 2 år | D7: 2 - 4 år | E7: 5 - 9 år | F7: 10 - 14 år | G7: Over 15 år | H7: Uoplyst | J7: I alt
A9: Civ. Ing. | B9: 668 | C9: 147 | D9: 141 | E9: 123 | F9: 76 | G9: 259 | H9: 22 | J9: =SUM(B9:H9) -> 1436
A10: Diplom Ing. | B10: 292 | C10: 103 | D10: 103 | E10: 99 | F10: 64 | G10: 609 | H10: 26 | J10: =SUM(B10:H10) -> 1296
A11: Cand.Scient.Tech. | B11: 865 | C11: 357 | D11: 366 | E11: 148 | F11: 38 | G11: 54 | H11: 127 | J11: =SUM(B11:H11) -> 1955
A12: MA. Hum. | B12: 1404 | C12: 810 | D12: 1037 | E12: 700 | F12: 374 | G12: 574 | H12: 199 | J12: =SUM(B12:H12) -> 5098
A13: MA. Nat. | B13: 207 | C13: 71 | D13: 101 | E13: 90 | F13: 54 | G13: 173 | H13: 12 | J13: =SUM(B13:H13) -> 708
A14: MA. Ph.d. | B14: 18 | C14: 5 | D14: 16 | E14: 33 | F14: 21 | G14: 31 | H14: 4 | J14: =SUM(B14:H14) -> 128
A15: MA. Samf. | B15: 290 | C15: 152 | D15: 199 | E15: 95 | F15: 24 | G15: 37 | H15: 25 | J15: =SUM(B15:H15) -> 822
A16: Øvrige Mag. | B16: 112 | C16: 41 | D16: 53 | E16: 35 | F16: 34 | G16: 51 | H16: 7 | J16: =SUM(B16:H16) -> 333
A17: Agronom | B17: 27 | C17: 11 | D17: 5 | E17: 6 | F17: 2 | G17: 27 | H17: 11 | J17: =SUM(B17:H17) -> 89
A18: Landsk. Arkt. | B18: 16 | C18: 9 | D18: 9 | E18: 3 | F18: 1 | G18: 4 | H18: 3 | J18: =SUM(B18:H18) -> 45
A19: Hortonom | B19: 0 | C19: 0 | D19: 0 | E19: 1 | F19: 1 | G19: 7 | H19: 0 | J19: =SUM(B19:H19) -> 9
A20: Forstkand. | B20: 4 | C20: 5 | D20: 3 | E20: 1 | F20: 0 | G20: 6 | H20: 3 | J20: =SUM(B20:H20) -> 22
... A46: Andre | B46: 399 | C46: 169 | D46: 338 | E46: 300 | F46: 181 | G46: 474 | H46: 232 | J46: =SUM(B46:H46) -> 2093
A48: Total | B48: =SUM(B9:B46)-SUM(B17:B20) -> 8355 | C48: =SUM(C9:C46)-SUM(C17:C20) -> 3262 | D48: =SUM(D9:D46)-SUM(D17:D20) -> 4103 | E48: =SUM(E9:E46)-SUM(E17:E20) -> 2734 | F48: =SUM(F9:F46)-SUM(F17:F20) -> 1458 | G48: =SUM(G9:G46)-SUM(G17:G20) -> 3896 | H48: =SUM(H9:H46)-SUM(H17:H20) -> 1396 | J48: =SUM(J9:J46)-SUM(J17:J20) -> 25204 | K48: 9.1420788
A50: Ingeniører i alt | B50: 960 | C50: 250 | D50: 244 | E50: 222 | F50: 140 | G50: 868 | H50: 48 | J50: =SUM(B50:H50) -> 2732
A51: Magistre i alt | B51: 2031 | C51: 1079 | D51: 1406 | E51: 953 | F51: 507 | G51: 866 | H51: 247 | J51: =SUM(B51:H51) -> 7089
A52: DJØF'ere i alt | B52: 2110 | C52: 675 | D52: 858 | E52: 603 | F52: 307 | G52: 869 | H52: 392 | J52: =SUM(B52:H52) -> 5814
A53: Se sidste del af statistikken for en oversigt over uddannelsesgrupperingernes indhold

Sheet Tabel 5 Br
A1: Landstatistik
A3: Tabel 5. Antal bruttoledige målt i fuldtidspersoner - fordelt på kandidatalder (år siden dimission)
B7: 0 - 1 år | C7: 1 - 2 år | D7: 2 - 4 år | E7: 5 - 9 år | F7: 10 - 14 år | G7: Over 15 år | H7: Uoplyst | J7: I alt
A9: Civ. Ing. | B9: 612.16366 | C9: 137.79517 | D9: 127.62178 | E9: 110.91249 | F9: 64.96476 | G9: 229.01391 | H9: 19.153 | J9: =SUM(B9:H9) -> 1301.6248
A10: Diplom Ing. | B10: 270.0736 | C10: 93.25578 | D10: 93.5982 | E10: 90.25448 | F10: 57.21138 | G10: 548.93407 | H10: 25.24855 | J10: =SUM(B10:H10) -> 1178.5761
A11: Cand.Scient.Tech. | B11: 755.51737 | C11: 323.50901 | D11: 324.21443 | E11: 127.16834 | F11: 34.32483 | G11: 48.87856 | H11: 114.35976 | J11: =SUM(B11:H11) -> 1727.9723
A12: MA. Hum. | B12: 1251.9691 | C12: 722.56409 | D12: 900.56696 | E12: 605.28285 | F12: 321.36032 | G12: 487.30244 | H12: 176.27518 | J12: =SUM(B12:H12) -> 4465.3209
A13: MA. Nat. | B13: 181.45263 | C13: 62.94518 | D13: 81.66469 | E13: 76.29639 | F13: 48.68958 | G13: 148.56421 | H13: 10.59877 | J13: =SUM(B13:H13) -> 610.21145
A14: MA. Ph.d. | B14: 16.62321 | C14: 4.40654 | D14: 13.19591 | E14: 30.01746 | F14: 18.4008 | G14: 26.62384 | H14: 3.66307 | J14: =SUM(B14:H14) -> 112.93083
A15: MA. Samf. | B15: 255.80241 | C15: 141.39151 | D15: 178.09331 | E15: 84.3529 | F15: 21.36406 | G15: 33.89883 | H15: 21.07965 | J15: =SUM(B15:H15) -> 735.98267
A16: Øvrige Mag. | B16: 102.09194 | C16: 37.35046 | D16: 45.75563 | E16: 27.98042 | F16: 31.72394 | G16: 45.71634 | H16: 6.39431 | J16: =SUM(B16:H16) -> 297.01304
A17: Agronom | B17: 24.02981 | C17: 10.15468 | D17: 3.30319 | E17: 5.81613 | F17: 1.41209 | G17: 23.84457 | H17: 9.67505 | J17: =SUM(B17:H17) -> 78.23552
A18: Landsk. Arkt. | B18: 14.19697 | C18: 7.90994 | D18: 8.69519 | E18: 2.62521 | F18: 0.99981 | G18: 3.92004 | H18: 1.63974 | J18: =SUM(B18:H18) -> 39.9869
A19: Hortonom | B19: 0 | C19: 0 | D19: 0 | E19: 0.86135 | F19: 0.9075 | G19: 6.48101 | H19: 0 | J19: =SUM(B19:H19) -> 8.24986
A20: Forstkand. | B20: 3.99925 | C20: 4.27306 | D20: 2.99944 | E20: 0.99981 | F20: 0 | G20: 5.89409 | H20: 2.90713 | J20: =SUM(B20:H20) -> 21.07278
A21: Jordbrugsakad. | B21: 42.22603 | C21: 22.33768 | D21: 14.99782 | E21: 10.3025 | F21: 3.3194 | G21: 40.13971 | H21: 14.22192 | I21: 147.54506 | J21: =SUM(B21:H21) -> 147.54506
A22: Mejeriing. | B22: 2.21481 | C22: 0 | D22: 1.99963 | E22: 0 | F22: 0 | G22: 4.43273 | H22: 0 | J22: =SUM(B22:H22) -> 8.64717
A23: Levn.m.kand. | B23: 10.1316 | C23: 3.69675 | D23: 7.94673 | E23: 4.55436 | F23: 0 | G23: 2.99632 | H23: 0.99981 | J23: =SUM(B23:H23) -> 30.32557
A24: Dyrlæge | B24: 20.72725 | C24: 4.23564 | D24: 11.09524 | E24: 6.87769 | F24: 3.76848 | G24: 6.50221 | H24: 6.15106 | J24: =SUM(B24:H24) -> 59.35757
A25: Farmaceut | B25: 81.55429 | C25: 29.73555 | D25: 36.10054 | E25: 23.74789 | F25: 6.99869 | G25: 25.84357 | H25: 14.34167 | J25: =SUM(B25:H25) -> 218.3222
A26: Læge | B26: 52.13435 | C26: 30.95116 | D26: 54.10154 | E26: 13.90445 | F26: 2.71253 | G26: 8.17501 | H26: 18.93345 | J26: =SUM(B26:H26) -> 180.91249
A27: Tandlæge | B27: 19.54407 | C27: 1.23183 | D27: 6.99807 | E27: 4.30674 | F27: 1.41645 | G27: 8.68459 | H27: 0.94493 | J27: =SUM(B27:H27) -> 43.12668
A28: Arkitekt | B28: 121.76885 | C28: 41.19067 | D28: 48.61536 | E28: 55.03773 | F28: 41.32165 | G28: 118.72388 | H28: 25.44065 | J28: =SUM(B28:H28) -> 452.09879
A29: Landinspek. | B29: 2.99944 | C29: 0.99981 | D29: 0.99981 | E29: 0.9075 | F29: 1.26115 | G29: 3.99925 | H29: 0.72538 | J29: =SUM(B29:H29) -> 11.89234
A30: Bibliotekar | B30: 26.60263 | C30: 8.56359 | D30: 23.3194 | E30: 34.92983 | F30: 14.20321 | G30: 29.21849 | H30: 24.74521 | J30: =SUM(B30:H30) -> 161.58236
A31: Musikudd. | B31: 4.4608 | C31: 1.67467 | D31: 4.73586 | E31: 0.58255 | F31: 0.12848 | G31: 13.06992 | H31: 7.95609 | J31: =SUM(B31:H31) -> 32.60837
A32: Teolog | B32: 9.61018 | C32: 4.94917 | D32: 4.34915 | E32: 0.44596 | F32: 4.88056 | G32: 4.89303 | H32: 3.26077 | J32: =SUM(B32:H32) -> 32.38882
A33: Psykolog | B33: 204.45394 | C33: 81.01915 | D33: 92.39943 | E33: 53.09861 | F33: 20.41477 | G33: 24.43835 | H33: 20.39731 | J33: =SUM(B33:H33) -> 496.22156
... A46: Andre | B46: 356.91574 | C46: 149.06817 | D46: 296.31884 | E46: 257.37229 | F46: 152.12936 | G46: 411.26926 | H46: 208.14757 | J46: =SUM(B46:H46) -> 1831.2212
A48: Total | B48: =SUM(B9:B46)-SUM(B17:B20) -> 7393.949 | C48: =SUM(C9:C46)-SUM(C17:C20) -> 2938.5285 | D48: =SUM(D9:D46)-SUM(D17:D20) -> 3606.7315 | E48: =SUM(E9:E46)-SUM(E17:E20) -> 2382.2331 | F48: =SUM(F9:F46)-SUM(F17:F20) -> 1270.9259 | G48: =SUM(G9:G46)-SUM(G17:G20) -> 3435.4636 | H48: =SUM(H9:H46)-SUM(H17:H20) -> 1238.9163 | J48: =SUM(J9:J46)-SUM(J17:J20) -> 22266.748 | K48: 9.1420788
A50: Ingeniører i alt | B50: 882.23726 | C50: 231.05096 | D50: 221.21998 | E50: 201.16697 | F50: 122.17614 | G50: 777.94798 | H50: 44.40155 | J50: =SUM(B50:H50) -> 2480.2008
A51: Magistre i alt | B51: 1807.9392 | C51: 968.65777 | D51: 1219.2765 | E51: 823.93002 | F51: 441.5387 | G51: 742.10566 | H51: 218.01098 | J51: =SUM(B51:H51) -> 6221.4589
A52: DJØF'ere i alt | B52: 1851.1763 | C52: 612.23352 | D52: 765.76686 | E52: 536.89328 | F52: 271.39837 | G52: 780.51394 | H52: 350.91499 | J52: =SUM(B52:H52) -> 5168.8973
A53: Se sidste del af statistikken for en oversigt over uddannelsesgrupperingernes indhold

Sheet Tabel 5 p (Be)
A1: Landstatistik
A3: Tabel 5.2 Bruttoledighedsprocenten målt i ledighedsberørte - fordelt efter kandidatalder (år siden dimission)
B7: Under 1 år | C7: Ml. 1 - 2 år | D7: 2 - 4 år | E7: 5 - 9 år | F7: 10 - 14 år | G7: Over 15 år | H7: Uoplyst | J7: I alt
A9: Civ. Ing. | B9: =IF(OR('Tabel 5 F'!B9<5,'Tabel 5 Be'!B9<0.5),"-",IFERROR('Tabel 5 Be'!B9/'Tabel 5 F'!B9*100,"-")) -> 36.264929 | C9: =IF(OR('Tabel 5 F'!C9<5,'Tabel 5 Be'!C9<0.5),"-",IFERROR('Tabel 5 Be'!C9/'Tabel 5 F'!C9*100,"-")) -> 9.6646943 | D9: =IF(OR('Tabel 5 F'!D9<5,'Tabel 5 Be'!D9<0.5),"-",IFERROR('Tabel 5 Be'!D9/'Tabel 5 F'!D9*100,"-")) -> 3.6358948 | E9: =IF(OR('Tabel 5 F'!E9<5,'Tabel 5 Be'!E9<0.5),"-",IFERROR('Tabel 5 Be'!E9/'Tabel 5 F'!E9*100,"-")) -> 2.2990654 | F9: =IF(OR('Tabel 5 F'!F9<5,'Tabel 5 Be'!F9<0.5),"-",IFERROR('Tabel 5 Be'!F9/'Tabel 5 F'!F9*100,"-")) -> 1.6743776 | G9: =IF(OR('Tabel 5 F'!G9<5,'Tabel 5 Be'!G9<0.5),"-",IFERROR('Tabel 5 Be'!G9/'Tabel 5 F'!G9*100,"-")) -> 1.7931321 | H9: =IF(OR('Tabel 5 F'!H9<5,'Tabel 5 Be'!H9<0.5),"-",IFERROR('Tabel 5 Be'!H9/'Tabel 5 F'!H9*100,"-")) -> 1.9837692 | J9: =IF(OR('Tabel 5 F'!J9<5,'Tabel 5 Be'!J9<0.5),"-",IFERROR('Tabel 5 Be'!J9/'Tabel 5 F'!J9*100,"-")) -> 4.3937215
A10: Diplom Ing. | B10: =IF(OR('Tabel 5 F'!B10<5,'Tabel 5 Be'!B10<0.5),"-",IFERROR('Tabel 5 Be'!B10/'Tabel 5 F'!B10*100,"-")) -> 31.263383 | C10: =IF(OR('Tabel 5 F'!C10<5,'Tabel 5 Be'!C10<0.5),"-",IFERROR('Tabel 5 Be'!C10/'Tabel 5 F'!C10*100,"-")) -> 11.393805 | D10: =IF(OR('Tabel 5 F'!D10<5,'Tabel 5 Be'!D10<0.5),"-",IFERROR('Tabel 5 Be'!D10/'Tabel 5 F'!D10*100,"-")) -> 4.5961624 | E10: =IF(OR('Tabel 5 F'!E10<5,'Tabel 5 Be'!E10<0.5),"-",IFERROR('Tabel 5 Be'!E10/'Tabel 5 F'!E10*100,"-")) -> 3.5740072 | F10: =IF(OR('Tabel 5 F'!F10<5,'Tabel 5 Be'!F10<0.5),"-",IFERROR('Tabel 5 Be'!F10/'Tabel 5 F'!F10*100,"-")) -> 2.0298129 | G10: =IF(OR('Tabel 5 F'!G10<5,'Tabel 5 Be'!G10<0.5),"-",IFERROR('Tabel 5 Be'!G10/'Tabel 5 F'!G10*100,"-")) -> 2.6335135 | H10: =IF(OR('Tabel 5 F'!H10<5,'Tabel 5 Be'!H10<0.5),"-",IFERROR('Tabel 5 Be'!H10/'Tabel 5 F'!H10*100,"-")) -> 2.7896996 | J10: =IF(OR('Tabel 5 F'!J10<5,'Tabel 5 Be'!J10<0.5),"-",IFERROR('Tabel 5 Be'!J10/'Tabel 5 F'!J10*100,"-")) -> 3.8051616
A11: Cand.Scient.Tech. | B11: =IF(OR('Tabel 5 F'!B11<5,'Tabel 5 Be'!B11<0.5),"-",IFERROR('Tabel 5 Be'!B11/'Tabel 5 F'!B11*100,"-")) -> 49.259681 | C11: =IF(OR('Tabel 5 F'!C11<5,'Tabel 5 Be'!C11<0.5),"-",IFERROR('Tabel 5 Be'!C11/'Tabel 5 F'!C11*100,"-")) -> 19.193548 | D11: =IF(OR('Tabel 5 F'!D11<5,'Tabel 5 Be'!D11<0.5),"-",IFERROR('Tabel 5 Be'!D11/'Tabel 5 F'!D11*100,"-")) -> 7.5432811 | E11: =IF(OR('Tabel 5 F'!E11<5,'Tabel 5 Be'!E11<0.5),"-",IFERROR('Tabel 5 Be'!E11/'Tabel 5 F'!E11*100,"-")) -> 4.0726472 | F11: =IF(OR('Tabel 5 F'!F11<5,'Tabel 5 Be'!F11<0.5),"-",IFERROR('Tabel 5 Be'!F11/'Tabel 5 F'!F11*100,"-")) -> 2.2686567 | G11: =IF(OR('Tabel 5 F'!G11<5,'Tabel 5 Be'!G11<0.5),"-",IFERROR('Tabel 5 Be'!G11/'Tabel 5 F'!G11*100,"-")) -> 2.6277372 | H11: =IF(OR('Tabel 5 F'!H11<5,'Tabel 5 Be'!H11<0.5),"-",IFERROR('Tabel 5 Be'!H11/'Tabel 5 F'!H11*100,"-")) -> 3.9588529 | J11: =IF(OR('Tabel 5 F'!J11<5,'Tabel 5 Be'!J11<0.5),"-",IFERROR('Tabel 5 Be'!J11/'Tabel 5 F'!J11*100,"-")) -> 10.267857
A12: MA. Hum. | B12: =IF(OR('Tabel 5 F'!B12<5,'Tabel 5 Be'!B12<0.5),"-",IFERROR('Tabel 5 Be'!B12/'Tabel 5 F'!B12*100,"-")) -> 56.957404 | C12: =IF(OR('Tabel 5 F'!C12<5,'Tabel 5 Be'!C12<0.5),"-",IFERROR('Tabel 5 Be'!C12/'Tabel 5 F'!C12*100,"-")) -> 34.076567 | D12: =IF(OR('Tabel 5 F'!D12<5,'Tabel 5 Be'!D12<0.5),"-",IFERROR('Tabel 5 Be'!D12/'Tabel 5 F'!D12*100,"-")) -> 15.063916 | E12: =IF(OR('Tabel 5 F'!E12<5,'Tabel 5 Be'!E12<0.5),"-",IFERROR('Tabel 5 Be'!E12/'Tabel 5 F'!E12*100,"-")) -> 9.0708825 | F12: =IF(OR('Tabel 5 F'!F12<5,'Tabel 5 Be'!F12<0.5),"-",IFERROR('Tabel 5 Be'!F12/'Tabel 5 F'!F12*100,"-")) -> 5.7397176 | G12: =IF(OR('Tabel 5 F'!G12<5,'Tabel 5 Be'!G12<0.5),"-",IFERROR('Tabel 5 Be'!G12/'Tabel 5 F'!G12*100,"-")) -> 4.5168398 | H12: =IF(OR('Tabel 5 F'!H12<5,'Tabel 5 Be'!H12<0.5),"-",IFERROR('Tabel 5 Be'!H12/'Tabel 5 F'!H12*100,"-")) -> 6.2402007 | J12: =IF(OR('Tabel 5 F'!J12<5,'Tabel 5 Be'!J12<0.5),"-",IFERROR('Tabel 5 Be'!J12/'Tabel 5 F'!J12*100,"-")) -> 12.179855
A13: MA. Nat. | B13: =IF(OR('Tabel 5 F'!B13<5,'Tabel 5 Be'!B13<0.5),"-",IFERROR('Tabel 5 Be'!B13/'Tabel 5 F'!B13*100,"-")) -> 44.325482 | C13: =IF(OR('Tabel 5 F'!C13<5,'Tabel 5 Be'!C13<0.5),"-",IFERROR('Tabel 5 Be'!C13/'Tabel 5 F'!C13*100,"-")) -> 19.66759 | D13: =IF(OR('Tabel 5 F'!D13<5,'Tabel 5 Be'!D13<0.5),"-",IFERROR('Tabel 5 Be'!D13/'Tabel 5 F'!D13*100,"-")) -> 7.7692308 | E13: =IF(OR('Tabel 5 F'!E13<5,'Tabel 5 Be'!E13<0.5),"-",IFERROR('Tabel 5 Be'!E13/'Tabel 5 F'!E13*100,"-")) -> 4.9889135 | F13: =IF(OR('Tabel 5 F'!F13<5,'Tabel 5 Be'!F13<0.5),"-",IFERROR('Tabel 5 Be'!F13/'Tabel 5 F'!F13*100,"-")) -> 2.8301887 | G13: =IF(OR('Tabel 5 F'!G13<5,'Tabel 5 Be'!G13<0.5),"-",IFERROR('Tabel 5 Be'!G13/'Tabel 5 F'!G13*100,"-")) -> 2.0309932 | H13: =IF(OR('Tabel 5 F'!H13<5,'Tabel 5 Be'!H13<0.5),"-",IFERROR('Tabel 5 Be'!H13/'Tabel 5 F'!H13*100,"-")) -> 2.3575639 | J13: =IF(OR('Tabel 5 F'!J13<5,'Tabel 5 Be'!J13<0.5),"-",IFERROR('Tabel 5 Be'!J13/'Tabel 5 F'!J13*100,"-")) -> 4.7622251
A14: MA. Ph.d. | B14: =IF(OR('Tabel 5 F'!B14<5,'Tabel 5 Be'!B14<0.5),"-",IFERROR('Tabel 5 Be'!B14/'Tabel 5 F'!B14*100,"-")) -> 26.086957 | C14: =IF(OR('Tabel 5 F'!C14<5,'Tabel 5 Be'!C14<0.5),"-",IFERROR('Tabel 5 Be'!C14/'Tabel 5 F'!C14*100,"-")) -> 8.1967213 | D14: =IF(OR('Tabel 5 F'!D14<5,'Tabel 5 Be'!D14<0.5),"-",IFERROR('Tabel 5 Be'!D14/'Tabel 5 F'!D14*100,"-")) -> 6.7226891 | E14: =IF(OR('Tabel 5 F'!E14<5,'Tabel 5 Be'!E14<0.5),"-",IFERROR('Tabel 5 Be'!E14/'Tabel 5 F'!E14*100,"-")) -> 5.3311793 | F14: =IF(OR('Tabel 5 F'!F14<5,'Tabel 5 Be'!F14<0.5),"-",IFERROR('Tabel 5 Be'!F14/'Tabel 5 F'!F14*100,"-")) -> 4.8165138 | G14: =IF(OR('Tabel 5 F'!G14<5,'Tabel 5 Be'!G14<0.5),"-",IFERROR('Tabel 5 Be'!G14/'Tabel 5 F'!G14*100,"-")) -> 3.192585 | H14: =IF(OR('Tabel 5 F'!H14<5,'Tabel 5 Be'!H14<0.5),"-",IFERROR('Tabel 5 Be'!H14/'Tabel 5 F'!H14*100,"-")) -> 3.8461538 | J14: =IF(OR('Tabel 5 F'!J14<5,'Tabel 5 Be'!J14<0.5),"-",IFERROR('Tabel 5 Be'!J14/'Tabel 5 F'!J14*100,"-")) -> 5.1240993
A15: MA. Samf. | B15: =IF(OR('Tabel 5 F'!B15<5,'Tabel 5 Be'!B15<0.5),"-",IFERROR('Tabel 5 Be'!B15/'Tabel 5 F'!B15*100,"-")) -> 53.211009 | C15: =IF(OR('Tabel 5 F'!C15<5,'Tabel 5 Be'!C15<0.5),"-",IFERROR('Tabel 5 Be'!C15/'Tabel 5 F'!C15*100,"-")) -> 25 | D15: =IF(OR('Tabel 5 F'!D15<5,'Tabel 5 Be'!D15<0.5),"-",IFERROR('Tabel 5 Be'!D15/'Tabel 5 F'!D15*100,"-")) -> 12.391034 | E15: =IF(OR('Tabel 5 F'!E15<5,'Tabel 5 Be'!E15<0.5),"-",IFERROR('Tabel 5 Be'!E15/'Tabel 5 F'!E15*100,"-")) -> 8.8207985 | F15: =IF(OR('Tabel 5 F'!F15<5,'Tabel 5 Be'!F15<0.5),"-",IFERROR('Tabel 5 Be'!F15/'Tabel 5 F'!F15*100,"-")) -> 5.91133 | G15: =IF(OR('Tabel 5 F'!G15<5,'Tabel 5 Be'!G15<0.5),"-",IFERROR('Tabel 5 Be'!G15/'Tabel 5 F'!G15*100,"-")) -> 5.5059524 | H15: =IF(OR('Tabel 5 F'!H15<5,'Tabel 5 Be'!H15<0.5),"-",IFERROR('Tabel 5 Be'!H15/'Tabel 5 F'!H15*100,"-")) -> 6.7934783 | J15: =IF(OR('Tabel 5 F'!J15<5,'Tabel 5 Be'!J15<0.5),"-",IFERROR('Tabel 5 Be'!J15/'Tabel 5 F'!J15*100,"-")) -> 15.562287
A16: Øvrige Mag. | B16: =IF(OR('Tabel 5 F'!B16<5,'Tabel 5 Be'!B16<0.5),"-",IFERROR('Tabel 5 Be'!B16/'Tabel 5 F'!B16*100,"-")) -> 49.557522 | C16: =IF(OR('Tabel 5 F'!C16<5,'Tabel 5 Be'!C16<0.5),"-",IFERROR('Tabel 5 Be'!C16/'Tabel 5 F'!C16*100,"-")) -> 11.680912 | D16: =IF(OR('Tabel 5 F'!D16<5,'Tabel 5 Be'!D16<0.5),"-",IFERROR('Tabel 5 Be'!D16/'Tabel 5 F'!D16*100,"-")) -> 13.947368 | E16: =IF(OR('Tabel 5 F'!E16<5,'Tabel 5 Be'!E16<0.5),"-",IFERROR('Tabel 5 Be'!E16/'Tabel 5 F'!E16*100,"-")) -> 7.0707071 | F16: =IF(OR('Tabel 5 F'!F16<5,'Tabel 5 Be'!F16<0.5),"-",IFERROR('Tabel 5 Be'!F16/'Tabel 5 F'!F16*100,"-")) -> 6.5891473 | G16: =IF(OR('Tabel 5 F'!G16<5,'Tabel 5 Be'!G16<0.5),"-",IFERROR('Tabel 5 Be'!G16/'Tabel 5 F'!G16*100,"-")) -> 3.5639413 | H16: =IF(OR('Tabel 5 F'!H16<5,'Tabel 5 Be'!H16<0.5),"-",IFERROR('Tabel 5 Be'!H16/'Tabel 5 F'!H16*100,"-")) -> 4.6357616 | J16: =IF(OR('Tabel 5 F'!J16<5,'Tabel 5 Be'!J16<0.5),"-",IFERROR('Tabel 5 Be'!J16/'Tabel 5 F'!J16*100,"-")) -> 9.3802817
A17: Agronom | B17: =IF(OR('Tabel 5 F'!B17<5,'Tabel 5 Be'!B17<0.5),"-",IFERROR('Tabel 5 Be'!B17/'Tabel 5 F'!B17*100,"-")) -> 42.1875 | C17: =IF(OR('Tabel 5 F'!C17<5,'Tabel 5 Be'!C17<0.5),"-",IFERROR('Tabel 5 Be'!C17/'Tabel 5 F'!C17*100,"-")) -> 20.754717 | D17: =IF(OR('Tabel 5 F'!D17<5,'Tabel 5 Be'!D17<0.5),"-",IFERROR('Tabel 5 Be'!D17/'Tabel 5 F'!D17*100,"-")) -> 3.8461538 | E17: =IF(OR('Tabel 5 F'!E17<5,'Tabel 5 Be'!E17<0.5),"-",IFERROR('Tabel 5 Be'!E17/'Tabel 5 F'!E17*100,"-")) -> 4.5454545 | F17: =IF(OR('Tabel 5 F'!F17<5,'Tabel 5 Be'!F17<0.5),"-",IFERROR('Tabel 5 Be'!F17/'Tabel 5 F'!F17*100,"-")) -> 1.0928962 | G17: =IF(OR('Tabel 5 F'!G17<5,'Tabel 5 Be'!G17<0.5),"-",IFERROR('Tabel 5 Be'!G17/'Tabel 5 F'!G17*100,"-")) -> 1.7693316 | H17: =IF(OR('Tabel 5 F'!H17<5,'Tabel 5 Be'!H17<0.5),"-",IFERROR('Tabel 5 Be'!H17/'Tabel 5 F'!H17*100,"-")) -> 3.9568345 | J17: =IF(OR('Tabel 5 F'!J17<5,'Tabel 5 Be'!J17<0.5),"-",IFERROR('Tabel 5 Be'!J17/'Tabel 5 F'!J17*100,"-")) -> 3.761623
A18: Landsk. Arkt. | B18: =IF(OR('Tabel 5 F'!B18<5,'Tabel 5 Be'!B18<0.5),"-",IFERROR('Tabel 5 Be'!B18/'Tabel 5 F'!B18*100,"-")) -> 53.333333 | C18: =IF(OR('Tabel 5 F'!C18<5,'Tabel 5 Be'!C18<0.5),"-",IFERROR('Tabel 5 Be'!C18/'Tabel 5 F'!C18*100,"-")) -> 20.454545 | D18: =IF(OR('Tabel 5 F'!D18<5,'Tabel 5 Be'!D18<0.5),"-",IFERROR('Tabel 5 Be'!D18/'Tabel 5 F'!D18*100,"-")) -> 11.25 | E18: =IF(OR('Tabel 5 F'!E18<5,'Tabel 5 Be'!E18<0.5),"-",IFERROR('Tabel 5 Be'!E18/'Tabel 5 F'!E18*100,"-")) -> 2.238806 | F18: =IF(OR('Tabel 5 F'!F18<5,'Tabel 5 Be'!F18<0.5),"-",IFERROR('Tabel 5 Be'!F18/'Tabel 5 F'!F18*100,"-")) -> 0.97087379 | G18: =IF(OR('Tabel 5 F'!G18<5,'Tabel 5 Be'!G18<0.5),"-",IFERROR('Tabel 5 Be'!G18/'Tabel 5 F'!G18*100,"-")) -> 1.5151515 | H18: =IF(OR('Tabel 5 F'!H18<5,'Tabel 5 Be'!H18<0.5),"-",IFERROR('Tabel 5 Be'!H18/'Tabel 5 F'!H18*100,"-")) -> 5.8823529 | J18: =IF(OR('Tabel 5 F'!J18<5,'Tabel 5 Be'!J18<0.5),"-",IFERROR('Tabel 5 Be'!J18/'Tabel 5 F'!J18*100,"-")) -> 6.3739377
A19: Hortonom | B19: =IF(OR('Tabel 5 F'!B19<5,'Tabel 5 Be'!B19<0.5),"-",IFERROR('Tabel 5 Be'!B19/'Tabel 5 F'!B19*100,"-")) -> - | C19: =IF(OR('Tabel 5 F'!C19<5,'Tabel 5 Be'!C19<0.5),"-",IFERROR('Tabel 5 Be'!C19/'Tabel 5 F'!C19*100,"-")) -> - | D19: =IF(OR('Tabel 5 F'!D19<5,'Tabel 5 Be'!D19<0.5),"-",IFERROR('Tabel 5 Be'!D19/'Tabel 5 F'!D19*100,"-")) -> - | E19: =IF(OR('Tabel 5 F'!E19<5,'Tabel 5 Be'!E19<0.5),"-",IFERROR('Tabel 5 Be'!E19/'Tabel 5 F'!E19*100,"-")) -> 6.25 | F19: =IF(OR('Tabel 5 F'!F19<5,'Tabel 5 Be'!F19<0.5),"-",IFERROR('Tabel 5 Be'!F19/'Tabel 5 F'!F19*100,"-")) -> 5 | G19: =IF(OR('Tabel 5 F'!G19<5,'Tabel 5 Be'!G19<0.5),"-",IFERROR('Tabel 5 Be'!G19/'Tabel 5 F'!G19*100,"-")) -> 2.8455285 | H19: =IF(OR('Tabel 5 F'!H19<5,'Tabel 5 Be'!H19<0.5),"-",IFERROR('Tabel 5 Be'!H19/'Tabel 5 F'!H19*100,"-")) -> - | J19: =IF(OR('Tabel 5 F'!J19<5,'Tabel 5 Be'!J19<0.5),"-",IFERROR('Tabel 5 Be'!J19/'Tabel 5 F'!J19*100,"-")) -> 2.8753994
A20: Forstkand. | B20: =IF(OR('Tabel 5 F'!B20<5,'Tabel 5 Be'!B20<0.5),"-",IFERROR('Tabel 5 Be'!B20/'Tabel 5 F'!B20*100,"-")) -> 30.769231 | C20: =IF(OR('Tabel 5 F'!C20<5,'Tabel 5 Be'!C20<0.5),"-",IFERROR('Tabel 5 Be'!C20/'Tabel 5 F'!C20*100,"-")) -> 27.777778 | D20: =IF(OR('Tabel 5 F'!D20<5,'Tabel 5 Be'!D20<0.5),"-",IFERROR('Tabel 5 Be'!D20/'Tabel 5 F'!D20*100,"-")) -> 9.375 | E20: =IF(OR('Tabel 5 F'!E20<5,'Tabel 5 Be'!E20<0.5),"-",IFERROR('Tabel 5 Be'!E20/'Tabel 5 F'!E20*100,"-")) -> 3.030303 | F20: =IF(OR('Tabel 5 F'!F20<5,'Tabel 5 Be'!F20<0.5),"-",IFERROR('Tabel 5 Be'!F20/'Tabel 5 F'!F20*100,"-")) -> - | G20: =IF(OR('Tabel 5 F'!G20<5,'Tabel 5 Be'!G20<0.5),"-",IFERROR('Tabel 5 Be'!G20/'Tabel 5 F'!G20*100,"-")) -> 1.9672131 | H20: =IF(OR('Tabel 5 F'!H20<5,'Tabel 5 Be'!H20<0.5),"-",IFERROR('Tabel 5 Be'!H20/'Tabel 5 F'!H20*100,"-")) -> 6 | J20: =IF(OR('Tabel 5 F'!J20<5,'Tabel 5 Be'!J20<0.5),"-",IFERROR('Tabel 5 Be'!J20/'Tabel 5 F'!J20*100,"-")) -> 4.296875
... A52: DJØF'ere i alt | B52: =IF(OR('Tabel 5 F'!B52<5,'Tabel 5 Be'!B52<0.5),"-",IFERROR('Tabel 5 Be'!B52/'Tabel 5 F'!B52*100,"-")) -> 34.420881 | C52: =IF(OR('Tabel 5 F'!C52<5,'Tabel 5 Be'!C52<0.5),"-",IFERROR('Tabel 5 Be'!C52/'Tabel 5 F'!C52*100,"-")) -> 12.551134 | D52: =IF(OR('Tabel 5 F'!D52<5,'Tabel 5 Be'!D52<0.5),"-",IFERROR('Tabel 5 Be'!D52/'Tabel 5 F'!D52*100,"-")) -> 5.6753539 | E52: =IF(OR('Tabel 5 F'!E52<5,'Tabel 5 Be'!E52<0.5),"-",IFERROR('Tabel 5 Be'!E52/'Tabel 5 F'!E52*100,"-")) -> 3.6164088 | F52: =IF(OR('Tabel 5 F'!F52<5,'Tabel 5 Be'!F52<0.5),"-",IFERROR('Tabel 5 Be'!F52/'Tabel 5 F'!F52*100,"-")) -> 2.9213055 | G52: =IF(OR('Tabel 5 F'!G52<5,'Tabel 5 Be'!G52<0.5),"-",IFERROR('Tabel 5 Be'!G52/'Tabel 5 F'!G52*100,"-")) -> 2.9100529 | H52: =IF(OR('Tabel 5 F'!H52<5,'Tabel 5 Be'!H52<0.5),"-",IFERROR('Tabel 5 Be'!H52/'Tabel 5 F'!H52*100,"-")) -> 3.158234 | J52: =IF(OR('Tabel 5 F'!J52<5,'Tabel 5 Be'!J52<0.5),"-",IFERROR('Tabel 5 Be'!J52/'Tabel 5 F'!J52*100,"-")) -> 6.0510184
A53: Se sidste del af statistikken for en oversigt over uddannelsesgrupperingernes indhold

Sheet Tabel 5 p (Br)
A1: Landstatistik
A3: Tabel 5.3 Bruttoledighedsprocenten målt i fuldtidspersoner - fordelt efter kandidatalder (år siden dimission)
B7: Under 1 år | C7: Ml. 1 - 2 år | D7: 2 - 4 år | E7: 5 - 9 år | F7: 10 - 14 år | G7: Over 15 år | H7: Uoplyst | J7: I alt
A9: Civ. Ing. | B9: =IF(OR('Tabel 5 F'!B9<5,'Tabel 5 Br'!B9<0.5),"-",IFERROR('Tabel 5 Br'!B9/'Tabel 5 F'!B9*100,"-")) -> 33.233641 | C9: =IF(OR('Tabel 5 F'!C9<5,'Tabel 5 Br'!C9<0.5),"-",IFERROR('Tabel 5 Br'!C9/'Tabel 5 F'!C9*100,"-")) -> 9.0595115 | D9: =IF(OR('Tabel 5 F'!D9<5,'Tabel 5 Br'!D9<0.5),"-",IFERROR('Tabel 5 Br'!D9/'Tabel 5 F'!D9*100,"-")) -> 3.2909175 | E9: =IF(OR('Tabel 5 F'!E9<5,'Tabel 5 Br'!E9<0.5),"-",IFERROR('Tabel 5 Br'!E9/'Tabel 5 F'!E9*100,"-")) -> 2.0731307 | F9: =IF(OR('Tabel 5 F'!F9<5,'Tabel 5 Br'!F9<0.5),"-",IFERROR('Tabel 5 Br'!F9/'Tabel 5 F'!F9*100,"-")) -> 1.4312571 | G9: =IF(OR('Tabel 5 F'!G9<5,'Tabel 5 Br'!G9<0.5),"-",IFERROR('Tabel 5 Br'!G9/'Tabel 5 F'!G9*100,"-")) -> 1.5855297 | H9: =IF(OR('Tabel 5 F'!H9<5,'Tabel 5 Br'!H9<0.5),"-",IFERROR('Tabel 5 Br'!H9/'Tabel 5 F'!H9*100,"-")) -> 1.7270514 | J9: =IF(OR('Tabel 5 F'!J9<5,'Tabel 5 Br'!J9<0.5),"-",IFERROR('Tabel 5 Br'!J9/'Tabel 5 F'!J9*100,"-")) -> 3.9825743
A10: Diplom Ing. | B10: =IF(OR('Tabel 5 F'!B10<5,'Tabel 5 Br'!B10<0.5),"-",IFERROR('Tabel 5 Br'!B10/'Tabel 5 F'!B10*100,"-")) -> 28.915803 | C10: =IF(OR('Tabel 5 F'!C10<5,'Tabel 5 Br'!C10<0.5),"-",IFERROR('Tabel 5 Br'!C10/'Tabel 5 F'!C10*100,"-")) -> 10.315905 | D10: =IF(OR('Tabel 5 F'!D10<5,'Tabel 5 Br'!D10<0.5),"-",IFERROR('Tabel 5 Br'!D10/'Tabel 5 F'!D10*100,"-")) -> 4.1766265 | E10: =IF(OR('Tabel 5 F'!E10<5,'Tabel 5 Br'!E10<0.5),"-",IFERROR('Tabel 5 Br'!E10/'Tabel 5 F'!E10*100,"-")) -> 3.2582845 | F10: =IF(OR('Tabel 5 F'!F10<5,'Tabel 5 Br'!F10<0.5),"-",IFERROR('Tabel 5 Br'!F10/'Tabel 5 F'!F10*100,"-")) -> 1.8145062 | G10: =IF(OR('Tabel 5 F'!G10<5,'Tabel 5 Br'!G10<0.5),"-",IFERROR('Tabel 5 Br'!G10/'Tabel 5 F'!G10*100,"-")) -> 2.373769 | H10: =IF(OR('Tabel 5 F'!H10<5,'Tabel 5 Br'!H10<0.5),"-",IFERROR('Tabel 5 Br'!H10/'Tabel 5 F'!H10*100,"-")) -> 2.7090719 | J10: =IF(OR('Tabel 5 F'!J10<5,'Tabel 5 Br'!J10<0.5),"-",IFERROR('Tabel 5 Br'!J10/'Tabel 5 F'!J10*100,"-")) -> 3.4603954
A11: Cand.Scient.Tech. | B11: =IF(OR('Tabel 5 F'!B11<5,'Tabel 5 Br'!B11<0.5),"-",IFERROR('Tabel 5 Br'!B11/'Tabel 5 F'!B11*100,"-")) -> 43.024907 | C11: =IF(OR('Tabel 5 F'!C11<5,'Tabel 5 Br'!C11<0.5),"-",IFERROR('Tabel 5 Br'!C11/'Tabel 5 F'!C11*100,"-")) -> 17.392958 | D11: =IF(OR('Tabel 5 F'!D11<5,'Tabel 5 Br'!D11<0.5),"-",IFERROR('Tabel 5 Br'!D11/'Tabel 5 F'!D11*100,"-")) -> 6.6820781 | E11: =IF(OR('Tabel 5 F'!E11<5,'Tabel 5 Br'!E11<0.5),"-",IFERROR('Tabel 5 Br'!E11/'Tabel 5 F'!E11*100,"-")) -> 3.499404 | F11: =IF(OR('Tabel 5 F'!F11<5,'Tabel 5 Br'!F11<0.5),"-",IFERROR('Tabel 5 Br'!F11/'Tabel 5 F'!F11*100,"-")) -> 2.0492436 | G11: =IF(OR('Tabel 5 F'!G11<5,'Tabel 5 Br'!G11<0.5),"-",IFERROR('Tabel 5 Br'!G11/'Tabel 5 F'!G11*100,"-")) -> 2.3785187 | H11: =IF(OR('Tabel 5 F'!H11<5,'Tabel 5 Br'!H11<0.5),"-",IFERROR('Tabel 5 Br'!H11/'Tabel 5 F'!H11*100,"-")) -> 3.5648304 | J11: =IF(OR('Tabel 5 F'!J11<5,'Tabel 5 Br'!J11<0.5),"-",IFERROR('Tabel 5 Br'!J11/'Tabel 5 F'!J11*100,"-")) -> 9.0754848
A12: MA. Hum. | B12: =IF(OR('Tabel 5 F'!B12<5,'Tabel 5 Br'!B12<0.5),"-",IFERROR('Tabel 5 Br'!B12/'Tabel 5 F'!B12*100,"-")) -> 50.78982 | C12: =IF(OR('Tabel 5 F'!C12<5,'Tabel 5 Br'!C12<0.5),"-",IFERROR('Tabel 5 Br'!C12/'Tabel 5 F'!C12*100,"-")) -> 30.398153 | D12: =IF(OR('Tabel 5 F'!D12<5,'Tabel 5 Br'!D12<0.5),"-",IFERROR('Tabel 5 Br'!D12/'Tabel 5 F'!D12*100,"-")) -> 13.08203 | E12: =IF(OR('Tabel 5 F'!E12<5,'Tabel 5 Br'!E12<0.5),"-",IFERROR('Tabel 5 Br'!E12/'Tabel 5 F'!E12*100,"-")) -> 7.8434994 | F12: =IF(OR('Tabel 5 F'!F12<5,'Tabel 5 Br'!F12<0.5),"-",IFERROR('Tabel 5 Br'!F12/'Tabel 5 F'!F12*100,"-")) -> 4.9318649 | G12: =IF(OR('Tabel 5 F'!G12<5,'Tabel 5 Br'!G12<0.5),"-",IFERROR('Tabel 5 Br'!G12/'Tabel 5 F'!G12*100,"-")) -> 3.8346116 | H12: =IF(OR('Tabel 5 F'!H12<5,'Tabel 5 Br'!H12<0.5),"-",IFERROR('Tabel 5 Br'!H12/'Tabel 5 F'!H12*100,"-")) -> 5.5276005 | J12: =IF(OR('Tabel 5 F'!J12<5,'Tabel 5 Br'!J12<0.5),"-",IFERROR('Tabel 5 Br'!J12/'Tabel 5 F'!J12*100,"-")) -> 10.668293
A13: MA. Nat. | B13: =IF(OR('Tabel 5 F'!B13<5,'Tabel 5 Br'!B13<0.5),"-",IFERROR('Tabel 5 Br'!B13/'Tabel 5 F'!B13*100,"-")) -> 38.854953 | C13: =IF(OR('Tabel 5 F'!C13<5,'Tabel 5 Br'!C13<0.5),"-",IFERROR('Tabel 5 Br'!C13/'Tabel 5 F'!C13*100,"-")) -> 17.436338 | D13: =IF(OR('Tabel 5 F'!D13<5,'Tabel 5 Br'!D13<0.5),"-",IFERROR('Tabel 5 Br'!D13/'Tabel 5 F'!D13*100,"-")) -> 6.2818992 | E13: =IF(OR('Tabel 5 F'!E13<5,'Tabel 5 Br'!E13<0.5),"-",IFERROR('Tabel 5 Br'!E13/'Tabel 5 F'!E13*100,"-")) -> 4.2292899 | F13: =IF(OR('Tabel 5 F'!F13<5,'Tabel 5 Br'!F13<0.5),"-",IFERROR('Tabel 5 Br'!F13/'Tabel 5 F'!F13*100,"-")) -> 2.5518648 | G13: =IF(OR('Tabel 5 F'!G13<5,'Tabel 5 Br'!G13<0.5),"-",IFERROR('Tabel 5 Br'!G13/'Tabel 5 F'!G13*100,"-")) -> 1.7441208 | H13: =IF(OR('Tabel 5 F'!H13<5,'Tabel 5 Br'!H13<0.5),"-",IFERROR('Tabel 5 Br'!H13/'Tabel 5 F'!H13*100,"-")) -> 2.0822731 | J13: =IF(OR('Tabel 5 F'!J13<5,'Tabel 5 Br'!J13<0.5),"-",IFERROR('Tabel 5 Br'!J13/'Tabel 5 F'!J13*100,"-")) -> 4.1044693
A14: MA. Ph.d. | B14: =IF(OR('Tabel 5 F'!B14<5,'Tabel 5 Br'!B14<0.5),"-",IFERROR('Tabel 5 Br'!B14/'Tabel 5 F'!B14*100,"-")) -> 24.091609 | C14: =IF(OR('Tabel 5 F'!C14<5,'Tabel 5 Br'!C14<0.5),"-",IFERROR('Tabel 5 Br'!C14/'Tabel 5 F'!C14*100,"-")) -> 7.2238361 | D14: =IF(OR('Tabel 5 F'!D14<5,'Tabel 5 Br'!D14<0.5),"-",IFERROR('Tabel 5 Br'!D14/'Tabel 5 F'!D14*100,"-")) -> 5.5445 | E14: =IF(OR('Tabel 5 F'!E14<5,'Tabel 5 Br'!E14<0.5),"-",IFERROR('Tabel 5 Br'!E14/'Tabel 5 F'!E14*100,"-")) -> 4.8493473 | F14: =IF(OR('Tabel 5 F'!F14<5,'Tabel 5 Br'!F14<0.5),"-",IFERROR('Tabel 5 Br'!F14/'Tabel 5 F'!F14*100,"-")) -> 4.220367 | G14: =IF(OR('Tabel 5 F'!G14<5,'Tabel 5 Br'!G14<0.5),"-",IFERROR('Tabel 5 Br'!G14/'Tabel 5 F'!G14*100,"-")) -> 2.7418991 | H14: =IF(OR('Tabel 5 F'!H14<5,'Tabel 5 Br'!H14<0.5),"-",IFERROR('Tabel 5 Br'!H14/'Tabel 5 F'!H14*100,"-")) -> 3.5221827 | J14: =IF(OR('Tabel 5 F'!J14<5,'Tabel 5 Br'!J14<0.5),"-",IFERROR('Tabel 5 Br'!J14/'Tabel 5 F'!J14*100,"-")) -> 4.5208499
A15: MA. Samf. | B15: =IF(OR('Tabel 5 F'!B15<5,'Tabel 5 Br'!B15<0.5),"-",IFERROR('Tabel 5 Br'!B15/'Tabel 5 F'!B15*100,"-")) -> 46.936222 | C15: =IF(OR('Tabel 5 F'!C15<5,'Tabel 5 Br'!C15<0.5),"-",IFERROR('Tabel 5 Br'!C15/'Tabel 5 F'!C15*100,"-")) -> 23.255183 | D15: =IF(OR('Tabel 5 F'!D15<5,'Tabel 5 Br'!D15<0.5),"-",IFERROR('Tabel 5 Br'!D15/'Tabel 5 F'!D15*100,"-")) -> 11.089247 | E15: =IF(OR('Tabel 5 F'!E15<5,'Tabel 5 Br'!E15<0.5),"-",IFERROR('Tabel 5 Br'!E15/'Tabel 5 F'!E15*100,"-")) -> 7.8322098 | F15: =IF(OR('Tabel 5 F'!F15<5,'Tabel 5 Br'!F15<0.5),"-",IFERROR('Tabel 5 Br'!F15/'Tabel 5 F'!F15*100,"-")) -> 5.2620837 | G15: =IF(OR('Tabel 5 F'!G15<5,'Tabel 5 Br'!G15<0.5),"-",IFERROR('Tabel 5 Br'!G15/'Tabel 5 F'!G15*100,"-")) -> 5.0444687 | H15: =IF(OR('Tabel 5 F'!H15<5,'Tabel 5 Br'!H15<0.5),"-",IFERROR('Tabel 5 Br'!H15/'Tabel 5 F'!H15*100,"-")) -> 5.7281658 | J15: =IF(OR('Tabel 5 F'!J15<5,'Tabel 5 Br'!J15<0.5),"-",IFERROR('Tabel 5 Br'!J15/'Tabel 5 F'!J15*100,"-")) -> 13.933788
A16: Øvrige Mag. | B16: =IF(OR('Tabel 5 F'!B16<5,'Tabel 5 Br'!B16<0.5),"-",IFERROR('Tabel 5 Br'!B16/'Tabel 5 F'!B16*100,"-")) -> 45.173425 | C16: =IF(OR('Tabel 5 F'!C16<5,'Tabel 5 Br'!C16<0.5),"-",IFERROR('Tabel 5 Br'!C16/'Tabel 5 F'!C16*100,"-")) -> 10.641157 | D16: =IF(OR('Tabel 5 F'!D16<5,'Tabel 5 Br'!D16<0.5),"-",IFERROR('Tabel 5 Br'!D16/'Tabel 5 F'!D16*100,"-")) -> 12.040955 | E16: =IF(OR('Tabel 5 F'!E16<5,'Tabel 5 Br'!E16<0.5),"-",IFERROR('Tabel 5 Br'!E16/'Tabel 5 F'!E16*100,"-")) -> 5.6526101 | F16: =IF(OR('Tabel 5 F'!F16<5,'Tabel 5 Br'!F16<0.5),"-",IFERROR('Tabel 5 Br'!F16/'Tabel 5 F'!F16*100,"-")) -> 6.1480504 | G16: =IF(OR('Tabel 5 F'!G16<5,'Tabel 5 Br'!G16<0.5),"-",IFERROR('Tabel 5 Br'!G16/'Tabel 5 F'!G16*100,"-")) -> 3.1947128 | H16: =IF(OR('Tabel 5 F'!H16<5,'Tabel 5 Br'!H16<0.5),"-",IFERROR('Tabel 5 Br'!H16/'Tabel 5 F'!H16*100,"-")) -> 4.2346424 | J16: =IF(OR('Tabel 5 F'!J16<5,'Tabel 5 Br'!J16<0.5),"-",IFERROR('Tabel 5 Br'!J16/'Tabel 5 F'!J16*100,"-")) -> 8.3665645
A17: Agronom | B17: =IF(OR('Tabel 5 F'!B17<5,'Tabel 5 Br'!B17<0.5),"-",IFERROR('Tabel 5 Br'!B17/'Tabel 5 F'!B17*100,"-")) -> 37.546578 | C17: =IF(OR('Tabel 5 F'!C17<5,'Tabel 5 Br'!C17<0.5),"-",IFERROR('Tabel 5 Br'!C17/'Tabel 5 F'!C17*100,"-")) -> 19.159774 | D17: =IF(OR('Tabel 5 F'!D17<5,'Tabel 5 Br'!D17<0.5),"-",IFERROR('Tabel 5 Br'!D17/'Tabel 5 F'!D17*100,"-")) -> 2.5409154 | E17: =IF(OR('Tabel 5 F'!E17<5,'Tabel 5 Br'!E17<0.5),"-",IFERROR('Tabel 5 Br'!E17/'Tabel 5 F'!E17*100,"-")) -> 4.4061591 | F17: =IF(OR('Tabel 5 F'!F17<5,'Tabel 5 Br'!F17<0.5),"-",IFERROR('Tabel 5 Br'!F17/'Tabel 5 F'!F17*100,"-")) -> 0.77163388 | G17: =IF(OR('Tabel 5 F'!G17<5,'Tabel 5 Br'!G17<0.5),"-",IFERROR('Tabel 5 Br'!G17/'Tabel 5 F'!G17*100,"-")) -> 1.5625537 | H17: =IF(OR('Tabel 5 F'!H17<5,'Tabel 5 Br'!H17<0.5),"-",IFERROR('Tabel 5 Br'!H17/'Tabel 5 F'!H17*100,"-")) -> 3.4802338 | J17: =IF(OR('Tabel 5 F'!J17<5,'Tabel 5 Br'!J17<0.5),"-",IFERROR('Tabel 5 Br'!J17/'Tabel 5 F'!J17*100,"-")) -> 3.3066577
A18: Landsk. Arkt. | B18: =IF(OR('Tabel 5 F'!B18<5,'Tabel 5 Br'!B18<0.5),"-",IFERROR('Tabel 5 Br'!B18/'Tabel 5 F'!B18*100,"-")) -> 47.323233 | C18: =IF(OR('Tabel 5 F'!C18<5,'Tabel 5 Br'!C18<0.5),"-",IFERROR('Tabel 5 Br'!C18/'Tabel 5 F'!C18*100,"-")) -> 17.977136 | D18: =IF(OR('Tabel 5 F'!D18<5,'Tabel 5 Br'!D18<0.5),"-",IFERROR('Tabel 5 Br'!D18/'Tabel 5 F'!D18*100,"-")) -> 10.868988 | E18: =IF(OR('Tabel 5 F'!E18<5,'Tabel 5 Br'!E18<0.5),"-",IFERROR('Tabel 5 Br'!E18/'Tabel 5 F'!E18*100,"-")) -> 1.9591119 | F18: =IF(OR('Tabel 5 F'!F18<5,'Tabel 5 Br'!F18<0.5),"-",IFERROR('Tabel 5 Br'!F18/'Tabel 5 F'!F18*100,"-")) -> 0.97068932 | G18: =IF(OR('Tabel 5 F'!G18<5,'Tabel 5 Br'!G18<0.5),"-",IFERROR('Tabel 5 Br'!G18/'Tabel 5 F'!G18*100,"-")) -> 1.4848636 | H18: =IF(OR('Tabel 5 F'!H18<5,'Tabel 5 Br'!H18<0.5),"-",IFERROR('Tabel 5 Br'!H18/'Tabel 5 F'!H18*100,"-")) -> 3.2151765 | J18: =IF(OR('Tabel 5 F'!J18<5,'Tabel 5 Br'!J18<0.5),"-",IFERROR('Tabel 5 Br'!J18/'Tabel 5 F'!J18*100,"-")) -> 5.6638669
A19: Hortonom | B19: =IF(OR('Tabel 5 F'!B19<5,'Tabel 5 Br'!B19<0.5),"-",IFERROR('Tabel 5 Br'!B19/'Tabel 5 F'!B19*100,"-")) -> - | C19: =IF(OR('Tabel 5 F'!C19<5,'Tabel 5 Br'!C19<0.5),"-",IFERROR('Tabel 5 Br'!C19/'Tabel 5 F'!C19*100,"-")) -> - | D19: =IF(OR('Tabel 5 F'!D19<5,'Tabel 5 Br'!D19<0.5),"-",IFERROR('Tabel 5 Br'!D19/'Tabel 5 F'!D19*100,"-")) -> - | E19: =IF(OR('Tabel 5 F'!E19<5,'Tabel 5 Br'!E19<0.5),"-",IFERROR('Tabel 5 Br'!E19/'Tabel 5 F'!E19*100,"-")) -> 5.3834375 | F19: =IF(OR('Tabel 5 F'!F19<5,'Tabel 5 Br'!F19<0.5),"-",IFERROR('Tabel 5 Br'!F19/'Tabel 5 F'!F19*100,"-")) -> 4.5375 | G19: =IF(OR('Tabel 5 F'!G19<5,'Tabel 5 Br'!G19<0.5),"-",IFERROR('Tabel 5 Br'!G19/'Tabel 5 F'!G19*100,"-")) -> 2.6345569 | H19: =IF(OR('Tabel 5 F'!H19<5,'Tabel 5 Br'!H19<0.5),"-",IFERROR('Tabel 5 Br'!H19/'Tabel 5 F'!H19*100,"-")) -> - | J19: =IF(OR('Tabel 5 F'!J19<5,'Tabel 5 Br'!J19<0.5),"-",IFERROR('Tabel 5 Br'!J19/'Tabel 5 F'!J19*100,"-")) -> 2.635738
A20: Forstkand. | B20: =IF(OR('Tabel 5 F'!B20<5,'Tabel 5 Br'!B20<0.5),"-",IFERROR('Tabel 5 Br'!B20/'Tabel 5 F'!B20*100,"-")) -> 30.763462 | C20: =IF(OR('Tabel 5 F'!C20<5,'Tabel 5 Br'!C20<0.5),"-",IFERROR('Tabel 5 Br'!C20/'Tabel 5 F'!C20*100,"-")) -> 23.739222 | D20: =IF(OR('Tabel 5 F'!D20<5,'Tabel 5 Br'!D20<0.5),"-",IFERROR('Tabel 5 Br'!D20/'Tabel 5 F'!D20*100,"-")) -> 9.37325 | E20: =IF(OR('Tabel 5 F'!E20<5,'Tabel 5 Br'!E20<0.5),"-",IFERROR('Tabel 5 Br'!E20/'Tabel 5 F'!E20*100,"-")) -> 3.0297273 | F20: =IF(OR('Tabel 5 F'!F20<5,'Tabel 5 Br'!F20<0.5),"-",IFERROR('Tabel 5 Br'!F20/'Tabel 5 F'!F20*100,"-")) -> - | G20: =IF(OR('Tabel 5 F'!G20<5,'Tabel 5 Br'!G20<0.5),"-",IFERROR('Tabel 5 Br'!G20/'Tabel 5 F'!G20*100,"-")) -> 1.9324885 | H20: =IF(OR('Tabel 5 F'!H20<5,'Tabel 5 Br'!H20<0.5),"-",IFERROR('Tabel 5 Br'!H20/'Tabel 5 F'!H20*100,"-")) -> 5.81426 | J20: =IF(OR('Tabel 5 F'!J20<5,'Tabel 5 Br'!J20<0.5),"-",IFERROR('Tabel 5 Br'!J20/'Tabel 5 F'!J20*100,"-")) -> 4.1157773
... A46: Andre | B46: =IF(OR('Tabel 5 F'!B46<5,'Tabel 5 Br'!B46<0.5),"-",IFERROR('Tabel 5 Br'!B46/'Tabel 5 F'!B46*100,"-")) -> 20.908948 | C46: =IF(OR('Tabel 5 F'!C46<5,'Tabel 5 Br'!C46<0.5),"-",IFERROR('Tabel 5 Br'!C46/'Tabel 5 F'!C46*100,"-")) -> 13.381344 | D46: =IF(OR('Tabel 5 F'!D46<5,'Tabel 5 Br'!D46<0.5),"-",IFERROR('Tabel 5 Br'!D46/'Tabel 5 F'!D46*100,"-")) -> 10.037901 | E46: =IF(OR('Tabel 5 F'!E46<5,'Tabel 5 Br'!E46<0.5),"-",IFERROR('Tabel 5 Br'!E46/'Tabel 5 F'!E46*100,"-")) -> 6.8760964 | F46: =IF(OR('Tabel 5 F'!F46<5,'Tabel 5 Br'!F46<0.5),"-",IFERROR('Tabel 5 Br'!F46/'Tabel 5 F'!F46*100,"-")) -> 4.6809034 | G46: =IF(OR('Tabel 5 F'!G46<5,'Tabel 5 Br'!G46<0.5),"-",IFERROR('Tabel 5 Br'!G46/'Tabel 5 F'!G46*100,"-")) -> 6.1346847 | H46: =IF(OR('Tabel 5 F'!H46<5,'Tabel 5 Br'!H46<0.5),"-",IFERROR('Tabel 5 Br'!H46/'Tabel 5 F'!H46*100,"-")) -> 5.1419854 | J46: =IF(OR('Tabel 5 F'!J46<5,'Tabel 5 Br'!J46<0.5),"-",IFERROR('Tabel 5 Br'!J46/'Tabel 5 F'!J46*100,"-")) -> 7.7864667
A48: Total | B48: =IF(OR('Tabel 5 F'!B48<5,'Tabel 5 Br'!B48<0.5),"-",IFERROR('Tabel 5 Br'!B48/'Tabel 5 F'!B48*100,"-")) -> 33.490121 | C48: =IF(OR('Tabel 5 F'!C48<5,'Tabel 5 Br'!C48<0.5),"-",IFERROR('Tabel 5 Br'!C48/'Tabel 5 F'!C48*100,"-")) -> 15.207413 | D48: =IF(OR('Tabel 5 F'!D48<5,'Tabel 5 Br'!D48<0.5),"-",IFERROR('Tabel 5 Br'!D48/'Tabel 5 F'!D48*100,"-")) -> 6.994941 | E48: =IF(OR('Tabel 5 F'!E48<5,'Tabel 5 Br'!E48<0.5),"-",IFERROR('Tabel 5 Br'!E48/'Tabel 5 F'!E48*100,"-")) -> 4.2194037 | F48: =IF(OR('Tabel 5 F'!F48<5,'Tabel 5 Br'!F48<0.5),"-",IFERROR('Tabel 5 Br'!F48/'Tabel 5 F'!F48*100,"-")) -> 3.0064009 | G48: =IF(OR('Tabel 5 F'!G48<5,'Tabel 5 Br'!G48<0.5),"-",IFERROR('Tabel 5 Br'!G48/'Tabel 5 F'!G48*100,"-")) -> 2.6750322 | H48: =IF(OR('Tabel 5 F'!H48<5,'Tabel 5 Br'!H48<0.5),"-",IFERROR('Tabel 5 Br'!H48/'Tabel 5 F'!H48*100,"-")) -> 3.4220427 | J48: =IF(OR('Tabel 5 F'!J48<5,'Tabel 5 Br'!J48<0.5),"-",IFERROR('Tabel 5 Br'!J48/'Tabel 5 F'!J48*100,"-")) -> 6.2489646 | K48: 9.1420788
A50: Ingeniører i alt | B50: =IF(OR('Tabel 5 F'!B50<5,'Tabel 5 Br'!B50<0.5),"-",IFERROR('Tabel 5 Br'!B50/'Tabel 5 F'!B50*100,"-")) -> 31.780881 | C50: =IF(OR('Tabel 5 F'!C50<5,'Tabel 5 Br'!C50<0.5),"-",IFERROR('Tabel 5 Br'!C50/'Tabel 5 F'!C50*100,"-")) -> 9.5278746 | D50: =IF(OR('Tabel 5 F'!D50<5,'Tabel 5 Br'!D50<0.5),"-",IFERROR('Tabel 5 Br'!D50/'Tabel 5 F'!D50*100,"-")) -> 3.6152963 | E50: =IF(OR('Tabel 5 F'!E50<5,'Tabel 5 Br'!E50<0.5),"-",IFERROR('Tabel 5 Br'!E50/'Tabel 5 F'!E50*100,"-")) -> 2.4774257 | F50: =IF(OR('Tabel 5 F'!F50<5,'Tabel 5 Br'!F50<0.5),"-",IFERROR('Tabel 5 Br'!F50/'Tabel 5 F'!F50*100,"-")) -> 1.5883534 | G50: =IF(OR('Tabel 5 F'!G50<5,'Tabel 5 Br'!G50<0.5),"-",IFERROR('Tabel 5 Br'!G50/'Tabel 5 F'!G50*100,"-")) -> 2.0707178 | H50: =IF(OR('Tabel 5 F'!H50<5,'Tabel 5 Br'!H50<0.5),"-",IFERROR('Tabel 5 Br'!H50/'Tabel 5 F'!H50*100,"-")) -> 2.1754802 | J50: =IF(OR('Tabel 5 F'!J50<5,'Tabel 5 Br'!J50<0.5),"-",IFERROR('Tabel 5 Br'!J50/'Tabel 5 F'!J50*100,"-")) -> 3.7161021
A51: Magistre i alt | B51: =IF(OR('Tabel 5 F'!B51<5,'Tabel 5 Br'!B51<0.5),"-",IFERROR('Tabel 5 Br'!B51/'Tabel 5 F'!B51*100,"-")) -> 47.930521 | C51: =IF(OR('Tabel 5 F'!C51<5,'Tabel 5 Br'!C51<0.5),"-",IFERROR('Tabel 5 Br'!C51/'Tabel 5 F'!C51*100,"-")) -> 25.775885 | D51: =IF(OR('Tabel 5 F'!D51<5,'Tabel 5 Br'!D51<0.5),"-",IFERROR('Tabel 5 Br'!D51/'Tabel 5 F'!D51*100,"-")) -> 11.714801 | E51: =IF(OR('Tabel 5 F'!E51<5,'Tabel 5 Br'!E51<0.5),"-",IFERROR('Tabel 5 Br'!E51/'Tabel 5 F'!E51*100,"-")) -> 7.0349216 | F51: =IF(OR('Tabel 5 F'!F51<5,'Tabel 5 Br'!F51<0.5),"-",IFERROR('Tabel 5 Br'!F51/'Tabel 5 F'!F51*100,"-")) -> 4.5137876 | G51: =IF(OR('Tabel 5 F'!G51<5,'Tabel 5 Br'!G51<0.5),"-",IFERROR('Tabel 5 Br'!G51/'Tabel 5 F'!G51*100,"-")) -> 3.0539328 | H51: =IF(OR('Tabel 5 F'!H51<5,'Tabel 5 Br'!H51<0.5),"-",IFERROR('Tabel 5 Br'!H51/'Tabel 5 F'!H51*100,"-")) -> 5.0453826 | J51: =IF(OR('Tabel 5 F'!J51<5,'Tabel 5 Br'!J51<0.5),"-",IFERROR('Tabel 5 Br'!J51/'Tabel 5 F'!J51*100,"-")) -> 9.1420788
A52: DJØF'ere i alt | B52: =IF(OR('Tabel 5 F'!B52<5,'Tabel 5 Br'!B52<0.5),"-",IFERROR('Tabel 5 Br'!B52/'Tabel 5 F'!B52*100,"-")) -> 30.198635 | C52: =IF(OR('Tabel 5 F'!C52<5,'Tabel 5 Br'!C52<0.5),"-",IFERROR('Tabel 5 Br'!C52/'Tabel 5 F'!C52*100,"-")) -> 11.384037 | D52: =IF(OR('Tabel 5 F'!D52<5,'Tabel 5 Br'!D52<0.5),"-",IFERROR('Tabel 5 Br'!D52/'Tabel 5 F'!D52*100,"-")) -> 5.0652656 | E52: =IF(OR('Tabel 5 F'!E52<5,'Tabel 5 Br'!E52<0.5),"-",IFERROR('Tabel 5 Br'!E52/'Tabel 5 F'!E52*100,"-")) -> 3.2199429 | F52: =IF(OR('Tabel 5 F'!F52<5,'Tabel 5 Br'!F52<0.5),"-",IFERROR('Tabel 5 Br'!F52/'Tabel 5 F'!F52*100,"-")) -> 2.5825328 | G52: =IF(OR('Tabel 5 F'!G52<5,'Tabel 5 Br'!G52<0.5),"-",IFERROR('Tabel 5 Br'!G52/'Tabel 5 F'!G52*100,"-")) -> 2.6137363 | H52: =IF(OR('Tabel 5 F'!H52<5,'Tabel 5 Br'!H52<0.5),"-",IFERROR('Tabel 5 Br'!H52/'Tabel 5 F'!H52*100,"-")) -> 2.8272236 | J52: =IF(OR('Tabel 5 F'!J52<5,'Tabel 5 Br'!J52<0.5),"-",IFERROR('Tabel 5 Br'!J52/'Tabel 5 F'!J52*100,"-")) -> 5.3796169
A53: Ledighedsprocenten er ikke angivet, når antallet af observationer er mindre end 10
A54: Se sidste del af statistikken for en oversigt over uddannelsesgrupperingernes indhold

Sheet Tabel 5 Dim F
A1: Landstatistik
A3: Tabel 5. Antal forsikrede medlemmer med dimission indenfor de seneste 2 år
B7: 0 - 3 mdr. | C7: 3 - 6 mdr. | D7: 6 - 9 mdr. | E7: 9 - 12 mdr. | F7: 12 - 15 mdr. | G7: 15 - 18 mdr. | H7: 18 - 21 mdr. | I7: 21 - 24 mdr.
A9: Civ. Ing. | B9: 310 | C9: 947 | D9: 302 | E9: 283 | F9: 217 | G9: 845 | H9: 253 | I9: 206
A10: Diplom Ing. | B10: 92 | C10: 260 | D10: 104 | E10: 478 | F10: 72 | G10: 235 | H10: 107 | I10: 490
A11: Cand.Scient.Tech. | B11: 462 | C11: 771 | D11: 181 | E11: 342 | F11: 420 | G11: 958 | H11: 200 | I11: 282
A12: MA. Hum. | B12: 671 | C12: 1103 | D12: 231 | E12: 460 | F12: 490 | G12: 1165 | H12: 276 | I12: 446
A13: MA. Nat. | B13: 132 | C13: 196 | D13: 62 | E13: 77 | F13: 98 | G13: 156 | H13: 53 | I13: 54
A14: MA. Ph.d. | B14: 16 | C14: 16 | D14: 19 | E14: 18 | F14: 16 | G14: 11 | H14: 11 | I14: 23
A15: MA. Samf. | B15: 133 | C15: 270 | D15: 52 | E15: 90 | F15: 129 | G15: 285 | H15: 75 | I15: 119
A16: Øvrige Mag. | B16: 61 | C16: 102 | D16: 26 | E16: 37 | F16: 28 | G16: 68 | H16: 15 | I16: 240
A17: Agronom | B17: 29 | C17: 13 | D17: 10 | E17: 12 | F17: 24 | G17: 8 | H17: 5 | I17: 16
A18: Landsk. Arkt. | B18: 9 | C18: 7 | D18: 11 | E18: 3 | F18: 11 | G18: 13 | H18: 10 | I18: 10
A19: Hortonom | B19: 0 | C19: 0 | D19: 0 | E19: 0 | F19: 0 | G19: 0 | H19: 0 | I19: 0
A20: Forstkand. | B20: 3 | C20: 6 | D20: 1 | E20: 3 | F20: 7 | G20: 5 | H20: 3 | I20: 3
... A46: Andre | B46: 428 | C46: 666 | D46: 305 | E46: 308 | F46: 224 | G46: 454 | H46: 151 | I46: 285
A48: Total | B48: =SUM(B9:B46)-SUM(B17:B20) -> 4146 | C48: =SUM(C9:C46)-SUM(C17:C20) -> 11365 | D48: =SUM(D9:D46)-SUM(D17:D20) -> 2125 | E48: =SUM(E9:E46)-SUM(E17:E20) -> 4442 | F48: =SUM(F9:F46)-SUM(F17:F20) -> 3233 | G48: =SUM(G9:G46)-SUM(G17:G20) -> 9887 | H48: =SUM(H9:H46)-SUM(H17:H20) -> 1994 | I48: =SUM(I9:I46)-SUM(I17:I20) -> 4209
A50: Ingeniører i alt | B50: 402 | C50: 1207 | D50: 406 | E50: 761 | F50: 289 | G50: 1080 | H50: 360 | I50: 696
A51: Magistre i alt | B51: 1013 | C51: 1687 | D51: 390 | E51: 682 | F51: 761 | G51: 1685 | H51: 430 | I51: 882
A52: DJØF'ere i alt | B52: 971 | C52: 3874 | D52: 455 | E52: 830 | F52: 900 | G52: 3171 | H52: 492 | I52: 815
A53: Se sidste del af statistikken for en oversigt over uddannelsesgrupperingernes indhold

Sheet Tabel 5 Dim Br
A1: Landstatistik
A3: Tabel 5. Antal bruttoledige målt i fuldtidspersoner - akademikere med dimission indenfor de seneste 2 år
B7: 0 - 3 mdr. | C7: 3 - 6 mdr. | D7: 6 - 9 mdr. | E7: 9 - 12 mdr. | F7: 12 - 15 mdr. | G7: 15 - 18 mdr. | H7: 18 - 21 mdr. | I7: 21 - 24 mdr.
A9: Civ. Ing. | B9: 151.29732 | C9: 351.05595 | D9: 61.05408 | E9: 48.75632 | F9: 21.64536 | G9: 80.72164 | H9: 18.4507 | I9: 16.97748
A10: Diplom Ing. | B10: 39.88399 | C10: 102.07759 | D10: 22.39693 | E10: 105.71509 | F10: 15.44315 | G10: 38.23926 | H10: 4.27369 | I10: 35.29969
A11: Cand.Scient.Tech. | B11: 218.06275 | C11: 374.90364 | D11: 59.91892 | E11: 102.63207 | F11: 92.76056 | G11: 164.04291 | H11: 29.25466 | I11: 37.45088
A12: MA. Hum. | B12: 359.53845 | C12: 582.52791 | D12: 116.49722 | E12: 193.40548 | F12: 197.04235 | G12: 330.07609 | H12: 85.42007 | I12: 110.02557
A13: MA. Nat. | B13: 55.29096 | C13: 79.0925 | D13: 21.99588 | E13: 25.07329 | F13: 24.38408 | G13: 23.69675 | H13: 7.638 | I13: 7.22635
A14: MA. Ph.d. | B14: 3.44914 | C14: 3.99925 | D14: 4.99906 | E14: 4.17576 | F14: 2.88093 | G14: 0.99981 | H14: 0 | I14: 0.52579
A15: MA. Samf. | B15: 76.10865 | C15: 126.23651 | D15: 19.72993 | E15: 33.72731 | F15: 40.86322 | G15: 62.76866 | H15: 18.23988 | I15: 19.51974
A16: Øvrige Mag. | B16: 25.42069 | C16: 53.08489 | D16: 12.47365 | E16: 11.11271 | F16: 8.64904 | G16: 19.56465 | H16: 2.69195 | I16: 6.44483
A17: Agronom | B17: 15.26976 | C17: 3.76411 | D17: 1.99963 | E17: 2.99632 | F17: 5.35271 | G17: 1.98715 | H17: 0.9075 | I17: 1.90732
A18: Landsk. Arkt. | B18: 4.7527 | C18: 3.44539 | D18: 4.99906 | E18: 0.99981 | F18: 3.9531 | G18: 0.99981 | H18: 0.84388 | I18: 2.11314
A19: Hortonom | B19: 0 | C19: 0 | D19: 0 | E19: 0 | F19: 0 | G19: 0 | H19: 0 | I19: 0
A20: Forstkand. | B20: 0 | C20: 1.99963 | D20: 0.99981 | E20: 0.99981 | F20: 0.27381 | G20: 0.99981 | H20: 1.99963 | I20: 0.99981
... A46: Andre | B46: 105.91779 | C46: 201.15574 | D46: 15.92715 | E46: 33.91505 | F46: 24.66912 | G46: 78.54987 | H46: 18.94218 | I46: 26.907
A48: Total | B48: =SUM(B9:B46)-SUM(B17:B20) -> 1842.3637 | C48: =SUM(C9:C46)-SUM(C17:C20) -> 4019.6982 | D48: =SUM(D9:D46)-SUM(D17:D20) -> 570.34405 | E48: =SUM(E9:E46)-SUM(E17:E20) -> 961.54308 | F48: =SUM(F9:F46)-SUM(F17:F20) -> 736.46442 | G48: =SUM(G9:G46)-SUM(G17:G20) -> 1429.8638 | H48: =SUM(H9:H46)-SUM(H17:H20) -> 312.96046 | I48: =SUM(I9:I46)-SUM(I17:I20) -> 459.23979
A50: Ingeniører i alt | B50: 191.18131 | C50: 453.13354 | D50: 83.45101 | E50: 154.4714 | F50: 37.0885 | G50: 118.96089 | H50: 22.72438 | I50: 52.27718
A51: Magistre i alt | B51: 519.8079 | C51: 844.94106 | D51: 175.69575 | E51: 267.49454 | F51: 273.81962 | G51: 437.10597 | H51: 113.9899 | I51: 143.74228
A52: DJØF'ere i alt | B52: 414.60488 | C52: 1155.0789 | D52: 123.33624 | E52: 158.1563 | F52: 164.85873 | G52: 294.47826 | H52: 68.14882 | I52: 84.74771
A53: Se sidste del af statistikken for en oversigt over uddannelsesgrupperingernes indhold

Sheet Tabel 5 Dim p (Br)
A1: Landstatistik
A3: Tabel 5.4 Bruttoledighedsprocenten målt i fuldtidspersoner - akademikere med dimission indenfor de seneste 2 år
B7: 0 - 3 mdr. | C7: 3 - 6 mdr. | D7: 6 - 9 mdr. | E7: 9 - 12 mdr. | F7: 12 - 15 mdr. | G7: 15 - 18 mdr. | H7: 18 - 21 mdr. | I7: 21 - 24 mdr.
A9: Civ. Ing. | B9: =IF(OR('Tabel 5 Dim F'!B9<5,'Tabel 5 Dim Br'!B9<0.5),"-",IFERROR('Tabel 5 Dim Br'!B9/'Tabel 5 Dim F'!B9*100,"-")) -> 48.805587 | C9: =IF(OR('Tabel 5 Dim F'!C9<5,'Tabel 5 Dim Br'!C9<0.5),"-",IFERROR('Tabel 5 Dim Br'!C9/'Tabel 5 Dim F'!C9*100,"-")) -> 37.070322 | D9: =IF(OR('Tabel 5 Dim F'!D9<5,'Tabel 5 Dim Br'!D9<0.5),"-",IFERROR('Tabel 5 Dim Br'!D9/'Tabel 5 Dim F'!D9*100,"-")) -> 20.216583 | E9: =IF(OR('Tabel 5 Dim F'!E9<5,'Tabel 5 Dim Br'!E9<0.5),"-",IFERROR('Tabel 5 Dim Br'!E9/'Tabel 5 Dim F'!E9*100,"-")) -> 17.228382 | F9: =IF(OR('Tabel 5 Dim F'!F9<5,'Tabel 5 Dim Br'!F9<0.5),"-",IFERROR('Tabel 5 Dim Br'!F9/'Tabel 5 Dim F'!F9*100,"-")) -> 9.9748203 | G9: =IF(OR('Tabel 5 Dim F'!G9<5,'Tabel 5 Dim Br'!G9<0.5),"-",IFERROR('Tabel 5 Dim Br'!G9/'Tabel 5 Dim F'!G9*100,"-")) -> 9.5528568 | H9: =IF(OR('Tabel 5 Dim F'!H9<5,'Tabel 5 Dim Br'!H9<0.5),"-",IFERROR('Tabel 5 Dim Br'!H9/'Tabel 5 Dim F'!H9*100,"-")) -> 7.2927668 | I9: =IF(OR('Tabel 5 Dim F'!I9<5,'Tabel 5 Dim Br'!I9<0.5),"-",IFERROR('Tabel 5 Dim Br'!I9/'Tabel 5 Dim F'!I9*100,"-")) -> 8.2414951
A10: Diplom Ing. | B10: =IF(OR('Tabel 5 Dim F'!B10<5,'Tabel 5 Dim Br'!B10<0.5),"-",IFERROR('Tabel 5 Dim Br'!B10/'Tabel 5 Dim F'!B10*100,"-")) -> 43.352163 | C10: =IF(OR('Tabel 5 Dim F'!C10<5,'Tabel 5 Dim Br'!C10<0.5),"-",IFERROR('Tabel 5 Dim Br'!C10/'Tabel 5 Dim F'!C10*100,"-")) -> 39.260612 | D10: =IF(OR('Tabel 5 Dim F'!D10<5,'Tabel 5 Dim Br'!D10<0.5),"-",IFERROR('Tabel 5 Dim Br'!D10/'Tabel 5 Dim F'!D10*100,"-")) -> 21.53551 | E10: =IF(OR('Tabel 5 Dim F'!E10<5,'Tabel 5 Dim Br'!E10<0.5),"-",IFERROR('Tabel 5 Dim Br'!E10/'Tabel 5 Dim F'!E10*100,"-")) -> 22.116128 | F10: =IF(OR('Tabel 5 Dim F'!F10<5,'Tabel 5 Dim Br'!F10<0.5),"-",IFERROR('Tabel 5 Dim Br'!F10/'Tabel 5 Dim F'!F10*100,"-")) -> 21.448819 | G10: =IF(OR('Tabel 5 Dim F'!G10<5,'Tabel 5 Dim Br'!G10<0.5),"-",IFERROR('Tabel 5 Dim Br'!G10/'Tabel 5 Dim F'!G10*100,"-")) -> 16.272026 | H10: =IF(OR('Tabel 5 Dim F'!H10<5,'Tabel 5 Dim Br'!H10<0.5),"-",IFERROR('Tabel 5 Dim Br'!H10/'Tabel 5 Dim F'!H10*100,"-")) -> 3.9941028 | I10: =IF(OR('Tabel 5 Dim F'!I10<5,'Tabel 5 Dim Br'!I10<0.5),"-",IFERROR('Tabel 5 Dim Br'!I10/'Tabel 5 Dim F'!I10*100,"-")) -> 7.2040184
A11: Cand.Scient.Tech. | B11: =IF(OR('Tabel 5 Dim F'!B11<5,'Tabel 5 Dim Br'!B11<0.5),"-",IFERROR('Tabel 5 Dim Br'!B11/'Tabel 5 Dim F'!B11*100,"-")) -> 47.199729 | C11: =IF(OR('Tabel 5 Dim F'!C11<5,'Tabel 5 Dim Br'!C11<0.5),"-",IFERROR('Tabel 5 Dim Br'!C11/'Tabel 5 Dim F'!C11*100,"-")) -> 48.625634 | D11: =IF(OR('Tabel 5 Dim F'!D11<5,'Tabel 5 Dim Br'!D11<0.5),"-",IFERROR('Tabel 5 Dim Br'!D11/'Tabel 5 Dim F'!D11*100,"-")) -> 33.104376 | E11: =IF(OR('Tabel 5 Dim F'!E11<5,'Tabel 5 Dim Br'!E11<0.5),"-",IFERROR('Tabel 5 Dim Br'!E11/'Tabel 5 Dim F'!E11*100,"-")) -> 30.009377 | F11: =IF(OR('Tabel 5 Dim F'!F11<5,'Tabel 5 Dim Br'!F11<0.5),"-",IFERROR('Tabel 5 Dim Br'!F11/'Tabel 5 Dim F'!F11*100,"-")) -> 22.085848 | G11: =IF(OR('Tabel 5 Dim F'!G11<5,'Tabel 5 Dim Br'!G11<0.5),"-",IFERROR('Tabel 5 Dim Br'!G11/'Tabel 5 Dim F'!G11*100,"-")) -> 17.123477 | H11: =IF(OR('Tabel 5 Dim F'!H11<5,'Tabel 5 Dim Br'!H11<0.5),"-",IFERROR('Tabel 5 Dim Br'!H11/'Tabel 5 Dim F'!H11*100,"-")) -> 14.62733 | I11: =IF(OR('Tabel 5 Dim F'!I11<5,'Tabel 5 Dim Br'!I11<0.5),"-",IFERROR('Tabel 5 Dim Br'!I11/'Tabel 5 Dim F'!I11*100,"-")) -> 13.280454
A12: MA. Hum. | B12: =IF(OR('Tabel 5 Dim F'!B12<5,'Tabel 5 Dim Br'!B12<0.5),"-",IFERROR('Tabel 5 Dim Br'!B12/'Tabel 5 Dim F'!B12*100,"-")) -> 53.582481 | C12: =IF(OR('Tabel 5 Dim F'!C12<5,'Tabel 5 Dim Br'!C12<0.5),"-",IFERROR('Tabel 5 Dim Br'!C12/'Tabel 5 Dim F'!C12*100,"-")) -> 52.813047 | D12: =IF(OR('Tabel 5 Dim F'!D12<5,'Tabel 5 Dim Br'!D12<0.5),"-",IFERROR('Tabel 5 Dim Br'!D12/'Tabel 5 Dim F'!D12*100,"-")) -> 50.431697 | E12: =IF(OR('Tabel 5 Dim F'!E12<5,'Tabel 5 Dim Br'!E12<0.5),"-",IFERROR('Tabel 5 Dim Br'!E12/'Tabel 5 Dim F'!E12*100,"-")) -> 42.04467 | F12: =IF(OR('Tabel 5 Dim F'!F12<5,'Tabel 5 Dim Br'!F12<0.5),"-",IFERROR('Tabel 5 Dim Br'!F12/'Tabel 5 Dim F'!F12*100,"-")) -> 40.212724 | G12: =IF(OR('Tabel 5 Dim F'!G12<5,'Tabel 5 Dim Br'!G12<0.5),"-",IFERROR('Tabel 5 Dim Br'!G12/'Tabel 5 Dim F'!G12*100,"-")) -> 28.332712 | H12: =IF(OR('Tabel 5 Dim F'!H12<5,'Tabel 5 Dim Br'!H12<0.5),"-",IFERROR('Tabel 5 Dim Br'!H12/'Tabel 5 Dim F'!H12*100,"-")) -> 30.949301 | I12: =IF(OR('Tabel 5 Dim F'!I12<5,'Tabel 5 Dim Br'!I12<0.5),"-",IFERROR('Tabel 5 Dim Br'!I12/'Tabel 5 Dim F'!I12*100,"-")) -> 24.66941
A13: MA. Nat. | B13: =IF(OR('Tabel 5 Dim F'!B13<5,'Tabel 5 Dim Br'!B13<0.5),"-",IFERROR('Tabel 5 Dim Br'!B13/'Tabel 5 Dim F'!B13*100,"-")) -> 41.887091 | C13: =IF(OR('Tabel 5 Dim F'!C13<5,'Tabel 5 Dim Br'!C13<0.5),"-",IFERROR('Tabel 5 Dim Br'!C13/'Tabel 5 Dim F'!C13*100,"-")) -> 40.353316 | D13: =IF(OR('Tabel 5 Dim F'!D13<5,'Tabel 5 Dim Br'!D13<0.5),"-",IFERROR('Tabel 5 Dim Br'!D13/'Tabel 5 Dim F'!D13*100,"-")) -> 35.477226 | E13: =IF(OR('Tabel 5 Dim F'!E13<5,'Tabel 5 Dim Br'!E13<0.5),"-",IFERROR('Tabel 5 Dim Br'!E13/'Tabel 5 Dim F'!E13*100,"-")) -> 32.562714 | F13: =IF(OR('Tabel 5 Dim F'!F13<5,'Tabel 5 Dim Br'!F13<0.5),"-",IFERROR('Tabel 5 Dim Br'!F13/'Tabel 5 Dim F'!F13*100,"-")) -> 24.881714 | G13: =IF(OR('Tabel 5 Dim F'!G13<5,'Tabel 5 Dim Br'!G13<0.5),"-",IFERROR('Tabel 5 Dim Br'!G13/'Tabel 5 Dim F'!G13*100,"-")) -> 15.190224 | H13: =IF(OR('Tabel 5 Dim F'!H13<5,'Tabel 5 Dim Br'!H13<0.5),"-",IFERROR('Tabel 5 Dim Br'!H13/'Tabel 5 Dim F'!H13*100,"-")) -> 14.411321 | I13: =IF(OR('Tabel 5 Dim F'!I13<5,'Tabel 5 Dim Br'!I13<0.5),"-",IFERROR('Tabel 5 Dim Br'!I13/'Tabel 5 Dim F'!I13*100,"-")) -> 13.38213
A14: MA. Ph.d. | B14: =IF(OR('Tabel 5 Dim F'!B14<5,'Tabel 5 Dim Br'!B14<0.5),"-",IFERROR('Tabel 5 Dim Br'!B14/'Tabel 5 Dim F'!B14*100,"-")) -> 21.557125 | C14: =IF(OR('Tabel 5 Dim F'!C14<5,'Tabel 5 Dim Br'!C14<0.5),"-",IFERROR('Tabel 5 Dim Br'!C14/'Tabel 5 Dim F'!C14*100,"-")) -> 24.995313 | D14: =IF(OR('Tabel 5 Dim F'!D14<5,'Tabel 5 Dim Br'!D14<0.5),"-",IFERROR('Tabel 5 Dim Br'!D14/'Tabel 5 Dim F'!D14*100,"-")) -> 26.310842 | E14: =IF(OR('Tabel 5 Dim F'!E14<5,'Tabel 5 Dim Br'!E14<0.5),"-",IFERROR('Tabel 5 Dim Br'!E14/'Tabel 5 Dim F'!E14*100,"-")) -> 23.198667 | F14: =IF(OR('Tabel 5 Dim F'!F14<5,'Tabel 5 Dim Br'!F14<0.5),"-",IFERROR('Tabel 5 Dim Br'!F14/'Tabel 5 Dim F'!F14*100,"-")) -> 18.005813 | G14: =IF(OR('Tabel 5 Dim F'!G14<5,'Tabel 5 Dim Br'!G14<0.5),"-",IFERROR('Tabel 5 Dim Br'!G14/'Tabel 5 Dim F'!G14*100,"-")) -> 9.0891818 | H14: =IF(OR('Tabel 5 Dim F'!H14<5,'Tabel 5 Dim Br'!H14<0.5),"-",IFERROR('Tabel 5 Dim Br'!H14/'Tabel 5 Dim F'!H14*100,"-")) -> - | I14: =IF(OR('Tabel 5 Dim F'!I14<5,'Tabel 5 Dim Br'!I14<0.5),"-",IFERROR('Tabel 5 Dim Br'!I14/'Tabel 5 Dim F'!I14*100,"-")) -> 2.2860435
A15: MA. Samf. | B15: =IF(OR('Tabel 5 Dim F'!B15<5,'Tabel 5 Dim Br'!B15<0.5),"-",IFERROR('Tabel 5 Dim Br'!B15/'Tabel 5 Dim F'!B15*100,"-")) -> 57.224549 | C15: =IF(OR('Tabel 5 Dim F'!C15<5,'Tabel 5 Dim Br'!C15<0.5),"-",IFERROR('Tabel 5 Dim Br'!C15/'Tabel 5 Dim F'!C15*100,"-")) -> 46.754263 | D15: =IF(OR('Tabel 5 Dim F'!D15<5,'Tabel 5 Dim Br'!D15<0.5),"-",IFERROR('Tabel 5 Dim Br'!D15/'Tabel 5 Dim F'!D15*100,"-")) -> 37.942173 | E15: =IF(OR('Tabel 5 Dim F'!E15<5,'Tabel 5 Dim Br'!E15<0.5),"-",IFERROR('Tabel 5 Dim Br'!E15/'Tabel 5 Dim F'!E15*100,"-")) -> 37.474789 | F15: =IF(OR('Tabel 5 Dim F'!F15<5,'Tabel 5 Dim Br'!F15<0.5),"-",IFERROR('Tabel 5 Dim Br'!F15/'Tabel 5 Dim F'!F15*100,"-")) -> 31.676915 | G15: =IF(OR('Tabel 5 Dim F'!G15<5,'Tabel 5 Dim Br'!G15<0.5),"-",IFERROR('Tabel 5 Dim Br'!G15/'Tabel 5 Dim F'!G15*100,"-")) -> 22.024091 | H15: =IF(OR('Tabel 5 Dim F'!H15<5,'Tabel 5 Dim Br'!H15<0.5),"-",IFERROR('Tabel 5 Dim Br'!H15/'Tabel 5 Dim F'!H15*100,"-")) -> 24.31984 | I15: =IF(OR('Tabel 5 Dim F'!I15<5,'Tabel 5 Dim Br'!I15<0.5),"-",IFERROR('Tabel 5 Dim Br'!I15/'Tabel 5 Dim F'!I15*100,"-")) -> 16.403143
A16: Øvrige Mag. | B16: =IF(OR('Tabel 5 Dim F'!B16<5,'Tabel 5 Dim Br'!B16<0.5),"-",IFERROR('Tabel 5 Dim Br'!B16/'Tabel 5 Dim F'!B16*100,"-")) -> 41.673262 | C16: =IF(OR('Tabel 5 Dim F'!C16<5,'Tabel 5 Dim Br'!C16<0.5),"-",IFERROR('Tabel 5 Dim Br'!C16/'Tabel 5 Dim F'!C16*100,"-")) -> 52.04401 | D16: =IF(OR('Tabel 5 Dim F'!D16<5,'Tabel 5 Dim Br'!D16<0.5),"-",IFERROR('Tabel 5 Dim Br'!D16/'Tabel 5 Dim F'!D16*100,"-")) -> 47.975577 | E16: =IF(OR('Tabel 5 Dim F'!E16<5,'Tabel 5 Dim Br'!E16<0.5),"-",IFERROR('Tabel 5 Dim Br'!E16/'Tabel 5 Dim F'!E16*100,"-")) -> 30.034351 | F16: =IF(OR('Tabel 5 Dim F'!F16<5,'Tabel 5 Dim Br'!F16<0.5),"-",IFERROR('Tabel 5 Dim Br'!F16/'Tabel 5 Dim F'!F16*100,"-")) -> 30.889429 | G16: =IF(OR('Tabel 5 Dim F'!G16<5,'Tabel 5 Dim Br'!G16<0.5),"-",IFERROR('Tabel 5 Dim Br'!G16/'Tabel 5 Dim F'!G16*100,"-")) -> 28.771544 | H16: =IF(OR('Tabel 5 Dim F'!H16<5,'Tabel 5 Dim Br'!H16<0.5),"-",IFERROR('Tabel 5 Dim Br'!H16/'Tabel 5 Dim F'!H16*100,"-")) -> 17.946333 | I16: =IF(OR('Tabel 5 Dim F'!I16<5,'Tabel 5 Dim Br'!I16<0.5),"-",IFERROR('Tabel 5 Dim Br'!I16/'Tabel 5 Dim F'!I16*100,"-")) -> 2.6853458
A17: Agronom | B17: =IF(OR('Tabel 5 Dim F'!B17<5,'Tabel 5 Dim Br'!B17<0.5),"-",IFERROR('Tabel 5 Dim Br'!B17/'Tabel 5 Dim F'!B17*100,"-")) -> 52.654345 | C17: =IF(OR('Tabel 5 Dim F'!C17<5,'Tabel 5 Dim Br'!C17<0.5),"-",IFERROR('Tabel 5 Dim Br'!C17/'Tabel 5 Dim F'!C17*100,"-")) -> 28.954692 | D17: =IF(OR('Tabel 5 Dim F'!D17<5,'Tabel 5 Dim Br'!D17<0.5),"-",IFERROR('Tabel 5 Dim Br'!D17/'Tabel 5 Dim F'!D17*100,"-")) -> 19.9963 | E17: =IF(OR('Tabel 5 Dim F'!E17<5,'Tabel 5 Dim Br'!E17<0.5),"-",IFERROR('Tabel 5 Dim Br'!E17/'Tabel 5 Dim F'!E17*100,"-")) -> 24.969333 | F17: =IF(OR('Tabel 5 Dim F'!F17<5,'Tabel 5 Dim Br'!F17<0.5),"-",IFERROR('Tabel 5 Dim Br'!F17/'Tabel 5 Dim F'!F17*100,"-")) -> 22.302958 | G17: =IF(OR('Tabel 5 Dim F'!G17<5,'Tabel 5 Dim Br'!G17<0.5),"-",IFERROR('Tabel 5 Dim Br'!G17/'Tabel 5 Dim F'!G17*100,"-")) -> 24.839375 | H17: =IF(OR('Tabel 5 Dim F'!H17<5,'Tabel 5 Dim Br'!H17<0.5),"-",IFERROR('Tabel 5 Dim Br'!H17/'Tabel 5 Dim F'!H17*100,"-")) -> 18.15 | I17: =IF(OR('Tabel 5 Dim F'!I17<5,'Tabel 5 Dim Br'!I17<0.5),"-",IFERROR('Tabel 5 Dim Br'!I17/'Tabel 5 Dim F'!I17*100,"-")) -> 11.92075
A18: Landsk. Arkt. | B18: =IF(OR('Tabel 5 Dim F'!B18<5,'Tabel 5 Dim Br'!B18<0.5),"-",IFERROR('Tabel 5 Dim Br'!B18/'Tabel 5 Dim F'!B18*100,"-")) -> 52.807778 | C18: =IF(OR('Tabel 5 Dim F'!C18<5,'Tabel 5 Dim Br'!C18<0.5),"-",IFERROR('Tabel 5 Dim Br'!C18/'Tabel 5 Dim F'!C18*100,"-")) -> 49.219857 | D18: =IF(OR('Tabel 5 Dim F'!D18<5,'Tabel 5 Dim Br'!D18<0.5),"-",IFERROR('Tabel 5 Dim Br'!D18/'Tabel 5 Dim F'!D18*100,"-")) -> 45.446 | E18: =IF(OR('Tabel 5 Dim F'!E18<5,'Tabel 5 Dim Br'!E18<0.5),"-",IFERROR('Tabel 5 Dim Br'!E18/'Tabel 5 Dim F'!E18*100,"-")) -> - | F18: =IF(OR('Tabel 5 Dim F'!F18<5,'Tabel 5 Dim Br'!F18<0.5),"-",IFERROR('Tabel 5 Dim Br'!F18/'Tabel 5 Dim F'!F18*100,"-")) -> 35.937273 | G18: =IF(OR('Tabel 5 Dim F'!G18<5,'Tabel 5 Dim Br'!G18<0.5),"-",IFERROR('Tabel 5 Dim Br'!G18/'Tabel 5 Dim F'!G18*100,"-")) -> 7.6908462 | H18: =IF(OR('Tabel 5 Dim F'!H18<5,'Tabel 5 Dim Br'!H18<0.5),"-",IFERROR('Tabel 5 Dim Br'!H18/'Tabel 5 Dim F'!H18*100,"-")) -> 8.4388 | I18: =IF(OR('Tabel 5 Dim F'!I18<5,'Tabel 5 Dim Br'!I18<0.5),"-",IFERROR('Tabel 5 Dim Br'!I18/'Tabel 5 Dim F'!I18*100,"-")) -> 21.1314
A19: Hortonom | B19: =IF(OR('Tabel 5 Dim F'!B19<5,'Tabel 5 Dim Br'!B19<0.5),"-",IFERROR('Tabel 5 Dim Br'!B19/'Tabel 5 Dim F'!B19*100,"-")) -> - | C19: =IF(OR('Tabel 5 Dim F'!C19<5,'Tabel 5 Dim Br'!C19<0.5),"-",IFERROR('Tabel 5 Dim Br'!C19/'Tabel 5 Dim F'!C19*100,"-")) -> - | D19: =IF(OR('Tabel 5 Dim F'!D19<5,'Tabel 5 Dim Br'!D19<0.5),"-",IFERROR('Tabel 5 Dim Br'!D19/'Tabel 5 Dim F'!D19*100,"-")) -> - | E19: =IF(OR('Tabel 5 Dim F'!E19<5,'Tabel 5 Dim Br'!E19<0.5),"-",IFERROR('Tabel 5 Dim Br'!E19/'Tabel 5 Dim F'!E19*100,"-")) -> - | F19: =IF(OR('Tabel 5 Dim F'!F19<5,'Tabel 5 Dim Br'!F19<0.5),"-",IFERROR('Tabel 5 Dim Br'!F19/'Tabel 5 Dim F'!F19*100,"-")) -> - | G19: =IF(OR('Tabel 5 Dim F'!G19<5,'Tabel 5 Dim Br'!G19<0.5),"-",IFERROR('Tabel 5 Dim Br'!G19/'Tabel 5 Dim F'!G19*100,"-")) -> - | H19: =IF(OR('Tabel 5 Dim F'!H19<5,'Tabel 5 Dim Br'!H19<0.5),"-",IFERROR('Tabel 5 Dim Br'!H19/'Tabel 5 Dim F'!H19*100,"-")) -> - | I19: =IF(OR('Tabel 5 Dim F'!I19<5,'Tabel 5 Dim Br'!I19<0.5),"-",IFERROR('Tabel 5 Dim Br'!I19/'Tabel 5 Dim F'!I19*100,"-")) -> -
A20: Forstkand. | B20: =IF(OR('Tabel 5 Dim F'!B20<5,'Tabel 5 Dim Br'!B20<0.5),"-",IFERROR('Tabel 5 Dim Br'!B20/'Tabel 5 Dim F'!B20*100,"-")) -> - | C20: =IF(OR('Tabel 5 Dim F'!C20<5,'Tabel 5 Dim Br'!C20<0.5),"-",IFERROR('Tabel 5 Dim Br'!C20/'Tabel 5 Dim F'!C20*100,"-")) -> 33.327167 | D20: =IF(OR('Tabel 5 Dim F'!D20<5,'Tabel 5 Dim Br'!D20<0.5),"-",IFERROR('Tabel 5 Dim Br'!D20/'Tabel 5 Dim F'!D20*100,"-")) -> - | E20: =IF(OR('Tabel 5 Dim F'!E20<5,'Tabel 5 Dim Br'!E20<0.5),"-",IFERROR('Tabel 5 Dim Br'!E20/'Tabel 5 Dim F'!E20*100,"-")) -> - | F20: =IF(OR('Tabel 5 Dim F'!F20<5,'Tabel 5 Dim Br'!F20<0.5),"-",IFERROR('Tabel 5 Dim Br'!F20/'Tabel 5 Dim F'!F20*100,"-")) -> - | G20: =IF(OR('Tabel 5 Dim F'!G20<5,'Tabel 5 Dim Br'!G20<0.5),"-",IFERROR('Tabel 5 Dim Br'!G20/'Tabel 5 Dim F'!G20*100,"-")) -> 19.9962 | H20: =IF(OR('Tabel 5 Dim F'!H20<5,'Tabel 5 Dim Br'!H20<0.5),"-",IFERROR('Tabel 5 Dim Br'!H20/'Tabel 5 Dim F'!H20*100,"-")) -> - | I20: =IF(OR('Tabel 5 Dim F'!I20<5,'Tabel 5 Dim Br'!I20<0.5),"-",IFERROR('Tabel 5 Dim Br'!I20/'Tabel 5 Dim F'!I20*100,"-")) -> -
... A52: DJØF'ere i alt | B52: =IF(OR('Tabel 5 Dim F'!B52<5,'Tabel 5 Dim Br'!B52<0.5),"-",IFERROR('Tabel 5 Dim Br'!B52/'Tabel 5 Dim F'!B52*100,"-")) -> 42.698752 | C52: =IF(OR('Tabel 5 Dim F'!C52<5,'Tabel 5 Dim Br'!C52<0.5),"-",IFERROR('Tabel 5 Dim Br'!C52/'Tabel 5 Dim F'!C52*100,"-")) -> 29.816182 | D52: =IF(OR('Tabel 5 Dim F'!D52<5,'Tabel 5 Dim Br'!D52<0.5),"-",IFERROR('Tabel 5 Dim Br'!D52/'Tabel 5 Dim F'!D52*100,"-")) -> 27.106866 | E52: =IF(OR('Tabel 5 Dim F'!E52<5,'Tabel 5 Dim Br'!E52<0.5),"-",IFERROR('Tabel 5 Dim Br'!E52/'Tabel 5 Dim F'!E52*100,"-")) -> 19.054976 | F52: =IF(OR('Tabel 5 Dim F'!F52<5,'Tabel 5 Dim Br'!F52<0.5),"-",IFERROR('Tabel 5 Dim Br'!F52/'Tabel 5 Dim F'!F52*100,"-")) -> 18.317637 | G52: =IF(OR('Tabel 5 Dim F'!G52<5,'Tabel 5 Dim Br'!G52<0.5),"-",IFERROR('Tabel 5 Dim Br'!G52/'Tabel 5 Dim F'!G52*100,"-")) -> 9.2866055 | H52: =IF(OR('Tabel 5 Dim F'!H52<5,'Tabel 5 Dim Br'!H52<0.5),"-",IFERROR('Tabel 5 Dim Br'!H52/'Tabel 5 Dim F'!H52*100,"-")) -> 13.851386 | I52: =IF(OR('Tabel 5 Dim F'!I52<5,'Tabel 5 Dim Br'!I52<0.5),"-",IFERROR('Tabel 5 Dim Br'!I52/'Tabel 5 Dim F'!I52*100,"-")) -> 10.398492
A53: Se sidste del af statistikken for en oversigt over uddannelsesgrupperingernes indhold

Sheet Tabel A F
A3: Tabel A1: Forsikrede medlemmer fordelt på regioner
B6: Nord- | C6: Vest- | D6: Øst- | E6: Syd- | F6: Fyn | G6: Sjælland | H6: Hoved- | I6: Bornholm | K6: Hele
B7: Jylland | C7: Jylland | D7: Jylland | E7: Jylland | H7: staden | K7: Landet
A9: Civ. Ing. | B9: 3950 | C9: 880 | D9: 4124 | E9: 1994 | F9: 1461 | G9: 2237 | H9: 17668 | I9: 33 | K9: 32683
A10: Diplom Ing. | B10: 1462 | C10: 1701 | D10: 6893 | E10: 4206 | F10: 3144 | G10: 3849 | H10: 12501 | I10: 62 | K10: 34059
A11: Cand.Scient.Tech. | B11: 1511 | C11: 378 | D11: 2927 | E11: 920 | F11: 1273 | G11: 1165 | H11: 10536 | I11: 29 | K11: 19040
A12: MA. Hum. | B12: 3040 | C12: 1182 | D12: 8270 | E12: 2351 | F12: 3331 | G12: 3019 | H12: 20150 | I12: 118 | K12: 41856
A13: MA. Nat. | B13: 697 | C13: 437 | D13: 2926 | E13: 742 | F13: 1186 | G13: 1440 | H13: 7194 | I13: 48 | K13: 14867
A14: MA. Ph.d. | B14: 92 | C14: 39 | D14: 584 | E14: 75 | F14: 158 | G14: 140 | H14: 1280 | I14: 5 | K14: 2498
A15: MA. Samf. | B15: 341 | C15: 80 | D15: 735 | E15: 133 | F15: 191 | G15: 386 | H15: 3342 | I15: 15 | K15: 5282
A16: Øvrige Mag. | B16: 228 | C16: 106 | D16: 638 | E16: 223 | F16: 248 | G16: 256 | H16: 1742 | I16: 17 | K16: 3550
A17: Agronom | B17: 130 | C17: 225 | D17: 340 | E17: 224 | F17: 150 | G17: 460 | H17: 813 | I17: 11 | K17: 2366
A18: Landsk. Arkt. | B18: 14 | C18: 9 | D18: 39 | E18: 30 | F18: 30 | G18: 98 | H18: 480 | I18: 3 | K18: 706
A19: Hortonom | B19: 3 | C19: 9 | D19: 28 | E19: 17 | F19: 38 | G19: 59 | H19: 152 | I19: 2 | K19: 313
A20: Forstkand. | B20: 24 | C20: 24 | D20: 50 | E20: 39 | F20: 26 | G20: 81 | H20: 257 | I20: 1 | K20: 512
... A46: Andre | B46: 1178 | C46: 619 | D46: 3087 | E46: 1361 | F46: 1299 | G46: 1756 | H46: 13555 | I46: 97 | K46: 23518
A48: Total | B48: =SUM(B9:B46)-SUM(B17:B20) -> 23484 | C48: =SUM(C9:C46)-SUM(C17:C20) -> 10822 | D48: =SUM(D9:D46)-SUM(D17:D20) -> 60683 | E48: =SUM(E9:E46)-SUM(E17:E20) -> 22646 | F48: =SUM(F9:F46)-SUM(F17:F20) -> 22928 | G48: =SUM(G9:G46)-SUM(G17:G20) -> 27911 | H48: =SUM(H9:H46)-SUM(H17:H20) -> 182903 | I48: =SUM(I9:I46)-SUM(I17:I20) -> 790 | K48: =SUM(K9:K46)-SUM(K17:K20) -> 356327
A50: Ingeniører i alt | B50: 5412 | C50: 2581 | D50: 11017 | E50: 6200 | F50: 4605 | G50: 6086 | H50: 30169 | I50: 95 | J50: 66742 | K50: 66742
A51: Magistre i alt | B51: 4398 | C51: 1844 | D51: 13153 | E51: 3524 | F51: 5114 | G51: 5241 | H51: 33708 | I51: 203 | J51: 68053 | K51: 68053
A52: DJØF'ere i alt | B52: 5151 | C52: 2288 | D52: 15007 | E52: 5098 | F52: 4964 | G52: 6421 | H52: 55919 | I52: 134 | J52: 96083 | K52: 96083
A53: Se sidste del af statistikken for en oversigt over uddannelsesgrupperingernes indhold

Sheet Tabel A Be
A3: Tabel A1: Antal bruttoledige målt i berørte medlemmer fordelt på regioner
B6: Nord- | C6: Vest- | D6: Øst- | E6: Syd- | F6: Fyn | G6: Sjælland | H6: Hoved- | I6: Bornholm | K6: Hele
B7: Jylland | C7: Jylland | D7: Jylland | E7: Jylland | H7: staden | K7: Landet
A9: Civ. Ing. | B9: 238 | C9: 27 | D9: 175 | E9: 92 | F9: 130 | G9: 55 | H9: 714 | I9: 4 | K9: 1436
A10: Diplom Ing. | B10: 62 | C10: 52 | D10: 284 | E10: 133 | F10: 124 | G10: 113 | H10: 524 | I10: 4 | K10: 1296
A11: Cand.Scient.Tech. | B11: 243 | C11: 33 | D11: 354 | E11: 78 | F11: 167 | G11: 82 | H11: 995 | I11: 3 | K11: 1955
A12: MA. Hum. | B12: 412 | C12: 120 | D12: 1281 | E12: 226 | F12: 469 | G12: 264 | H12: 2301 | I12: 17 | K12: 5098
A13: MA. Nat. | B13: 31 | C13: 11 | D13: 172 | E13: 24 | F13: 85 | G13: 47 | H13: 331 | I13: 3 | K13: 708
A14: MA. Ph.d. | B14: 3 | C14: 2 | D14: 36 | E14: 6 | F14: 7 | G14: 8 | H14: 65 | I14: 1 | K14: 128
A15: MA. Samf. | B15: 77 | C15: 13 | D15: 157 | E15: 23 | F15: 34 | G15: 51 | H15: 462 | I15: 4 | K15: 822
A16: Øvrige Mag. | B16: 17 | C16: 7 | D16: 72 | E16: 14 | F16: 14 | G16: 14 | H16: 186 | I16: 5 | K16: 333
A17: Agronom | B17: 2 | C17: 4 | D17: 12 | E17: 4 | F17: 4 | G17: 15 | H17: 48 | I17: 0 | K17: 89
A18: Landsk. Arkt. | B18: 1 | C18: 1 | D18: 2 | E18: 1 | F18: 0 | G18: 4 | H18: 36 | I18: 0 | K18: 45
A19: Hortonom | B19: 1 | C19: 0 | D19: 1 | E19: 1 | F19: 2 | G19: 1 | H19: 3 | I19: 0 | K19: 9
A20: Forstkand. | B20: 1 | C20: 0 | D20: 1 | E20: 2 | F20: 3 | G20: 2 | H20: 13 | I20: 0 | K20: 22
... A40: Komm. og Sprog | B40: 55 | C40: 20 | D40: 146 | E40: 33 | F40: 55 | G40: 57 | H40: 387 | I40: 1 | K40: 755
A41: Bygningskonst. | B41: 40 | C41: 21 | D41: 141 | E41: 30 | F41: 61 | G41: 38 | H41: 153 | I41: 1
A42: Cand. IT. | B42: 98 | C42: 7 | D42: 119 | E42: 34 | F42: 42 | G42: 8 | H42: 225 | I42: 0 | K42: 485
A43: Bac. Samf. | B43: 5 | C43: 1 | D43: 28 | E43: 14 | F43: 13 | G43: 10 | H43: 63 | I43: 0 | K43: 533
A44: Bac. Hum. | B44: 68 | C44: 17 | D44: 142 | E44: 21 | F44: 63 | G44: 31 | H44: 270 | I44: 1 | K44: 134
A45: Bac. Nat. | B45: 43 | C45: 5 | D45: 100 | E45: 18 | F45: 26 | G45: 16 | H45: 177 | I45: 2 | K45: 614
A46: Andre | B46: 111 | C46: 35 | D46: 275 | E46: 87 | F46: 125 | G46: 137 | H46: 1316 | I46: 5 | K46: 388
A48: Total | B48: =SUM(B9:B46)-SUM(B17:B20) -> 2133 | C48: =SUM(C9:C46)-SUM(C17:C20) -> 550 | D48: =SUM(D9:D46)-SUM(D17:D20) -> 5071 | E48: =SUM(E9:E46)-SUM(E17:E20) -> 1205 | F48: =SUM(F9:F46)-SUM(F17:F20) -> 1991 | G48: =SUM(G9:G46)-SUM(G17:G20) -> 1382 | H48: =SUM(H9:H46)-SUM(H17:H20) -> 12767 | I48: =SUM(I9:I46)-SUM(I17:I20) -> 63 | K48: =SUM(K9:K46)-SUM(K17:K20) -> 23111
A50: Ingeniører i alt | B50: 300 | C50: 79 | D50: 459 | E50: 225 | F50: 254 | G50: 168 | H50: 1238 | I50: 8 | K50: 2732
A51: Magistre i alt | B51: 540 | C51: 153 | D51: 1718 | E51: 293 | F51: 609 | G51: 384 | H51: 3345 | I51: 30 | K51: 7089
A52: DJØF'ere i alt | B52: 445 | C52: 126 | D52: 1049 | E52: 266 | F52: 422 | G52: 303 | H52: 3185 | I52: 5 | K52: 5814
A53: Se sidste del af statistikken for en oversigt over uddannelsesgrupperingernes indhold

Sheet Tabel A Br
A3: Tabel A2: Antal bruttoledige målt i fuldtidspersoner fordelt på regioner
B6: Nord- | C6: Vest- | D6: Øst- | E6: Syd- | F6: Fyn | G6: Sjælland | H6: Hoved- | I6: Bornholm | K6: Hele
B7: Jylland | C7: Jylland | D7: Jylland | E7: Jylland | H7: staden | K7: Landet
A9: Civ. Ing. | B9: 216.75794 | C9: 25.17121 | D9: 159.03761 | E9: 80.26944 | F9: 122.05015 | G9: 48.82118 | H9: 644.51818 | I9: 3.99925 | K9: 1301.6248
A10: Diplom Ing. | B10: 56.33007 | C10: 46.13984 | D10: 258.08146 | E10: 118.57357 | F10: 112.66825 | G10: 103.91256 | H10: 478.87108 | I10: 3.99925 | K10: 1178.5761
A11: Cand.Scient.Tech. | B11: 222.48737 | C11: 26.56833 | D11: 322.9801 | E11: 71.60482 | F11: 145.54357 | G11: 73.97742 | H11: 861.81126 | I11: 2.99944 | K11: 1727.9723
A12: MA. Hum. | B12: 359.33076 | C12: 99.80914 | D12: 1129.0195 | E12: 198.41951 | F12: 419.00393 | G12: 230.34803 | H12: 2008.5224 | I12: 15.92403 | K12: 4465.3209
A13: MA. Nat. | B13: 25.52797 | C13: 10.42288 | D13: 152.41003 | E13: 19.52598 | F13: 74.0373 | G13: 41.29795 | H13: 281.9778 | I13: 2.58155 | K13: 610.21144
A14: MA. Ph.d. | B14: 2.75619 | C14: 1.08027 | D14: 32.94954 | E14: 5.2105 | F14: 6.35627 | G14: 7.85255 | H14: 55.78869 | I14: 0.93682 | K14: 112.93083
A15: MA. Samf. | B15: 69.87339 | C15: 12.21418 | D15: 139.89272 | E15: 20.85075 | F15: 29.31204 | G15: 47.19454 | H15: 412.10753 | I15: 3.99925 | K15: 735.98266
A16: Øvrige Mag. | B16: 14.57244 | C16: 5.62964 | D16: 63.25267 | E16: 12.45743 | F16: 12.93707 | G16: 11.46573 | H16: 169.31703 | I16: 4.89989 | K16: 297.01304
A17: Agronom | B17: 1.41209 | C17: 3.36743 | D17: 11.07902 | E17: 3.81338 | F17: 3.66245 | G17: 12.84601 | H17: 42.05514 | I17: 0 | K17: 78.23551
A18: Landsk. Arkt. | B18: 0.99981 | C18: 0.9206 | D18: 1.52498 | E18: 0.62558 | F18: 0 | G18: 3.99925 | H18: 31.91667 | I18: 0 | K18: 39.9869
A19: Hortonom | B19: 0.99981 | C19: 0 | D19: 0.63182 | E19: 0.86135 | F19: 1.99963 | G19: 0.85012 | H19: 2.90713 | I19: 0 | K19: 8.24986
A20: Forstkand. | B20: 0.89503 | C20: 0 | D20: 0.99981 | E20: 1.99963 | F20: 2.99944 | G20: 1.99963 | H20: 12.17926 | I20: 0 | K20: 21.07279
... A46: Andre | B46: 102.61897 | C46: 29.96195 | D46: 247.47708 | E46: 75.26352 | F46: 109.39313 | G46: 120.48712 | H46: 1140.5944 | I46: 4.45581 | K46: 1831.2212
A48: Total | B48: =SUM(B9:B46)-SUM(B17:B20) -> 1908.6154 | C48: =SUM(C9:C46)-SUM(C17:C20) -> 471.40834 | D48: =SUM(D9:D46)-SUM(D17:D20) -> 4526.632 | E48: =SUM(E9:E46)-SUM(E17:E20) -> 1064.9916 | F48: =SUM(F9:F46)-SUM(F17:F20) -> 1777.95 | G48: =SUM(G9:G46)-SUM(G17:G20) -> 1223.4915 | H48: =SUM(H9:H46)-SUM(H17:H20) -> 11206.779 | I48: =SUM(I9:I46)-SUM(I17:I20) -> 58.02736 | K48: =SUM(K9:K46)-SUM(K17:K20) -> 22266.748
A50: Ingeniører i alt | B50: 273.08801 | C50: 71.31105 | D50: 417.11907 | E50: 198.84301 | F50: 234.71839 | G50: 152.73374 | H50: 1123.3893 | I50: 7.9985 | K50: 2480.2008
A51: Magistre i alt | B51: 472.06075 | C51: 129.15612 | D51: 1517.5245 | E51: 256.46417 | F51: 541.6466 | G51: 338.1588 | H51: 2927.7135 | I51: 28.34155 | K51: 6221.4589
A52: DJØF'ere i alt | B52: 404.16454 | C52: 111.21125 | D52: 942.57219 | E52: 235.56165 | F52: 380.06237 | G52: 269.11433 | H52: 2812.8841 | I52: 4.9554 | K52: 5168.8973
A53: Se sidste del af statistikken for en oversigt over uddannelsesgrupperingernes indhold

Sheet Tabel A p (Be)
A3: Tabel B1: Bruttoledighedsprocenten målt i ledighedsberørte fordelt på regioner
B6: Nord- | C6: Vest- | D6: Øst- | E6: Syd- | F6: Fyn | G6: Sjælland | H6: Hoved- | I6: Bornholm | K6: Hele
B7: Jylland | C7: Jylland | D7: Jylland | E7: Jylland | H7: staden | K7: Landet
A9: Civ. Ing. | B9: =IF(OR('Tabel A F'!B9<5,'Tabel A Be'!B9<0.5),"-",IFERROR('Tabel A Be'!B9/'Tabel A F'!B9*100,"-")) -> 6.0253165 | C9: =IF(OR('Tabel A F'!C9<5,'Tabel A Be'!C9<0.5),"-",IFERROR('Tabel A Be'!C9/'Tabel A F'!C9*100,"-")) -> 3.0681818 | D9: =IF(OR('Tabel A F'!D9<5,'Tabel A Be'!D9<0.5),"-",IFERROR('Tabel A Be'!D9/'Tabel A F'!D9*100,"-")) -> 4.243453 | E9: =IF(OR('Tabel A F'!E9<5,'Tabel A Be'!E9<0.5),"-",IFERROR('Tabel A Be'!E9/'Tabel A F'!E9*100,"-")) -> 4.6138415 | F9: =IF(OR('Tabel A F'!F9<5,'Tabel A Be'!F9<0.5),"-",IFERROR('Tabel A Be'!F9/'Tabel A F'!F9*100,"-")) -> 8.8980151 | G9: =IF(OR('Tabel A F'!G9<5,'Tabel A Be'!G9<0.5),"-",IFERROR('Tabel A Be'!G9/'Tabel A F'!G9*100,"-")) -> 2.45865 | H9: =IF(OR('Tabel A F'!H9<5,'Tabel A Be'!H9<0.5),"-",IFERROR('Tabel A Be'!H9/'Tabel A F'!H9*100,"-")) -> 4.0412044 | I9: =IF(OR('Tabel A F'!I9<5,'Tabel A Be'!I9<0.5),"-",IFERROR('Tabel A Be'!I9/'Tabel A F'!I9*100,"-")) -> 12.121212 | K9: =IF(OR('Tabel A F'!K9<5,'Tabel A Be'!K9<0.5),"-",IFERROR('Tabel A Be'!K9/'Tabel A F'!K9*100,"-")) -> 4.3937215
A10: Diplom Ing. | B10: =IF(OR('Tabel A F'!B10<5,'Tabel A Be'!B10<0.5),"-",IFERROR('Tabel A Be'!B10/'Tabel A F'!B10*100,"-")) -> 4.2407661 | C10: =IF(OR('Tabel A F'!C10<5,'Tabel A Be'!C10<0.5),"-",IFERROR('Tabel A Be'!C10/'Tabel A F'!C10*100,"-")) -> 3.0570253 | D10: =IF(OR('Tabel A F'!D10<5,'Tabel A Be'!D10<0.5),"-",IFERROR('Tabel A Be'!D10/'Tabel A F'!D10*100,"-")) -> 4.1201219 | E10: =IF(OR('Tabel A F'!E10<5,'Tabel A Be'!E10<0.5),"-",IFERROR('Tabel A Be'!E10/'Tabel A F'!E10*100,"-")) -> 3.1621493 | F10: =IF(OR('Tabel A F'!F10<5,'Tabel A Be'!F10<0.5),"-",IFERROR('Tabel A Be'!F10/'Tabel A F'!F10*100,"-")) -> 3.9440204 | G10: =IF(OR('Tabel A F'!G10<5,'Tabel A Be'!G10<0.5),"-",IFERROR('Tabel A Be'!G10/'Tabel A F'!G10*100,"-")) -> 2.9358275 | H10: =IF(OR('Tabel A F'!H10<5,'Tabel A Be'!H10<0.5),"-",IFERROR('Tabel A Be'!H10/'Tabel A F'!H10*100,"-")) -> 4.1916647 | I10: =IF(OR('Tabel A F'!I10<5,'Tabel A Be'!I10<0.5),"-",IFERROR('Tabel A Be'!I10/'Tabel A F'!I10*100,"-")) -> 6.4516129 | K10: =IF(OR('Tabel A F'!K10<5,'Tabel A Be'!K10<0.5),"-",IFERROR('Tabel A Be'!K10/'Tabel A F'!K10*100,"-")) -> 3.8051616
A11: Cand.Scient.Tech. | B11: =IF(OR('Tabel A F'!B11<5,'Tabel A Be'!B11<0.5),"-",IFERROR('Tabel A Be'!B11/'Tabel A F'!B11*100,"-")) -> 16.082065 | C11: =IF(OR('Tabel A F'!C11<5,'Tabel A Be'!C11<0.5),"-",IFERROR('Tabel A Be'!C11/'Tabel A F'!C11*100,"-")) -> 8.7301587 | D11: =IF(OR('Tabel A F'!D11<5,'Tabel A Be'!D11<0.5),"-",IFERROR('Tabel A Be'!D11/'Tabel A F'!D11*100,"-")) -> 12.094294 | E11: =IF(OR('Tabel A F'!E11<5,'Tabel A Be'!E11<0.5),"-",IFERROR('Tabel A Be'!E11/'Tabel A F'!E11*100,"-")) -> 8.4782609 | F11: =IF(OR('Tabel A F'!F11<5,'Tabel A Be'!F11<0.5),"-",IFERROR('Tabel A Be'!F11/'Tabel A F'!F11*100,"-")) -> 13.118617 | G11: =IF(OR('Tabel A F'!G11<5,'Tabel A Be'!G11<0.5),"-",IFERROR('Tabel A Be'!G11/'Tabel A F'!G11*100,"-")) -> 7.0386266 | H11: =IF(OR('Tabel A F'!H11<5,'Tabel A Be'!H11<0.5),"-",IFERROR('Tabel A Be'!H11/'Tabel A F'!H11*100,"-")) -> 9.4438117 | I11: =IF(OR('Tabel A F'!I11<5,'Tabel A Be'!I11<0.5),"-",IFERROR('Tabel A Be'!I11/'Tabel A F'!I11*100,"-")) -> 10.344828 | K11: =IF(OR('Tabel A F'!K11<5,'Tabel A Be'!K11<0.5),"-",IFERROR('Tabel A Be'!K11/'Tabel A F'!K11*100,"-")) -> 10.267857
A12: MA. Hum. | B12: =IF(OR('Tabel A F'!B12<5,'Tabel A Be'!B12<0.5),"-",IFERROR('Tabel A Be'!B12/'Tabel A F'!B12*100,"-")) -> 13.552632 | C12: =IF(OR('Tabel A F'!C12<5,'Tabel A Be'!C12<0.5),"-",IFERROR('Tabel A Be'!C12/'Tabel A F'!C12*100,"-")) -> 10.152284 | D12: =IF(OR('Tabel A F'!D12<5,'Tabel A Be'!D12<0.5),"-",IFERROR('Tabel A Be'!D12/'Tabel A F'!D12*100,"-")) -> 15.489722 | E12: =IF(OR('Tabel A F'!E12<5,'Tabel A Be'!E12<0.5),"-",IFERROR('Tabel A Be'!E12/'Tabel A F'!E12*100,"-")) -> 9.6129307 | F12: =IF(OR('Tabel A F'!F12<5,'Tabel A Be'!F12<0.5),"-",IFERROR('Tabel A Be'!F12/'Tabel A F'!F12*100,"-")) -> 14.079856 | G12: =IF(OR('Tabel A F'!G12<5,'Tabel A Be'!G12<0.5),"-",IFERROR('Tabel A Be'!G12/'Tabel A F'!G12*100,"-")) -> 8.7446174 | H12: =IF(OR('Tabel A F'!H12<5,'Tabel A Be'!H12<0.5),"-",IFERROR('Tabel A Be'!H12/'Tabel A F'!H12*100,"-")) -> 11.419355 | I12: =IF(OR('Tabel A F'!I12<5,'Tabel A Be'!I12<0.5),"-",IFERROR('Tabel A Be'!I12/'Tabel A F'!I12*100,"-")) -> 14.40678 | K12: =IF(OR('Tabel A F'!K12<5,'Tabel A Be'!K12<0.5),"-",IFERROR('Tabel A Be'!K12/'Tabel A F'!K12*100,"-")) -> 12.179855
A13: MA. Nat. | B13: =IF(OR('Tabel A F'!B13<5,'Tabel A Be'!B13<0.5),"-",IFERROR('Tabel A Be'!B13/'Tabel A F'!B13*100,"-")) -> 4.4476327 | C13: =IF(OR('Tabel A F'!C13<5,'Tabel A Be'!C13<0.5),"-",IFERROR('Tabel A Be'!C13/'Tabel A F'!C13*100,"-")) -> 2.5171625 | D13: =IF(OR('Tabel A F'!D13<5,'Tabel A Be'!D13<0.5),"-",IFERROR('Tabel A Be'!D13/'Tabel A F'!D13*100,"-")) -> 5.8783322 | E13: =IF(OR('Tabel A F'!E13<5,'Tabel A Be'!E13<0.5),"-",IFERROR('Tabel A Be'!E13/'Tabel A F'!E13*100,"-")) -> 3.2345013 | F13: =IF(OR('Tabel A F'!F13<5,'Tabel A Be'!F13<0.5),"-",IFERROR('Tabel A Be'!F13/'Tabel A F'!F13*100,"-")) -> 7.1669477 | G13: =IF(OR('Tabel A F'!G13<5,'Tabel A Be'!G13<0.5),"-",IFERROR('Tabel A Be'!G13/'Tabel A F'!G13*100,"-")) -> 3.2638889 | H13: =IF(OR('Tabel A F'!H13<5,'Tabel A Be'!H13<0.5),"-",IFERROR('Tabel A Be'!H13/'Tabel A F'!H13*100,"-")) -> 4.6010564 | I13: =IF(OR('Tabel A F'!I13<5,'Tabel A Be'!I13<0.5),"-",IFERROR('Tabel A Be'!I13/'Tabel A F'!I13*100,"-")) -> 6.25 | K13: =IF(OR('Tabel A F'!K13<5,'Tabel A Be'!K13<0.5),"-",IFERROR('Tabel A Be'!K13/'Tabel A F'!K13*100,"-")) -> 4.7622251
A14: MA. Ph.d. | B14: =IF(OR('Tabel A F'!B14<5,'Tabel A Be'!B14<0.5),"-",IFERROR('Tabel A Be'!B14/'Tabel A F'!B14*100,"-")) -> 3.2608696 | C14: =IF(OR('Tabel A F'!C14<5,'Tabel A Be'!C14<0.5),"-",IFERROR('Tabel A Be'!C14/'Tabel A F'!C14*100,"-")) -> 5.1282051 | D14: =IF(OR('Tabel A F'!D14<5,'Tabel A Be'!D14<0.5),"-",IFERROR('Tabel A Be'!D14/'Tabel A F'!D14*100,"-")) -> 6.1643836 | E14: =IF(OR('Tabel A F'!E14<5,'Tabel A Be'!E14<0.5),"-",IFERROR('Tabel A Be'!E14/'Tabel A F'!E14*100,"-")) -> 8 | F14: =IF(OR('Tabel A F'!F14<5,'Tabel A Be'!F14<0.5),"-",IFERROR('Tabel A Be'!F14/'Tabel A F'!F14*100,"-")) -> 4.4303797 | G14: =IF(OR('Tabel A F'!G14<5,'Tabel A Be'!G14<0.5),"-",IFERROR('Tabel A Be'!G14/'Tabel A F'!G14*100,"-")) -> 5.7142857 | H14: =IF(OR('Tabel A F'!H14<5,'Tabel A Be'!H14<0.5),"-",IFERROR('Tabel A Be'!H14/'Tabel A F'!H14*100,"-")) -> 5.078125 | I14: =IF(OR('Tabel A F'!I14<5,'Tabel A Be'!I14<0.5),"-",IFERROR('Tabel A Be'!I14/'Tabel A F'!I14*100,"-")) -> 20 | K14: =IF(OR('Tabel A F'!K14<5,'Tabel A Be'!K14<0.5),"-",IFERROR('Tabel A Be'!K14/'Tabel A F'!K14*100,"-")) -> 5.1240993
A15: MA. Samf. | B15: =IF(OR('Tabel A F'!B15<5,'Tabel A Be'!B15<0.5),"-",IFERROR('Tabel A Be'!B15/'Tabel A F'!B15*100,"-")) -> 22.580645 | C15: =IF(OR('Tabel A F'!C15<5,'Tabel A Be'!C15<0.5),"-",IFERROR('Tabel A Be'!C15/'Tabel A F'!C15*100,"-")) -> 16.25 | D15: =IF(OR('Tabel A F'!D15<5,'Tabel A Be'!D15<0.5),"-",IFERROR('Tabel A Be'!D15/'Tabel A F'!D15*100,"-")) -> 21.360544 | E15: =IF(OR('Tabel A F'!E15<5,'Tabel A Be'!E15<0.5),"-",IFERROR('Tabel A Be'!E15/'Tabel A F'!E15*100,"-")) -> 17.293233 | F15: =IF(OR('Tabel A F'!F15<5,'Tabel A Be'!F15<0.5),"-",IFERROR('Tabel A Be'!F15/'Tabel A F'!F15*100,"-")) -> 17.801047 | G15: =IF(OR('Tabel A F'!G15<5,'Tabel A Be'!G15<0.5),"-",IFERROR('Tabel A Be'!G15/'Tabel A F'!G15*100,"-")) -> 13.212435 | H15: =IF(OR('Tabel A F'!H15<5,'Tabel A Be'!H15<0.5),"-",IFERROR('Tabel A Be'!H15/'Tabel A F'!H15*100,"-")) -> 13.824057 | I15: =IF(OR('Tabel A F'!I15<5,'Tabel A Be'!I15<0.5),"-",IFERROR('Tabel A Be'!I15/'Tabel A F'!I15*100,"-")) -> 26.666667 | K15: =IF(OR('Tabel A F'!K15<5,'Tabel A Be'!K15<0.5),"-",IFERROR('Tabel A Be'!K15/'Tabel A F'!K15*100,"-")) -> 15.562287
A16: Øvrige Mag. | B16: =IF(OR('Tabel A F'!B16<5,'Tabel A Be'!B16<0.5),"-",IFERROR('Tabel A Be'!B16/'Tabel A F'!B16*100,"-")) -> 7.4561404 | C16: =IF(OR('Tabel A F'!C16<5,'Tabel A Be'!C16<0.5),"-",IFERROR('Tabel A Be'!C16/'Tabel A F'!C16*100,"-")) -> 6.6037736 | D16: =IF(OR('Tabel A F'!D16<5,'Tabel A Be'!D16<0.5),"-",IFERROR('Tabel A Be'!D16/'Tabel A F'!D16*100,"-")) -> 11.285266 | E16: =IF(OR('Tabel A F'!E16<5,'Tabel A Be'!E16<0.5),"-",IFERROR('Tabel A Be'!E16/'Tabel A F'!E16*100,"-")) -> 6.2780269 | F16: =IF(OR('Tabel A F'!F16<5,'Tabel A Be'!F16<0.5),"-",IFERROR('Tabel A Be'!F16/'Tabel A F'!F16*100,"-")) -> 5.6451613 | G16: =IF(OR('Tabel A F'!G16<5,'Tabel A Be'!G16<0.5),"-",IFERROR('Tabel A Be'!G16/'Tabel A F'!G16*100,"-")) -> 5.46875 | H16: =IF(OR('Tabel A F'!H16<5,'Tabel A Be'!H16<0.5),"-",IFERROR('Tabel A Be'!H16/'Tabel A F'!H16*100,"-")) -> 10.677382 | I16: =IF(OR('Tabel A F'!I16<5,'Tabel A Be'!I16<0.5),"-",IFERROR('Tabel A Be'!I16/'Tabel A F'!I16*100,"-")) -> 29.411765 | K16: =IF(OR('Tabel A F'!K16<5,'Tabel A Be'!K16<0.5),"-",IFERROR('Tabel A Be'!K16/'Tabel A F'!K16*100,"-")) -> 9.3802817
A17: Agronom | B17: =IF(OR('Tabel A F'!B17<5,'Tabel A Be'!B17<0.5),"-",IFERROR('Tabel A Be'!B17/'Tabel A F'!B17*100,"-")) -> 1.5384615 | C17: =IF(OR('Tabel A F'!C17<5,'Tabel A Be'!C17<0.5),"-",IFERROR('Tabel A Be'!C17/'Tabel A F'!C17*100,"-")) -> 1.7777778 | D17: =IF(OR('Tabel A F'!D17<5,'Tabel A Be'!D17<0.5),"-",IFERROR('Tabel A Be'!D17/'Tabel A F'!D17*100,"-")) -> 3.5294118 | E17: =IF(OR('Tabel A F'!E17<5,'Tabel A Be'!E17<0.5),"-",IFERROR('Tabel A Be'!E17/'Tabel A F'!E17*100,"-")) -> 1.7857143 | F17: =IF(OR('Tabel A F'!F17<5,'Tabel A Be'!F17<0.5),"-",IFERROR('Tabel A Be'!F17/'Tabel A F'!F17*100,"-")) -> 2.6666667 | G17: =IF(OR('Tabel A F'!G17<5,'Tabel A Be'!G17<0.5),"-",IFERROR('Tabel A Be'!G17/'Tabel A F'!G17*100,"-")) -> 3.2608696 | H17: =IF(OR('Tabel A F'!H17<5,'Tabel A Be'!H17<0.5),"-",IFERROR('Tabel A Be'!H17/'Tabel A F'!H17*100,"-")) -> 5.904059 | I17: =IF(OR('Tabel A F'!I17<5,'Tabel A Be'!I17<0.5),"-",IFERROR('Tabel A Be'!I17/'Tabel A F'!I17*100,"-")) -> - | K17: =IF(OR('Tabel A F'!K17<5,'Tabel A Be'!K17<0.5),"-",IFERROR('Tabel A Be'!K17/'Tabel A F'!K17*100,"-")) -> 3.761623
A18: Landsk. Arkt. | B18: =IF(OR('Tabel A F'!B18<5,'Tabel A Be'!B18<0.5),"-",IFERROR('Tabel A Be'!B18/'Tabel A F'!B18*100,"-")) -> 7.1428571 | C18: =IF(OR('Tabel A F'!C18<5,'Tabel A Be'!C18<0.5),"-",IFERROR('Tabel A Be'!C18/'Tabel A F'!C18*100,"-")) -> 11.111111 | D18: =IF(OR('Tabel A F'!D18<5,'Tabel A Be'!D18<0.5),"-",IFERROR('Tabel A Be'!D18/'Tabel A F'!D18*100,"-")) -> 5.1282051 | E18: =IF(OR('Tabel A F'!E18<5,'Tabel A Be'!E18<0.5),"-",IFERROR('Tabel A Be'!E18/'Tabel A F'!E18*100,"-")) -> 3.3333333 | F18: =IF(OR('Tabel A F'!F18<5,'Tabel A Be'!F18<0.5),"-",IFERROR('Tabel A Be'!F18/'Tabel A F'!F18*100,"-")) -> - | G18: =IF(OR('Tabel A F'!G18<5,'Tabel A Be'!G18<0.5),"-",IFERROR('Tabel A Be'!G18/'Tabel A F'!G18*100,"-")) -> 4.0816327 | H18: =IF(OR('Tabel A F'!H18<5,'Tabel A Be'!H18<0.5),"-",IFERROR('Tabel A Be'!H18/'Tabel A F'!H18*100,"-")) -> 7.5 | I18: =IF(OR('Tabel A F'!I18<5,'Tabel A Be'!I18<0.5),"-",IFERROR('Tabel A Be'!I18/'Tabel A F'!I18*100,"-")) -> - | K18: =IF(OR('Tabel A F'!K18<5,'Tabel A Be'!K18<0.5),"-",IFERROR('Tabel A Be'!K18/'Tabel A F'!K18*100,"-")) -> 6.3739377
A19: Hortonom | B19: =IF(OR('Tabel A F'!B19<5,'Tabel A Be'!B19<0.5),"-",IFERROR('Tabel A Be'!B19/'Tabel A F'!B19*100,"-")) -> - | C19: =IF(OR('Tabel A F'!C19<5,'Tabel A Be'!C19<0.5),"-",IFERROR('Tabel A Be'!C19/'Tabel A F'!C19*100,"-")) -> - | D19: =IF(OR('Tabel A F'!D19<5,'Tabel A Be'!D19<0.5),"-",IFERROR('Tabel A Be'!D19/'Tabel A F'!D19*100,"-")) -> 3.5714286 | E19: =IF(OR('Tabel A F'!E19<5,'Tabel A Be'!E19<0.5),"-",IFERROR('Tabel A Be'!E19/'Tabel A F'!E19*100,"-")) -> 5.8823529 | F19: =IF(OR('Tabel A F'!F19<5,'Tabel A Be'!F19<0.5),"-",IFERROR('Tabel A Be'!F19/'Tabel A F'!F19*100,"-")) -> 5.2631579 | G19: =IF(OR('Tabel A F'!G19<5,'Tabel A Be'!G19<0.5),"-",IFERROR('Tabel A Be'!G19/'Tabel A F'!G19*100,"-")) -> 1.6949153 | H19: =IF(OR('Tabel A F'!H19<5,'Tabel A Be'!H19<0.5),"-",IFERROR('Tabel A Be'!H19/'Tabel A F'!H19*100,"-")) -> 1.9736842 | I19: =IF(OR('Tabel A F'!I19<5,'Tabel A Be'!I19<0.5),"-",IFERROR('Tabel A Be'!I19/'Tabel A F'!I19*100,"-")) -> - | K19: =IF(OR('Tabel A F'!K19<5,'Tabel A Be'!K19<0.5),"-",IFERROR('Tabel A Be'!K19/'Tabel A F'!K19*100,"-")) -> 2.8753994
A20: Forstkand. | B20: =IF(OR('Tabel A F'!B20<5,'Tabel A Be'!B20<0.5),"-",IFERROR('Tabel A Be'!B20/'Tabel A F'!B20*100,"-")) -> 4.1666667 | C20: =IF(OR('Tabel A F'!C20<5,'Tabel A Be'!C20<0.5),"-",IFERROR('Tabel A Be'!C20/'Tabel A F'!C20*100,"-")) -> - | D20: =IF(OR('Tabel A F'!D20<5,'Tabel A Be'!D20<0.5),"-",IFERROR('Tabel A Be'!D20/'Tabel A F'!D20*100,"-")) -> 2 | E20: =IF(OR('Tabel A F'!E20<5,'Tabel A Be'!E20<0.5),"-",IFERROR('Tabel A Be'!E20/'Tabel A F'!E20*100,"-")) -> 5.1282051 | F20: =IF(OR('Tabel A F'!F20<5,'Tabel A Be'!F20<0.5),"-",IFERROR('Tabel A Be'!F20/'Tabel A F'!F20*100,"-")) -> 11.538462 | G20: =IF(OR('Tabel A F'!G20<5,'Tabel A Be'!G20<0.5),"-",IFERROR('Tabel A Be'!G20/'Tabel A F'!G20*100,"-")) -> 2.4691358 | H20: =IF(OR('Tabel A F'!H20<5,'Tabel A Be'!H20<0.5),"-",IFERROR('Tabel A Be'!H20/'Tabel A F'!H20*100,"-")) -> 5.0583658 | I20: =IF(OR('Tabel A F'!I20<5,'Tabel A Be'!I20<0.5),"-",IFERROR('Tabel A Be'!I20/'Tabel A F'!I20*100,"-")) -> - | K20: =IF(OR('Tabel A F'!K20<5,'Tabel A Be'!K20<0.5),"-",IFERROR('Tabel A Be'!K20/'Tabel A F'!K20*100,"-")) -> 4.296875
... A52: DJØF'ere i alt | B52: =IF(OR('Tabel A F'!B52<5,'Tabel A Be'!B52<0.5),"-",IFERROR('Tabel A Be'!B52/'Tabel A F'!B52*100,"-")) -> 8.6390992 | C52: =IF(OR('Tabel A F'!C52<5,'Tabel A Be'!C52<0.5),"-",IFERROR('Tabel A Be'!C52/'Tabel A F'!C52*100,"-")) -> 5.506993 | D52: =IF(OR('Tabel A F'!D52<5,'Tabel A Be'!D52<0.5),"-",IFERROR('Tabel A Be'!D52/'Tabel A F'!D52*100,"-")) -> 6.9900713 | E52: =IF(OR('Tabel A F'!E52<5,'Tabel A Be'!E52<0.5),"-",IFERROR('Tabel A Be'!E52/'Tabel A F'!E52*100,"-")) -> 5.2177324 | F52: =IF(OR('Tabel A F'!F52<5,'Tabel A Be'!F52<0.5),"-",IFERROR('Tabel A Be'!F52/'Tabel A F'!F52*100,"-")) -> 8.5012087 | G52: =IF(OR('Tabel A F'!G52<5,'Tabel A Be'!G52<0.5),"-",IFERROR('Tabel A Be'!G52/'Tabel A F'!G52*100,"-")) -> 4.7188911 | H52: =IF(OR('Tabel A F'!H52<5,'Tabel A Be'!H52<0.5),"-",IFERROR('Tabel A Be'!H52/'Tabel A F'!H52*100,"-")) -> 5.6957385 | I52: =IF(OR('Tabel A F'!I52<5,'Tabel A Be'!I52<0.5),"-",IFERROR('Tabel A Be'!I52/'Tabel A F'!I52*100,"-")) -> 3.7313433 | K52: =IF(OR('Tabel A F'!K52<5,'Tabel A Be'!K52<0.5),"-",IFERROR('Tabel A Be'!K52/'Tabel A F'!K52*100,"-")) -> 6.0510184
A53: Se sidste del af statistikken for en oversigt over uddannelsesgrupperingernes indhold

Sheet Tabel A p (Br)
A3: Tabel B2: Bruttoledighedsprocenten målt i fuldtidspersoner fordelt på regioner
B6: Nord- | C6: Vest- | D6: Øst- | E6: Syd- | F6: Fyn | G6: Sjælland | H6: Hoved- | I6: Bornholm | K6: Hele
B7: Jylland | C7: Jylland | D7: Jylland | E7: Jylland | H7: staden | K7: Landet
A9: Civ. Ing. | B9: =IF(OR('Tabel A F'!B9<5,'Tabel A Br'!B9<0.5),"-",IFERROR('Tabel A Br'!B9/'Tabel A F'!B9*100,"-")) -> 5.4875428 | C9: =IF(OR('Tabel A F'!C9<5,'Tabel A Br'!C9<0.5),"-",IFERROR('Tabel A Br'!C9/'Tabel A F'!C9*100,"-")) -> 2.8603648 | D9: =IF(OR('Tabel A F'!D9<5,'Tabel A Br'!D9<0.5),"-",IFERROR('Tabel A Br'!D9/'Tabel A F'!D9*100,"-")) -> 3.8563921 | E9: =IF(OR('Tabel A F'!E9<5,'Tabel A Br'!E9<0.5),"-",IFERROR('Tabel A Br'!E9/'Tabel A F'!E9*100,"-")) -> 4.0255486 | F9: =IF(OR('Tabel A F'!F9<5,'Tabel A Br'!F9<0.5),"-",IFERROR('Tabel A Br'!F9/'Tabel A F'!F9*100,"-")) -> 8.3538775 | G9: =IF(OR('Tabel A F'!G9<5,'Tabel A Br'!G9<0.5),"-",IFERROR('Tabel A Br'!G9/'Tabel A F'!G9*100,"-")) -> 2.1824399 | H9: =IF(OR('Tabel A F'!H9<5,'Tabel A Br'!H9<0.5),"-",IFERROR('Tabel A Br'!H9/'Tabel A F'!H9*100,"-")) -> 3.6479408 | I9: =IF(OR('Tabel A F'!I9<5,'Tabel A Br'!I9<0.5),"-",IFERROR('Tabel A Br'!I9/'Tabel A F'!I9*100,"-")) -> 12.118939 | K9: =IF(OR('Tabel A F'!K9<5,'Tabel A Br'!K9<0.5),"-",IFERROR('Tabel A Br'!K9/'Tabel A F'!K9*100,"-")) -> 3.9825743
A10: Diplom Ing. | B10: =IF(OR('Tabel A F'!B10<5,'Tabel A Br'!B10<0.5),"-",IFERROR('Tabel A Br'!B10/'Tabel A F'!B10*100,"-")) -> 3.852946 | C10: =IF(OR('Tabel A F'!C10<5,'Tabel A Br'!C10<0.5),"-",IFERROR('Tabel A Br'!C10/'Tabel A F'!C10*100,"-")) -> 2.7125126 | D10: =IF(OR('Tabel A F'!D10<5,'Tabel A Br'!D10<0.5),"-",IFERROR('Tabel A Br'!D10/'Tabel A F'!D10*100,"-")) -> 3.7441094 | E10: =IF(OR('Tabel A F'!E10<5,'Tabel A Br'!E10<0.5),"-",IFERROR('Tabel A Br'!E10/'Tabel A F'!E10*100,"-")) -> 2.8191529 | F10: =IF(OR('Tabel A F'!F10<5,'Tabel A Br'!F10<0.5),"-",IFERROR('Tabel A Br'!F10/'Tabel A F'!F10*100,"-")) -> 3.5835957 | G10: =IF(OR('Tabel A F'!G10<5,'Tabel A Br'!G10<0.5),"-",IFERROR('Tabel A Br'!G10/'Tabel A F'!G10*100,"-")) -> 2.6997288 | H10: =IF(OR('Tabel A F'!H10<5,'Tabel A Br'!H10<0.5),"-",IFERROR('Tabel A Br'!H10/'Tabel A F'!H10*100,"-")) -> 3.8306622 | I10: =IF(OR('Tabel A F'!I10<5,'Tabel A Br'!I10<0.5),"-",IFERROR('Tabel A Br'!I10/'Tabel A F'!I10*100,"-")) -> 6.4504032 | K10: =IF(OR('Tabel A F'!K10<5,'Tabel A Br'!K10<0.5),"-",IFERROR('Tabel A Br'!K10/'Tabel A F'!K10*100,"-")) -> 3.4603954
A11: Cand.Scient.Tech. | B11: =IF(OR('Tabel A F'!B11<5,'Tabel A Br'!B11<0.5),"-",IFERROR('Tabel A Br'!B11/'Tabel A F'!B11*100,"-")) -> 14.724512 | C11: =IF(OR('Tabel A F'!C11<5,'Tabel A Br'!C11<0.5),"-",IFERROR('Tabel A Br'!C11/'Tabel A F'!C11*100,"-")) -> 7.0286587 | D11: =IF(OR('Tabel A F'!D11<5,'Tabel A Br'!D11<0.5),"-",IFERROR('Tabel A Br'!D11/'Tabel A F'!D11*100,"-")) -> 11.03451 | E11: =IF(OR('Tabel A F'!E11<5,'Tabel A Br'!E11<0.5),"-",IFERROR('Tabel A Br'!E11/'Tabel A F'!E11*100,"-")) -> 7.7831326 | F11: =IF(OR('Tabel A F'!F11<5,'Tabel A Br'!F11<0.5),"-",IFERROR('Tabel A Br'!F11/'Tabel A F'!F11*100,"-")) -> 11.433116 | G11: =IF(OR('Tabel A F'!G11<5,'Tabel A Br'!G11<0.5),"-",IFERROR('Tabel A Br'!G11/'Tabel A F'!G11*100,"-")) -> 6.3499931 | H11: =IF(OR('Tabel A F'!H11<5,'Tabel A Br'!H11<0.5),"-",IFERROR('Tabel A Br'!H11/'Tabel A F'!H11*100,"-")) -> 8.1796817 | I11: =IF(OR('Tabel A F'!I11<5,'Tabel A Br'!I11<0.5),"-",IFERROR('Tabel A Br'!I11/'Tabel A F'!I11*100,"-")) -> 10.342897 | K11: =IF(OR('Tabel A F'!K11<5,'Tabel A Br'!K11<0.5),"-",IFERROR('Tabel A Br'!K11/'Tabel A F'!K11*100,"-")) -> 9.0754848
A12: MA. Hum. | B12: =IF(OR('Tabel A F'!B12<5,'Tabel A Br'!B12<0.5),"-",IFERROR('Tabel A Br'!B12/'Tabel A F'!B12*100,"-")) -> 11.820091 | C12: =IF(OR('Tabel A F'!C12<5,'Tabel A Br'!C12<0.5),"-",IFERROR('Tabel A Br'!C12/'Tabel A F'!C12*100,"-")) -> 8.4440897 | D12: =IF(OR('Tabel A F'!D12<5,'Tabel A Br'!D12<0.5),"-",IFERROR('Tabel A Br'!D12/'Tabel A F'!D12*100,"-")) -> 13.651989 | E12: =IF(OR('Tabel A F'!E12<5,'Tabel A Br'!E12<0.5),"-",IFERROR('Tabel A Br'!E12/'Tabel A F'!E12*100,"-")) -> 8.439792 | F12: =IF(OR('Tabel A F'!F12<5,'Tabel A Br'!F12<0.5),"-",IFERROR('Tabel A Br'!F12/'Tabel A F'!F12*100,"-")) -> 12.578923 | G12: =IF(OR('Tabel A F'!G12<5,'Tabel A Br'!G12<0.5),"-",IFERROR('Tabel A Br'!G12/'Tabel A F'!G12*100,"-")) -> 7.6299447 | H12: =IF(OR('Tabel A F'!H12<5,'Tabel A Br'!H12<0.5),"-",IFERROR('Tabel A Br'!H12/'Tabel A F'!H12*100,"-")) -> 9.9678532 | I12: =IF(OR('Tabel A F'!I12<5,'Tabel A Br'!I12<0.5),"-",IFERROR('Tabel A Br'!I12/'Tabel A F'!I12*100,"-")) -> 13.494941 | K12: =IF(OR('Tabel A F'!K12<5,'Tabel A Br'!K12<0.5),"-",IFERROR('Tabel A Br'!K12/'Tabel A F'!K12*100,"-")) -> 10.668293
A13: MA. Nat. | B13: =IF(OR('Tabel A F'!B13<5,'Tabel A Br'!B13<0.5),"-",IFERROR('Tabel A Br'!B13/'Tabel A F'!B13*100,"-")) -> 3.6625495 | C13: =IF(OR('Tabel A F'!C13<5,'Tabel A Br'!C13<0.5),"-",IFERROR('Tabel A Br'!C13/'Tabel A F'!C13*100,"-")) -> 2.3850984 | D13: =IF(OR('Tabel A F'!D13<5,'Tabel A Br'!D13<0.5),"-",IFERROR('Tabel A Br'!D13/'Tabel A F'!D13*100,"-")) -> 5.2088185 | E13: =IF(OR('Tabel A F'!E13<5,'Tabel A Br'!E13<0.5),"-",IFERROR('Tabel A Br'!E13/'Tabel A F'!E13*100,"-")) -> 2.6315337 | F13: =IF(OR('Tabel A F'!F13<5,'Tabel A Br'!F13<0.5),"-",IFERROR('Tabel A Br'!F13/'Tabel A F'!F13*100,"-")) -> 6.2426054 | G13: =IF(OR('Tabel A F'!G13<5,'Tabel A Br'!G13<0.5),"-",IFERROR('Tabel A Br'!G13/'Tabel A F'!G13*100,"-")) -> 2.8679132 | H13: =IF(OR('Tabel A F'!H13<5,'Tabel A Br'!H13<0.5),"-",IFERROR('Tabel A Br'!H13/'Tabel A F'!H13*100,"-")) -> 3.9196247 | I13: =IF(OR('Tabel A F'!I13<5,'Tabel A Br'!I13<0.5),"-",IFERROR('Tabel A Br'!I13/'Tabel A F'!I13*100,"-")) -> 5.3782292 | K13: =IF(OR('Tabel A F'!K13<5,'Tabel A Br'!K13<0.5),"-",IFERROR('Tabel A Br'!K13/'Tabel A F'!K13*100,"-")) -> 4.1044692
A14: MA. Ph.d. | B14: =IF(OR('Tabel A F'!B14<5,'Tabel A Br'!B14<0.5),"-",IFERROR('Tabel A Br'!B14/'Tabel A F'!B14*100,"-")) -> 2.9958587 | C14: =IF(OR('Tabel A F'!C14<5,'Tabel A Br'!C14<0.5),"-",IFERROR('Tabel A Br'!C14/'Tabel A F'!C14*100,"-")) -> 2.7699231 | D14: =IF(OR('Tabel A F'!D14<5,'Tabel A Br'!D14<0.5),"-",IFERROR('Tabel A Br'!D14/'Tabel A F'!D14*100,"-")) -> 5.6420445 | E14: =IF(OR('Tabel A F'!E14<5,'Tabel A Br'!E14<0.5),"-",IFERROR('Tabel A Br'!E14/'Tabel A F'!E14*100,"-")) -> 6.9473333 | F14: =IF(OR('Tabel A F'!F14<5,'Tabel A Br'!F14<0.5),"-",IFERROR('Tabel A Br'!F14/'Tabel A F'!F14*100,"-")) -> 4.0229557 | G14: =IF(OR('Tabel A F'!G14<5,'Tabel A Br'!G14<0.5),"-",IFERROR('Tabel A Br'!G14/'Tabel A F'!G14*100,"-")) -> 5.6089643 | H14: =IF(OR('Tabel A F'!H14<5,'Tabel A Br'!H14<0.5),"-",IFERROR('Tabel A Br'!H14/'Tabel A F'!H14*100,"-")) -> 4.3584914 | I14: =IF(OR('Tabel A F'!I14<5,'Tabel A Br'!I14<0.5),"-",IFERROR('Tabel A Br'!I14/'Tabel A F'!I14*100,"-")) -> 18.7364 | K14: =IF(OR('Tabel A F'!K14<5,'Tabel A Br'!K14<0.5),"-",IFERROR('Tabel A Br'!K14/'Tabel A F'!K14*100,"-")) -> 4.5208499
A15: MA. Samf. | B15: =IF(OR('Tabel A F'!B15<5,'Tabel A Br'!B15<0.5),"-",IFERROR('Tabel A Br'!B15/'Tabel A F'!B15*100,"-")) -> 20.49073 | C15: =IF(OR('Tabel A F'!C15<5,'Tabel A Br'!C15<0.5),"-",IFERROR('Tabel A Br'!C15/'Tabel A F'!C15*100,"-")) -> 15.267725 | D15: =IF(OR('Tabel A F'!D15<5,'Tabel A Br'!D15<0.5),"-",IFERROR('Tabel A Br'!D15/'Tabel A F'!D15*100,"-")) -> 19.033023 | E15: =IF(OR('Tabel A F'!E15<5,'Tabel A Br'!E15<0.5),"-",IFERROR('Tabel A Br'!E15/'Tabel A F'!E15*100,"-")) -> 15.677256 | F15: =IF(OR('Tabel A F'!F15<5,'Tabel A Br'!F15<0.5),"-",IFERROR('Tabel A Br'!F15/'Tabel A F'!F15*100,"-")) -> 15.346618 | G15: =IF(OR('Tabel A F'!G15<5,'Tabel A Br'!G15<0.5),"-",IFERROR('Tabel A Br'!G15/'Tabel A F'!G15*100,"-")) -> 12.226565 | H15: =IF(OR('Tabel A F'!H15<5,'Tabel A Br'!H15<0.5),"-",IFERROR('Tabel A Br'!H15/'Tabel A F'!H15*100,"-")) -> 12.331165 | I15: =IF(OR('Tabel A F'!I15<5,'Tabel A Br'!I15<0.5),"-",IFERROR('Tabel A Br'!I15/'Tabel A F'!I15*100,"-")) -> 26.661667 | K15: =IF(OR('Tabel A F'!K15<5,'Tabel A Br'!K15<0.5),"-",IFERROR('Tabel A Br'!K15/'Tabel A F'!K15*100,"-")) -> 13.933788
A16: Øvrige Mag. | B16: =IF(OR('Tabel A F'!B16<5,'Tabel A Br'!B16<0.5),"-",IFERROR('Tabel A Br'!B16/'Tabel A F'!B16*100,"-")) -> 6.3914211 | C16: =IF(OR('Tabel A F'!C16<5,'Tabel A Br'!C16<0.5),"-",IFERROR('Tabel A Br'!C16/'Tabel A F'!C16*100,"-")) -> 5.3109811 | D16: =IF(OR('Tabel A F'!D16<5,'Tabel A Br'!D16<0.5),"-",IFERROR('Tabel A Br'!D16/'Tabel A F'!D16*100,"-")) -> 9.9142116 | E16: =IF(OR('Tabel A F'!E16<5,'Tabel A Br'!E16<0.5),"-",IFERROR('Tabel A Br'!E16/'Tabel A F'!E16*100,"-")) -> 5.5862915 | F16: =IF(OR('Tabel A F'!F16<5,'Tabel A Br'!F16<0.5),"-",IFERROR('Tabel A Br'!F16/'Tabel A F'!F16*100,"-")) -> 5.2165605 | G16: =IF(OR('Tabel A F'!G16<5,'Tabel A Br'!G16<0.5),"-",IFERROR('Tabel A Br'!G16/'Tabel A F'!G16*100,"-")) -> 4.4788008 | H16: =IF(OR('Tabel A F'!H16<5,'Tabel A Br'!H16<0.5),"-",IFERROR('Tabel A Br'!H16/'Tabel A F'!H16*100,"-")) -> 9.7196917 | I16: =IF(OR('Tabel A F'!I16<5,'Tabel A Br'!I16<0.5),"-",IFERROR('Tabel A Br'!I16/'Tabel A F'!I16*100,"-")) -> 28.822882 | K16: =IF(OR('Tabel A F'!K16<5,'Tabel A Br'!K16<0.5),"-",IFERROR('Tabel A Br'!K16/'Tabel A F'!K16*100,"-")) -> 8.3665645
A17: Agronom | B17: =IF(OR('Tabel A F'!B17<5,'Tabel A Br'!B17<0.5),"-",IFERROR('Tabel A Br'!B17/'Tabel A F'!B17*100,"-")) -> 1.0862231 | C17: =IF(OR('Tabel A F'!C17<5,'Tabel A Br'!C17<0.5),"-",IFERROR('Tabel A Br'!C17/'Tabel A F'!C17*100,"-")) -> 1.4966356 | D17: =IF(OR('Tabel A F'!D17<5,'Tabel A Br'!D17<0.5),"-",IFERROR('Tabel A Br'!D17/'Tabel A F'!D17*100,"-")) -> 3.2585353 | E17: =IF(OR('Tabel A F'!E17<5,'Tabel A Br'!E17<0.5),"-",IFERROR('Tabel A Br'!E17/'Tabel A F'!E17*100,"-")) -> 1.7024018 | F17: =IF(OR('Tabel A F'!F17<5,'Tabel A Br'!F17<0.5),"-",IFERROR('Tabel A Br'!F17/'Tabel A F'!F17*100,"-")) -> 2.4416333 | G17: =IF(OR('Tabel A F'!G17<5,'Tabel A Br'!G17<0.5),"-",IFERROR('Tabel A Br'!G17/'Tabel A F'!G17*100,"-")) -> 2.7926109 | H17: =IF(OR('Tabel A F'!H17<5,'Tabel A Br'!H17<0.5),"-",IFERROR('Tabel A Br'!H17/'Tabel A F'!H17*100,"-")) -> 5.1728339 | I17: =IF(OR('Tabel A F'!I17<5,'Tabel A Br'!I17<0.5),"-",IFERROR('Tabel A Br'!I17/'Tabel A F'!I17*100,"-")) -> - | K17: =IF(OR('Tabel A F'!K17<5,'Tabel A Br'!K17<0.5),"-",IFERROR('Tabel A Br'!K17/'Tabel A F'!K17*100,"-")) -> 3.3066572
A18: Landsk. Arkt. | B18: =IF(OR('Tabel A F'!B18<5,'Tabel A Br'!B18<0.5),"-",IFERROR('Tabel A Br'!B18/'Tabel A F'!B18*100,"-")) -> 7.1415 | C18: =IF(OR('Tabel A F'!C18<5,'Tabel A Br'!C18<0.5),"-",IFERROR('Tabel A Br'!C18/'Tabel A F'!C18*100,"-")) -> 10.228889 | D18: =IF(OR('Tabel A F'!D18<5,'Tabel A Br'!D18<0.5),"-",IFERROR('Tabel A Br'!D18/'Tabel A F'!D18*100,"-")) -> 3.9102051 | E18: =IF(OR('Tabel A F'!E18<5,'Tabel A Br'!E18<0.5),"-",IFERROR('Tabel A Br'!E18/'Tabel A F'!E18*100,"-")) -> 2.0852667 | F18: =IF(OR('Tabel A F'!F18<5,'Tabel A Br'!F18<0.5),"-",IFERROR('Tabel A Br'!F18/'Tabel A F'!F18*100,"-")) -> - | G18: =IF(OR('Tabel A F'!G18<5,'Tabel A Br'!G18<0.5),"-",IFERROR('Tabel A Br'!G18/'Tabel A F'!G18*100,"-")) -> 4.0808673 | H18: =IF(OR('Tabel A F'!H18<5,'Tabel A Br'!H18<0.5),"-",IFERROR('Tabel A Br'!H18/'Tabel A F'!H18*100,"-")) -> 6.6493063 | I18: =IF(OR('Tabel A F'!I18<5,'Tabel A Br'!I18<0.5),"-",IFERROR('Tabel A Br'!I18/'Tabel A F'!I18*100,"-")) -> - | K18: =IF(OR('Tabel A F'!K18<5,'Tabel A Br'!K18<0.5),"-",IFERROR('Tabel A Br'!K18/'Tabel A F'!K18*100,"-")) -> 5.6638669
A19: Hortonom | B19: =IF(OR('Tabel A F'!B19<5,'Tabel A Br'!B19<0.5),"-",IFERROR('Tabel A Br'!B19/'Tabel A F'!B19*100,"-")) -> - | C19: =IF(OR('Tabel A F'!C19<5,'Tabel A Br'!C19<0.5),"-",IFERROR('Tabel A Br'!C19/'Tabel A F'!C19*100,"-")) -> - | D19: =IF(OR('Tabel A F'!D19<5,'Tabel A Br'!D19<0.5),"-",IFERROR('Tabel A Br'!D19/'Tabel A F'!D19*100,"-")) -> 2.2565 | E19: =IF(OR('Tabel A F'!E19<5,'Tabel A Br'!E19<0.5),"-",IFERROR('Tabel A Br'!E19/'Tabel A F'!E19*100,"-")) -> 5.0667647 | F19: =IF(OR('Tabel A F'!F19<5,'Tabel A Br'!F19<0.5),"-",IFERROR('Tabel A Br'!F19/'Tabel A F'!F19*100,"-")) -> 5.2621842 | G19: =IF(OR('Tabel A F'!G19<5,'Tabel A Br'!G19<0.5),"-",IFERROR('Tabel A Br'!G19/'Tabel A F'!G19*100,"-")) -> 1.4408814 | H19: =IF(OR('Tabel A F'!H19<5,'Tabel A Br'!H19<0.5),"-",IFERROR('Tabel A Br'!H19/'Tabel A F'!H19*100,"-")) -> 1.9125855 | I19: =IF(OR('Tabel A F'!I19<5,'Tabel A Br'!I19<0.5),"-",IFERROR('Tabel A Br'!I19/'Tabel A F'!I19*100,"-")) -> - | K19: =IF(OR('Tabel A F'!K19<5,'Tabel A Br'!K19<0.5),"-",IFERROR('Tabel A Br'!K19/'Tabel A F'!K19*100,"-")) -> 2.635738
A20: Forstkand. | B20: =IF(OR('Tabel A F'!B20<5,'Tabel A Br'!B20<0.5),"-",IFERROR('Tabel A Br'!B20/'Tabel A F'!B20*100,"-")) -> 3.7292917 | C20: =IF(OR('Tabel A F'!C20<5,'Tabel A Br'!C20<0.5),"-",IFERROR('Tabel A Br'!C20/'Tabel A F'!C20*100,"-")) -> - | D20: =IF(OR('Tabel A F'!D20<5,'Tabel A Br'!D20<0.5),"-",IFERROR('Tabel A Br'!D20/'Tabel A F'!D20*100,"-")) -> 1.99962 | E20: =IF(OR('Tabel A F'!E20<5,'Tabel A Br'!E20<0.5),"-",IFERROR('Tabel A Br'!E20/'Tabel A F'!E20*100,"-")) -> 5.1272564 | F20: =IF(OR('Tabel A F'!F20<5,'Tabel A Br'!F20<0.5),"-",IFERROR('Tabel A Br'!F20/'Tabel A F'!F20*100,"-")) -> 11.536308 | G20: =IF(OR('Tabel A F'!G20<5,'Tabel A Br'!G20<0.5),"-",IFERROR('Tabel A Br'!G20/'Tabel A F'!G20*100,"-")) -> 2.468679 | H20: =IF(OR('Tabel A F'!H20<5,'Tabel A Br'!H20<0.5),"-",IFERROR('Tabel A Br'!H20/'Tabel A F'!H20*100,"-")) -> 4.7390117 | I20: =IF(OR('Tabel A F'!I20<5,'Tabel A Br'!I20<0.5),"-",IFERROR('Tabel A Br'!I20/'Tabel A F'!I20*100,"-")) -> - | K20: =IF(OR('Tabel A F'!K20<5,'Tabel A Br'!K20<0.5),"-",IFERROR('Tabel A Br'!K20/'Tabel A F'!K20*100,"-")) -> 4.1157793
... A52: DJØF'ere i alt | B52: =IF(OR('Tabel A F'!B52<5,'Tabel A Br'!B52<0.5),"-",IFERROR('Tabel A Br'!B52/'Tabel A F'!B52*100,"-")) -> 7.8463316 | C52: =IF(OR('Tabel A F'!C52<5,'Tabel A Br'!C52<0.5),"-",IFERROR('Tabel A Br'!C52/'Tabel A F'!C52*100,"-")) -> 4.8606316 | D52: =IF(OR('Tabel A F'!D52<5,'Tabel A Br'!D52<0.5),"-",IFERROR('Tabel A Br'!D52/'Tabel A F'!D52*100,"-")) -> 6.2808835 | E52: =IF(OR('Tabel A F'!E52<5,'Tabel A Br'!E52<0.5),"-",IFERROR('Tabel A Br'!E52/'Tabel A F'!E52*100,"-")) -> 4.6206679 | F52: =IF(OR('Tabel A F'!F52<5,'Tabel A Br'!F52<0.5),"-",IFERROR('Tabel A Br'!F52/'Tabel A F'!F52*100,"-")) -> 7.6563733 | G52: =IF(OR('Tabel A F'!G52<5,'Tabel A Br'!G52<0.5),"-",IFERROR('Tabel A Br'!G52/'Tabel A F'!G52*100,"-")) -> 4.1911592 | H52: =IF(OR('Tabel A F'!H52<5,'Tabel A Br'!H52<0.5),"-",IFERROR('Tabel A Br'!H52/'Tabel A F'!H52*100,"-")) -> 5.0302832 | I52: =IF(OR('Tabel A F'!I52<5,'Tabel A Br'!I52<0.5),"-",IFERROR('Tabel A Br'!I52/'Tabel A F'!I52*100,"-")) -> 3.6980597 | K52: =IF(OR('Tabel A F'!K52<5,'Tabel A Br'!K52<0.5),"-",IFERROR('Tabel A Br'!K52/'Tabel A F'!K52*100,"-")) -> 5.3796169
A53: Se sidste del af statistikken for en oversigt over uddannelsesgrupperingernes indhold

Sheet Tabel B1
A3: Tabel A3 - Bruttoledigheden målt i fuldtidspersoner i de store kommuner
B5: Antal fuldtidspersoner | G5: Ledighedspct. | Y5: Bruttoledighed | Z5: Gennemsnitlig bruttoledighed
B6: København | C6: Århus | D6: Aalborg | E6: Odense | G6: København | H6: Århus | I6: Aalborg | J6: Odense | L6: Hele landet | T6: København | U6: Århus | V6: Aalborg | W6: Odense | X6: Hele | Y6: Hele | Z6: Hele
X7: Landet | Y7: Landet | Z7: Lande
A9: Civ. Ing. | B9: 303.98241 | C9: 99.27462 | D9: 180.9337 | E9: 103.95996 | G9: =IF(OR('Tabel B1'!T9<5,'Tabel B1'!B9<0.5),"-",IFERROR('Tabel B1'!B9/'Tabel B1'!T9*100,"-")) -> 5.1106659 | H9: =IF(OR('Tabel B1'!U9<5,'Tabel B1'!C9<0.5),"-",IFERROR('Tabel B1'!C9/'Tabel B1'!U9*100,"-")) -> 4.4778809 | I9: =IF(OR('Tabel B1'!V9<5,'Tabel B1'!D9<0.5),"-",IFERROR('Tabel B1'!D9/'Tabel B1'!V9*100,"-")) -> 6.3979385 | J9: =IF(OR('Tabel B1'!W9<5,'Tabel B1'!E9<0.5),"-",IFERROR('Tabel B1'!E9/'Tabel B1'!W9*100,"-")) -> 10.532924 | L9: =IF(OR('Tabel B1'!X9<5,'Tabel B1'!Z9<0.5),"-",IFERROR('Tabel B1'!Z9/'Tabel B1'!X9*100,"-")) -> 3.9825743 | R9: Civ. ing. | T9: 5948 | U9: 2217 | V9: 2828 | W9: 987 | X9: 32683 | Y9: 1436 | Z9: 1301.6248
A10: Diplom Ing. | B10: 175.7232 | C10: 155.80303 | D10: 32.53976 | E10: 69.03262 | G10: =IF(OR('Tabel B1'!T10<5,'Tabel B1'!B10<0.5),"-",IFERROR('Tabel B1'!B10/'Tabel B1'!T10*100,"-")) -> 5.3935912 | H10: =IF(OR('Tabel B1'!U10<5,'Tabel B1'!C10<0.5),"-",IFERROR('Tabel B1'!C10/'Tabel B1'!U10*100,"-")) -> 5.2796689 | I10: =IF(OR('Tabel B1'!V10<5,'Tabel B1'!D10<0.5),"-",IFERROR('Tabel B1'!D10/'Tabel B1'!V10*100,"-")) -> 4.3854124 | J10: =IF(OR('Tabel B1'!W10<5,'Tabel B1'!E10<0.5),"-",IFERROR('Tabel B1'!E10/'Tabel B1'!W10*100,"-")) -> 3.9972565 | L10: =IF(OR('Tabel B1'!X10<5,'Tabel B1'!Z10<0.5),"-",IFERROR('Tabel B1'!Z10/'Tabel B1'!X10*100,"-")) -> 3.4603954 | R10: Diplom ing. | T10: 3258 | U10: 2951 | V10: 742 | W10: 1727 | X10: 34059 | Y10: 1296 | Z10: 1178.5761
A11: Cand.Scient.Tech. | B11: 564.58741 | C11: 269.43117 | D11: 193.32252 | E11: 120.45843 | G11: =IF(OR('Tabel B1'!T11<5,'Tabel B1'!B11<0.5),"-",IFERROR('Tabel B1'!B11/'Tabel B1'!T11*100,"-")) -> 9.8189115 | H11: =IF(OR('Tabel B1'!U11<5,'Tabel B1'!C11<0.5),"-",IFERROR('Tabel B1'!C11/'Tabel B1'!U11*100,"-")) -> 13.351396 | I11: =IF(OR('Tabel B1'!V11<5,'Tabel B1'!D11<0.5),"-",IFERROR('Tabel B1'!D11/'Tabel B1'!V11*100,"-")) -> 16.65138 | J11: =IF(OR('Tabel B1'!W11<5,'Tabel B1'!E11<0.5),"-",IFERROR('Tabel B1'!E11/'Tabel B1'!W11*100,"-")) -> 12.855756 | L11: =IF(OR('Tabel B1'!X11<5,'Tabel B1'!Z11<0.5),"-",IFERROR('Tabel B1'!Z11/'Tabel B1'!X11*100,"-")) -> 9.0754848 | R11: Cand.scient.tek. | T11: 5750 | U11: 2018 | V11: 1161 | W11: 937 | X11: 19040 | Y11: 1955 | Z11: 1727.9723
A12: MA. Hum. | B12: 1388.6278 | C12: 882.67074 | D12: 277.41595 | E12: 296.6282 | G12: =IF(OR('Tabel B1'!T12<5,'Tabel B1'!B12<0.5),"-",IFERROR('Tabel B1'!B12/'Tabel B1'!T12*100,"-")) -> 11.077121 | H12: =IF(OR('Tabel B1'!U12<5,'Tabel B1'!C12<0.5),"-",IFERROR('Tabel B1'!C12/'Tabel B1'!U12*100,"-")) -> 15.86396 | I12: =IF(OR('Tabel B1'!V12<5,'Tabel B1'!D12<0.5),"-",IFERROR('Tabel B1'!D12/'Tabel B1'!V12*100,"-")) -> 13.961548 | J12: =IF(OR('Tabel B1'!W12<5,'Tabel B1'!E12<0.5),"-",IFERROR('Tabel B1'!E12/'Tabel B1'!W12*100,"-")) -> 13.732787 | L12: =IF(OR('Tabel B1'!X12<5,'Tabel B1'!Z12<0.5),"-",IFERROR('Tabel B1'!Z12/'Tabel B1'!X12*100,"-")) -> 10.668293 | R12: MA. Hum. | T12: 12536 | U12: 5564 | V12: 1987 | W12: 2160 | X12: 41856 | Y12: 5098 | Z12: 4465.3209
A13: MA. Nat. | B13: 178.39643 | C13: 113.0562 | D13: 16.89952 | E13: 51.40273 | G13: =IF(OR('Tabel B1'!T13<5,'Tabel B1'!B13<0.5),"-",IFERROR('Tabel B1'!B13/'Tabel B1'!T13*100,"-")) -> 5.8128521 | H13: =IF(OR('Tabel B1'!U13<5,'Tabel B1'!C13<0.5),"-",IFERROR('Tabel B1'!C13/'Tabel B1'!U13*100,"-")) -> 6.3089397 | I13: =IF(OR('Tabel B1'!V13<5,'Tabel B1'!D13<0.5),"-",IFERROR('Tabel B1'!D13/'Tabel B1'!V13*100,"-")) -> 4.2143441 | J13: =IF(OR('Tabel B1'!W13<5,'Tabel B1'!E13<0.5),"-",IFERROR('Tabel B1'!E13/'Tabel B1'!W13*100,"-")) -> 6.9745902 | L13: =IF(OR('Tabel B1'!X13<5,'Tabel B1'!Z13<0.5),"-",IFERROR('Tabel B1'!Z13/'Tabel B1'!X13*100,"-")) -> 4.1044692 | R13: MA. Nat. | T13: 3069 | U13: 1792 | V13: 401 | W13: 737 | X13: 14867 | Y13: 708 | Z13: 610.21144
A14: MA. Ph.d. | B14: 34.42151 | C14: 24.7739 | D14: 0.99981 | E14: 3.5876 | G14: =IF(OR('Tabel B1'!T14<5,'Tabel B1'!B14<0.5),"-",IFERROR('Tabel B1'!B14/'Tabel B1'!T14*100,"-")) -> 5.2312325 | H14: =IF(OR('Tabel B1'!U14<5,'Tabel B1'!C14<0.5),"-",IFERROR('Tabel B1'!C14/'Tabel B1'!U14*100,"-")) -> 5.6049548 | I14: =IF(OR('Tabel B1'!V14<5,'Tabel B1'!D14<0.5),"-",IFERROR('Tabel B1'!D14/'Tabel B1'!V14*100,"-")) -> 1.66635 | J14: =IF(OR('Tabel B1'!W14<5,'Tabel B1'!E14<0.5),"-",IFERROR('Tabel B1'!E14/'Tabel B1'!W14*100,"-")) -> 3.0147899 | L14: =IF(OR('Tabel B1'!X14<5,'Tabel B1'!Z14<0.5),"-",IFERROR('Tabel B1'!Z14/'Tabel B1'!X14*100,"-")) -> 4.5208499 | R14: MA. Ph.d. | T14: 658 | U14: 442 | V14: 60 | W14: 119 | X14: 2498 | Y14: 128 | Z14: 112.93083
A15: MA. Samf. | B15: 317.77771 | C15: 116.14732 | D15: 60.24325 | E15: 19.68253 | G15: =IF(OR('Tabel B1'!T15<5,'Tabel B1'!B15<0.5),"-",IFERROR('Tabel B1'!B15/'Tabel B1'!T15*100,"-")) -> 13.732831 | H15: =IF(OR('Tabel B1'!U15<5,'Tabel B1'!C15<0.5),"-",IFERROR('Tabel B1'!C15/'Tabel B1'!U15*100,"-")) -> 21.311435 | I15: =IF(OR('Tabel B1'!V15<5,'Tabel B1'!D15<0.5),"-",IFERROR('Tabel B1'!D15/'Tabel B1'!V15*100,"-")) -> 24.0973 | J15: =IF(OR('Tabel B1'!W15<5,'Tabel B1'!E15<0.5),"-",IFERROR('Tabel B1'!E15/'Tabel B1'!W15*100,"-")) -> 16.402108 | L15: =IF(OR('Tabel B1'!X15<5,'Tabel B1'!Z15<0.5),"-",IFERROR('Tabel B1'!Z15/'Tabel B1'!X15*100,"-")) -> 13.933788 | R15: MA. Samf. | T15: 2314 | U15: 545 | V15: 250 | W15: 120 | X15: 5282 | Y15: 822 | Z15: 735.98266
A16: Øvrige Mag. | B16: 116.24088 | C16: 48.57606 | D16: 5.02464 | E16: 10.03867 | G16: =IF(OR('Tabel B1'!T16<5,'Tabel B1'!B16<0.5),"-",IFERROR('Tabel B1'!B16/'Tabel B1'!T16*100,"-")) -> 11.29649 | H16: =IF(OR('Tabel B1'!U16<5,'Tabel B1'!C16<0.5),"-",IFERROR('Tabel B1'!C16/'Tabel B1'!U16*100,"-")) -> 11.402831 | I16: =IF(OR('Tabel B1'!V16<5,'Tabel B1'!D16<0.5),"-",IFERROR('Tabel B1'!D16/'Tabel B1'!V16*100,"-")) -> 3.7497313 | J16: =IF(OR('Tabel B1'!W16<5,'Tabel B1'!E16<0.5),"-",IFERROR('Tabel B1'!E16/'Tabel B1'!W16*100,"-")) -> 6.6043882 | L16: =IF(OR('Tabel B1'!X16<5,'Tabel B1'!Z16<0.5),"-",IFERROR('Tabel B1'!Z16/'Tabel B1'!X16*100,"-")) -> 8.3665645 | R16: Øvrige Mag. | T16: 1029 | U16: 426 | V16: 134 | W16: 152 | X16: 3550 | Y16: 333 | Z16: 297.01304
A17: Agronom | B17: 26.51968 | C17: 3.95559 | D17: 0.99981 | E17: 1.76885 | G17: =IF(OR('Tabel B1'!T17<5,'Tabel B1'!B17<0.5),"-",IFERROR('Tabel B1'!B17/'Tabel B1'!T17*100,"-")) -> 9.1447172 | H17: =IF(OR('Tabel B1'!U17<5,'Tabel B1'!C17<0.5),"-",IFERROR('Tabel B1'!C17/'Tabel B1'!U17*100,"-")) -> 4.9444875 | I17: =IF(OR('Tabel B1'!V17<5,'Tabel B1'!D17<0.5),"-",IFERROR('Tabel B1'!D17/'Tabel B1'!V17*100,"-")) -> 2.8566 | J17: =IF(OR('Tabel B1'!W17<5,'Tabel B1'!E17<0.5),"-",IFERROR('Tabel B1'!E17/'Tabel B1'!W17*100,"-")) -> 5.0538571 | L17: =IF(OR('Tabel B1'!X17<5,'Tabel B1'!Z17<0.5),"-",IFERROR('Tabel B1'!Z17/'Tabel B1'!X17*100,"-")) -> 3.3066572 | R17: Agronom | T17: 290 | U17: 80 | V17: 35 | W17: 35 | X17: 2366 | Y17: 89 | Z17: 78.23551
A18: Landsk. Arkt. | B18: 24.47203 | C18: 0.99981 | D18: 0.99981 | E18: 0 | G18: =IF(OR('Tabel B1'!T18<5,'Tabel B1'!B18<0.5),"-",IFERROR('Tabel B1'!B18/'Tabel B1'!T18*100,"-")) -> 9.4123192 | H18: =IF(OR('Tabel B1'!U18<5,'Tabel B1'!C18<0.5),"-",IFERROR('Tabel B1'!C18/'Tabel B1'!U18*100,"-")) -> 4.99905 | I18: =IF(OR('Tabel B1'!V18<5,'Tabel B1'!D18<0.5),"-",IFERROR('Tabel B1'!D18/'Tabel B1'!V18*100,"-")) -> - | J18: =IF(OR('Tabel B1'!W18<5,'Tabel B1'!E18<0.5),"-",IFERROR('Tabel B1'!E18/'Tabel B1'!W18*100,"-")) -> - | L18: =IF(OR('Tabel B1'!X18<5,'Tabel B1'!Z18<0.5),"-",IFERROR('Tabel B1'!Z18/'Tabel B1'!X18*100,"-")) -> 5.6638669 | R18: Landsk. Arkt. | T18: 260 | U18: 20 | V18: 4 | W18: 10 | X18: 706 | Y18: 45 | Z18: 39.9869
A19: Hortonom | B19: 0.9075 | C19: 0 | D19: 0 | E19: 0 | G19: =IF(OR('Tabel B1'!T19<5,'Tabel B1'!B19<0.5),"-",IFERROR('Tabel B1'!B19/'Tabel B1'!T19*100,"-")) -> 1.8520408 | H19: =IF(OR('Tabel B1'!U19<5,'Tabel B1'!C19<0.5),"-",IFERROR('Tabel B1'!C19/'Tabel B1'!U19*100,"-")) -> - | I19: =IF(OR('Tabel B1'!V19<5,'Tabel B1'!D19<0.5),"-",IFERROR('Tabel B1'!D19/'Tabel B1'!V19*100,"-")) -> - | J19: =IF(OR('Tabel B1'!W19<5,'Tabel B1'!E19<0.5),"-",IFERROR('Tabel B1'!E19/'Tabel B1'!W19*100,"-")) -> - | L19: =IF(OR('Tabel B1'!X19<5,'Tabel B1'!Z19<0.5),"-",IFERROR('Tabel B1'!Z19/'Tabel B1'!X19*100,"-")) -> 2.635738 | R19: Hortonom | T19: 49 | U19: 10 | V19: 1 | W19: 16 | X19: 313 | Y19: 9 | Z19: 8.24986
A20: Forstkand. | B20: 7.18019 | C20: 0.99981 | D20: 0.89503 | E20: 0.99981 | G20: =IF(OR('Tabel B1'!T20<5,'Tabel B1'!B20<0.5),"-",IFERROR('Tabel B1'!B20/'Tabel B1'!T20*100,"-")) -> 8.0676292 | H20: =IF(OR('Tabel B1'!U20<5,'Tabel B1'!C20<0.5),"-",IFERROR('Tabel B1'!C20/'Tabel B1'!U20*100,"-")) -> 11.109 | I20: =IF(OR('Tabel B1'!V20<5,'Tabel B1'!D20<0.5),"-",IFERROR('Tabel B1'!D20/'Tabel B1'!V20*100,"-")) -> - | J20: =IF(OR('Tabel B1'!W20<5,'Tabel B1'!E20<0.5),"-",IFERROR('Tabel B1'!E20/'Tabel B1'!W20*100,"-")) -> 19.9962 | L20: =IF(OR('Tabel B1'!X20<5,'Tabel B1'!Z20<0.5),"-",IFERROR('Tabel B1'!Z20/'Tabel B1'!X20*100,"-")) -> 4.1157793 | R20: Forstkand. | T20: 89 | U20: 9 | V20: 4 | W20: 5 | X20: 512 | Y20: 22 | Z20: 21.07279
... A40: Komm. og Sprog | B40: 197.17894 | C40: 90.3262 | D40: 35.57787 | E40: 35.23358 | G40: =IF(OR('Tabel B1'!T40<5,'Tabel B1'!B40<0.5),"-",IFERROR('Tabel B1'!B40/'Tabel B1'!T40*100,"-")) -> 10.416214 | H40: =IF(OR('Tabel B1'!U40<5,'Tabel B1'!C40<0.5),"-",IFERROR('Tabel B1'!C40/'Tabel B1'!U40*100,"-")) -> 11.290775 | I40: =IF(OR('Tabel B1'!V40<5,'Tabel B1'!D40<0.5),"-",IFERROR('Tabel B1'!D40/'Tabel B1'!V40*100,"-")) -> 15.204218 | J40: =IF(OR('Tabel B1'!W40<5,'Tabel B1'!E40<0.5),"-",IFERROR('Tabel B1'!E40/'Tabel B1'!W40*100,"-")) -> 12.67395 | L40: =IF(OR('Tabel B1'!X40<5,'Tabel B1'!Z40<0.5),"-",IFERROR('Tabel B1'!Z40/'Tabel B1'!X40*100,"-")) -> 8.7915752 | R40: Komm. og Sprog | T40: 1893 | U40: 800 | V40: 234 | W40: 278 | X40: 7521 | Y40: 755 | Z40: 661.21437
A41: Bygningskonst. | B41: 84.12942 | C41: 74.00842 | D41: 23.3567 | E41: 32.93314 | G41: =IF(OR('Tabel B1'!T41<5,'Tabel B1'!B41<0.5),"-",IFERROR('Tabel B1'!B41/'Tabel B1'!T41*100,"-")) -> 7.5317296 | H41: =IF(OR('Tabel B1'!U41<5,'Tabel B1'!C41<0.5),"-",IFERROR('Tabel B1'!C41/'Tabel B1'!U41*100,"-")) -> 7.9323065 | I41: =IF(OR('Tabel B1'!V41<5,'Tabel B1'!D41<0.5),"-",IFERROR('Tabel B1'!D41/'Tabel B1'!V41*100,"-")) -> 5.2135491 | J41: =IF(OR('Tabel B1'!W41<5,'Tabel B1'!E41<0.5),"-",IFERROR('Tabel B1'!E41/'Tabel B1'!W41*100,"-")) -> 7.2221798 | L41: =IF(OR('Tabel B1'!X41<5,'Tabel B1'!Z41<0.5),"-",IFERROR('Tabel B1'!Z41/'Tabel B1'!X41*100,"-")) -> 4.8870118 | T41: 1117 | U41: 933 | V41: 448 | W41: 456 | X41: 8915 | Y41: 485 | Z41: 435.6771
A42: Cand. IT. | B42: 142.74995 | C42: 83.56702 | D42: 77.00119 | E42: 25.4812 | G42: =IF(OR('Tabel B1'!T42<5,'Tabel B1'!B42<0.5),"-",IFERROR('Tabel B1'!B42/'Tabel B1'!T42*100,"-")) -> 8.431775 | H42: =IF(OR('Tabel B1'!U42<5,'Tabel B1'!C42<0.5),"-",IFERROR('Tabel B1'!C42/'Tabel B1'!U42*100,"-")) -> 12.547601 | I42: =IF(OR('Tabel B1'!V42<5,'Tabel B1'!D42<0.5),"-",IFERROR('Tabel B1'!D42/'Tabel B1'!V42*100,"-")) -> 17.381758 | J42: =IF(OR('Tabel B1'!W42<5,'Tabel B1'!E42<0.5),"-",IFERROR('Tabel B1'!E42/'Tabel B1'!W42*100,"-")) -> 20.38496 | L42: =IF(OR('Tabel B1'!X42<5,'Tabel B1'!Z42<0.5),"-",IFERROR('Tabel B1'!Z42/'Tabel B1'!X42*100,"-")) -> 9.6537583 | R42: Cand. IT. | T42: 1693 | U42: 666 | V42: 443 | W42: 125 | X42: 4903 | Y42: 533 | Z42: 473.32377
A43: Bac. Samf. | B43: 32.91212 | C43: 21.84993 | D43: 2.99944 | E43: 10.02308 | G43: =IF(OR('Tabel B1'!T43<5,'Tabel B1'!B43<0.5),"-",IFERROR('Tabel B1'!B43/'Tabel B1'!T43*100,"-")) -> 6.8853808 | H43: =IF(OR('Tabel B1'!U43<5,'Tabel B1'!C43<0.5),"-",IFERROR('Tabel B1'!C43/'Tabel B1'!U43*100,"-")) -> 17.204669 | I43: =IF(OR('Tabel B1'!V43<5,'Tabel B1'!D43<0.5),"-",IFERROR('Tabel B1'!D43/'Tabel B1'!V43*100,"-")) -> 6.3817872 | J43: =IF(OR('Tabel B1'!W43<5,'Tabel B1'!E43<0.5),"-",IFERROR('Tabel B1'!E43/'Tabel B1'!W43*100,"-")) -> 21.325702 | L43: =IF(OR('Tabel B1'!X43<5,'Tabel B1'!Z43<0.5),"-",IFERROR('Tabel B1'!Z43/'Tabel B1'!X43*100,"-")) -> 8.6042496 | R43: Bac. Samf. | T43: 478 | U43: 127 | V43: 47 | W43: 47 | X43: 1394 | Y43: 134 | Z43: 119.94324
A44: Bac. Hum. | B44: 168.1326 | C44: 97.17395 | D44: 45.31404 | E44: 41.13952 | G44: =IF(OR('Tabel B1'!T44<5,'Tabel B1'!B44<0.5),"-",IFERROR('Tabel B1'!B44/'Tabel B1'!T44*100,"-")) -> 14.034441 | H44: =IF(OR('Tabel B1'!U44<5,'Tabel B1'!C44<0.5),"-",IFERROR('Tabel B1'!C44/'Tabel B1'!U44*100,"-")) -> 17.078023 | I44: =IF(OR('Tabel B1'!V44<5,'Tabel B1'!D44<0.5),"-",IFERROR('Tabel B1'!D44/'Tabel B1'!V44*100,"-")) -> 24.627196 | J44: =IF(OR('Tabel B1'!W44<5,'Tabel B1'!E44<0.5),"-",IFERROR('Tabel B1'!E44/'Tabel B1'!W44*100,"-")) -> 17.580991 | L44: =IF(OR('Tabel B1'!X44<5,'Tabel B1'!Z44<0.5),"-",IFERROR('Tabel B1'!Z44/'Tabel B1'!X44*100,"-")) -> 13.531546 | R44: Bac. Hum. | T44: 1198 | U44: 569 | V44: 184 | W44: 234 | X44: 3941 | Y44: 614 | Z44: 533.27824
A45: Bac. Nat. | B45: 98.21867 | C45: 49.27649 | D45: 34.72338 | E45: 18.60351 | G45: =IF(OR('Tabel B1'!T45<5,'Tabel B1'!B45<0.5),"-",IFERROR('Tabel B1'!B45/'Tabel B1'!T45*100,"-")) -> 12.155776 | H45: =IF(OR('Tabel B1'!U45<5,'Tabel B1'!C45<0.5),"-",IFERROR('Tabel B1'!C45/'Tabel B1'!U45*100,"-")) -> 14.842316 | I45: =IF(OR('Tabel B1'!V45<5,'Tabel B1'!D45<0.5),"-",IFERROR('Tabel B1'!D45/'Tabel B1'!V45*100,"-")) -> 17.71601 | J45: =IF(OR('Tabel B1'!W45<5,'Tabel B1'!E45<0.5),"-",IFERROR('Tabel B1'!E45/'Tabel B1'!W45*100,"-")) -> 13.987602 | L45: =IF(OR('Tabel B1'!X45<5,'Tabel B1'!Z45<0.5),"-",IFERROR('Tabel B1'!Z45/'Tabel B1'!X45*100,"-")) -> 11.218603 | R45: Bac. Nat. | T45: 808 | U45: 332 | V45: 196 | W45: 133 | X45: 3080 | Y45: 388 | Z45: 345.53296
A46: Andre | B46: 700.52704 | C46: 175.74877 | D46: 76.56084 | E46: 76.42176 | G46: =IF(OR('Tabel B1'!T46<5,'Tabel B1'!B46<0.5),"-",IFERROR('Tabel B1'!B46/'Tabel B1'!T46*100,"-")) -> 9.5844444 | H46: =IF(OR('Tabel B1'!U46<5,'Tabel B1'!C46<0.5),"-",IFERROR('Tabel B1'!C46/'Tabel B1'!U46*100,"-")) -> 9.807409 | I46: =IF(OR('Tabel B1'!V46<5,'Tabel B1'!D46<0.5),"-",IFERROR('Tabel B1'!D46/'Tabel B1'!V46*100,"-")) -> 10.859694 | J46: =IF(OR('Tabel B1'!W46<5,'Tabel B1'!E46<0.5),"-",IFERROR('Tabel B1'!E46/'Tabel B1'!W46*100,"-")) -> 10.042281 | L46: =IF(OR('Tabel B1'!X46<5,'Tabel B1'!Z46<0.5),"-",IFERROR('Tabel B1'!Z46/'Tabel B1'!X46*100,"-")) -> 7.7864667 | R46: Andre | T46: 7309 | U46: 1792 | V46: 705 | W46: 761 | X46: 23518 | Y46: 2093 | Z46: 1831.2212
A48: Total | B48: =SUM(B9:B46)-SUM(B17:B20) -> 7030.5268 | C48: =SUM(C9:C46)-SUM(C17:C20) -> 3345.5864 | D48: =SUM(D9:D46)-SUM(D17:D20) -> 1499.1635 | E48: =SUM(E9:E46)-SUM(E17:E20) -> 1312.867 | F48: =SUM(F9:F46)-SUM(F17:F20) -> 0 | G48: =IF(OR('Tabel B1'!T48<5,'Tabel B1'!B48<0.5),"-",IFERROR('Tabel B1'!B48/'Tabel B1'!T48*100,"-")) -> 7.8359007 | H48: =IF(OR('Tabel B1'!U48<5,'Tabel B1'!C48<0.5),"-",IFERROR('Tabel B1'!C48/'Tabel B1'!U48*100,"-")) -> 9.1459442 | I48: =IF(OR('Tabel B1'!V48<5,'Tabel B1'!D48<0.5),"-",IFERROR('Tabel B1'!D48/'Tabel B1'!V48*100,"-")) -> 9.7316681 | J48: =IF(OR('Tabel B1'!W48<5,'Tabel B1'!E48<0.5),"-",IFERROR('Tabel B1'!E48/'Tabel B1'!W48*100,"-")) -> 9.0580037 | L48: =IF(OR('Tabel B1'!X48<5,'Tabel B1'!Z48<0.5),"-",IFERROR('Tabel B1'!Z48/'Tabel B1'!X48*100,"-")) -> 6.2489646 | R48: Total | T48: 89722 | U48: 36580 | V48: 15405 | W48: 14494 | X48: 356327 | Y48: 25204 | Z48: 22266.748
A50: Ingeniører i alt | B50: 479.70561 | C50: 255.07765 | D50: 213.47346 | E50: 172.99258 | G50: =IF(OR('Tabel B1'!T50<5,'Tabel B1'!B50<0.5),"-",IFERROR('Tabel B1'!B50/'Tabel B1'!T50*100,"-")) -> 5.2107931 | H50: =IF(OR('Tabel B1'!U50<5,'Tabel B1'!C50<0.5),"-",IFERROR('Tabel B1'!C50/'Tabel B1'!U50*100,"-")) -> 4.935713 | I50: =IF(OR('Tabel B1'!V50<5,'Tabel B1'!D50<0.5),"-",IFERROR('Tabel B1'!D50/'Tabel B1'!V50*100,"-")) -> 5.9796487 | J50: =IF(OR('Tabel B1'!W50<5,'Tabel B1'!E50<0.5),"-",IFERROR('Tabel B1'!E50/'Tabel B1'!W50*100,"-")) -> 6.3740818 | L50: =IF(OR('Tabel B1'!X50<5,'Tabel B1'!Z50<0.5),"-",IFERROR('Tabel B1'!Z50/'Tabel B1'!X50*100,"-")) -> 3.7161021 | R50: Ing | T50: 9206 | U50: 5168 | V50: 3570 | W50: 2714 | X50: 66742 | Y50: 2732 | Z50: 2480.2008
A51: Magistre i alt | B51: 2035.4643 | C51: 1185.2242 | D51: 360.58317 | E51: 381.33974 | G51: =IF(OR('Tabel B1'!T51<5,'Tabel B1'!B51<0.5),"-",IFERROR('Tabel B1'!B51/'Tabel B1'!T51*100,"-")) -> 10.381844 | H51: =IF(OR('Tabel B1'!U51<5,'Tabel B1'!C51<0.5),"-",IFERROR('Tabel B1'!C51/'Tabel B1'!U51*100,"-")) -> 13.516071 | I51: =IF(OR('Tabel B1'!V51<5,'Tabel B1'!D51<0.5),"-",IFERROR('Tabel B1'!D51/'Tabel B1'!V51*100,"-")) -> 12.732457 | J51: =IF(OR('Tabel B1'!W51<5,'Tabel B1'!E51<0.5),"-",IFERROR('Tabel B1'!E51/'Tabel B1'!W51*100,"-")) -> 11.597924 | L51: =IF(OR('Tabel B1'!X51<5,'Tabel B1'!Z51<0.5),"-",IFERROR('Tabel B1'!Z51/'Tabel B1'!X51*100,"-")) -> 9.1420788 | R51: Mag | T51: 19606 | U51: 8769 | V51: 2832 | W51: 3288 | X51: 68053 | Y51: 7089 | Z51: 6221.4589
A52: DJØF'ere i alt | B52: 1738.0259 | C52: 692.13809 | D52: 315.37329 | E52: 302.79237 | G52: =IF(OR('Tabel B1'!T52<5,'Tabel B1'!B52<0.5),"-",IFERROR('Tabel B1'!B52/'Tabel B1'!T52*100,"-")) -> 6.079352 | H52: =IF(OR('Tabel B1'!U52<5,'Tabel B1'!C52<0.5),"-",IFERROR('Tabel B1'!C52/'Tabel B1'!U52*100,"-")) -> 7.3087444 | I52: =IF(OR('Tabel B1'!V52<5,'Tabel B1'!D52<0.5),"-",IFERROR('Tabel B1'!D52/'Tabel B1'!V52*100,"-")) -> 8.8538262 | J52: =IF(OR('Tabel B1'!W52<5,'Tabel B1'!E52<0.5),"-",IFERROR('Tabel B1'!E52/'Tabel B1'!W52*100,"-")) -> 9.0575043 | L52: =IF(OR('Tabel B1'!X52<5,'Tabel B1'!Z52<0.5),"-",IFERROR('Tabel B1'!Z52/'Tabel B1'!X52*100,"-")) -> 5.3796169 | R52: Djøf | T52: 28589 | U52: 9470 | V52: 3562 | W52: 3343 | X52: 96083 | Y52: 5814 | Z52: 5168.8973
A53: Se sidste del af statistikken for en oversigt over uddannelsesgrupperingernes indhold | R53: Jord. | T53: 688 | U53: 119 | V53: 44 | W53: 66 | X53: 3897 | Y53: 165 | Z53: 147.54506

Sheet Udd.oversigt
A3: Oversigt over uddannelsesgrupperingernes indhold
C7: Indhold
A9: Civ. Ing. | C9: Civilingeniører og levnedsmiddelingeniører
A10: Diplom Ing. | C10: Diplomingeniører, akademiingeniører og teknikumingeniører
A11: Cand.Scient.Tech. | C11: Kandidater indenfor det tekniske naturvidenskabelige område (Ny katagori oprettet i januar 2015)
A12: MA.Hum. | C12: Kandidatretninger indenfor det humanistiske område
A13: MA.Nat | C13: Kandidatretninger indenfor biologi, geologi, geografi og legemsøvelser, matematik, datalogi, fysik, kemi og biokemi | AA13: <
A14: MA.Ph.d. | C14: Medlemmer af Magistrenes A-kasse med en Ph.d.-grad
A15: Mag.Samf. | C15: Kandidatretninger indenfor kultursociologi, antropologi, samfundsfag og aktuarer
A16: Øvrige Mag. | C16: Medlemmer af Magistrenes Arbejdsløshedskasse, som ikke kan placeres under de andre magisterkategorier
A17: Jordbrugsakad. | C17: Bachelorer og kandidater uddannet fra KULIFE (tidligere KVL) - Cand.agro., cand.silv., cand.hort., cand.hort.arch., cand.oecon.agro., cand.scient., cand.scient.oecon. med mange forskellige tillægstitler inden for de nævnte kandidattitler.
A18: Mejeriing. | C18: Cand.lact.
A19: Levn.m.kand. | C19: Levnedsmiddelkandidater (tidligere bromatologer)
A20: Dyrlæge | C20: Cand.med.vet.
A21: Farmaceut | B21: 21049 | C21: Cand. pharm., cand. scient lægemiddelvidenskab, cand. scient medicinalkemi, cand. scient medicinalbiologi, cand. scient molekylær medicin, humanbiologer, Ph.d. farmaceuter
A22: Læge | C22: Cand.med.
A23: Tandlæge | C23: Cand.odont.
A24: Arkitekt | C24: Cand.arch.
A25: Landinspek. | C25: Cand.geom.
A26: Bibliotekar | C26: Bibliotekar D.B. og cand.scient.bibl.
A27: Musikudd. | C27: Musikuddannede kandidater
A28: Teolog | C28: Cand.teol.
A29: Psykolog | C29: Cand.psych.
A30: Jurist | C30: Cand.jur.
A31: Økonom | C31: Cand.oecon., cand.polit. og cand.scient.oecon.
A32: Samf.Adm. | C32: Cand.scient.pol., cand.rer.soc., cand.tech.soc., cand. scient.adm., cand.adm.pol., cand.negot., cand.comm., kand.-samf. og cand.-scient.soc.
A33: Cand.Merc. | C33: Alle retninger indenfor cand.merc-uddannelserne.
... A42: Andre | C42: Kiropraktorer og medlemmer af AAK, CA og IAK som ikke kan placeres indenfor en af de øvrige uddannelseskategorier. Cand.design, ph.d. i arkitektur og design samt master of architecture and design indgår også her
B48: =SUM(B9:B46)-SUM(B17:B20) -> 21049
