Workbook
Name _Toc364257418: Udd.oversigt!$A$3

Sheet Nøgletalstabeller
A1: Nøgletal 1: Ledighed (sæsonkorrigeret)
C3: Seneste udvikling | M3: Årlig udvikling
C4: Fuldtidspersoner | H4: Ledighedspct. | M4: Fuldtidspersoner | P4: Ledighedspct.
C5: 2020 | D5: 2020 | E5: 2020 | F5: 2020 | H5: 2020 | I5: 2020 | J5: 2020 | K5: 2020 | M5: 2019 | N5: 2020 | P5: 2019 | Q5: 2020
C6: Juli | D6: Aug | E6: Sep | F6: Okt | H6: Juli | I6: Aug | J6: Sep | K6: Okt | M6: Okt | N6: Okt | P6: Okt | Q6: Okt
A8: Bruttoledighed | C8: 22703.882 | D8: 22338.677 | E8: 21864.615 | F8: 21265.651 | H8: 6.4770775 | I8: 6.3266481 | J8: 6.1541404 | K8: 5.9673246 | M8: 16787.884 | N8: =F8 -> 21265.651 | P8: 5.0506458 | Q8: =K8 -> 5.9673246
A9: Fordelt på kandidatalder
A10: Kandidatalder
A11: - op til 1 år | C11: 7534.9297 | D11: 7235.6626 | E11: 7076.4664 | F11: 6779.1892 | H11: 34.103994 | I11: 33.639154 | J11: 32.915106 | K11: 31.702309 | M11: 6109.5978 | N11: =F11 -> 6779.1892 | P11: 31.046838 | Q11: =K11 -> 31.702309
A12: - mellem 1 - 2 år | C12: 3221.5824 | D12: 2989.0704 | E12: 2904.4638 | F12: 2811.9862 | H12: 16.697466 | I12: 15.929967 | J12: 14.989667 | K12: 14.609923 | M12: 2350.8365 | N12: =F12 -> 2811.9862 | P12: 13.305184 | Q12: =K12 -> 14.609923
A13: - øvrige | C13: 10958.275 | D13: 10832.805 | E13: 10663.483 | F13: 10490.699 | H13: 3.9746447 | I13: 3.9070215 | J13: 3.8407288 | K13: 3.77167 | M13: 7310.4344 | N13: =F13 -> 10490.699 | P13: 2.8027982 | Q13: =K13 -> 3.77167
A15: Fordelt på akademiske hovedgrupper
A16: DJØF'ere | C16: 5237.5454 | D16: 5269.7608 | E16: 5129.9491 | F16: 4913.4198 | H16: 5.5506056 | I16: 5.5494961 | J16: 5.3987315 | K16: 5.1453624 | M16: 3934.9485 | N16: =F16 -> 4913.4198 | P16: 4.3293192 | Q16: =K16 -> 5.1453624
A17: - kandidatalder op til 1 år | C17: 2052.2003 | D17: 1870.7105 | E17: 1810.9008 | F17: 1667.5215 | H17: 34.7683 | I17: 31.196108 | J17: 29.933345 | K17: 28.335673 | M17: 1467.7035 | N17: =F17 -> 1667.5215 | P17: 26.523021 | Q17: =K17 -> 28.335673
A18: - øvrige | C18: 2981.3176 | D18: 3021.9732 | E18: 2954.4441 | F18: 2855.5563 | H18: 3.8821032 | I18: 3.9402821 | J18: 3.8447829 | K18: 3.709416 | M18: 2189.697 | N18: =F18 -> 2855.5563 | P18: 2.974237 | Q18: =K18 -> 3.709416
A20: Magistre | C20: 6349.7686 | D20: 6207.4207 | E20: 5992.1535 | F20: 5877.5809 | H20: 9.4249943 | I20: 9.2194794 | J20: 8.7816538 | K20: 8.650556 | M20: 4793.3188 | N20: =F20 -> 5877.5809 | P20: 7.2999603 | Q20: =K20 -> 8.650556
A21: - kandidatalder op til 1 år | B21: 21049 | C21: 1675.1057 | D21: 1720.4934 | E21: 1681.9898 | F21: 1635.3396 | H21: 47.16916 | I21: 47.296982 | J21: 45.314866 | K21: 43.849073 | M21: 1577.7086 | N21: =F21 -> 1635.3396 | P21: 42.361702 | Q21: =K21 -> 43.849073
A22: - øvrige | C22: 4424.7456 | D22: 4194.0674 | E22: 4082.1128 | F22: 4056.2216 | H22: 7.4095186 | I22: 7.0813579 | J22: 6.8068645 | K22: 6.7949633 | M22: 3019.3522 | N22: =F22 -> 4056.2216 | P22: 5.2418773 | Q22: =K22 -> 6.7949633
A24: Ingeniører | C24: 2406.1978 | D24: 2442.9366 | E24: 2441.2224 | F24: 2415.6641 | H24: 3.6241852 | I24: 3.6721932 | J24: 3.661546 | K24: 3.6216162 | M24: 1714.7196 | N24: =F24 -> 2415.6641 | P24: 2.6432783 | Q24: =K24 -> 3.6216162
A25: - kandidatalder op til 1 år | C25: 860.20495 | D25: 861.46418 | E25: 880.3012 | F25: 849.96402 | H25: 31.663534 | I25: 31.600009 | J25: 32.007646 | K25: 31.625875 | M25: 669.29631 | N25: =F25 -> 849.96402 | P25: 26.925113 | Q25: =K25 -> 31.625875
A26: - øvrige | C26: 1496.8544 | D26: 1542.6196 | E26: 1512.0417 | F26: 1510.517 | H26: 2.4254591 | I26: 2.4972089 | J26: 2.4439295 | K26: 2.4388871 | M26: 1005.2241 | N26: =F26 -> 1510.517 | P26: 1.6569474 | Q26: =K26 -> 2.4388871
A28: Nøgletal 2: Ledighed (ikke sæsonkorrigeret)
C30: Seneste udvikling | M30: Årlig udvikling
C31: Fuldtidspersoner | H31: Ledighedspct. | M31: Fuldtidspersoner | P31: Ledighedspct.
C32: 2020 | D32: 2020 | E32: 2020 | F32: 2020 | H32: 2020 | I32: 2020 | J32: 2020 | K32: 2020 | M32: 2019 | N32: 2020 | P32: 2019 | Q32: 2020
C33: Juli | D33: Aug | E33: Sep | F33: Okt | H33: Juli | I33: Aug | J33: Sep | K33: Okt | M33: Okt | N33: Okt | P33: Okt | Q33: Okt
A35: Bruttoledighed | C35: 24230.304 | D35: 25284.274 | E35: 23600.631 | F35: 22266.748 | H35: 6.8041818 | I35: 7.108854 | J35: 6.6220061 | K35: 6.2489646 | M35: 17589.144 | N35: =F35 -> 22266.748 | P35: 5.2902228 | Q35: =K35 -> 6.2489646
A36: Fordelt på kandidatalder
A37: Kandidatalder
A38: - op til 1 år | C38: 9380.4758 | D38: 8984.6794 | E38: 7926.7932 | F38: 7393.949 | H38: 40.333989 | I38: 40.067247 | J38: 35.962223 | K38: 33.490121 | M38: 6704.8706 | N38: =F38 -> 7393.949 | P38: 33.051713 | Q38: =K38 -> 33.490121
A39: - mellem 1 - 2 år | C39: 3440.9583 | D39: 3264.2553 | E39: 3127.7346 | F39: 2938.5285 | H39: 17.223737 | I39: 17.1325 | J39: 15.881662 | K39: 15.207413 | M39: 2449.5896 | N39: =F39 -> 2938.5285 | P39: 13.808284 | Q39: =K39 -> 15.207413
A40: - øvrige | C40: 10029.415 | D40: 11397.86 | E40: 11226.089 | F40: 10695.354 | H40: 3.6187416 | I40: 4.0977682 | J40: 4.0282357 | K40: 3.8372838 | M40: 7449.4649 | N40: =F40 -> 10695.354 | P40: 2.850237 | Q40: =K40 -> 3.8372838
A42: Fordelt på akademiske hovedgrupper
A43: DJØF'ere | C43: 5934.1121 | D43: 6285.1438 | E43: 5590.184 | F43: 5168.8973 | H43: 6.1988657 | I43: 6.5582284 | J43: 5.8342907 | K43: 5.3796169 | M43: 4165.9184 | N43: =F43 -> 5168.8973 | P43: 4.552369 | Q43: =K43 -> 5.3796169
A44: - kandidatalder op til 1 år | C44: 2711.4813 | D44: 2601.1826 | E44: 2064.893 | F44: 1851.1763 | H44: 42.215185 | I44: 41.459716 | J44: 33.591883 | K44: 30.198635 | M44: 1639.5834 | N44: =F44 -> 1851.1763 | P44: 28.317502 | Q44: =K44 -> 30.198635
A45: - øvrige | C45: 2855.193 | D45: 3208.9871 | E45: 3147.8195 | F45: 2966.806 | H45: 3.6984366 | I45: 4.1545126 | J45: 4.0664249 | K45: 3.8261126 | M45: 2274.8668 | N45: =F45 -> 2966.806 | P45: 3.067967 | Q45: =K45 -> 3.8261126
A47: Magistre | B47: =SUM(B9:B45)-SUM(B17:B20) -> 21049 | C47: 6409.4318 | D47: 6619.4773 | E47: 6397.4122 | F47: 6221.4589 | G47: 0 | H47: 9.4357646 | I47: 9.7704462 | J47: 9.3422883 | K47: 9.1420788 | M47: 5067.6717 | N47: =F47 -> 6221.4589 | P47: 7.7045559 | Q47: =K47 -> 9.1420788
A48: - kandidatalder op til 1 år | C48: 1891.656 | D48: 1847.3879 | E48: 1778.2318 | F48: 1807.9392 | H48: 50.66031 | I48: 48.034006 | J48: 47.609954 | K48: 47.930521 | M48: 1750.3586 | N48: =F48 -> 1807.9392 | P48: 46.220191 | Q48: =K48 -> 47.930521
A49: - øvrige | B49: 3113.8913 | C49: 4222.8672 | D49: 4484.371 | E49: 4388.4819 | F49: 4195.5086 | H49: 7.0967787 | I49: 7.5386585 | J49: 7.2697907 | K49: 6.9971792 | M49: 3113.8913 | N49: =F49 -> 4195.5086 | P49: 5.3842812 | Q49: =K49 -> 6.9971792
A51: Ingeniører | C51: 2613.9306 | D51: 2847.1209 | E51: 2679.1256 | F51: 2480.2008 | H51: 3.9111962 | I51: 4.261264 | J51: 4.0114477 | K51: 3.7161021 | M51: 1764.2593 | N51: =F51 -> 2480.2008 | P51: 2.7177155 | Q51: =K51 -> 3.7161021
...

Sheet Efterløn
A1: Efterlønsmodtagere i forhold til samlet antal medlemmer
D4: I alt | J4: Mænd | P4: Kvinder
B6: Alder | D6: Antal Medlemmer i a-kasse | F6: Antal på efterløn | H6: Pct. på efterløn | J6: Antal Medlemmer i a-kasse | L6: Antal på efterløn | N6: Pct. på efterløn | P6: Antal Medlemmer i a-kasse | R6: Antal på efterløn | T6: Pct. på efterløn
B9: 60 år | D9: 4530 | F9: 0 | H9: =IF(D9<10,"-",F9/D9*100) -> 0 | J9: 2806 | L9: 0 | N9: =IF(J9<10,"-",L9/J9*100) -> 0 | P9: 1724 | R9: 0 | T9: =IF(P9<10,"-",R9/P9*100) -> 0
B10: 61 år | D10: 4282 | F10: 0 | H10: =IF(D10<10,"-",F10/D10*100) -> 0 | J10: 2678 | L10: 0 | N10: =IF(J10<10,"-",L10/J10*100) -> 0 | P10: 1604 | R10: 0 | T10: =IF(P10<10,"-",R10/P10*100) -> 0
B11: 62 år | D11: 4149 | F11: 0 | H11: =IF(D11<10,"-",F11/D11*100) -> 0 | J11: 2585 | L11: 0 | N11: =IF(J11<10,"-",L11/J11*100) -> 0 | P11: 1564 | R11: 0 | T11: =IF(P11<10,"-",R11/P11*100) -> 0
B12: 63 år | D12: 3978 | F12: 265 | H12: =IF(D12<10,"-",F12/D12*100) -> 6.661639 | J12: 2511 | L12: 107 | N12: =IF(J12<10,"-",L12/J12*100) -> 4.2612505 | P12: 1467 | R12: 158 | T12: =IF(P12<10,"-",R12/P12*100) -> 10.770279
B13: 64 år | D13: 3575 | F13: 542 | H13: =IF(D13<10,"-",F13/D13*100) -> 15.160839 | J13: 2274 | L13: 263 | N13: =IF(J13<10,"-",L13/J13*100) -> 11.565523 | P13: 1301 | R13: 279 | T13: =IF(P13<10,"-",R13/P13*100) -> 21.445042
B14: 65 år | D14: 3633 | F14: 1229 | H14: =IF(D14<10,"-",F14/D14*100) -> 33.828792 | J14: 2348 | L14: 636 | N14: =IF(J14<10,"-",L14/J14*100) -> 27.086882 | P14: 1285 | R14: 593 | T14: =IF(P14<10,"-",R14/P14*100) -> 46.14786
B15: 66 år + | D15: 347 | F15: 121 | H15: =IF(D15<10,"-",F15/D15*100) -> 34.870317 | J15: 248 | L15: 73 | N15: =IF(J15<10,"-",L15/J15*100) -> 29.435484 | P15: 99 | R15: 48 | T15: =IF(P15<10,"-",R15/P15*100) -> 48.484848
B17: Total | D17: 1 | F17: 0 | H17: =IF(D17<10,"-",F17/D17*100) -> - | J17: 1 | L17: 0 | N17: =IF(J17<10,"-",L17/J17*100) -> - | P17: 0 | R17: 0 | T17: =IF(P17<10,"-",R17/P17*100) -> -

Sheet Tabel 1
A1: Landstatistik | N1: Landstatistik
A3: Tabel 1. Forsikrede medlemmer | N3: Tabel 1. Forsikrede medlemmer inkl. efterlønnere
C6: Mænd | F6: Kvinder | I6: I alt | P6: Mænd | S6: Kvinder | V6: I alt
C7: =Nøgletalstabeller!$M$5 -> 2019 | D7: =Nøgletalstabeller!$N$5 -> 2020 | F7: =Nøgletalstabeller!$M$5 -> 2019 | G7: =Nøgletalstabeller!$N$5 -> 2020 | I7: =Nøgletalstabeller!$M$5 -> 2019 | J7: =Nøgletalstabeller!$N$5 -> 2020 | P7: =Nøgletalstabeller!$M$5 -> 2019 | Q7: =Nøgletalstabeller!$N$5 -> 2020 | S7: =Nøgletalstabeller!$M$5 -> 2019 | T7: =Nøgletalstabeller!$N$5 -> 2020 | V7: =Nøgletalstabeller!$M$5 -> 2019 | W7: =Nøgletalstabeller!$N$5 -> 2020
A9: Civ. Ing. | C9: 23067 | D9: 24052 | F9: 8136 | G9: 8631 | I9: 31203 | J9: =D9+G9 -> 32683 | N9: Civ. Ing. | P9: 23151 | Q9: 24139 | S9: 8155 | T9: 8652 | V9: 31306 | W9: =Q9+T9 -> 32791
A10: Diplom Ing. | C10: 27441 | D10: 27653 | F10: 6273 | G10: 6406 | I10: 33714 | J10: =D10+G10 -> 34059 | N10: Diplom Ing. | P10: 27714 | Q10: 27938 | S10: 6293 | T10: 6433 | V10: 34007 | W10: =Q10+T10 -> 34371
A11: Cand.Scient.Tech. | C11: 9505 | D11: 10458 | F11: 7757 | G11: 8582 | I11: 17262 | J11: =D11+G11 -> 19040 | N11: Cand.Scient.Tech. | P11: 9513 | Q11: 10466 | S11: 7761 | T11: 8585 | V11: 17274 | W11: =Q11+T11 -> 19051
A12: MA. Hum. | C12: 12896 | D12: 13201 | F12: 27569 | G12: 28655 | I12: 40465 | J12: =D12+G12 -> 41856 | N12: MA. Hum. | P12: 13018 | Q12: 13323 | S12: 27760 | T12: 28861 | V12: 40778 | W12: =Q12+T12 -> 42184
A13: MA. Nat. | C13: 7746 | D13: 7694 | F13: 7122 | G13: 7173 | I13: 14868 | J13: =D13+G13 -> 14867 | N13: MA. Nat. | P13: 7843 | Q13: 7787 | S13: 7172 | T13: 7222 | V13: 15015 | W13: =Q13+T13 -> 15009
A14: MA. Ph.d. | C14: 1336 | D14: 1380 | F14: 1076 | G14: 1118 | I14: 2412 | J14: =D14+G14 -> 2498 | N14: MA. Ph.d. | P14: 1339 | Q14: 1383 | S14: 1079 | T14: 1123 | V14: 2418 | W14: =Q14+T14 -> 2506
A15: MA. Samf. | C15: 1306 | D15: 1422 | F15: 3498 | G15: 3860 | I15: 4804 | J15: =D15+G15 -> 5282 | N15: MA. Samf. | P15: 1309 | Q15: 1426 | S15: 3504 | T15: 3868 | V15: 4813 | W15: =Q15+T15 -> 5294
A16: Øvrige Mag. | C16: 1132 | D16: 1278 | F16: 2094 | G16: 2272 | I16: 3226 | J16: =D16+G16 -> 3550 | N16: Øvrige Mag. | P16: 1153 | Q16: 1301 | S16: 2132 | T16: 2319 | V16: 3285 | W16: =Q16+T16 -> 3620
A17: Agronom | C17: 1231 | D17: 1189 | F17: 1164 | G17: 1177 | I17: 2395 | J17: =D17+G17 -> 2366 | N17: Agronom | P17: 1248 | Q17: 1205 | S17: 1173 | T17: 1190 | V17: 2421 | W17: =Q17+T17 -> 2395
A18: Landsk. Arkt. | C18: 193 | D18: 201 | F18: 495 | G18: 505 | I18: 688 | J18: =D18+G18 -> 706 | N18: Landsk. Arkt. | P18: 195 | Q18: 202 | S18: 497 | T18: 505 | V18: 692 | W18: =Q18+T18 -> 707
A19: Hortonom | C19: 124 | D19: 117 | F19: 205 | G19: 196 | I19: 329 | J19: =D19+G19 -> 313 | N19: Hortonom | P19: 128 | Q19: 119 | S19: 209 | T19: 200 | V19: 337 | W19: =Q19+T19 -> 319
A20: Forstkand. | C20: 387 | D20: 383 | F20: 127 | G20: 129 | I20: 514 | J20: =D20+G20 -> 512 | N20: Forstkand. | P20: 391 | Q20: 387 | S20: 127 | T20: 130 | V20: 518 | W20: =Q20+T20 -> 517
A21: Jordbrugsakad. | B21: 21049 | C21: 1935 | D21: 1890 | F21: 1991 | G21: 2007 | I21: 3926 | J21: =D21+G21 -> 3897 | N21: Jordbrugsakad. | P21: 1962 | Q21: 1913 | S21: 2006 | T21: 2025 | V21: 3968 | W21: =Q21+T21 -> 3938
A22: Mejeriing. | C22: 189 | D22: 185 | F22: 165 | G22: 178 | I22: 354 | J22: =D22+G22 -> 363 | N22: Mejeriing. | P22: 192 | Q22: 188 | S22: 165 | T22: 179 | V22: 357 | W22: =Q22+T22 -> 367
A23: Levn.m.kand. | C23: 52 | D23: 64 | F23: 352 | G23: 372 | I23: 404 | J23: =D23+G23 -> 436 | N23: Levn.m.kand. | P23: 52 | Q23: 64 | S23: 352 | T23: 372 | V23: 404 | W23: =Q23+T23 -> 436
A24: Dyrlæge | C24: 445 | D24: 452 | F24: 1860 | G24: 1938 | I24: 2305 | J24: =D24+G24 -> 2390 | N24: Dyrlæge | P24: 447 | Q24: 456 | S24: 1873 | T24: 1950 | V24: 2320 | W24: =Q24+T24 -> 2406
A25: Farmaceut | C25: 1382 | D25: 1413 | F25: 3884 | G25: 3987 | I25: 5266 | J25: =D25+G25 -> 5400 | N25: Farmaceut | P25: 1388 | Q25: 1420 | S25: 3916 | T25: 4014 | V25: 5304 | W25: =Q25+T25 -> 5434
A26: Læge | C26: 3518 | D26: 3651 | F26: 7867 | G26: 8301 | I26: 11385 | J26: =D26+G26 -> 11952 | N26: Læge | P26: 3525 | Q26: 3660 | S26: 7894 | T26: 8318 | V26: 11419 | W26: =Q26+T26 -> 11978
A27: Tandlæge | C27: 305 | D27: 301 | F27: 1727 | G27: 1764 | I27: 2032 | J27: =D27+G27 -> 2065 | N27: Tandlæge | P27: 306 | Q27: 305 | S27: 1745 | T27: 1782 | V27: 2051 | W27: =Q27+T27 -> 2087
A28: Arkitekt | C28: 2739 | D28: 2761 | F28: 3293 | G28: 3337 | I28: 6032 | J28: =D28+G28 -> 6098 | N28: Arkitekt | P28: 2778 | Q28: 2804 | S28: 3328 | T28: 3372 | V28: 6106 | W28: =Q28+T28 -> 6176
A29: Landinspek. | C29: 604 | D29: 600 | F29: 251 | G29: 255 | I29: 855 | J29: =D29+G29 -> 855 | N29: Landinspek. | P29: 614 | Q29: 612 | S29: 254 | T29: 258 | V29: 868 | W29: =Q29+T29 -> 870
A30: Bibliotekar | C30: 917 | D30: 886 | F30: 2615 | G30: 2540 | I30: 3532 | J30: =D30+G30 -> 3426 | N30: Bibliotekar | P30: 953 | Q30: 921 | S30: 2729 | T30: 2666 | V30: 3682 | W30: =Q30+T30 -> 3587
A31: Musikudd. | C31: 419 | D31: 407 | F31: 538 | G31: 523 | I31: 957 | J31: =D31+G31 -> 930 | N31: Musikudd. | P31: 426 | Q31: 412 | S31: 549 | T31: 535 | V31: 975 | W31: =Q31+T31 -> 947
A32: Teolog | C32: 675 | D32: 658 | F32: 1076 | G32: 1070 | I32: 1751 | J32: =D32+G32 -> 1728 | N32: Teolog | P32: 680 | Q32: 662 | S32: 1081 | T32: 1075 | V32: 1761 | W32: =Q32+T32 -> 1737
A33: Psykolog | C33: 1429 | D33: 1489 | F33: 6465 | G33: 6732 | I33: 7894 | J33: =D33+G33 -> 8221 | N33: Psykolog | P33: 1444 | Q33: 1505 | S33: 6494 | T33: 6767 | V33: 7938 | W33: =Q33+T33 -> 8272
... A46: Andre | C46: 10920 | D46: 11656 | F46: 10977 | G46: 11862 | I46: 21897 | J46: =D46+G46 -> 23518 | N46: Andre | P46: 11085 | Q46: 11834 | S46: 11096 | T46: 11998 | V46: 22181 | W46: =Q46+T46 -> 23832
A48: Total | B48: =SUM(B9:B46)-SUM(B17:B20) -> 21049 | C48: =SUM(C9:C46)-SUM(C17:C20) -> 169382 | D48: =SUM(D9:D46)-SUM(D17:D20) -> 176600 | F48: =SUM(F9:F46)-SUM(F17:F20) -> 171168 | G48: =SUM(G9:G46)-SUM(G17:G20) -> 179727 | H48: =SUM(H9:H46)-SUM(H17:H20) -> 0 | I48: =SUM(I9:I46)-SUM(I17:I20) -> 340550 | J48: =SUM(J9:J46)-SUM(J17:J20) -> 356327 | N48: Total | P48: =SUM(P9:P46)-SUM(P17:P20) -> 170559 | Q48: =SUM(Q9:Q46)-SUM(Q17:Q20) -> 177807 | S48: =SUM(S9:S46)-SUM(S17:S20) -> 172198 | T48: =SUM(T9:T46)-SUM(T17:T20) -> 180858 | V48: =SUM(V9:V46)-SUM(V17:V20) -> 342757 | W48: =SUM(W9:W46)-SUM(W17:W20) -> 358665
A50: Ingeniører i alt | C50: 50508 | D50: 51705 | F50: 14409 | G50: 15037 | I50: 64917 | J50: =D50+G50 -> 66742 | N50: Ingeniører i alt | P50: 50865 | Q50: 52077 | S50: 14448 | T50: 15085 | V50: 65313 | W50: =Q50+T50 -> 67162
A51: Magistre i alt | C51: 24416 | D51: 24975 | F51: 41359 | G51: 43078 | I51: 65775 | J51: =D51+G51 -> 68053 | N51: Magistre i alt | P51: 24662 | Q51: 25220 | S51: 41647 | T51: 43393 | V51: 66309 | W51: =Q51+T51 -> 68613
A52: DJØF'ere i alt | C52: 42588 | D52: 44584 | F52: 48923 | G52: 51499 | I52: 91511 | J52: =D52+G52 -> 96083 | N52: DJØF'ere i alt | P52: 42774 | Q52: 44767 | S52: 48997 | T52: 51582 | V52: 91771 | W52: =Q52+T52 -> 96349
A53: Se sidste del af statistikken for en oversigt over uddannelsesgrupperingernes indhold

Sheet Tabel 2
A1: Landstatistik
A3: Tabel 2. Antal bruttoledige målt i berørte og opregnet til fuldtidspersoner
C5: Mænd | F5: Kvinder | I5: I alt
C6: Ledigheds-berørte | D6: Fuldtids-personer | F6: Ledigheds-berørte | G6: Fuldtids-personer | I6: Ledigheds-berørte | J6: Fuldtids-personer
A9: Civ. Ing. | C9: 987 | D9: 898.90226 | F9: 449 | G9: 402.72251 | H9: 854 | I9: =C9+F9 -> 1436 | J9: =D9+G9 -> 1301.6248
A10: Diplom Ing. | C10: 993 | D10: 908.10952 | F10: 303 | G10: 270.46654 | H10: 738 | I10: =C10+F10 -> 1296 | J10: =D10+G10 -> 1178.5761
A11: Cand.Scient.Tech. | C11: 1022 | D11: 919.74303 | F11: 933 | G11: 808.22928 | H11: 2239 | I11: =C11+F11 -> 1955 | J11: =D11+G11 -> 1727.9723
A12: MA. Hum. | C12: 1592 | D12: 1410.1902 | F12: 3506 | G12: 3055.1307 | H12: 550 | I12: =C12+F12 -> 5098 | J12: =D12+G12 -> 4465.3209
A13: MA. Nat. | C13: 313 | D13: 270.86821 | F13: 395 | G13: 339.34323 | H13: 91 | I13: =C13+F13 -> 708 | J13: =D13+G13 -> 610.21144
A14: MA. Ph.d. | C14: 55 | D14: 48.67897 | F14: 73 | G14: 64.25186 | H14: 349 | I14: =C14+F14 -> 128 | J14: =D14+G14 -> 112.93083
A15: MA. Samf. | C15: 242 | D15: 221.39961 | F15: 580 | G15: 514.58305 | H15: 204 | I15: =C15+F15 -> 822 | J15: =D15+G15 -> 735.98266
A16: Øvrige Mag. | C16: 113 | D16: 99.32327 | F16: 220 | G16: 197.68976 | H16: 66 | I16: =C16+F16 -> 333 | J16: =D16+G16 -> 297.01303
A17: Agronom | C17: 30 | D17: 25.74004 | F17: 59 | G17: 52.49548 | H17: 40 | I17: =C17+F17 -> 89 | J17: =D17+G17 -> 78.23552
A18: Landsk. Arkt. | C18: 13 | D18: 11.8437 | F18: 32 | G18: 28.1432 | H18: 16 | I18: =C18+F18 -> 45 | J18: =D18+G18 -> 39.9869
A19: Hortonom | C19: 1 | D19: 0.85012 | F19: 8 | G19: 7.39974 | H19: 14 | I19: =C19+F19 -> 9 | J19: =D19+G19 -> 8.24986
A20: Forstkand. | C20: 16 | D20: 15.07391 | E20: 83 | F20: 6 | G20: 5.99888 | H20: 136 | I20: =C20+F20 -> 22 | J20: =D20+G20 -> 21.07279
A21: Jordbrugsakad. | B21: 21049 | C21: 60 | D21: 53.50777 | F21: 105 | G21: 94.0373 | I21: =C21+F21 -> 165 | J21: =D21+G21 -> 147.54507
A22: Mejeriing. | C22: 7 | D22: 6.57581 | F22: 3 | G22: 2.07135 | H22: 17 | I22: =C22+F22 -> 10 | J22: =D22+G22 -> 8.64716
A23: Levn.m.kand. | C23: 7 | D23: 6.04191 | F23: 30 | G23: 24.28366 | H23: 110 | I23: =C23+F23 -> 37 | J23: =D23+G23 -> 30.32557
A24: Dyrlæge | C24: 10 | D24: 6.58704 | F24: 60 | G24: 52.77054 | H24: 143 | I24: =C24+F24 -> 70 | J24: =D24+G24 -> 59.35758
A25: Farmaceut | C25: 78 | D25: 69.30019 | F25: 167 | G25: 149.02202 | H25: 66 | I25: =C25+F25 -> 245 | J25: =D25+G25 -> 218.32221
A26: Læge | C26: 70 | D26: 58.21368 | F26: 150 | G26: 122.69881 | H26: 55 | I26: =C26+F26 -> 220 | J26: =D26+G26 -> 180.91249
A27: Tandlæge | C27: 6 | D27: 4.98222 | F27: 50 | G27: 38.14445 | H27: 345 | I27: =C27+F27 -> 56 | J27: =D27+G27 -> 43.12667
A28: Arkitekt | C28: 220 | D28: 199.97755 | F28: 285 | G28: 252.12125 | H28: 7 | I28: =C28+F28 -> 505 | J28: =D28+G28 -> 452.0988
A29: Landinspek. | C29: 9 | D29: 7.8931 | F29: 4 | G29: 3.99925 | H29: 276 | I29: =C29+F29 -> 13 | J29: =D29+G29 -> 11.89235
A30: Bibliotekar | C30: 50 | D30: 42.93769 | F30: 136 | G30: 118.64467 | H30: 32 | I30: =C30+F30 -> 186 | J30: =D30+G30 -> 161.58236
A31: Musikudd. | C31: 17 | D31: 13.60818 | F31: 26 | G31: 19.00019 | H31: 59 | I31: =C31+F31 -> 43 | J31: =D31+G31 -> 32.60837
A32: Teolog | C32: 14 | D32: 12.24849 | F32: 25 | G32: 20.14034 | H32: 279 | I32: =C32+F32 -> 39 | J32: =D32+G32 -> 32.38883
A33: Psykolog | C33: 120 | D33: 104.70155 | F33: 459 | G33: 391.51999 | H33: 372 | I33: =C33+F33 -> 579 | J33: =D33+G33 -> 496.22154
... A40: Komm. og Sprog | C40: 147 | D40: 128.81931 | F40: 608 | G40: 532.39506 | H40: 241 | I40: =C40+F40 -> 755 | J40: =D40+G40 -> 661.21437
A41: Bygningskonst. | C41: 374 | D41: 337.26414 | F41: 111 | G41: 98.41296 | I41: =C41+F41 -> 485 | J41: =D41+G41 -> 435.6771
A42: Cand. IT. | C42: 233 | D42: 212.0963 | F42: 300 | G42: 261.22747 | H42: 78 | I42: =C42+F42 -> 533 | J42: =D42+G42 -> 473.32377
A43: Bac. Samf. | C43: 55 | D43: 50.85012 | F43: 79 | G43: 69.09312 | H43: 326 | I43: =C43+F43 -> 134 | J43: =D43+G43 -> 119.94324
A44: Bac. Hum. | C44: 225 | D44: 202.52292 | F44: 389 | G44: 330.75532 | H44: 12 | I44: =C44+F44 -> 614 | J44: =D44+G44 -> 533.27824
A45: Bac. Nat. | C45: 234 | D45: 215.64773 | F45: 154 | G45: 129.88524 | H45: 2761 | I45: =C45+F45 -> 388 | J45: =D45+G45 -> 345.53297
A46: Andre | C46: 797 | D46: 710.91811 | F46: 1296 | G46: 1120.3031 | I46: =C46+F46 -> 2093 | J46: =D46+G46 -> 1831.2212
A48: Total | B48: =SUM(B9:B46)-SUM(B17:B20) -> 21049 | C48: =SUM(C9:C46)-SUM(C17:C20) -> 10845 | D48: =SUM(D9:D46)-SUM(D17:D20) -> 9746.9666 | E48: =SUM(E9:E46)-SUM(E17:E20) -> 0 | F48: =SUM(F9:F46)-SUM(F17:F20) -> 14359 | G48: =SUM(G9:G46)-SUM(G17:G20) -> 12519.781 | H48: =SUM(H9:H46)-SUM(H17:H20) -> 14256 | I48: =SUM(I9:I46)-SUM(I17:I20) -> 25204 | J48: =SUM(J9:J46)-SUM(J17:J20) -> 22266.748
A50: Ingeniører i alt | C50: 1980 | D50: 1807.0118 | F50: 752 | G50: 673.18905 | I50: =C50+F50 -> 2732 | J50: =D50+G50 -> 2480.2008
A51: Magistre i alt | C51: 2315 | D51: 2050.4603 | F51: 4774 | G51: 4170.9986 | I51: =C51+F51 -> 7089 | J51: =D51+G51 -> 6221.4589
A52: DJØF'ere i alt | C52: 2582 | D52: 2331.8761 | F52: 3232 | G52: 2837.0211 | I52: =C52+F52 -> 5814 | J52: =D52+G52 -> 5168.8973
...

Sheet Tabel 3
A1: Landstatistik
A3: Tabel 3. Antal bruttoledige i procent af antal forsikrede
C5: Mænd | F5: Kvinder | G5: Kvinder | I5: I alt | J5: I alt
C6: Ledigheds-berørte | D6: Fuldtids-personer | F6: Ledigheds-berørte | G6: Fuldtids-personer | I6: Ledigheds-berørte | J6: Fuldtids-personer
A9: Civ. Ing. | C9: =IF(OR('Tabel 1'!$D9<5,'Tabel 2'!C9<0.5),"-",IFERROR('Tabel 2'!C9/'Tabel 1'!$D9*100,"-")) -> 4.1036088 | D9: =IF(OR('Tabel 1'!$D9<5,'Tabel 2'!D9<0.5),"-",IFERROR('Tabel 2'!D9/'Tabel 1'!$D9*100,"-")) -> 3.7373285 | F9: =IF(OR('Tabel 1'!$G9<5,'Tabel 2'!F9<0.5),"-",IFERROR('Tabel 2'!F9/'Tabel 1'!$G9*100,"-")) -> 5.2021782 | G9: =IF(OR('Tabel 1'!$G9<5,'Tabel 2'!G9<0.5),"-",IFERROR('Tabel 2'!G9/'Tabel 1'!$G9*100,"-")) -> 4.6660006 | I9: =IF(OR('Tabel 1'!$J9<5,'Tabel 2'!I9<0.5),"-",IFERROR('Tabel 2'!I9/'Tabel 1'!$J9*100,"-")) -> 4.3937215 | J9: =IF(OR('Tabel 1'!$J9<5,'Tabel 2'!J9<0.5),"-",IFERROR('Tabel 2'!J9/'Tabel 1'!$J9*100,"-")) -> 3.9825743
A10: Diplom Ing. | C10: =IF(OR('Tabel 1'!$D10<5,'Tabel 2'!C10<0.5),"-",IFERROR('Tabel 2'!C10/'Tabel 1'!$D10*100,"-")) -> 3.5909305 | D10: =IF(OR('Tabel 1'!$D10<5,'Tabel 2'!D10<0.5),"-",IFERROR('Tabel 2'!D10/'Tabel 1'!$D10*100,"-")) -> 3.2839458 | F10: =IF(OR('Tabel 1'!$G10<5,'Tabel 2'!F10<0.5),"-",IFERROR('Tabel 2'!F10/'Tabel 1'!$G10*100,"-")) -> 4.7299407 | G10: =IF(OR('Tabel 1'!$G10<5,'Tabel 2'!G10<0.5),"-",IFERROR('Tabel 2'!G10/'Tabel 1'!$G10*100,"-")) -> 4.2220815 | I10: =IF(OR('Tabel 1'!$J10<5,'Tabel 2'!I10<0.5),"-",IFERROR('Tabel 2'!I10/'Tabel 1'!$J10*100,"-")) -> 3.8051616 | J10: =IF(OR('Tabel 1'!$J10<5,'Tabel 2'!J10<0.5),"-",IFERROR('Tabel 2'!J10/'Tabel 1'!$J10*100,"-")) -> 3.4603954
A11: Cand.Scient.Tech. | C11: =IF(OR('Tabel 1'!$D11<5,'Tabel 2'!C11<0.5),"-",IFERROR('Tabel 2'!C11/'Tabel 1'!$D11*100,"-")) -> 9.772423 | D11: =IF(OR('Tabel 1'!$D11<5,'Tabel 2'!D11<0.5),"-",IFERROR('Tabel 2'!D11/'Tabel 1'!$D11*100,"-")) -> 8.794636 | F11: =IF(OR('Tabel 1'!$G11<5,'Tabel 2'!F11<0.5),"-",IFERROR('Tabel 2'!F11/'Tabel 1'!$G11*100,"-")) -> 10.871592 | G11: =IF(OR('Tabel 1'!$G11<5,'Tabel 2'!G11<0.5),"-",IFERROR('Tabel 2'!G11/'Tabel 1'!$G11*100,"-")) -> 9.4177264 | I11: =IF(OR('Tabel 1'!$J11<5,'Tabel 2'!I11<0.5),"-",IFERROR('Tabel 2'!I11/'Tabel 1'!$J11*100,"-")) -> 10.267857 | J11: =IF(OR('Tabel 1'!$J11<5,'Tabel 2'!J11<0.5),"-",IFERROR('Tabel 2'!J11/'Tabel 1'!$J11*100,"-")) -> 9.0754848
A12: MA. Hum. | C12: =IF(OR('Tabel 1'!$D12<5,'Tabel 2'!C12<0.5),"-",IFERROR('Tabel 2'!C12/'Tabel 1'!$D12*100,"-")) -> 12.059692 | D12: =IF(OR('Tabel 1'!$D12<5,'Tabel 2'!D12<0.5),"-",IFERROR('Tabel 2'!D12/'Tabel 1'!$D12*100,"-")) -> 10.68245 | F12: =IF(OR('Tabel 1'!$G12<5,'Tabel 2'!F12<0.5),"-",IFERROR('Tabel 2'!F12/'Tabel 1'!$G12*100,"-")) -> 12.235212 | G12: =IF(OR('Tabel 1'!$G12<5,'Tabel 2'!G12<0.5),"-",IFERROR('Tabel 2'!G12/'Tabel 1'!$G12*100,"-")) -> 10.661772 | I12: =IF(OR('Tabel 1'!$J12<5,'Tabel 2'!I12<0.5),"-",IFERROR('Tabel 2'!I12/'Tabel 1'!$J12*100,"-")) -> 12.179855 | J12: =IF(OR('Tabel 1'!$J12<5,'Tabel 2'!J12<0.5),"-",IFERROR('Tabel 2'!J12/'Tabel 1'!$J12*100,"-")) -> 10.668293
A13: MA. Nat. | C13: =IF(OR('Tabel 1'!$D13<5,'Tabel 2'!C13<0.5),"-",IFERROR('Tabel 2'!C13/'Tabel 1'!$D13*100,"-")) -> 4.068105 | D13: =IF(OR('Tabel 1'!$D13<5,'Tabel 2'!D13<0.5),"-",IFERROR('Tabel 2'!D13/'Tabel 1'!$D13*100,"-")) -> 3.5205122 | F13: =IF(OR('Tabel 1'!$G13<5,'Tabel 2'!F13<0.5),"-",IFERROR('Tabel 2'!F13/'Tabel 1'!$G13*100,"-")) -> 5.5067615 | G13: =IF(OR('Tabel 1'!$G13<5,'Tabel 2'!G13<0.5),"-",IFERROR('Tabel 2'!G13/'Tabel 1'!$G13*100,"-")) -> 4.7308411 | I13: =IF(OR('Tabel 1'!$J13<5,'Tabel 2'!I13<0.5),"-",IFERROR('Tabel 2'!I13/'Tabel 1'!$J13*100,"-")) -> 4.7622251 | J13: =IF(OR('Tabel 1'!$J13<5,'Tabel 2'!J13<0.5),"-",IFERROR('Tabel 2'!J13/'Tabel 1'!$J13*100,"-")) -> 4.1044692
A14: MA. Ph.d. | C14: =IF(OR('Tabel 1'!$D14<5,'Tabel 2'!C14<0.5),"-",IFERROR('Tabel 2'!C14/'Tabel 1'!$D14*100,"-")) -> 3.9855072 | D14: =IF(OR('Tabel 1'!$D14<5,'Tabel 2'!D14<0.5),"-",IFERROR('Tabel 2'!D14/'Tabel 1'!$D14*100,"-")) -> 3.5274616 | F14: =IF(OR('Tabel 1'!$G14<5,'Tabel 2'!F14<0.5),"-",IFERROR('Tabel 2'!F14/'Tabel 1'!$G14*100,"-")) -> 6.529517 | G14: =IF(OR('Tabel 1'!$G14<5,'Tabel 2'!G14<0.5),"-",IFERROR('Tabel 2'!G14/'Tabel 1'!$G14*100,"-")) -> 5.7470358 | I14: =IF(OR('Tabel 1'!$J14<5,'Tabel 2'!I14<0.5),"-",IFERROR('Tabel 2'!I14/'Tabel 1'!$J14*100,"-")) -> 5.1240993 | J14: =IF(OR('Tabel 1'!$J14<5,'Tabel 2'!J14<0.5),"-",IFERROR('Tabel 2'!J14/'Tabel 1'!$J14*100,"-")) -> 4.5208499
A15: MA. Samf. | C15: =IF(OR('Tabel 1'!$D15<5,'Tabel 2'!C15<0.5),"-",IFERROR('Tabel 2'!C15/'Tabel 1'!$D15*100,"-")) -> 17.018284 | D15: =IF(OR('Tabel 1'!$D15<5,'Tabel 2'!D15<0.5),"-",IFERROR('Tabel 2'!D15/'Tabel 1'!$D15*100,"-")) -> 15.569593 | F15: =IF(OR('Tabel 1'!$G15<5,'Tabel 2'!F15<0.5),"-",IFERROR('Tabel 2'!F15/'Tabel 1'!$G15*100,"-")) -> 15.025907 | G15: =IF(OR('Tabel 1'!$G15<5,'Tabel 2'!G15<0.5),"-",IFERROR('Tabel 2'!G15/'Tabel 1'!$G15*100,"-")) -> 13.331167 | I15: =IF(OR('Tabel 1'!$J15<5,'Tabel 2'!I15<0.5),"-",IFERROR('Tabel 2'!I15/'Tabel 1'!$J15*100,"-")) -> 15.562287 | J15: =IF(OR('Tabel 1'!$J15<5,'Tabel 2'!J15<0.5),"-",IFERROR('Tabel 2'!J15/'Tabel 1'!$J15*100,"-")) -> 13.933788
A16: Øvrige Mag. | C16: =IF(OR('Tabel 1'!$D16<5,'Tabel 2'!C16<0.5),"-",IFERROR('Tabel 2'!C16/'Tabel 1'!$D16*100,"-")) -> 8.8419405 | D16: =IF(OR('Tabel 1'!$D16<5,'Tabel 2'!D16<0.5),"-",IFERROR('Tabel 2'!D16/'Tabel 1'!$D16*100,"-")) -> 7.7717739 | F16: =IF(OR('Tabel 1'!$G16<5,'Tabel 2'!F16<0.5),"-",IFERROR('Tabel 2'!F16/'Tabel 1'!$G16*100,"-")) -> 9.6830986 | G16: =IF(OR('Tabel 1'!$G16<5,'Tabel 2'!G16<0.5),"-",IFERROR('Tabel 2'!G16/'Tabel 1'!$G16*100,"-")) -> 8.7011338 | I16: =IF(OR('Tabel 1'!$J16<5,'Tabel 2'!I16<0.5),"-",IFERROR('Tabel 2'!I16/'Tabel 1'!$J16*100,"-")) -> 9.3802817 | J16: =IF(OR('Tabel 1'!$J16<5,'Tabel 2'!J16<0.5),"-",IFERROR('Tabel 2'!J16/'Tabel 1'!$J16*100,"-")) -> 8.3665642
A17: Agronom | C17: =IF(OR('Tabel 1'!$D17<5,'Tabel 2'!C17<0.5),"-",IFERROR('Tabel 2'!C17/'Tabel 1'!$D17*100,"-")) -> 2.5231287 | D17: =IF(OR('Tabel 1'!$D17<5,'Tabel 2'!D17<0.5),"-",IFERROR('Tabel 2'!D17/'Tabel 1'!$D17*100,"-")) -> 2.1648478 | F17: =IF(OR('Tabel 1'!$G17<5,'Tabel 2'!F17<0.5),"-",IFERROR('Tabel 2'!F17/'Tabel 1'!$G17*100,"-")) -> 5.0127443 | G17: =IF(OR('Tabel 1'!$G17<5,'Tabel 2'!G17<0.5),"-",IFERROR('Tabel 2'!G17/'Tabel 1'!$G17*100,"-")) -> 4.4601088 | I17: =IF(OR('Tabel 1'!$J17<5,'Tabel 2'!I17<0.5),"-",IFERROR('Tabel 2'!I17/'Tabel 1'!$J17*100,"-")) -> 3.761623 | J17: =IF(OR('Tabel 1'!$J17<5,'Tabel 2'!J17<0.5),"-",IFERROR('Tabel 2'!J17/'Tabel 1'!$J17*100,"-")) -> 3.3066577
A18: Landsk. Arkt. | C18: =IF(OR('Tabel 1'!$D18<5,'Tabel 2'!C18<0.5),"-",IFERROR('Tabel 2'!C18/'Tabel 1'!$D18*100,"-")) -> 6.4676617 | D18: =IF(OR('Tabel 1'!$D18<5,'Tabel 2'!D18<0.5),"-",IFERROR('Tabel 2'!D18/'Tabel 1'!$D18*100,"-")) -> 5.8923881 | F18: =IF(OR('Tabel 1'!$G18<5,'Tabel 2'!F18<0.5),"-",IFERROR('Tabel 2'!F18/'Tabel 1'!$G18*100,"-")) -> 6.3366337 | G18: =IF(OR('Tabel 1'!$G18<5,'Tabel 2'!G18<0.5),"-",IFERROR('Tabel 2'!G18/'Tabel 1'!$G18*100,"-")) -> 5.5729109 | I18: =IF(OR('Tabel 1'!$J18<5,'Tabel 2'!I18<0.5),"-",IFERROR('Tabel 2'!I18/'Tabel 1'!$J18*100,"-")) -> 6.3739377 | J18: =IF(OR('Tabel 1'!$J18<5,'Tabel 2'!J18<0.5),"-",IFERROR('Tabel 2'!J18/'Tabel 1'!$J18*100,"-")) -> 5.6638669
A19: Hortonom | C19: =IF(OR('Tabel 1'!$D19<5,'Tabel 2'!C19<0.5),"-",IFERROR('Tabel 2'!C19/'Tabel 1'!$D19*100,"-")) -> 0.85470085 | D19: =IF(OR('Tabel 1'!$D19<5,'Tabel 2'!D19<0.5),"-",IFERROR('Tabel 2'!D19/'Tabel 1'!$D19*100,"-")) -> 0.72659829 | F19: =IF(OR('Tabel 1'!$G19<5,'Tabel 2'!F19<0.5),"-",IFERROR('Tabel 2'!F19/'Tabel 1'!$G19*100,"-")) -> 4.0816327 | G19: =IF(OR('Tabel 1'!$G19<5,'Tabel 2'!G19<0.5),"-",IFERROR('Tabel 2'!G19/'Tabel 1'!$G19*100,"-")) -> 3.7753776 | I19: =IF(OR('Tabel 1'!$J19<5,'Tabel 2'!I19<0.5),"-",IFERROR('Tabel 2'!I19/'Tabel 1'!$J19*100,"-")) -> 2.8753994 | J19: =IF(OR('Tabel 1'!$J19<5,'Tabel 2'!J19<0.5),"-",IFERROR('Tabel 2'!J19/'Tabel 1'!$J19*100,"-")) -> 2.635738
A20: Forstkand. | C20: =IF(OR('Tabel 1'!$D20<5,'Tabel 2'!C20<0.5),"-",IFERROR('Tabel 2'!C20/'Tabel 1'!$D20*100,"-")) -> 4.1775457 | D20: =IF(OR('Tabel 1'!$D20<5,'Tabel 2'!D20<0.5),"-",IFERROR('Tabel 2'!D20/'Tabel 1'!$D20*100,"-")) -> 3.9357467 | F20: =IF(OR('Tabel 1'!$G20<5,'Tabel 2'!F20<0.5),"-",IFERROR('Tabel 2'!F20/'Tabel 1'!$G20*100,"-")) -> 4.6511628 | G20: =IF(OR('Tabel 1'!$G20<5,'Tabel 2'!G20<0.5),"-",IFERROR('Tabel 2'!G20/'Tabel 1'!$G20*100,"-")) -> 4.6502946 | I20: =IF(OR('Tabel 1'!$J20<5,'Tabel 2'!I20<0.5),"-",IFERROR('Tabel 2'!I20/'Tabel 1'!$J20*100,"-")) -> 4.296875 | J20: =IF(OR('Tabel 1'!$J20<5,'Tabel 2'!J20<0.5),"-",IFERROR('Tabel 2'!J20/'Tabel 1'!$J20*100,"-")) -> 4.1157793
A21: Jordbrugsakad. | B21: 21049 | C21: =IF(OR('Tabel 1'!$D21<5,'Tabel 2'!C21<0.5),"-",IFERROR('Tabel 2'!C21/'Tabel 1'!$D21*100,"-")) -> 3.1746032 | D21: =IF(OR('Tabel 1'!$D21<5,'Tabel 2'!D21<0.5),"-",IFERROR('Tabel 2'!D21/'Tabel 1'!$D21*100,"-")) -> 2.8310989 | F21: =IF(OR('Tabel 1'!$G21<5,'Tabel 2'!F21<0.5),"-",IFERROR('Tabel 2'!F21/'Tabel 1'!$G21*100,"-")) -> 5.2316891 | G21: =IF(OR('Tabel 1'!$G21<5,'Tabel 2'!G21<0.5),"-",IFERROR('Tabel 2'!G21/'Tabel 1'!$G21*100,"-")) -> 4.6854659 | I21: =IF(OR('Tabel 1'!$J21<5,'Tabel 2'!I21<0.5),"-",IFERROR('Tabel 2'!I21/'Tabel 1'!$J21*100,"-")) -> 4.2340262 | J21: =IF(OR('Tabel 1'!$J21<5,'Tabel 2'!J21<0.5),"-",IFERROR('Tabel 2'!J21/'Tabel 1'!$J21*100,"-")) -> 3.7861193
A22: Mejeriing. | C22: =IF(OR('Tabel 1'!$D22<5,'Tabel 2'!C22<0.5),"-",IFERROR('Tabel 2'!C22/'Tabel 1'!$D22*100,"-")) -> 3.7837838 | D22: =IF(OR('Tabel 1'!$D22<5,'Tabel 2'!D22<0.5),"-",IFERROR('Tabel 2'!D22/'Tabel 1'!$D22*100,"-")) -> 3.5544919 | F22: =IF(OR('Tabel 1'!$G22<5,'Tabel 2'!F22<0.5),"-",IFERROR('Tabel 2'!F22/'Tabel 1'!$G22*100,"-")) -> 1.6853933 | G22: =IF(OR('Tabel 1'!$G22<5,'Tabel 2'!G22<0.5),"-",IFERROR('Tabel 2'!G22/'Tabel 1'!$G22*100,"-")) -> 1.1636798 | I22: =IF(OR('Tabel 1'!$J22<5,'Tabel 2'!I22<0.5),"-",IFERROR('Tabel 2'!I22/'Tabel 1'!$J22*100,"-")) -> 2.7548209 | J22: =IF(OR('Tabel 1'!$J22<5,'Tabel 2'!J22<0.5),"-",IFERROR('Tabel 2'!J22/'Tabel 1'!$J22*100,"-")) -> 2.3821377
A23: Levn.m.kand. | C23: =IF(OR('Tabel 1'!$D23<5,'Tabel 2'!C23<0.5),"-",IFERROR('Tabel 2'!C23/'Tabel 1'!$D23*100,"-")) -> 10.9375 | D23: =IF(OR('Tabel 1'!$D23<5,'Tabel 2'!D23<0.5),"-",IFERROR('Tabel 2'!D23/'Tabel 1'!$D23*100,"-")) -> 9.4404844 | F23: =IF(OR('Tabel 1'!$G23<5,'Tabel 2'!F23<0.5),"-",IFERROR('Tabel 2'!F23/'Tabel 1'!$G23*100,"-")) -> 8.0645161 | G23: =IF(OR('Tabel 1'!$G23<5,'Tabel 2'!G23<0.5),"-",IFERROR('Tabel 2'!G23/'Tabel 1'!$G23*100,"-")) -> 6.5278656 | I23: =IF(OR('Tabel 1'!$J23<5,'Tabel 2'!I23<0.5),"-",IFERROR('Tabel 2'!I23/'Tabel 1'!$J23*100,"-")) -> 8.4862385 | J23: =IF(OR('Tabel 1'!$J23<5,'Tabel 2'!J23<0.5),"-",IFERROR('Tabel 2'!J23/'Tabel 1'!$J23*100,"-")) -> 6.955406
A24: Dyrlæge | C24: =IF(OR('Tabel 1'!$D24<5,'Tabel 2'!C24<0.5),"-",IFERROR('Tabel 2'!C24/'Tabel 1'!$D24*100,"-")) -> 2.2123894 | D24: =IF(OR('Tabel 1'!$D24<5,'Tabel 2'!D24<0.5),"-",IFERROR('Tabel 2'!D24/'Tabel 1'!$D24*100,"-")) -> 1.4573097 | F24: =IF(OR('Tabel 1'!$G24<5,'Tabel 2'!F24<0.5),"-",IFERROR('Tabel 2'!F24/'Tabel 1'!$G24*100,"-")) -> 3.0959752 | G24: =IF(OR('Tabel 1'!$G24<5,'Tabel 2'!G24<0.5),"-",IFERROR('Tabel 2'!G24/'Tabel 1'!$G24*100,"-")) -> 2.7229381 | I24: =IF(OR('Tabel 1'!$J24<5,'Tabel 2'!I24<0.5),"-",IFERROR('Tabel 2'!I24/'Tabel 1'!$J24*100,"-")) -> 2.9288703 | J24: =IF(OR('Tabel 1'!$J24<5,'Tabel 2'!J24<0.5),"-",IFERROR('Tabel 2'!J24/'Tabel 1'!$J24*100,"-")) -> 2.4835808
A25: Farmaceut | C25: =IF(OR('Tabel 1'!$D25<5,'Tabel 2'!C25<0.5),"-",IFERROR('Tabel 2'!C25/'Tabel 1'!$D25*100,"-")) -> 5.5201699 | D25: =IF(OR('Tabel 1'!$D25<5,'Tabel 2'!D25<0.5),"-",IFERROR('Tabel 2'!D25/'Tabel 1'!$D25*100,"-")) -> 4.904472 | F25: =IF(OR('Tabel 1'!$G25<5,'Tabel 2'!F25<0.5),"-",IFERROR('Tabel 2'!F25/'Tabel 1'!$G25*100,"-")) -> 4.188613 | G25: =IF(OR('Tabel 1'!$G25<5,'Tabel 2'!G25<0.5),"-",IFERROR('Tabel 2'!G25/'Tabel 1'!$G25*100,"-")) -> 3.737698 | I25: =IF(OR('Tabel 1'!$J25<5,'Tabel 2'!I25<0.5),"-",IFERROR('Tabel 2'!I25/'Tabel 1'!$J25*100,"-")) -> 4.537037 | J25: =IF(OR('Tabel 1'!$J25<5,'Tabel 2'!J25<0.5),"-",IFERROR('Tabel 2'!J25/'Tabel 1'!$J25*100,"-")) -> 4.0430039
A26: Læge | C26: =IF(OR('Tabel 1'!$D26<5,'Tabel 2'!C26<0.5),"-",IFERROR('Tabel 2'!C26/'Tabel 1'!$D26*100,"-")) -> 1.9172829 | D26: =IF(OR('Tabel 1'!$D26<5,'Tabel 2'!D26<0.5),"-",IFERROR('Tabel 2'!D26/'Tabel 1'!$D26*100,"-")) -> 1.5944585 | F26: =IF(OR('Tabel 1'!$G26<5,'Tabel 2'!F26<0.5),"-",IFERROR('Tabel 2'!F26/'Tabel 1'!$G26*100,"-")) -> 1.8070112 | G26: =IF(OR('Tabel 1'!$G26<5,'Tabel 2'!G26<0.5),"-",IFERROR('Tabel 2'!G26/'Tabel 1'!$G26*100,"-")) -> 1.4781208 | I26: =IF(OR('Tabel 1'!$J26<5,'Tabel 2'!I26<0.5),"-",IFERROR('Tabel 2'!I26/'Tabel 1'!$J26*100,"-")) -> 1.8406961 | J26: =IF(OR('Tabel 1'!$J26<5,'Tabel 2'!J26<0.5),"-",IFERROR('Tabel 2'!J26/'Tabel 1'!$J26*100,"-")) -> 1.5136587
A27: Tandlæge | C27: =IF(OR('Tabel 1'!$D27<5,'Tabel 2'!C27<0.5),"-",IFERROR('Tabel 2'!C27/'Tabel 1'!$D27*100,"-")) -> 1.9933555 | D27: =IF(OR('Tabel 1'!$D27<5,'Tabel 2'!D27<0.5),"-",IFERROR('Tabel 2'!D27/'Tabel 1'!$D27*100,"-")) -> 1.6552226 | F27: =IF(OR('Tabel 1'!$G27<5,'Tabel 2'!F27<0.5),"-",IFERROR('Tabel 2'!F27/'Tabel 1'!$G27*100,"-")) -> 2.8344671 | G27: =IF(OR('Tabel 1'!$G27<5,'Tabel 2'!G27<0.5),"-",IFERROR('Tabel 2'!G27/'Tabel 1'!$G27*100,"-")) -> 2.1623838 | I27: =IF(OR('Tabel 1'!$J27<5,'Tabel 2'!I27<0.5),"-",IFERROR('Tabel 2'!I27/'Tabel 1'!$J27*100,"-")) -> 2.7118644 | J27: =IF(OR('Tabel 1'!$J27<5,'Tabel 2'!J27<0.5),"-",IFERROR('Tabel 2'!J27/'Tabel 1'!$J27*100,"-")) -> 2.0884586
A28: Arkitekt | C28: =IF(OR('Tabel 1'!$D28<5,'Tabel 2'!C28<0.5),"-",IFERROR('Tabel 2'!C28/'Tabel 1'!$D28*100,"-")) -> 7.9681275 | D28: =IF(OR('Tabel 1'!$D28<5,'Tabel 2'!D28<0.5),"-",IFERROR('Tabel 2'!D28/'Tabel 1'!$D28*100,"-")) -> 7.2429392 | F28: =IF(OR('Tabel 1'!$G28<5,'Tabel 2'!F28<0.5),"-",IFERROR('Tabel 2'!F28/'Tabel 1'!$G28*100,"-")) -> 8.5406053 | G28: =IF(OR('Tabel 1'!$G28<5,'Tabel 2'!G28<0.5),"-",IFERROR('Tabel 2'!G28/'Tabel 1'!$G28*100,"-")) -> 7.5553266 | I28: =IF(OR('Tabel 1'!$J28<5,'Tabel 2'!I28<0.5),"-",IFERROR('Tabel 2'!I28/'Tabel 1'!$J28*100,"-")) -> 8.2814037 | J28: =IF(OR('Tabel 1'!$J28<5,'Tabel 2'!J28<0.5),"-",IFERROR('Tabel 2'!J28/'Tabel 1'!$J28*100,"-")) -> 7.4138865
A29: Landinspek. | C29: =IF(OR('Tabel 1'!$D29<5,'Tabel 2'!C29<0.5),"-",IFERROR('Tabel 2'!C29/'Tabel 1'!$D29*100,"-")) -> 1.5 | D29: =IF(OR('Tabel 1'!$D29<5,'Tabel 2'!D29<0.5),"-",IFERROR('Tabel 2'!D29/'Tabel 1'!$D29*100,"-")) -> 1.3155167 | F29: =IF(OR('Tabel 1'!$G29<5,'Tabel 2'!F29<0.5),"-",IFERROR('Tabel 2'!F29/'Tabel 1'!$G29*100,"-")) -> 1.5686275 | G29: =IF(OR('Tabel 1'!$G29<5,'Tabel 2'!G29<0.5),"-",IFERROR('Tabel 2'!G29/'Tabel 1'!$G29*100,"-")) -> 1.5683333 | I29: =IF(OR('Tabel 1'!$J29<5,'Tabel 2'!I29<0.5),"-",IFERROR('Tabel 2'!I29/'Tabel 1'!$J29*100,"-")) -> 1.5204678 | J29: =IF(OR('Tabel 1'!$J29<5,'Tabel 2'!J29<0.5),"-",IFERROR('Tabel 2'!J29/'Tabel 1'!$J29*100,"-")) -> 1.3909181
A30: Bibliotekar | C30: =IF(OR('Tabel 1'!$D30<5,'Tabel 2'!C30<0.5),"-",IFERROR('Tabel 2'!C30/'Tabel 1'!$D30*100,"-")) -> 5.6433409 | D30: =IF(OR('Tabel 1'!$D30<5,'Tabel 2'!D30<0.5),"-",IFERROR('Tabel 2'!D30/'Tabel 1'!$D30*100,"-")) -> 4.8462404 | F30: =IF(OR('Tabel 1'!$G30<5,'Tabel 2'!F30<0.5),"-",IFERROR('Tabel 2'!F30/'Tabel 1'!$G30*100,"-")) -> 5.3543307 | G30: =IF(OR('Tabel 1'!$G30<5,'Tabel 2'!G30<0.5),"-",IFERROR('Tabel 2'!G30/'Tabel 1'!$G30*100,"-")) -> 4.67105 | I30: =IF(OR('Tabel 1'!$J30<5,'Tabel 2'!I30<0.5),"-",IFERROR('Tabel 2'!I30/'Tabel 1'!$J30*100,"-")) -> 5.4290718 | J30: =IF(OR('Tabel 1'!$J30<5,'Tabel 2'!J30<0.5),"-",IFERROR('Tabel 2'!J30/'Tabel 1'!$J30*100,"-")) -> 4.7163561
A31: Musikudd. | C31: =IF(OR('Tabel 1'!$D31<5,'Tabel 2'!C31<0.5),"-",IFERROR('Tabel 2'!C31/'Tabel 1'!$D31*100,"-")) -> 4.1769042 | D31: =IF(OR('Tabel 1'!$D31<5,'Tabel 2'!D31<0.5),"-",IFERROR('Tabel 2'!D31/'Tabel 1'!$D31*100,"-")) -> 3.3435332 | F31: =IF(OR('Tabel 1'!$G31<5,'Tabel 2'!F31<0.5),"-",IFERROR('Tabel 2'!F31/'Tabel 1'!$G31*100,"-")) -> 4.9713193 | G31: =IF(OR('Tabel 1'!$G31<5,'Tabel 2'!G31<0.5),"-",IFERROR('Tabel 2'!G31/'Tabel 1'!$G31*100,"-")) -> 3.6329235 | I31: =IF(OR('Tabel 1'!$J31<5,'Tabel 2'!I31<0.5),"-",IFERROR('Tabel 2'!I31/'Tabel 1'!$J31*100,"-")) -> 4.6236559 | J31: =IF(OR('Tabel 1'!$J31<5,'Tabel 2'!J31<0.5),"-",IFERROR('Tabel 2'!J31/'Tabel 1'!$J31*100,"-")) -> 3.5062763
A32: Teolog | C32: =IF(OR('Tabel 1'!$D32<5,'Tabel 2'!C32<0.5),"-",IFERROR('Tabel 2'!C32/'Tabel 1'!$D32*100,"-")) -> 2.1276596 | D32: =IF(OR('Tabel 1'!$D32<5,'Tabel 2'!D32<0.5),"-",IFERROR('Tabel 2'!D32/'Tabel 1'!$D32*100,"-")) -> 1.8614726 | F32: =IF(OR('Tabel 1'!$G32<5,'Tabel 2'!F32<0.5),"-",IFERROR('Tabel 2'!F32/'Tabel 1'!$G32*100,"-")) -> 2.3364486 | G32: =IF(OR('Tabel 1'!$G32<5,'Tabel 2'!G32<0.5),"-",IFERROR('Tabel 2'!G32/'Tabel 1'!$G32*100,"-")) -> 1.8822748 | I32: =IF(OR('Tabel 1'!$J32<5,'Tabel 2'!I32<0.5),"-",IFERROR('Tabel 2'!I32/'Tabel 1'!$J32*100,"-")) -> 2.2569444 | J32: =IF(OR('Tabel 1'!$J32<5,'Tabel 2'!J32<0.5),"-",IFERROR('Tabel 2'!J32/'Tabel 1'!$J32*100,"-")) -> 1.8743536
A33: Psykolog | C33: =IF(OR('Tabel 1'!$D33<5,'Tabel 2'!C33<0.5),"-",IFERROR('Tabel 2'!C33/'Tabel 1'!$D33*100,"-")) -> 8.0591001 | D33: =IF(OR('Tabel 1'!$D33<5,'Tabel 2'!D33<0.5),"-",IFERROR('Tabel 2'!D33/'Tabel 1'!$D33*100,"-")) -> 7.0316689 | F33: =IF(OR('Tabel 1'!$G33<5,'Tabel 2'!F33<0.5),"-",IFERROR('Tabel 2'!F33/'Tabel 1'!$G33*100,"-")) -> 6.8181818 | G33: =IF(OR('Tabel 1'!$G33<5,'Tabel 2'!G33<0.5),"-",IFERROR('Tabel 2'!G33/'Tabel 1'!$G33*100,"-")) -> 5.815805 | I33: =IF(OR('Tabel 1'!$J33<5,'Tabel 2'!I33<0.5),"-",IFERROR('Tabel 2'!I33/'Tabel 1'!$J33*100,"-")) -> 7.0429388 | J33: =IF(OR('Tabel 1'!$J33<5,'Tabel 2'!J33<0.5),"-",IFERROR('Tabel 2'!J33/'Tabel 1'!$J33*100,"-")) -> 6.0360241
... A46: Andre | C46: =IF(OR('Tabel 1'!$D46<5,'Tabel 2'!C46<0.5),"-",IFERROR('Tabel 2'!C46/'Tabel 1'!$D46*100,"-")) -> 6.8376802 | D46: =IF(OR('Tabel 1'!$D46<5,'Tabel 2'!D46<0.5),"-",IFERROR('Tabel 2'!D46/'Tabel 1'!$D46*100,"-")) -> 6.0991602 | F46: =IF(OR('Tabel 1'!$G46<5,'Tabel 2'!F46<0.5),"-",IFERROR('Tabel 2'!F46/'Tabel 1'!$G46*100,"-")) -> 10.925645 | G46: =IF(OR('Tabel 1'!$G46<5,'Tabel 2'!G46<0.5),"-",IFERROR('Tabel 2'!G46/'Tabel 1'!$G46*100,"-")) -> 9.4444707 | I46: =IF(OR('Tabel 1'!$J46<5,'Tabel 2'!I46<0.5),"-",IFERROR('Tabel 2'!I46/'Tabel 1'!$J46*100,"-")) -> 8.8995663 | J46: =IF(OR('Tabel 1'!$J46<5,'Tabel 2'!J46<0.5),"-",IFERROR('Tabel 2'!J46/'Tabel 1'!$J46*100,"-")) -> 7.7864667
A48: Total | B48: =SUM(B9:B46)-SUM(B17:B20) -> 21049 | C48: =IF(OR('Tabel 1'!$D48<5,'Tabel 2'!C48<0.5),"-",IFERROR('Tabel 2'!C48/'Tabel 1'!$D48*100,"-")) -> 6.1409966 | D48: =IF(OR('Tabel 1'!$D48<5,'Tabel 2'!D48<0.5),"-",IFERROR('Tabel 2'!D48/'Tabel 1'!$D48*100,"-")) -> 5.5192336 | E48: =IF(#REF!<10,"-",'Tabel 2'!E48/#REF!*100) -> #REF! | F48: =IF(OR('Tabel 1'!$G48<5,'Tabel 2'!F48<0.5),"-",IFERROR('Tabel 2'!F48/'Tabel 1'!$G48*100,"-")) -> 7.9893394 | G48: =IF(OR('Tabel 1'!$G48<5,'Tabel 2'!G48<0.5),"-",IFERROR('Tabel 2'!G48/'Tabel 1'!$G48*100,"-")) -> 6.9659992 | H48: =IF(#REF!<10,"-",'Tabel 2'!H48/#REF!*100) -> #REF! | I48: =IF(OR('Tabel 1'!$J48<5,'Tabel 2'!I48<0.5),"-",IFERROR('Tabel 2'!I48/'Tabel 1'!$J48*100,"-")) -> 7.0732782 | J48: =IF(OR('Tabel 1'!$J48<5,'Tabel 2'!J48<0.5),"-",IFERROR('Tabel 2'!J48/'Tabel 1'!$J48*100,"-")) -> 6.2489646
A50: Ingeniører i alt | B50: =IF(#REF!<10,"-",'Tabel 2'!B50/#REF!*100) -> #REF! | C50: =IF(OR('Tabel 1'!$D50<5,'Tabel 2'!C50<0.5),"-",IFERROR('Tabel 2'!C50/'Tabel 1'!$D50*100,"-")) -> 3.8294169 | D50: =IF(OR('Tabel 1'!$D50<5,'Tabel 2'!D50<0.5),"-",IFERROR('Tabel 2'!D50/'Tabel 1'!$D50*100,"-")) -> 3.4948492 | F50: =IF(OR('Tabel 1'!$G50<5,'Tabel 2'!F50<0.5),"-",IFERROR('Tabel 2'!F50/'Tabel 1'!$G50*100,"-")) -> 5.0009975 | G50: =IF(OR('Tabel 1'!$G50<5,'Tabel 2'!G50<0.5),"-",IFERROR('Tabel 2'!G50/'Tabel 1'!$G50*100,"-")) -> 4.476884 | I50: =IF(OR('Tabel 1'!$J50<5,'Tabel 2'!I50<0.5),"-",IFERROR('Tabel 2'!I50/'Tabel 1'!$J50*100,"-")) -> 4.0933745 | J50: =IF(OR('Tabel 1'!$J50<5,'Tabel 2'!J50<0.5),"-",IFERROR('Tabel 2'!J50/'Tabel 1'!$J50*100,"-")) -> 3.7161021
A51: Magistre i alt | C51: =IF(OR('Tabel 1'!$D51<5,'Tabel 2'!C51<0.5),"-",IFERROR('Tabel 2'!C51/'Tabel 1'!$D51*100,"-")) -> 9.2692693 | D51: =IF(OR('Tabel 1'!$D51<5,'Tabel 2'!D51<0.5),"-",IFERROR('Tabel 2'!D51/'Tabel 1'!$D51*100,"-")) -> 8.2100513 | F51: =IF(OR('Tabel 1'!$G51<5,'Tabel 2'!F51<0.5),"-",IFERROR('Tabel 2'!F51/'Tabel 1'!$G51*100,"-")) -> 11.082223 | G51: =IF(OR('Tabel 1'!$G51<5,'Tabel 2'!G51<0.5),"-",IFERROR('Tabel 2'!G51/'Tabel 1'!$G51*100,"-")) -> 9.6824332 | I51: =IF(OR('Tabel 1'!$J51<5,'Tabel 2'!I51<0.5),"-",IFERROR('Tabel 2'!I51/'Tabel 1'!$J51*100,"-")) -> 10.416881 | J51: =IF(OR('Tabel 1'!$J51<5,'Tabel 2'!J51<0.5),"-",IFERROR('Tabel 2'!J51/'Tabel 1'!$J51*100,"-")) -> 9.1420788
A52: DJØF'ere i alt | C52: =IF(OR('Tabel 1'!$D52<5,'Tabel 2'!C52<0.5),"-",IFERROR('Tabel 2'!C52/'Tabel 1'!$D52*100,"-")) -> 5.7913153 | D52: =IF(OR('Tabel 1'!$D52<5,'Tabel 2'!D52<0.5),"-",IFERROR('Tabel 2'!D52/'Tabel 1'!$D52*100,"-")) -> 5.2302982 | F52: =IF(OR('Tabel 1'!$G52<5,'Tabel 2'!F52<0.5),"-",IFERROR('Tabel 2'!F52/'Tabel 1'!$G52*100,"-")) -> 6.27585 | G52: =IF(OR('Tabel 1'!$G52<5,'Tabel 2'!G52<0.5),"-",IFERROR('Tabel 2'!G52/'Tabel 1'!$G52*100,"-")) -> 5.5088859 | I52: =IF(OR('Tabel 1'!$J52<5,'Tabel 2'!I52<0.5),"-",IFERROR('Tabel 2'!I52/'Tabel 1'!$J52*100,"-")) -> 6.0510184 | J52: =IF(OR('Tabel 1'!$J52<5,'Tabel 2'!J52<0.5),"-",IFERROR('Tabel 2'!J52/'Tabel 1'!$J52*100,"-")) -> 5.3796169
A53: Se sidste del af statistikken for en oversigt over uddannelsesgrupperingernes indhold

Sheet Tabel 4 F
A1: Landstatistik
A3: Tabel 4. Antal forsikrede medlemmer - aldersfordelt
B7: Under 30 år | C7: 30 - 39 år | D7: 40 - 49 år | E7: 50 - 59 år | F7: Over 60 år | H7: I alt
A9: Civ. Ing. | B9: 5431 | C9: 10771 | D9: 7961 | E9: 6584 | F9: 1936 | H9: =B9+C9+D9+E9+F9 -> 32683
A10: Diplom Ing. | B10: 2998 | C10: 5996 | D10: 8849 | E10: 12295 | F10: 3921 | H10: =B10+C10+D10+E10+F10 -> 34059
A11: Cand.Scient.Tech. | B11: 5778 | C11: 9145 | D11: 2879 | E11: 1035 | F11: 203 | H11: =B11+C11+D11+E11+F11 -> 19040
A12: MA. Hum. | B12: 5782 | C12: 14363 | D12: 13657 | E12: 5684 | F12: 2370 | H12: =B12+C12+D12+E12+F12 -> 41856
A13: MA. Nat. | B13: 1092 | C13: 3269 | D13: 5069 | E13: 3875 | F13: 1562 | H13: =B13+C13+D13+E13+F13 -> 14867
A14: MA. Ph.d. | B14: 47 | C14: 732 | D14: 933 | E14: 631 | F14: 155 | H14: =B14+C14+D14+E14+F14 -> 2498
A15: MA. Samf. | B15: 1401 | C15: 2620 | D15: 830 | E15: 352 | F15: 79 | H15: =B15+C15+D15+E15+F15 -> 5282
A16: Øvrige Mag. | B16: 618 | C16: 707 | D16: 999 | E16: 881 | F16: 345 | H16: =B16+C16+D16+E16+F16 -> 3550
A17: Agronom | B17: 157 | C17: 303 | D17: 626 | E17: 899 | F17: 381 | H17: =B17+C17+D17+E17+F17 -> 2366
A18: Landsk. Arkt. | B18: 62 | C18: 242 | D18: 225 | E18: 137 | F18: 40 | H18: =B18+C18+D18+E18+F18 -> 706
A19: Hortonom | B19: 1 | C19: 24 | D19: 81 | E19: 139 | F19: 68 | H19: =B19+C19+D19+E19+F19 -> 313
A20: Forstkand. | B20: 28 | C20: 84 | D20: 211 | E20: 125 | F20: 64 | H20: =B20+C20+D20+E20+F20 -> 512
... A46: Andre | B46: 3069 | C46: 8515 | D46: 6172 | E46: 4007 | F46: 1755 | H46: =B46+C46+D46+E46+F46 -> 23518
A48: Total | B48: =SUM(B9:B46)-SUM(B17:B20) -> 59257 | C48: =SUM(C9:C46)-SUM(C17:C20) -> 117171 | D48: =SUM(D9:D46)-SUM(D17:D20) -> 91047 | E48: =SUM(E9:E46)-SUM(E17:E20) -> 66681 | F48: =SUM(F9:F46)-SUM(F17:F20) -> 22171 | H48: =SUM(H9:H46)-SUM(H17:H20) -> 356327
A50: Ingeniører i alt | B50: 8429 | C50: 16767 | D50: 16810 | E50: 18879 | F50: 5857 | H50: =B50+C50+D50+E50+F50 -> 66742
A51: Magistre i alt | B51: 8940 | C51: 21691 | D51: 21488 | E51: 11423 | F51: 4511 | H51: =B51+C51+D51+E51+F51 -> 68053
A52: DJØF'ere i alt | B52: 19032 | C52: 34346 | D52: 23136 | E52: 16190 | F52: 3379 | H52: =B52+C52+D52+E52+F52 -> 96083
A53: Se sidste del af statistikken for en oversigt over uddannelsesgrupperingernes indhold

Sheet Tabel 4 Be
A1: Landstatistik
A3: Tabel 4. Antal bruttoledige målt i berørte medlemmer - aldersfordelt
B7: Under 30 år | C7: 30 - 39 år | D7: 40 - 49 år | E7: 50 - 59 år | F7: Over 60 år | H7: I alt
A9: Civ. Ing. | B9: 788 | C9: 306 | D9: 136 | E9: 133 | F9: 73 | H9: =B9+C9+D9+E9+F9 -> 1436
A10: Diplom Ing. | B10: 366 | C10: 227 | D10: 181 | E10: 351 | F10: 171 | H10: =B10+C10+D10+E10+F10 -> 1296
A11: Cand.Scient.Tech. | B11: 1195 | C11: 601 | D11: 95 | E11: 49 | F11: 15 | H11: =B11+C11+D11+E11+F11 -> 1955
A12: MA. Hum. | B12: 1902 | C12: 1844 | D12: 777 | E12: 386 | F12: 189 | H12: =B12+C12+D12+E12+F12 -> 5098
A13: MA. Nat. | B13: 230 | C13: 226 | D13: 108 | E13: 98 | F13: 46 | H13: =B13+C13+D13+E13+F13 -> 708
A14: MA. Ph.d. | B14: 4 | C14: 42 | D14: 47 | E14: 27 | F14: 8 | H14: =B14+C14+D14+E14+F14 -> 128
A15: MA. Samf. | B15: 387 | C15: 338 | D15: 63 | E15: 26 | F15: 8 | H15: =B15+C15+D15+E15+F15 -> 822
A16: Øvrige Mag. | B16: 131 | C16: 91 | D16: 52 | E16: 42 | F16: 17 | H16: =B16+C16+D16+E16+F16 -> 333
A17: Agronom | B17: 29 | C17: 22 | D17: 8 | E17: 17 | F17: 13 | H17: =B17+C17+D17+E17+F17 -> 89
A18: Landsk. Arkt. | B18: 14 | C18: 19 | D18: 7 | E18: 3 | F18: 2 | H18: =B18+C18+D18+E18+F18 -> 45
A19: Hortonom | B19: 0 | C19: 1 | D19: 3 | E19: 3 | F19: 2 | H19: =B19+C19+D19+E19+F19 -> 9
A20: Forstkand. | B20: 7 | C20: 7 | D20: 3 | E20: 2 | F20: 3 | H20: =B20+C20+D20+E20+F20 -> 22
... A46: Andre | B46: 545 | C46: 726 | D46: 364 | E46: 298 | F46: 160 | H46: =B46+C46+D46+E46+F46 -> 2093
A48: Total | B48: =SUM(B9:B46)-SUM(B17:B20) -> 10905 | C48: =SUM(C9:C46)-SUM(C17:C20) -> 7629 | D48: =SUM(D9:D46)-SUM(D17:D20) -> 3173 | E48: =SUM(E9:E46)-SUM(E17:E20) -> 2444 | F48: =SUM(F9:F46)-SUM(F17:F20) -> 1158 | H48: =SUM(H9:H46)-SUM(H17:H20) -> 25309 | I48: 9.7704462 | J48: 9.3422883 | K48: 9.1420788
A50: Ingeniører i alt | B50: 1154 | C50: 533 | D50: 317 | E50: 484 | F50: 244 | H50: =B50+C50+D50+E50+F50 -> 2732
A51: Magistre i alt | B51: 2654 | C51: 2541 | D51: 1047 | E51: 579 | F51: 268 | H51: =B51+C51+D51+E51+F51 -> 7089
A52: DJØF'ere i alt | B52: 2707 | C52: 1663 | D52: 688 | E52: 571 | F52: 185 | H52: =B52+C52+D52+E52+F52 -> 5814
A53: Se sidste del af statistikken for en oversigt over uddannelsesgrupperingernes indhold

Sheet Tabel 4 Br
A1: Landstatistik
A3: Tabel 4. Antal bruttoledige målt i fuldtidspersoner - aldersfordelt
B7: Under 30 år | C7: 30 - 39 år | D7: 40 - 49 år | E7: 50 - 59 år | F7: Over 60 år | H7: I alt
A9: Civ. Ing. | B9: 722.88468 | C9: 276.09056 | D9: 122.8747 | E9: 117.88935 | F9: 61.88549 | H9: =SUM(B9:F9) -> 1301.6248
A10: Diplom Ing. | B10: 334.51693 | C10: 206.77103 | D10: 165.0895 | E10: 319.88836 | F10: 152.31024 | H10: =SUM(B10:F10) -> 1178.5761
A11: Cand.Scient.Tech. | B11: 1057.1615 | C11: 526.37997 | D11: 86.30325 | E11: 46.35689 | F11: 11.77072 | H11: =SUM(B11:F11) -> 1727.9723
A12: MA. Hum. | B12: 1674.9043 | C12: 1616.9532 | D12: 682.74184 | E12: 332.68197 | F12: 158.03967 | H12: =SUM(B12:F12) -> 4465.3209
A13: MA. Nat. | B13: 200.23015 | C13: 192.08819 | D13: 97.65172 | E13: 85.30219 | F13: 34.93919 | H13: =SUM(B13:F13) -> 610.21144
A14: MA. Ph.d. | B14: 3.66307 | C14: 38.37523 | D14: 41.79505 | E14: 22.34267 | F14: 6.75482 | H14: =SUM(B14:F14) -> 112.93084
A15: MA. Samf. | B15: 345.61904 | C15: 302.42562 | D15: 56.81657 | E15: 24.88243 | F15: 6.23901 | H15: =SUM(B15:F15) -> 735.98267
A16: Øvrige Mag. | B16: 117.09973 | C16: 80.91062 | D16: 48.11202 | E16: 36.77914 | F16: 14.11152 | H16: =SUM(B16:F16) -> 297.01303
A17: Agronom | B17: 25.3708 | C17: 20.33244 | D17: 6.58018 | E17: 14.70717 | F17: 11.24493 | H17: =SUM(B17:F17) -> 78.23552
A18: Landsk. Arkt. | B18: 11.68278 | C18: 17.74528 | D18: 5.63899 | E18: 2.99944 | F18: 1.92041 | H18: =SUM(B18:F18) -> 39.9869
A19: Hortonom | B19: 0 | C19: 0.86135 | D19: 2.75744 | E19: 2.63145 | F19: 1.99963 | H19: =SUM(B19:F19) -> 8.24987
A20: Forstkand. | B20: 6.99869 | C20: 6.18038 | D20: 2.89465 | E20: 1.99963 | F20: 2.99944 | H20: =SUM(B20:F20) -> 21.07279
... A46: Andre | B46: 486.74546 | C46: 632.13809 | D46: 316.02071 | E46: 257.3461 | F46: 138.97087 | H46: =SUM(B46:F46) -> 1831.2212
A48: Total | B48: =SUM(B9:B46)-SUM(B17:B20) -> 9567.1196 | C48: =SUM(C9:C46)-SUM(C17:C20) -> 6718.0549 | D48: =SUM(D9:D46)-SUM(D17:D20) -> 2809.4505 | E48: =SUM(E9:E46)-SUM(E17:E20) -> 2167.6934 | F48: =SUM(F9:F46)-SUM(F17:F20) -> 1004.4296 | H48: =SUM(H9:H46)-SUM(H17:H20) -> 22266.748 | I48: 9.7704462 | J48: 9.3422883 | K48: 9.1420788
A50: Ingeniører i alt | B50: 1057.4016 | C50: 482.8616 | D50: 287.9642 | E50: 437.77771 | F50: 214.19572 | H50: =SUM(B50:F50) -> 2480.2008
A51: Magistre i alt | B51: 2341.5163 | C51: 2230.7528 | D51: 927.1172 | E51: 501.9884 | F51: 220.0842 | H51: =SUM(B51:F51) -> 6221.4589
A52: DJØF'ere i alt | B52: 2395.9209 | C52: 1481.495 | D52: 609.49791 | E52: 516.56459 | F52: 165.41882 | H52: =SUM(B52:F52) -> 5168.8973
A53: Se sidste del af statistikken for en oversigt over uddannelsesgrupperingernes indhold

Sheet Tabel 4 p (Be)
A1: Landstatistik
A3: Tabel 4.2 Bruttoledighedsprocenten målt i ledighedsberørte - aldersfordelt
B7: Under 30 år | C7: 30 - 39 år | D7: 40 - 49 år | E7: 50 - 59 år | F7: Over 60 år | H7: I alt
A9: Civ. Ing. | B9: =IF(OR('Tabel 4 F'!B9<5,'Tabel 4 Be'!B9<0.5),"-",IFERROR('Tabel 4 Be'!B9/'Tabel 4 F'!B9*100,"-")) -> 14.509298 | C9: =IF(OR('Tabel 4 F'!C9<5,'Tabel 4 Be'!C9<0.5),"-",IFERROR('Tabel 4 Be'!C9/'Tabel 4 F'!C9*100,"-")) -> 2.8409618 | D9: =IF(OR('Tabel 4 F'!D9<5,'Tabel 4 Be'!D9<0.5),"-",IFERROR('Tabel 4 Be'!D9/'Tabel 4 F'!D9*100,"-")) -> 1.7083281 | E9: =IF(OR('Tabel 4 F'!E9<5,'Tabel 4 Be'!E9<0.5),"-",IFERROR('Tabel 4 Be'!E9/'Tabel 4 F'!E9*100,"-")) -> 2.0200486 | F9: =IF(OR('Tabel 4 F'!F9<5,'Tabel 4 Be'!F9<0.5),"-",IFERROR('Tabel 4 Be'!F9/'Tabel 4 F'!F9*100,"-")) -> 3.7706612 | H9: =IF(OR('Tabel 4 F'!H9<5,'Tabel 4 Be'!H9<0.5),"-",IFERROR('Tabel 4 Be'!H9/'Tabel 4 F'!H9*100,"-")) -> 4.3937215
A10: Diplom Ing. | B10: =IF(OR('Tabel 4 F'!B10<5,'Tabel 4 Be'!B10<0.5),"-",IFERROR('Tabel 4 Be'!B10/'Tabel 4 F'!B10*100,"-")) -> 12.208139 | C10: =IF(OR('Tabel 4 F'!C10<5,'Tabel 4 Be'!C10<0.5),"-",IFERROR('Tabel 4 Be'!C10/'Tabel 4 F'!C10*100,"-")) -> 3.7858572 | D10: =IF(OR('Tabel 4 F'!D10<5,'Tabel 4 Be'!D10<0.5),"-",IFERROR('Tabel 4 Be'!D10/'Tabel 4 F'!D10*100,"-")) -> 2.0454289 | E10: =IF(OR('Tabel 4 F'!E10<5,'Tabel 4 Be'!E10<0.5),"-",IFERROR('Tabel 4 Be'!E10/'Tabel 4 F'!E10*100,"-")) -> 2.854819 | F10: =IF(OR('Tabel 4 F'!F10<5,'Tabel 4 Be'!F10<0.5),"-",IFERROR('Tabel 4 Be'!F10/'Tabel 4 F'!F10*100,"-")) -> 4.3611324 | H10: =IF(OR('Tabel 4 F'!H10<5,'Tabel 4 Be'!H10<0.5),"-",IFERROR('Tabel 4 Be'!H10/'Tabel 4 F'!H10*100,"-")) -> 3.8051616
A11: Cand.Scient.Tech. | B11: =IF(OR('Tabel 4 F'!B11<5,'Tabel 4 Be'!B11<0.5),"-",IFERROR('Tabel 4 Be'!B11/'Tabel 4 F'!B11*100,"-")) -> 20.681897 | C11: =IF(OR('Tabel 4 F'!C11<5,'Tabel 4 Be'!C11<0.5),"-",IFERROR('Tabel 4 Be'!C11/'Tabel 4 F'!C11*100,"-")) -> 6.5718972 | D11: =IF(OR('Tabel 4 F'!D11<5,'Tabel 4 Be'!D11<0.5),"-",IFERROR('Tabel 4 Be'!D11/'Tabel 4 F'!D11*100,"-")) -> 3.2997569 | E11: =IF(OR('Tabel 4 F'!E11<5,'Tabel 4 Be'!E11<0.5),"-",IFERROR('Tabel 4 Be'!E11/'Tabel 4 F'!E11*100,"-")) -> 4.7342995 | F11: =IF(OR('Tabel 4 F'!F11<5,'Tabel 4 Be'!F11<0.5),"-",IFERROR('Tabel 4 Be'!F11/'Tabel 4 F'!F11*100,"-")) -> 7.3891626 | H11: =IF(OR('Tabel 4 F'!H11<5,'Tabel 4 Be'!H11<0.5),"-",IFERROR('Tabel 4 Be'!H11/'Tabel 4 F'!H11*100,"-")) -> 10.267857
A12: MA. Hum. | B12: =IF(OR('Tabel 4 F'!B12<5,'Tabel 4 Be'!B12<0.5),"-",IFERROR('Tabel 4 Be'!B12/'Tabel 4 F'!B12*100,"-")) -> 32.895192 | C12: =IF(OR('Tabel 4 F'!C12<5,'Tabel 4 Be'!C12<0.5),"-",IFERROR('Tabel 4 Be'!C12/'Tabel 4 F'!C12*100,"-")) -> 12.838543 | D12: =IF(OR('Tabel 4 F'!D12<5,'Tabel 4 Be'!D12<0.5),"-",IFERROR('Tabel 4 Be'!D12/'Tabel 4 F'!D12*100,"-")) -> 5.6893901 | E12: =IF(OR('Tabel 4 F'!E12<5,'Tabel 4 Be'!E12<0.5),"-",IFERROR('Tabel 4 Be'!E12/'Tabel 4 F'!E12*100,"-")) -> 6.7909923 | F12: =IF(OR('Tabel 4 F'!F12<5,'Tabel 4 Be'!F12<0.5),"-",IFERROR('Tabel 4 Be'!F12/'Tabel 4 F'!F12*100,"-")) -> 7.9746835 | H12: =IF(OR('Tabel 4 F'!H12<5,'Tabel 4 Be'!H12<0.5),"-",IFERROR('Tabel 4 Be'!H12/'Tabel 4 F'!H12*100,"-")) -> 12.179855
A13: MA. Nat. | B13: =IF(OR('Tabel 4 F'!B13<5,'Tabel 4 Be'!B13<0.5),"-",IFERROR('Tabel 4 Be'!B13/'Tabel 4 F'!B13*100,"-")) -> 21.062271 | C13: =IF(OR('Tabel 4 F'!C13<5,'Tabel 4 Be'!C13<0.5),"-",IFERROR('Tabel 4 Be'!C13/'Tabel 4 F'!C13*100,"-")) -> 6.9134292 | D13: =IF(OR('Tabel 4 F'!D13<5,'Tabel 4 Be'!D13<0.5),"-",IFERROR('Tabel 4 Be'!D13/'Tabel 4 F'!D13*100,"-")) -> 2.1305978 | E13: =IF(OR('Tabel 4 F'!E13<5,'Tabel 4 Be'!E13<0.5),"-",IFERROR('Tabel 4 Be'!E13/'Tabel 4 F'!E13*100,"-")) -> 2.5290323 | F13: =IF(OR('Tabel 4 F'!F13<5,'Tabel 4 Be'!F13<0.5),"-",IFERROR('Tabel 4 Be'!F13/'Tabel 4 F'!F13*100,"-")) -> 2.9449424 | H13: =IF(OR('Tabel 4 F'!H13<5,'Tabel 4 Be'!H13<0.5),"-",IFERROR('Tabel 4 Be'!H13/'Tabel 4 F'!H13*100,"-")) -> 4.7622251
A14: MA. Ph.d. | B14: =IF(OR('Tabel 4 F'!B14<5,'Tabel 4 Be'!B14<0.5),"-",IFERROR('Tabel 4 Be'!B14/'Tabel 4 F'!B14*100,"-")) -> 8.5106383 | C14: =IF(OR('Tabel 4 F'!C14<5,'Tabel 4 Be'!C14<0.5),"-",IFERROR('Tabel 4 Be'!C14/'Tabel 4 F'!C14*100,"-")) -> 5.7377049 | D14: =IF(OR('Tabel 4 F'!D14<5,'Tabel 4 Be'!D14<0.5),"-",IFERROR('Tabel 4 Be'!D14/'Tabel 4 F'!D14*100,"-")) -> 5.0375134 | E14: =IF(OR('Tabel 4 F'!E14<5,'Tabel 4 Be'!E14<0.5),"-",IFERROR('Tabel 4 Be'!E14/'Tabel 4 F'!E14*100,"-")) -> 4.2789223 | F14: =IF(OR('Tabel 4 F'!F14<5,'Tabel 4 Be'!F14<0.5),"-",IFERROR('Tabel 4 Be'!F14/'Tabel 4 F'!F14*100,"-")) -> 5.1612903 | H14: =IF(OR('Tabel 4 F'!H14<5,'Tabel 4 Be'!H14<0.5),"-",IFERROR('Tabel 4 Be'!H14/'Tabel 4 F'!H14*100,"-")) -> 5.1240993
A15: MA. Samf. | B15: =IF(OR('Tabel 4 F'!B15<5,'Tabel 4 Be'!B15<0.5),"-",IFERROR('Tabel 4 Be'!B15/'Tabel 4 F'!B15*100,"-")) -> 27.623126 | C15: =IF(OR('Tabel 4 F'!C15<5,'Tabel 4 Be'!C15<0.5),"-",IFERROR('Tabel 4 Be'!C15/'Tabel 4 F'!C15*100,"-")) -> 12.900763 | D15: =IF(OR('Tabel 4 F'!D15<5,'Tabel 4 Be'!D15<0.5),"-",IFERROR('Tabel 4 Be'!D15/'Tabel 4 F'!D15*100,"-")) -> 7.5903614 | E15: =IF(OR('Tabel 4 F'!E15<5,'Tabel 4 Be'!E15<0.5),"-",IFERROR('Tabel 4 Be'!E15/'Tabel 4 F'!E15*100,"-")) -> 7.3863636 | F15: =IF(OR('Tabel 4 F'!F15<5,'Tabel 4 Be'!F15<0.5),"-",IFERROR('Tabel 4 Be'!F15/'Tabel 4 F'!F15*100,"-")) -> 10.126582 | H15: =IF(OR('Tabel 4 F'!H15<5,'Tabel 4 Be'!H15<0.5),"-",IFERROR('Tabel 4 Be'!H15/'Tabel 4 F'!H15*100,"-")) -> 15.562287
A16: Øvrige Mag. | B16: =IF(OR('Tabel 4 F'!B16<5,'Tabel 4 Be'!B16<0.5),"-",IFERROR('Tabel 4 Be'!B16/'Tabel 4 F'!B16*100,"-")) -> 21.197411 | C16: =IF(OR('Tabel 4 F'!C16<5,'Tabel 4 Be'!C16<0.5),"-",IFERROR('Tabel 4 Be'!C16/'Tabel 4 F'!C16*100,"-")) -> 12.871287 | D16: =IF(OR('Tabel 4 F'!D16<5,'Tabel 4 Be'!D16<0.5),"-",IFERROR('Tabel 4 Be'!D16/'Tabel 4 F'!D16*100,"-")) -> 5.2052052 | E16: =IF(OR('Tabel 4 F'!E16<5,'Tabel 4 Be'!E16<0.5),"-",IFERROR('Tabel 4 Be'!E16/'Tabel 4 F'!E16*100,"-")) -> 4.7673099 | F16: =IF(OR('Tabel 4 F'!F16<5,'Tabel 4 Be'!F16<0.5),"-",IFERROR('Tabel 4 Be'!F16/'Tabel 4 F'!F16*100,"-")) -> 4.9275362 | H16: =IF(OR('Tabel 4 F'!H16<5,'Tabel 4 Be'!H16<0.5),"-",IFERROR('Tabel 4 Be'!H16/'Tabel 4 F'!H16*100,"-")) -> 9.3802817
A17: Agronom | B17: =IF(OR('Tabel 4 F'!B17<5,'Tabel 4 Be'!B17<0.5),"-",IFERROR('Tabel 4 Be'!B17/'Tabel 4 F'!B17*100,"-")) -> 18.471338 | C17: =IF(OR('Tabel 4 F'!C17<5,'Tabel 4 Be'!C17<0.5),"-",IFERROR('Tabel 4 Be'!C17/'Tabel 4 F'!C17*100,"-")) -> 7.2607261 | D17: =IF(OR('Tabel 4 F'!D17<5,'Tabel 4 Be'!D17<0.5),"-",IFERROR('Tabel 4 Be'!D17/'Tabel 4 F'!D17*100,"-")) -> 1.2779553 | E17: =IF(OR('Tabel 4 F'!E17<5,'Tabel 4 Be'!E17<0.5),"-",IFERROR('Tabel 4 Be'!E17/'Tabel 4 F'!E17*100,"-")) -> 1.89099 | F17: =IF(OR('Tabel 4 F'!F17<5,'Tabel 4 Be'!F17<0.5),"-",IFERROR('Tabel 4 Be'!F17/'Tabel 4 F'!F17*100,"-")) -> 3.4120735 | H17: =IF(OR('Tabel 4 F'!H17<5,'Tabel 4 Be'!H17<0.5),"-",IFERROR('Tabel 4 Be'!H17/'Tabel 4 F'!H17*100,"-")) -> 3.761623
A18: Landsk. Arkt. | B18: =IF(OR('Tabel 4 F'!B18<5,'Tabel 4 Be'!B18<0.5),"-",IFERROR('Tabel 4 Be'!B18/'Tabel 4 F'!B18*100,"-")) -> 22.580645 | C18: =IF(OR('Tabel 4 F'!C18<5,'Tabel 4 Be'!C18<0.5),"-",IFERROR('Tabel 4 Be'!C18/'Tabel 4 F'!C18*100,"-")) -> 7.8512397 | D18: =IF(OR('Tabel 4 F'!D18<5,'Tabel 4 Be'!D18<0.5),"-",IFERROR('Tabel 4 Be'!D18/'Tabel 4 F'!D18*100,"-")) -> 3.1111111 | E18: =IF(OR('Tabel 4 F'!E18<5,'Tabel 4 Be'!E18<0.5),"-",IFERROR('Tabel 4 Be'!E18/'Tabel 4 F'!E18*100,"-")) -> 2.189781 | F18: =IF(OR('Tabel 4 F'!F18<5,'Tabel 4 Be'!F18<0.5),"-",IFERROR('Tabel 4 Be'!F18/'Tabel 4 F'!F18*100,"-")) -> 5 | H18: =IF(OR('Tabel 4 F'!H18<5,'Tabel 4 Be'!H18<0.5),"-",IFERROR('Tabel 4 Be'!H18/'Tabel 4 F'!H18*100,"-")) -> 6.3739377
A19: Hortonom | B19: =IF(OR('Tabel 4 F'!B19<5,'Tabel 4 Be'!B19<0.5),"-",IFERROR('Tabel 4 Be'!B19/'Tabel 4 F'!B19*100,"-")) -> - | C19: =IF(OR('Tabel 4 F'!C19<5,'Tabel 4 Be'!C19<0.5),"-",IFERROR('Tabel 4 Be'!C19/'Tabel 4 F'!C19*100,"-")) -> 4.1666667 | D19: =IF(OR('Tabel 4 F'!D19<5,'Tabel 4 Be'!D19<0.5),"-",IFERROR('Tabel 4 Be'!D19/'Tabel 4 F'!D19*100,"-")) -> 3.7037037 | E19: =IF(OR('Tabel 4 F'!E19<5,'Tabel 4 Be'!E19<0.5),"-",IFERROR('Tabel 4 Be'!E19/'Tabel 4 F'!E19*100,"-")) -> 2.1582734 | F19: =IF(OR('Tabel 4 F'!F19<5,'Tabel 4 Be'!F19<0.5),"-",IFERROR('Tabel 4 Be'!F19/'Tabel 4 F'!F19*100,"-")) -> 2.9411765 | H19: =IF(OR('Tabel 4 F'!H19<5,'Tabel 4 Be'!H19<0.5),"-",IFERROR('Tabel 4 Be'!H19/'Tabel 4 F'!H19*100,"-")) -> 2.8753994
A20: Forstkand. | B20: =IF(OR('Tabel 4 F'!B20<5,'Tabel 4 Be'!B20<0.5),"-",IFERROR('Tabel 4 Be'!B20/'Tabel 4 F'!B20*100,"-")) -> 25 | C20: =IF(OR('Tabel 4 F'!C20<5,'Tabel 4 Be'!C20<0.5),"-",IFERROR('Tabel 4 Be'!C20/'Tabel 4 F'!C20*100,"-")) -> 8.3333333 | D20: =IF(OR('Tabel 4 F'!D20<5,'Tabel 4 Be'!D20<0.5),"-",IFERROR('Tabel 4 Be'!D20/'Tabel 4 F'!D20*100,"-")) -> 1.4218009 | E20: =IF(OR('Tabel 4 F'!E20<5,'Tabel 4 Be'!E20<0.5),"-",IFERROR('Tabel 4 Be'!E20/'Tabel 4 F'!E20*100,"-")) -> 1.6 | F20: =IF(OR('Tabel 4 F'!F20<5,'Tabel 4 Be'!F20<0.5),"-",IFERROR('Tabel 4 Be'!F20/'Tabel 4 F'!F20*100,"-")) -> 4.6875 | H20: =IF(OR('Tabel 4 F'!H20<5,'Tabel 4 Be'!H20<0.5),"-",IFERROR('Tabel 4 Be'!H20/'Tabel 4 F'!H20*100,"-")) -> 4.296875
