Workbook
Name _Toc364257418: Udd.oversigt!$A$3

Sheet Nøgletalstabeller
A1: Nøgletal 1: Ledighed (sæsonkorrigeret)
C3: Seneste udvikling | M3: Årlig udvikling
C4: Fuldtidspersoner | H4: Ledighedspct. | M4: Fuldtidspersoner | P4: Ledighedspct.
C5: 2022 | D5: 2022 | E5: 2022 | F5: 2022 | H5: 2022 | I5: 2022 | J5: 2022 | K5: 2022 | M5: 2021 | N5: 2022 | P5: 2021 | Q5: 2022
C6: Mar | D6: Apr | E6: Maj | F6: Juni | H6: Mar | I6: Apr | J6: Maj | K6: Juni | M6: Juni | N6: Juni | P6: Juni | Q6: Juni
A8: Bruttoledighed | C8: 13641.007 | D8: 13385.249 | E8: 12808.771 | F8: 12489.617 | H8: 3.6297377 | I8: 3.5685434 | J8: 3.3691527 | K8: 3.3075687 | M8: 18224.845 | N8: =F8 -> 12489.617 | P8: 4.9712208 | Q8: =K8 -> 3.3075687
A9: Fordelt på kandidatalder
A10: Kandidatalder
A11: - op til 1 år | C11: 4375.0861 | D11: 4089.2337 | E11: 3911.4237 | F11: 4271.4785 | H11: 19.530063 | I11: 18.633878 | J11: 15.485341 | K11: 19.101028 | M11: 5973.4682 | N11: =F11 -> 4271.4785 | P11: 26.069003 | Q11: =K11 -> 19.101028
A12: - mellem 1 - 2 år | C12: 1740.0778 | D12: 1744.9404 | E12: 1614.9788 | F12: 1602.8671 | H12: 8.4098941 | I12: 8.524931 | J12: 7.9098297 | K12: 7.7418497 | M12: 2207.9811 | N12: =F12 -> 1602.8671 | P12: 11.620539 | Q12: =K12 -> 7.7418497
A13: - øvrige | C13: 6742.7519 | D13: 6721.1065 | E13: 6363.8313 | F13: 5898.0368 | H13: 2.290193 | I13: 2.3022417 | J13: 2.1264747 | K13: 2.0127937 | M13: 8848.7254 | N13: =F13 -> 5898.0368 | P13: 3.1144906 | Q13: =K13 -> 2.0127937
A15: Fordelt på akademiske hovedgrupper
A16: DJØF'ere | C16: 2842.4684 | D16: 2807.756 | E16: 2689.2837 | F16: 2626.1982 | H16: 2.8280614 | I16: 2.7832701 | J16: 2.649586 | K16: 2.586023 | M16: 3970.2243 | N16: =F16 -> 2626.1982 | P16: 4.0223259 | Q16: =K16 -> 2.586023
A17: - kandidatalder op til 1 år | C17: 848.27702 | D17: 805.59903 | E17: 729.78428 | F17: 934.45913 | H17: 15.245712 | I17: 14.31481 | J17: 12.720299 | K17: 16.917355 | M17: 1378.1951 | N17: =F17 -> 934.45913 | P17: 23.005946 | Q17: =K17 -> 16.917355
A18: - øvrige | C18: 1780.333 | D18: 1773.9742 | E18: 1670.4206 | F18: 1502.5338 | H18: 2.159864 | I18: 2.1563622 | J18: 2.0365514 | K18: 1.8167185 | M18: 2282.5253 | N18: =F18 -> 1502.5338 | P18: 2.8626418 | Q18: =K18 -> 1.8167185
A20: Magistre | C20: 3975.8333 | D20: 3853.7812 | E20: 3634.1758 | F20: 3539.0751 | H20: 5.6383574 | I20: 5.4538729 | J20: 5.1247288 | K20: 4.9688503 | M20: 5266.352 | N20: =F20 -> 3539.0751 | P20: 7.5955532 | Q20: =K20 -> 4.9688503
A21: - kandidatalder op til 1 år | B21: 23576 | C21: 1058.9161 | D21: 1010.3729 | E21: 932.83794 | F21: 974.15936 | H21: 28.248441 | I21: 27.08657 | J21: 23.267998 | K21: 25.318992 | M21: 1503.9166 | N21: =F21 -> 974.15936 | P21: 37.402858 | Q21: =K21 -> 25.318992
A22: - øvrige | C22: 2784.0941 | D22: 2727.1087 | E22: 2565.1075 | F22: 2432.9757 | H22: 4.475942 | I22: 4.3729441 | J22: 4.1015825 | K22: 3.8594933 | M22: 3544.9427 | N22: =F22 -> 2432.9757 | P22: 5.8169538 | Q22: =K22 -> 3.8594933
A24: Ingeniører | C24: 1370.4961 | D24: 1326.5795 | E24: 1249.9169 | F24: 1204.6505 | H24: 1.9669276 | I24: 1.9074262 | J24: 1.7962868 | K24: 1.7299573 | M24: 1976.6603 | N24: =F24 -> 1204.6505 | P24: 2.9074252 | Q24: =K24 -> 1.7299573
A25: - kandidatalder op til 1 år | C25: 555.61441 | D25: 512.62219 | E25: 484.90545 | F25: 509.34719 | H25: 17.61824 | I25: 15.954693 | J25: 14.488913 | K25: 16.375655 | M25: 710.42433 | N25: =F25 -> 509.34719 | P25: 24.135434 | Q25: =K25 -> 16.375655
A26: - øvrige | C26: 757.41113 | D26: 793.56121 | E26: 722.20577 | F26: 675.83052 | H26: 1.1836374 | I26: 1.2407549 | J26: 1.1320748 | K26: 1.0528015 | M26: 1197.757 | N26: =F26 -> 675.83052 | P26: 1.9059602 | Q26: =K26 -> 1.0528015
A28: Nøgletal 2: Ledighed (ikke sæsonkorrigeret)
C30: Seneste udvikling | M30: Årlig udvikling
C31: Fuldtidspersoner | H31: Ledighedspct. | M31: Fuldtidspersoner | P31: Ledighedspct.
C32: 2022 | D32: 2022 | E32: 2022 | F32: 2022 | H32: 2022 | I32: 2022 | J32: 2022 | K32: 2022 | M32: 2021 | N32: 2022 | P32: 2021 | Q32: 2022
C33: Mar | D33: Apr | E33: Maj | F33: Juni | H33: Mar | I33: Apr | J33: Maj | K33: Juni | M33: Juni | N33: Juni | P33: Juni | Q33: Juni
A35: Bruttoledighed | C35: 13126.363 | D35: 12596.255 | E35: 11559.07 | F35: 12395.546 | H35: 3.5361397 | I35: 3.3957937 | J35: 3.1146532 | K35: 3.2539792 | M35: 18022.47 | N35: =F35 -> 12395.546 | P35: 4.875352 | Q35: =K35 -> 3.2539792
A36: Fordelt på kandidatalder
A37: Kandidatalder
A38: - op til 1 år | C38: 4092.7489 | D38: 3666.9208 | E38: 3123.1867 | F38: 3536.5139 | H38: 18.683232 | I38: 16.866385 | J38: 14.316694 | K38: 15.448689 | M38: 4901.1439 | N38: =F38 -> 3536.5139 | P38: 21.012407 | Q38: =K38 -> 15.448689
A39: - mellem 1 - 2 år | C39: 1612.1443 | D39: 1613.6683 | E39: 1468.349 | F39: 1776.5225 | H39: 8.0386154 | I39: 8.0772265 | J39: 7.3949891 | K39: 8.2598221 | M39: 2447.868 | N39: =F39 -> 1776.5225 | P39: 12.402432 | Q39: =K39 -> 8.2598221
A40: - øvrige | C40: 6644.0985 | D40: 6542.1749 | E40: 6225.8109 | F40: 6342.2361 | H40: 2.2820661 | I40: 2.2485332 | J40: 2.1427232 | K40: 2.1265973 | M40: 9485.9064 | N40: =F40 -> 6342.2361 | P40: 3.2856972 | Q40: =K40 -> 2.1265973
A42: Fordelt på akademiske hovedgrupper
A43: DJØF'ere | C43: 2579.1362 | D43: 2507.8943 | E43: 2329.042 | F43: 2620.9512 | H43: 2.5954877 | I43: 2.526642 | J43: 2.3517362 | K43: 2.5698623 | M43: 3955.8953 | N43: =F43 -> 2620.9512 | P43: 3.9872752 | Q43: =K43 -> 2.5698623
A44: - kandidatalder op til 1 år | C44: 707.50515 | D44: 632.50546 | E44: 546.71615 | F44: 803.02688 | H44: 12.875435 | I44: 11.607735 | J44: 10.249647 | K44: 14.611115 | M44: 1170.5963 | N44: =F44 -> 803.02688 | P44: 19.72361 | Q44: =K44 -> 14.611115
A45: - øvrige | C45: 1672.435 | D45: 1668.805 | E45: 1593.3481 | F45: 1634.9255 | H45: 2.0599534 | I45: 2.0572814 | J45: 1.9667079 | K45: 1.9489384 | M45: 2475.5448 | N45: =F45 -> 1634.9255 | P45: 3.0642482 | Q45: =K45 -> 1.9489384
A47: Magistre | B47: =SUM(B9:B45)-SUM(B17:B20) -> 23576 | C47: 3904.278 | D47: 3736.4536 | E47: 3416.6058 | F47: 3472.3926 | G47: 0 | H47: 5.5798517 | I47: 5.3432868 | J47: 4.8601058 | K47: 4.8306844 | M47: 5149.9046 | N47: =F47 -> 3472.3926 | P47: 7.3638444 | Q47: =K47 -> 4.8306844
A48: - kandidatalder op til 1 år | C48: 1041.9048 | D48: 952.60712 | E48: 821.92852 | F48: 742.909 | H48: 28.212966 | I48: 26.199316 | J48: 21.449074 | K48: 18.961434 | M48: 1139.8316 | N48: =F48 -> 742.909 | P48: 27.985063 | Q48: =K48 -> 18.961434
A49: - øvrige | B49: 3788.9727 | C49: 2725.4918 | D49: 2662.8179 | E49: 2479.0264 | F49: 2605.0496 | H49: 4.4077559 | I49: 4.3081395 | J49: 4.0115643 | K49: 4.1065145 | M49: 3788.9727 | N49: =F49 -> 2605.0496 | P49: 6.1799232 | Q49: =K49 -> 4.1065145
A51: Ingeniører | C51: 1369.9944 | D51: 1291.5088 | E51: 1167.4977 | F51: 1218.2112 | H51: 1.9769324 | I51: 1.8653448 | J51: 1.6891369 | K51: 1.7415706 | M51: 1989.9301 | N51: =F51 -> 1218.2112 | P51: 2.9143675 | Q51: =K51 -> 1.7415706
...

Sheet Efterløn
A1: Efterlønsmodtagere i forhold til samlet antal medlemmer
D4: I alt | J4: Mænd | P4: Kvinder
B6: Alder | D6: Antal Medlemmer i a-kasse | F6: Antal på efterløn | H6: Pct. på efterløn | J6: Antal Medlemmer i a-kasse | L6: Antal på efterløn | N6: Pct. på efterløn | P6: Antal Medlemmer i a-kasse | R6: Antal på efterløn | T6: Pct. på efterløn
B9: 60 år | D9: 5085 | F9: 0 | H9: =IF(D9<10,"-",F9/D9*100) -> 0 | J9: 3066 | L9: 0 | N9: =IF(J9<10,"-",L9/J9*100) -> 0 | P9: 2019 | R9: 0 | T9: =IF(P9<10,"-",R9/P9*100) -> 0
B10: 61 år | D10: 4621 | F10: 0 | H10: =IF(D10<10,"-",F10/D10*100) -> 0 | J10: 2828 | L10: 0 | N10: =IF(J10<10,"-",L10/J10*100) -> 0 | P10: 1793 | R10: 0 | T10: =IF(P10<10,"-",R10/P10*100) -> 0
B11: 62 år | D11: 4117 | F11: 0 | H11: =IF(D11<10,"-",F11/D11*100) -> 0 | J11: 2560 | L11: 0 | N11: =IF(J11<10,"-",L11/J11*100) -> 0 | P11: 1557 | R11: 0 | T11: =IF(P11<10,"-",R11/P11*100) -> 0
B12: 63 år | D12: 3812 | F12: 119 | H12: =IF(D12<10,"-",F12/D12*100) -> 3.1217209 | J12: 2420 | L12: 43 | N12: =IF(J12<10,"-",L12/J12*100) -> 1.7768595 | P12: 1392 | R12: 76 | T12: =IF(P12<10,"-",R12/P12*100) -> 5.4597701
B13: 64 år | D13: 3729 | F13: 294 | H13: =IF(D13<10,"-",F13/D13*100) -> 7.8841512 | J13: 2332 | L13: 120 | N13: =IF(J13<10,"-",L13/J13*100) -> 5.1457976 | P13: 1397 | R13: 174 | T13: =IF(P13<10,"-",R13/P13*100) -> 12.455261
B14: 65 år | D14: 3334 | F14: 547 | H14: =IF(D14<10,"-",F14/D14*100) -> 16.406719 | J14: 2135 | L14: 217 | N14: =IF(J14<10,"-",L14/J14*100) -> 10.163934 | P14: 1199 | R14: 330 | T14: =IF(P14<10,"-",R14/P14*100) -> 27.522936
B15: 66 år + | D15: 3201 | F15: 1038 | H15: =IF(D15<10,"-",F15/D15*100) -> 32.427366 | J15: 2036 | L15: 537 | N15: =IF(J15<10,"-",L15/J15*100) -> 26.375246 | P15: 1165 | R15: 501 | T15: =IF(P15<10,"-",R15/P15*100) -> 43.004292
B17: Total | D17: 1 | F17: 0 | H17: =IF(D17<10,"-",F17/D17*100) -> - | J17: 1 | L17: 0 | N17: =IF(J17<10,"-",L17/J17*100) -> - | P17: 0 | R17: 0 | T17: =IF(P17<10,"-",R17/P17*100) -> -

Sheet Tabel 1
A1: Landstatistik | N1: Landstatistik
A3: Tabel 1. Forsikrede medlemmer | N3: Tabel 1. Forsikrede medlemmer inkl. efterlønnere
C6: Mænd | F6: Kvinder | I6: I alt | P6: Mænd | S6: Kvinder | V6: I alt
C7: =Nøgletalstabeller!$M$5 -> 2021 | D7: =Nøgletalstabeller!$N$5 -> 2022 | F7: =Nøgletalstabeller!$M$5 -> 2021 | G7: =Nøgletalstabeller!$N$5 -> 2022 | I7: =Nøgletalstabeller!$M$5 -> 2021 | J7: =Nøgletalstabeller!$N$5 -> 2022 | P7: =Nøgletalstabeller!$M$5 -> 2021 | Q7: =Nøgletalstabeller!$N$5 -> 2022 | S7: =Nøgletalstabeller!$M$5 -> 2021 | T7: =Nøgletalstabeller!$N$5 -> 2022 | V7: =Nøgletalstabeller!$M$5 -> 2021 | W7: =Nøgletalstabeller!$N$5 -> 2022
A9: Civ. Ing. | C9: 24868 | D9: 25712 | F9: 9011 | G9: 9525 | I9: 33879 | J9: =D9+G9 -> 35237 | N9: Civ. Ing. | P9: 24954 | Q9: 25773 | S9: 9030 | T9: 9540 | V9: 33984 | W9: =Q9+T9 -> 35313
A10: Diplom Ing. | C10: 27846 | D10: 27967 | F10: 6555 | G10: 6745 | I10: 34401 | J10: =D10+G10 -> 34712 | N10: Diplom Ing. | P10: 28154 | Q10: 28220 | S10: 6586 | T10: 6775 | V10: 34740 | W10: =Q10+T10 -> 34995
A11: Cand.Scient.Tech. | C11: 11128 | D11: 11866 | F11: 9207 | G11: 9925 | I11: 20335 | J11: =D11+G11 -> 21791 | N11: Cand.Scient.Tech. | P11: 11139 | Q11: 11876 | S11: 9212 | T11: 9930 | V11: 20351 | W11: =Q11+T11 -> 21806
A12: MA. Hum. | C12: 13447 | D12: 13562 | F12: 29560 | G12: 30132 | I12: 43007 | J12: =D12+G12 -> 43694 | N12: MA. Hum. | P12: 13570 | Q12: 13669 | S12: 29775 | T12: 30341 | V12: 43345 | W12: =Q12+T12 -> 44010
A13: MA. Nat. | C13: 7693 | D13: 7633 | F13: 7273 | G13: 7363 | I13: 14966 | J13: =D13+G13 -> 14996 | N13: MA. Nat. | P13: 7783 | Q13: 7709 | S13: 7317 | T13: 7403 | V13: 15100 | W13: =Q13+T13 -> 15112
A14: MA. Ph.d. | C14: 1392 | D14: 1408 | F14: 1135 | G14: 1159 | I14: 2527 | J14: =D14+G14 -> 2567 | N14: MA. Ph.d. | P14: 1396 | Q14: 1411 | S14: 1139 | T14: 1161 | V14: 2535 | W14: =Q14+T14 -> 2572
A15: MA. Samf. | C15: 1560 | D15: 1730 | F15: 4291 | G15: 4849 | I15: 5851 | J15: =D15+G15 -> 6579 | N15: MA. Samf. | P15: 1563 | Q15: 1734 | S15: 4300 | T15: 4854 | V15: 5863 | W15: =Q15+T15 -> 6588
A16: Øvrige Mag. | C16: 1245 | D16: 1349 | F16: 2339 | G16: 2697 | I16: 3584 | J16: =D16+G16 -> 4046 | N16: Øvrige Mag. | P16: 1265 | Q16: 1367 | S16: 2380 | T16: 2733 | V16: 3645 | W16: =Q16+T16 -> 4100
A17: Agronom | C17: 1184 | D17: 1156 | F17: 1207 | G17: 1209 | I17: 2391 | J17: =D17+G17 -> 2365 | N17: Agronom | P17: 1201 | Q17: 1169 | S17: 1221 | T17: 1217 | V17: 2422 | W17: =Q17+T17 -> 2386
A18: Landsk. Arkt. | C18: 198 | D18: 201 | F18: 522 | G18: 526 | I18: 720 | J18: =D18+G18 -> 727 | N18: Landsk. Arkt. | P18: 199 | Q18: 202 | S18: 523 | T18: 528 | V18: 722 | W18: =Q18+T18 -> 730
A19: Hortonom | C19: 112 | D19: 106 | F19: 190 | G19: 184 | I19: 302 | J19: =D19+G19 -> 290 | N19: Hortonom | P19: 117 | Q19: 109 | S19: 195 | T19: 188 | V19: 312 | W19: =Q19+T19 -> 297
A20: Forstkand. | C20: 384 | D20: 373 | F20: 135 | G20: 134 | I20: 519 | J20: =D20+G20 -> 507 | N20: Forstkand. | P20: 387 | Q20: 374 | S20: 136 | T20: 135 | V20: 523 | W20: =Q20+T20 -> 509
A21: Jordbrugsakad. | B21: 23576 | C21: 1878 | D21: 1836 | F21: 2054 | G21: 2053 | I21: 3932 | J21: =D21+G21 -> 3889 | N21: Jordbrugsakad. | P21: 1904 | Q21: 1854 | S21: 2075 | T21: 2068 | V21: 3979 | W21: =Q21+T21 -> 3922
A22: Mejeriing. | C22: 190 | D22: 189 | F22: 184 | G22: 192 | I22: 374 | J22: =D22+G22 -> 381 | N22: Mejeriing. | P22: 192 | Q22: 191 | S22: 185 | T22: 193 | V22: 377 | W22: =Q22+T22 -> 384
A23: Levn.m.kand. | C23: 72 | D23: 77 | F23: 387 | G23: 405 | I23: 459 | J23: =D23+G23 -> 482 | N23: Levn.m.kand. | P23: 72 | Q23: 77 | S23: 387 | T23: 406 | V23: 459 | W23: =Q23+T23 -> 483
A24: Dyrlæge | C24: 446 | D24: 433 | F24: 2007 | G24: 2084 | I24: 2453 | J24: =D24+G24 -> 2517 | N24: Dyrlæge | P24: 451 | Q24: 437 | S24: 2016 | T24: 2091 | V24: 2467 | W24: =Q24+T24 -> 2528
A25: Farmaceut | C25: 1461 | D25: 1494 | F25: 4088 | G25: 4236 | I25: 5549 | J25: =D25+G25 -> 5730 | N25: Farmaceut | P25: 1467 | Q25: 1497 | S25: 4112 | T25: 4259 | V25: 5579 | W25: =Q25+T25 -> 5756
A26: Læge | C26: 3856 | D26: 3864 | F26: 8758 | G26: 8963 | I26: 12614 | J26: =D26+G26 -> 12827 | N26: Læge | P26: 3865 | Q26: 3872 | S26: 8771 | T26: 8967 | V26: 12636 | W26: =Q26+T26 -> 12839
A27: Tandlæge | C27: 310 | D27: 321 | F27: 1796 | G27: 1782 | I27: 2106 | J27: =D27+G27 -> 2103 | N27: Tandlæge | P27: 314 | Q27: 323 | S27: 1815 | T27: 1798 | V27: 2129 | W27: =Q27+T27 -> 2121
A28: Arkitekt | C28: 2819 | D28: 2753 | F28: 3407 | G28: 3449 | I28: 6226 | J28: =D28+G28 -> 6202 | N28: Arkitekt | P28: 2874 | Q28: 2798 | S28: 3454 | T28: 3495 | V28: 6328 | W28: =Q28+T28 -> 6293
A29: Landinspek. | C29: 595 | D29: 597 | F29: 262 | G29: 266 | I29: 857 | J29: =D29+G29 -> 863 | N29: Landinspek. | P29: 611 | Q29: 607 | S29: 265 | T29: 269 | V29: 876 | W29: =Q29+T29 -> 876
A30: Bibliotekar | C30: 871 | D30: 847 | F30: 2483 | G30: 2402 | I30: 3354 | J30: =D30+G30 -> 3249 | N30: Bibliotekar | P30: 908 | Q30: 879 | S30: 2616 | T30: 2526 | V30: 3524 | W30: =Q30+T30 -> 3405
A31: Musikudd. | C31: 390 | D31: 375 | F31: 514 | G31: 496 | I31: 904 | J31: =D31+G31 -> 871 | N31: Musikudd. | P31: 398 | Q31: 385 | S31: 530 | T31: 515 | V31: 928 | W31: =Q31+T31 -> 900
A32: Teolog | C32: 664 | D32: 650 | F32: 1076 | G32: 1060 | I32: 1740 | J32: =D32+G32 -> 1710 | N32: Teolog | P32: 669 | Q32: 654 | S32: 1084 | T32: 1067 | V32: 1753 | W32: =Q32+T32 -> 1721
A33: Psykolog | C33: 1536 | D33: 1571 | F33: 7019 | G33: 7260 | I33: 8555 | J33: =D33+G33 -> 8831 | N33: Psykolog | P33: 1551 | Q33: 1580 | S33: 7061 | T33: 7299 | V33: 8612 | W33: =Q33+T33 -> 8879
... A46: Andre | C46: 12132 | D46: 12754 | F46: 12381 | G46: 12887 | I46: 24513 | J46: =D46+G46 -> 25641 | N46: Andre | P46: 12305 | Q46: 12892 | S46: 12529 | T46: 13023 | V46: 24834 | W46: =Q46+T46 -> 25915
A48: Total | B48: =SUM(B9:B46)-SUM(B17:B20) -> 23576 | C48: =SUM(C9:C46)-SUM(C17:C20) -> 182014 | D48: =SUM(D9:D46)-SUM(D17:D20) -> 186671 | F48: =SUM(F9:F46)-SUM(F17:F20) -> 187651 | G48: =SUM(G9:G46)-SUM(G17:G20) -> 194264 | H48: =SUM(H9:H46)-SUM(H17:H20) -> 0 | I48: =SUM(I9:I46)-SUM(I17:I20) -> 369665 | J48: =SUM(J9:J46)-SUM(J17:J20) -> 380935 | N48: Total | P48: =SUM(P9:P46)-SUM(P17:P20) -> 183250 | Q48: =SUM(Q9:Q46)-SUM(Q17:Q20) -> 187680 | S48: =SUM(S9:S46)-SUM(S17:S20) -> 188840 | T48: =SUM(T9:T46)-SUM(T17:T20) -> 195398 | V48: =SUM(V9:V46)-SUM(V17:V20) -> 372090 | W48: =SUM(W9:W46)-SUM(W17:W20) -> 383078
A50: Ingeniører i alt | C50: 52714 | D50: 53679 | F50: 15566 | G50: 16270 | I50: 68280 | J50: =D50+G50 -> 69949 | N50: Ingeniører i alt | P50: 53108 | Q50: 53993 | S50: 15616 | T50: 16315 | V50: 68724 | W50: =Q50+T50 -> 70308
A51: Magistre i alt | C51: 25337 | D51: 25682 | F51: 44598 | G51: 46200 | I51: 69935 | J51: =D51+G51 -> 71882 | N51: Magistre i alt | P51: 25577 | Q51: 25890 | S51: 44911 | T51: 46492 | V51: 70488 | W51: =Q51+T51 -> 72382
A52: DJØF'ere i alt | C52: 45811 | D52: 46758 | F52: 53402 | G52: 55230 | I52: 99213 | J52: =D52+G52 -> 101988 | N52: DJØF'ere i alt | P52: 45988 | Q52: 46904 | S52: 53486 | T52: 55306 | V52: 99474 | W52: =Q52+T52 -> 102210
A53: Se sidste del af statistikken for en oversigt over uddannelsesgrupperingernes indhold

Sheet Tabel 2
A1: Landstatistik
A3: Tabel 2. Antal bruttoledige målt i berørte og opregnet til fuldtidspersoner
C5: Mænd | F5: Kvinder | I5: I alt
C6: Ledigheds-berørte | D6: Fuldtids-personer | F6: Ledigheds-berørte | G6: Fuldtids-personer | I6: Ledigheds-berørte | J6: Fuldtids-personer
A9: Civ. Ing. | C9: 667 | D9: 447.66107 | F9: 333 | G9: 216.02632 | H9: 854 | I9: =C9+F9 -> 1000 | J9: =D9+G9 -> 663.68739
A10: Diplom Ing. | C10: 503 | D10: 409.53284 | F10: 179 | G10: 144.99096 | H10: 738 | I10: =C10+F10 -> 682 | J10: =D10+G10 -> 554.5238
A11: Cand.Scient.Tech. | C11: 682 | D11: 502.7618 | F11: 633 | G11: 452.89029 | H11: 2239 | I11: =C11+F11 -> 1315 | J11: =D11+G11 -> 955.65209
A12: MA. Hum. | C12: 1000 | D12: 785.71821 | F12: 2082 | G12: 1575.6378 | H12: 550 | I12: =C12+F12 -> 3082 | J12: =D12+G12 -> 2361.356
A13: MA. Nat. | C13: 217 | D13: 154.80384 | F13: 245 | G13: 178.84925 | H13: 91 | I13: =C13+F13 -> 462 | J13: =D13+G13 -> 333.65309
A14: MA. Ph.d. | C14: 32 | D14: 26.30138 | F14: 36 | G14: 26.54088 | H14: 349 | I14: =C14+F14 -> 68 | J14: =D14+G14 -> 52.84226
A15: MA. Samf. | C15: 197 | D15: 145.69451 | F15: 479 | G15: 341.38652 | H15: 204 | I15: =C15+F15 -> 676 | J15: =D15+G15 -> 487.08103
A16: Øvrige Mag. | C16: 104 | D16: 81.07279 | F16: 220 | G16: 156.38745 | H16: 66 | I16: =C16+F16 -> 324 | J16: =D16+G16 -> 237.46024
A17: Agronom | C17: 25 | D17: 21.34161 | F17: 32 | G17: 23.33562 | H17: 40 | I17: =C17+F17 -> 57 | J17: =D17+G17 -> 44.67723
A18: Landsk. Arkt. | C18: 7 | D18: 5.1525 | F18: 18 | G18: 13.55641 | H18: 16 | I18: =C18+F18 -> 25 | J18: =D18+G18 -> 18.70891
A19: Hortonom | C19: 1 | D19: 0.9075 | F19: 5 | G19: 3.07117 | H19: 14 | I19: =C19+F19 -> 6 | J19: =D19+G19 -> 3.97867
A20: Forstkand. | C20: 8 | D20: 7.59808 | E20: 83 | F20: 5 | G20: 3.92815 | H20: 136 | I20: =C20+F20 -> 13 | J20: =D20+G20 -> 11.52623
A21: Jordbrugsakad. | B21: 23576 | C21: 41 | D21: 34.99969 | F21: 60 | G21: 43.89135 | I21: =C21+F21 -> 101 | J21: =D21+G21 -> 78.89104
A22: Mejeriing. | C22: 7 | D22: 6.04254 | F22: 5 | G22: 4.37036 | H22: 17 | I22: =C22+F22 -> 12 | J22: =D22+G22 -> 10.4129
A23: Levn.m.kand. | C23: 6 | D23: 4.5949 | F23: 17 | G23: 14.119 | H23: 110 | I23: =C23+F23 -> 23 | J23: =D23+G23 -> 18.7139
A24: Dyrlæge | C24: 5 | D24: 2.90339 | F24: 24 | G24: 16.63818 | H24: 143 | I24: =C24+F24 -> 29 | J24: =D24+G24 -> 19.54157
A25: Farmaceut | C25: 55 | D25: 40.1815 | F25: 121 | G25: 79.82287 | H25: 66 | I25: =C25+F25 -> 176 | J25: =D25+G25 -> 120.00437
A26: Læge | C26: 137 | D26: 66.86646 | F26: 288 | G26: 143.86391 | H26: 55 | I26: =C26+F26 -> 425 | J26: =D26+G26 -> 210.73037
A27: Tandlæge | C27: 19 | D27: 9.26901 | F27: 63 | G27: 27.77646 | H27: 345 | I27: =C27+F27 -> 82 | J27: =D27+G27 -> 37.04547
A28: Arkitekt | C28: 128 | D28: 104.78513 | F28: 206 | G28: 156.06998 | H28: 7 | I28: =C28+F28 -> 334 | J28: =D28+G28 -> 260.85511
A29: Landinspek. | C29: 13 | D29: 5.62964 | F29: 11 | G29: 5.92091 | H29: 276 | I29: =C29+F29 -> 24 | J29: =D29+G29 -> 11.55055
A30: Bibliotekar | C30: 28 | D30: 23.84208 | F30: 67 | G30: 51.51687 | H30: 32 | I30: =C30+F30 -> 95 | J30: =D30+G30 -> 75.35895
A31: Musikudd. | C31: 14 | D31: 8.99083 | F31: 21 | G31: 15.29533 | H31: 59 | I31: =C31+F31 -> 35 | J31: =D31+G31 -> 24.28616
A32: Teolog | C32: 26 | D32: 21.25616 | F32: 35 | G32: 26.54213 | H32: 279 | I32: =C32+F32 -> 61 | J32: =D32+G32 -> 47.79829
A33: Psykolog | C33: 83 | D33: 61.85305 | F33: 387 | G33: 245.11757 | H33: 372 | I33: =C33+F33 -> 470 | J33: =D33+G33 -> 306.97062
... A40: Komm. og Sprog | C40: 66 | D40: 56.91948 | F40: 300 | G40: 233.09736 | H40: 241 | I40: =C40+F40 -> 366 | J40: =D40+G40 -> 290.01684
A41: Bygningskonst. | C41: 225 | D41: 166.98453 | F41: 86 | G41: 68.89996 | I41: =C41+F41 -> 311 | J41: =D41+G41 -> 235.88449
A42: Cand. IT. | C42: 209 | D42: 137.89122 | F42: 228 | G42: 145.15874 | H42: 78 | I42: =C42+F42 -> 437 | J42: =D42+G42 -> 283.04996
A43: Bac. Samf. | C43: 36 | D43: 32.61149 | F43: 64 | G43: 47.47895 | H43: 326 | I43: =C43+F43 -> 100 | J43: =D43+G43 -> 80.09044
A44: Bac. Hum. | C44: 206 | D44: 156.18724 | F44: 417 | G44: 293.32626 | H44: 12 | I44: =C44+F44 -> 623 | J44: =D44+G44 -> 449.5135
A45: Bac. Nat. | C45: 207 | D45: 158.9347 | F45: 176 | G45: 130.34242 | H45: 2761 | I45: =C45+F45 -> 383 | J45: =D45+G45 -> 289.27712
A46: Andre | C46: 621 | D46: 478.55985 | F46: 853 | G46: 642.5435 | I46: =C46+F46 -> 1474 | J46: =D46+G46 -> 1121.1033
A48: Total | B48: =SUM(B9:B46)-SUM(B17:B20) -> 23576 | C48: =SUM(C9:C46)-SUM(C17:C20) -> 7357 | D48: =SUM(D9:D46)-SUM(D17:D20) -> 5432.9997 | E48: =SUM(E9:E46)-SUM(E17:E20) -> 0 | F48: =SUM(F9:F46)-SUM(F17:F20) -> 9735 | G48: =SUM(G9:G46)-SUM(G17:G20) -> 6962.5462 | H48: =SUM(H9:H46)-SUM(H17:H20) -> 14256 | I48: =SUM(I9:I46)-SUM(I17:I20) -> 17092 | J48: =SUM(J9:J46)-SUM(J17:J20) -> 12395.546
A50: Ingeniører i alt | C50: 1170 | D50: 857.19391 | F50: 512 | G50: 361.01728 | I50: =C50+F50 -> 1682 | J50: =D50+G50 -> 1218.2112
A51: Magistre i alt | C51: 1550 | D51: 1193.5907 | F51: 3062 | G51: 2278.8018 | I51: =C51+F51 -> 4612 | J51: =D51+G51 -> 3472.3926
A52: DJØF'ere i alt | C52: 1712 | D52: 1207.1914 | F52: 2015 | G52: 1413.7597 | I52: =C52+F52 -> 3727 | J52: =D52+G52 -> 2620.9512
...

Sheet Tabel 3
A1: Landstatistik
A3: Tabel 3. Antal bruttoledige i procent af antal forsikrede
C5: Mænd | F5: Kvinder | G5: Kvinder | I5: I alt | J5: I alt
C6: Ledigheds-berørte | D6: Fuldtids-personer | F6: Ledigheds-berørte | G6: Fuldtids-personer | I6: Ledigheds-berørte | J6: Fuldtids-personer
A9: Civ. Ing. | C9: =IF(OR('Tabel 1'!$D9<5,'Tabel 2'!C9<0.5),"-",IFERROR('Tabel 2'!C9/'Tabel 1'!$D9*100,"-")) -> 2.5941195 | D9: =IF(OR('Tabel 1'!$D9<5,'Tabel 2'!D9<0.5),"-",IFERROR('Tabel 2'!D9/'Tabel 1'!$D9*100,"-")) -> 1.7410589 | F9: =IF(OR('Tabel 1'!$G9<5,'Tabel 2'!F9<0.5),"-",IFERROR('Tabel 2'!F9/'Tabel 1'!$G9*100,"-")) -> 3.496063 | G9: =IF(OR('Tabel 1'!$G9<5,'Tabel 2'!G9<0.5),"-",IFERROR('Tabel 2'!G9/'Tabel 1'!$G9*100,"-")) -> 2.2679929 | I9: =IF(OR('Tabel 1'!$J9<5,'Tabel 2'!I9<0.5),"-",IFERROR('Tabel 2'!I9/'Tabel 1'!$J9*100,"-")) -> 2.837926 | J9: =IF(OR('Tabel 1'!$J9<5,'Tabel 2'!J9<0.5),"-",IFERROR('Tabel 2'!J9/'Tabel 1'!$J9*100,"-")) -> 1.8834957
A10: Diplom Ing. | C10: =IF(OR('Tabel 1'!$D10<5,'Tabel 2'!C10<0.5),"-",IFERROR('Tabel 2'!C10/'Tabel 1'!$D10*100,"-")) -> 1.7985483 | D10: =IF(OR('Tabel 1'!$D10<5,'Tabel 2'!D10<0.5),"-",IFERROR('Tabel 2'!D10/'Tabel 1'!$D10*100,"-")) -> 1.4643431 | F10: =IF(OR('Tabel 1'!$G10<5,'Tabel 2'!F10<0.5),"-",IFERROR('Tabel 2'!F10/'Tabel 1'!$G10*100,"-")) -> 2.6538176 | G10: =IF(OR('Tabel 1'!$G10<5,'Tabel 2'!G10<0.5),"-",IFERROR('Tabel 2'!G10/'Tabel 1'!$G10*100,"-")) -> 2.1496065 | I10: =IF(OR('Tabel 1'!$J10<5,'Tabel 2'!I10<0.5),"-",IFERROR('Tabel 2'!I10/'Tabel 1'!$J10*100,"-")) -> 1.9647384 | J10: =IF(OR('Tabel 1'!$J10<5,'Tabel 2'!J10<0.5),"-",IFERROR('Tabel 2'!J10/'Tabel 1'!$J10*100,"-")) -> 1.5974988
A11: Cand.Scient.Tech. | C11: =IF(OR('Tabel 1'!$D11<5,'Tabel 2'!C11<0.5),"-",IFERROR('Tabel 2'!C11/'Tabel 1'!$D11*100,"-")) -> 5.7475139 | D11: =IF(OR('Tabel 1'!$D11<5,'Tabel 2'!D11<0.5),"-",IFERROR('Tabel 2'!D11/'Tabel 1'!$D11*100,"-")) -> 4.2369948 | F11: =IF(OR('Tabel 1'!$G11<5,'Tabel 2'!F11<0.5),"-",IFERROR('Tabel 2'!F11/'Tabel 1'!$G11*100,"-")) -> 6.3778338 | G11: =IF(OR('Tabel 1'!$G11<5,'Tabel 2'!G11<0.5),"-",IFERROR('Tabel 2'!G11/'Tabel 1'!$G11*100,"-")) -> 4.5631263 | I11: =IF(OR('Tabel 1'!$J11<5,'Tabel 2'!I11<0.5),"-",IFERROR('Tabel 2'!I11/'Tabel 1'!$J11*100,"-")) -> 6.0346014 | J11: =IF(OR('Tabel 1'!$J11<5,'Tabel 2'!J11<0.5),"-",IFERROR('Tabel 2'!J11/'Tabel 1'!$J11*100,"-")) -> 4.3855357
A12: MA. Hum. | C12: =IF(OR('Tabel 1'!$D12<5,'Tabel 2'!C12<0.5),"-",IFERROR('Tabel 2'!C12/'Tabel 1'!$D12*100,"-")) -> 7.3735437 | D12: =IF(OR('Tabel 1'!$D12<5,'Tabel 2'!D12<0.5),"-",IFERROR('Tabel 2'!D12/'Tabel 1'!$D12*100,"-")) -> 5.7935276 | F12: =IF(OR('Tabel 1'!$G12<5,'Tabel 2'!F12<0.5),"-",IFERROR('Tabel 2'!F12/'Tabel 1'!$G12*100,"-")) -> 6.9095978 | G12: =IF(OR('Tabel 1'!$G12<5,'Tabel 2'!G12<0.5),"-",IFERROR('Tabel 2'!G12/'Tabel 1'!$G12*100,"-")) -> 5.2291177 | I12: =IF(OR('Tabel 1'!$J12<5,'Tabel 2'!I12<0.5),"-",IFERROR('Tabel 2'!I12/'Tabel 1'!$J12*100,"-")) -> 7.0536 | J12: =IF(OR('Tabel 1'!$J12<5,'Tabel 2'!J12<0.5),"-",IFERROR('Tabel 2'!J12/'Tabel 1'!$J12*100,"-")) -> 5.4043026
A13: MA. Nat. | C13: =IF(OR('Tabel 1'!$D13<5,'Tabel 2'!C13<0.5),"-",IFERROR('Tabel 2'!C13/'Tabel 1'!$D13*100,"-")) -> 2.8429189 | D13: =IF(OR('Tabel 1'!$D13<5,'Tabel 2'!D13<0.5),"-",IFERROR('Tabel 2'!D13/'Tabel 1'!$D13*100,"-")) -> 2.0280865 | F13: =IF(OR('Tabel 1'!$G13<5,'Tabel 2'!F13<0.5),"-",IFERROR('Tabel 2'!F13/'Tabel 1'!$G13*100,"-")) -> 3.3274481 | G13: =IF(OR('Tabel 1'!$G13<5,'Tabel 2'!G13<0.5),"-",IFERROR('Tabel 2'!G13/'Tabel 1'!$G13*100,"-")) -> 2.4290269 | I13: =IF(OR('Tabel 1'!$J13<5,'Tabel 2'!I13<0.5),"-",IFERROR('Tabel 2'!I13/'Tabel 1'!$J13*100,"-")) -> 3.0808216 | J13: =IF(OR('Tabel 1'!$J13<5,'Tabel 2'!J13<0.5),"-",IFERROR('Tabel 2'!J13/'Tabel 1'!$J13*100,"-")) -> 2.2249473
A14: MA. Ph.d. | C14: =IF(OR('Tabel 1'!$D14<5,'Tabel 2'!C14<0.5),"-",IFERROR('Tabel 2'!C14/'Tabel 1'!$D14*100,"-")) -> 2.2727273 | D14: =IF(OR('Tabel 1'!$D14<5,'Tabel 2'!D14<0.5),"-",IFERROR('Tabel 2'!D14/'Tabel 1'!$D14*100,"-")) -> 1.8679957 | F14: =IF(OR('Tabel 1'!$G14<5,'Tabel 2'!F14<0.5),"-",IFERROR('Tabel 2'!F14/'Tabel 1'!$G14*100,"-")) -> 3.106126 | G14: =IF(OR('Tabel 1'!$G14<5,'Tabel 2'!G14<0.5),"-",IFERROR('Tabel 2'!G14/'Tabel 1'!$G14*100,"-")) -> 2.289981 | I14: =IF(OR('Tabel 1'!$J14<5,'Tabel 2'!I14<0.5),"-",IFERROR('Tabel 2'!I14/'Tabel 1'!$J14*100,"-")) -> 2.6490066 | J14: =IF(OR('Tabel 1'!$J14<5,'Tabel 2'!J14<0.5),"-",IFERROR('Tabel 2'!J14/'Tabel 1'!$J14*100,"-")) -> 2.058522
A15: MA. Samf. | C15: =IF(OR('Tabel 1'!$D15<5,'Tabel 2'!C15<0.5),"-",IFERROR('Tabel 2'!C15/'Tabel 1'!$D15*100,"-")) -> 11.387283 | D15: =IF(OR('Tabel 1'!$D15<5,'Tabel 2'!D15<0.5),"-",IFERROR('Tabel 2'!D15/'Tabel 1'!$D15*100,"-")) -> 8.421648 | F15: =IF(OR('Tabel 1'!$G15<5,'Tabel 2'!F15<0.5),"-",IFERROR('Tabel 2'!F15/'Tabel 1'!$G15*100,"-")) -> 9.8783254 | G15: =IF(OR('Tabel 1'!$G15<5,'Tabel 2'!G15<0.5),"-",IFERROR('Tabel 2'!G15/'Tabel 1'!$G15*100,"-")) -> 7.0403489 | I15: =IF(OR('Tabel 1'!$J15<5,'Tabel 2'!I15<0.5),"-",IFERROR('Tabel 2'!I15/'Tabel 1'!$J15*100,"-")) -> 10.275118 | J15: =IF(OR('Tabel 1'!$J15<5,'Tabel 2'!J15<0.5),"-",IFERROR('Tabel 2'!J15/'Tabel 1'!$J15*100,"-")) -> 7.4035724
A16: Øvrige Mag. | C16: =IF(OR('Tabel 1'!$D16<5,'Tabel 2'!C16<0.5),"-",IFERROR('Tabel 2'!C16/'Tabel 1'!$D16*100,"-")) -> 7.7094144 | D16: =IF(OR('Tabel 1'!$D16<5,'Tabel 2'!D16<0.5),"-",IFERROR('Tabel 2'!D16/'Tabel 1'!$D16*100,"-")) -> 6.0098436 | F16: =IF(OR('Tabel 1'!$G16<5,'Tabel 2'!F16<0.5),"-",IFERROR('Tabel 2'!F16/'Tabel 1'!$G16*100,"-")) -> 8.1572117 | G16: =IF(OR('Tabel 1'!$G16<5,'Tabel 2'!G16<0.5),"-",IFERROR('Tabel 2'!G16/'Tabel 1'!$G16*100,"-")) -> 5.7985706 | I16: =IF(OR('Tabel 1'!$J16<5,'Tabel 2'!I16<0.5),"-",IFERROR('Tabel 2'!I16/'Tabel 1'!$J16*100,"-")) -> 8.007909 | J16: =IF(OR('Tabel 1'!$J16<5,'Tabel 2'!J16<0.5),"-",IFERROR('Tabel 2'!J16/'Tabel 1'!$J16*100,"-")) -> 5.8690124
A17: Agronom | C17: =IF(OR('Tabel 1'!$D17<5,'Tabel 2'!C17<0.5),"-",IFERROR('Tabel 2'!C17/'Tabel 1'!$D17*100,"-")) -> 2.1626298 | D17: =IF(OR('Tabel 1'!$D17<5,'Tabel 2'!D17<0.5),"-",IFERROR('Tabel 2'!D17/'Tabel 1'!$D17*100,"-")) -> 1.84616 | F17: =IF(OR('Tabel 1'!$G17<5,'Tabel 2'!F17<0.5),"-",IFERROR('Tabel 2'!F17/'Tabel 1'!$G17*100,"-")) -> 2.6468156 | G17: =IF(OR('Tabel 1'!$G17<5,'Tabel 2'!G17<0.5),"-",IFERROR('Tabel 2'!G17/'Tabel 1'!$G17*100,"-")) -> 1.9301588 | I17: =IF(OR('Tabel 1'!$J17<5,'Tabel 2'!I17<0.5),"-",IFERROR('Tabel 2'!I17/'Tabel 1'!$J17*100,"-")) -> 2.410148 | J17: =IF(OR('Tabel 1'!$J17<5,'Tabel 2'!J17<0.5),"-",IFERROR('Tabel 2'!J17/'Tabel 1'!$J17*100,"-")) -> 1.8891006
A18: Landsk. Arkt. | C18: =IF(OR('Tabel 1'!$D18<5,'Tabel 2'!C18<0.5),"-",IFERROR('Tabel 2'!C18/'Tabel 1'!$D18*100,"-")) -> 3.4825871 | D18: =IF(OR('Tabel 1'!$D18<5,'Tabel 2'!D18<0.5),"-",IFERROR('Tabel 2'!D18/'Tabel 1'!$D18*100,"-")) -> 2.5634328 | F18: =IF(OR('Tabel 1'!$G18<5,'Tabel 2'!F18<0.5),"-",IFERROR('Tabel 2'!F18/'Tabel 1'!$G18*100,"-")) -> 3.4220532 | G18: =IF(OR('Tabel 1'!$G18<5,'Tabel 2'!G18<0.5),"-",IFERROR('Tabel 2'!G18/'Tabel 1'!$G18*100,"-")) -> 2.5772643 | I18: =IF(OR('Tabel 1'!$J18<5,'Tabel 2'!I18<0.5),"-",IFERROR('Tabel 2'!I18/'Tabel 1'!$J18*100,"-")) -> 3.4387895 | J18: =IF(OR('Tabel 1'!$J18<5,'Tabel 2'!J18<0.5),"-",IFERROR('Tabel 2'!J18/'Tabel 1'!$J18*100,"-")) -> 2.5734402
A19: Hortonom | C19: =IF(OR('Tabel 1'!$D19<5,'Tabel 2'!C19<0.5),"-",IFERROR('Tabel 2'!C19/'Tabel 1'!$D19*100,"-")) -> 0.94339623 | D19: =IF(OR('Tabel 1'!$D19<5,'Tabel 2'!D19<0.5),"-",IFERROR('Tabel 2'!D19/'Tabel 1'!$D19*100,"-")) -> 0.85613208 | F19: =IF(OR('Tabel 1'!$G19<5,'Tabel 2'!F19<0.5),"-",IFERROR('Tabel 2'!F19/'Tabel 1'!$G19*100,"-")) -> 2.7173913 | G19: =IF(OR('Tabel 1'!$G19<5,'Tabel 2'!G19<0.5),"-",IFERROR('Tabel 2'!G19/'Tabel 1'!$G19*100,"-")) -> 1.6691141 | I19: =IF(OR('Tabel 1'!$J19<5,'Tabel 2'!I19<0.5),"-",IFERROR('Tabel 2'!I19/'Tabel 1'!$J19*100,"-")) -> 2.0689655 | J19: =IF(OR('Tabel 1'!$J19<5,'Tabel 2'!J19<0.5),"-",IFERROR('Tabel 2'!J19/'Tabel 1'!$J19*100,"-")) -> 1.3719552
A20: Forstkand. | C20: =IF(OR('Tabel 1'!$D20<5,'Tabel 2'!C20<0.5),"-",IFERROR('Tabel 2'!C20/'Tabel 1'!$D20*100,"-")) -> 2.1447721 | D20: =IF(OR('Tabel 1'!$D20<5,'Tabel 2'!D20<0.5),"-",IFERROR('Tabel 2'!D20/'Tabel 1'!$D20*100,"-")) -> 2.0370188 | F20: =IF(OR('Tabel 1'!$G20<5,'Tabel 2'!F20<0.5),"-",IFERROR('Tabel 2'!F20/'Tabel 1'!$G20*100,"-")) -> 3.7313433 | G20: =IF(OR('Tabel 1'!$G20<5,'Tabel 2'!G20<0.5),"-",IFERROR('Tabel 2'!G20/'Tabel 1'!$G20*100,"-")) -> 2.9314552 | I20: =IF(OR('Tabel 1'!$J20<5,'Tabel 2'!I20<0.5),"-",IFERROR('Tabel 2'!I20/'Tabel 1'!$J20*100,"-")) -> 2.5641026 | J20: =IF(OR('Tabel 1'!$J20<5,'Tabel 2'!J20<0.5),"-",IFERROR('Tabel 2'!J20/'Tabel 1'!$J20*100,"-")) -> 2.2734181
A21: Jordbrugsakad. | B21: 23576 | C21: =IF(OR('Tabel 1'!$D21<5,'Tabel 2'!C21<0.5),"-",IFERROR('Tabel 2'!C21/'Tabel 1'!$D21*100,"-")) -> 2.2331155 | D21: =IF(OR('Tabel 1'!$D21<5,'Tabel 2'!D21<0.5),"-",IFERROR('Tabel 2'!D21/'Tabel 1'!$D21*100,"-")) -> 1.9063012 | F21: =IF(OR('Tabel 1'!$G21<5,'Tabel 2'!F21<0.5),"-",IFERROR('Tabel 2'!F21/'Tabel 1'!$G21*100,"-")) -> 2.9225524 | G21: =IF(OR('Tabel 1'!$G21<5,'Tabel 2'!G21<0.5),"-",IFERROR('Tabel 2'!G21/'Tabel 1'!$G21*100,"-")) -> 2.1379128 | I21: =IF(OR('Tabel 1'!$J21<5,'Tabel 2'!I21<0.5),"-",IFERROR('Tabel 2'!I21/'Tabel 1'!$J21*100,"-")) -> 2.5970687 | J21: =IF(OR('Tabel 1'!$J21<5,'Tabel 2'!J21<0.5),"-",IFERROR('Tabel 2'!J21/'Tabel 1'!$J21*100,"-")) -> 2.0285688
A22: Mejeriing. | C22: =IF(OR('Tabel 1'!$D22<5,'Tabel 2'!C22<0.5),"-",IFERROR('Tabel 2'!C22/'Tabel 1'!$D22*100,"-")) -> 3.7037037 | D22: =IF(OR('Tabel 1'!$D22<5,'Tabel 2'!D22<0.5),"-",IFERROR('Tabel 2'!D22/'Tabel 1'!$D22*100,"-")) -> 3.1971111 | F22: =IF(OR('Tabel 1'!$G22<5,'Tabel 2'!F22<0.5),"-",IFERROR('Tabel 2'!F22/'Tabel 1'!$G22*100,"-")) -> 2.6041667 | G22: =IF(OR('Tabel 1'!$G22<5,'Tabel 2'!G22<0.5),"-",IFERROR('Tabel 2'!G22/'Tabel 1'!$G22*100,"-")) -> 2.2762292 | I22: =IF(OR('Tabel 1'!$J22<5,'Tabel 2'!I22<0.5),"-",IFERROR('Tabel 2'!I22/'Tabel 1'!$J22*100,"-")) -> 3.1496063 | J22: =IF(OR('Tabel 1'!$J22<5,'Tabel 2'!J22<0.5),"-",IFERROR('Tabel 2'!J22/'Tabel 1'!$J22*100,"-")) -> 2.7330446
A23: Levn.m.kand. | C23: =IF(OR('Tabel 1'!$D23<5,'Tabel 2'!C23<0.5),"-",IFERROR('Tabel 2'!C23/'Tabel 1'!$D23*100,"-")) -> 7.7922078 | D23: =IF(OR('Tabel 1'!$D23<5,'Tabel 2'!D23<0.5),"-",IFERROR('Tabel 2'!D23/'Tabel 1'!$D23*100,"-")) -> 5.9674026 | F23: =IF(OR('Tabel 1'!$G23<5,'Tabel 2'!F23<0.5),"-",IFERROR('Tabel 2'!F23/'Tabel 1'!$G23*100,"-")) -> 4.1975309 | G23: =IF(OR('Tabel 1'!$G23<5,'Tabel 2'!G23<0.5),"-",IFERROR('Tabel 2'!G23/'Tabel 1'!$G23*100,"-")) -> 3.4861728 | I23: =IF(OR('Tabel 1'!$J23<5,'Tabel 2'!I23<0.5),"-",IFERROR('Tabel 2'!I23/'Tabel 1'!$J23*100,"-")) -> 4.7717842 | J23: =IF(OR('Tabel 1'!$J23<5,'Tabel 2'!J23<0.5),"-",IFERROR('Tabel 2'!J23/'Tabel 1'!$J23*100,"-")) -> 3.8825519
A24: Dyrlæge | C24: =IF(OR('Tabel 1'!$D24<5,'Tabel 2'!C24<0.5),"-",IFERROR('Tabel 2'!C24/'Tabel 1'!$D24*100,"-")) -> 1.1547344 | D24: =IF(OR('Tabel 1'!$D24<5,'Tabel 2'!D24<0.5),"-",IFERROR('Tabel 2'!D24/'Tabel 1'!$D24*100,"-")) -> 0.67052887 | F24: =IF(OR('Tabel 1'!$G24<5,'Tabel 2'!F24<0.5),"-",IFERROR('Tabel 2'!F24/'Tabel 1'!$G24*100,"-")) -> 1.1516315 | G24: =IF(OR('Tabel 1'!$G24<5,'Tabel 2'!G24<0.5),"-",IFERROR('Tabel 2'!G24/'Tabel 1'!$G24*100,"-")) -> 0.79837716 | I24: =IF(OR('Tabel 1'!$J24<5,'Tabel 2'!I24<0.5),"-",IFERROR('Tabel 2'!I24/'Tabel 1'!$J24*100,"-")) -> 1.1521653 | J24: =IF(OR('Tabel 1'!$J24<5,'Tabel 2'!J24<0.5),"-",IFERROR('Tabel 2'!J24/'Tabel 1'!$J24*100,"-")) -> 0.77638339
A25: Farmaceut | C25: =IF(OR('Tabel 1'!$D25<5,'Tabel 2'!C25<0.5),"-",IFERROR('Tabel 2'!C25/'Tabel 1'!$D25*100,"-")) -> 3.6813922 | D25: =IF(OR('Tabel 1'!$D25<5,'Tabel 2'!D25<0.5),"-",IFERROR('Tabel 2'!D25/'Tabel 1'!$D25*100,"-")) -> 2.6895248 | F25: =IF(OR('Tabel 1'!$G25<5,'Tabel 2'!F25<0.5),"-",IFERROR('Tabel 2'!F25/'Tabel 1'!$G25*100,"-")) -> 2.8564684 | G25: =IF(OR('Tabel 1'!$G25<5,'Tabel 2'!G25<0.5),"-",IFERROR('Tabel 2'!G25/'Tabel 1'!$G25*100,"-")) -> 1.8843926 | I25: =IF(OR('Tabel 1'!$J25<5,'Tabel 2'!I25<0.5),"-",IFERROR('Tabel 2'!I25/'Tabel 1'!$J25*100,"-")) -> 3.0715532 | J25: =IF(OR('Tabel 1'!$J25<5,'Tabel 2'!J25<0.5),"-",IFERROR('Tabel 2'!J25/'Tabel 1'!$J25*100,"-")) -> 2.0943171
A26: Læge | C26: =IF(OR('Tabel 1'!$D26<5,'Tabel 2'!C26<0.5),"-",IFERROR('Tabel 2'!C26/'Tabel 1'!$D26*100,"-")) -> 3.5455487 | D26: =IF(OR('Tabel 1'!$D26<5,'Tabel 2'!D26<0.5),"-",IFERROR('Tabel 2'!D26/'Tabel 1'!$D26*100,"-")) -> 1.7304984 | F26: =IF(OR('Tabel 1'!$G26<5,'Tabel 2'!F26<0.5),"-",IFERROR('Tabel 2'!F26/'Tabel 1'!$G26*100,"-")) -> 3.2132099 | G26: =IF(OR('Tabel 1'!$G26<5,'Tabel 2'!G26<0.5),"-",IFERROR('Tabel 2'!G26/'Tabel 1'!$G26*100,"-")) -> 1.6050866 | I26: =IF(OR('Tabel 1'!$J26<5,'Tabel 2'!I26<0.5),"-",IFERROR('Tabel 2'!I26/'Tabel 1'!$J26*100,"-")) -> 3.3133235 | J26: =IF(OR('Tabel 1'!$J26<5,'Tabel 2'!J26<0.5),"-",IFERROR('Tabel 2'!J26/'Tabel 1'!$J26*100,"-")) -> 1.6428656
A27: Tandlæge | C27: =IF(OR('Tabel 1'!$D27<5,'Tabel 2'!C27<0.5),"-",IFERROR('Tabel 2'!C27/'Tabel 1'!$D27*100,"-")) -> 5.9190031 | D27: =IF(OR('Tabel 1'!$D27<5,'Tabel 2'!D27<0.5),"-",IFERROR('Tabel 2'!D27/'Tabel 1'!$D27*100,"-")) -> 2.8875421 | F27: =IF(OR('Tabel 1'!$G27<5,'Tabel 2'!F27<0.5),"-",IFERROR('Tabel 2'!F27/'Tabel 1'!$G27*100,"-")) -> 3.5353535 | G27: =IF(OR('Tabel 1'!$G27<5,'Tabel 2'!G27<0.5),"-",IFERROR('Tabel 2'!G27/'Tabel 1'!$G27*100,"-")) -> 1.5587239 | I27: =IF(OR('Tabel 1'!$J27<5,'Tabel 2'!I27<0.5),"-",IFERROR('Tabel 2'!I27/'Tabel 1'!$J27*100,"-")) -> 3.8991916 | J27: =IF(OR('Tabel 1'!$J27<5,'Tabel 2'!J27<0.5),"-",IFERROR('Tabel 2'!J27/'Tabel 1'!$J27*100,"-")) -> 1.7615535
A28: Arkitekt | C28: =IF(OR('Tabel 1'!$D28<5,'Tabel 2'!C28<0.5),"-",IFERROR('Tabel 2'!C28/'Tabel 1'!$D28*100,"-")) -> 4.6494733 | D28: =IF(OR('Tabel 1'!$D28<5,'Tabel 2'!D28<0.5),"-",IFERROR('Tabel 2'!D28/'Tabel 1'!$D28*100,"-")) -> 3.8062161 | F28: =IF(OR('Tabel 1'!$G28<5,'Tabel 2'!F28<0.5),"-",IFERROR('Tabel 2'!F28/'Tabel 1'!$G28*100,"-")) -> 5.9727457 | G28: =IF(OR('Tabel 1'!$G28<5,'Tabel 2'!G28<0.5),"-",IFERROR('Tabel 2'!G28/'Tabel 1'!$G28*100,"-")) -> 4.5250792 | I28: =IF(OR('Tabel 1'!$J28<5,'Tabel 2'!I28<0.5),"-",IFERROR('Tabel 2'!I28/'Tabel 1'!$J28*100,"-")) -> 5.3853596 | J28: =IF(OR('Tabel 1'!$J28<5,'Tabel 2'!J28<0.5),"-",IFERROR('Tabel 2'!J28/'Tabel 1'!$J28*100,"-")) -> 4.2059837
A29: Landinspek. | C29: =IF(OR('Tabel 1'!$D29<5,'Tabel 2'!C29<0.5),"-",IFERROR('Tabel 2'!C29/'Tabel 1'!$D29*100,"-")) -> 2.1775544 | D29: =IF(OR('Tabel 1'!$D29<5,'Tabel 2'!D29<0.5),"-",IFERROR('Tabel 2'!D29/'Tabel 1'!$D29*100,"-")) -> 0.94298827 | F29: =IF(OR('Tabel 1'!$G29<5,'Tabel 2'!F29<0.5),"-",IFERROR('Tabel 2'!F29/'Tabel 1'!$G29*100,"-")) -> 4.1353383 | G29: =IF(OR('Tabel 1'!$G29<5,'Tabel 2'!G29<0.5),"-",IFERROR('Tabel 2'!G29/'Tabel 1'!$G29*100,"-")) -> 2.225906 | I29: =IF(OR('Tabel 1'!$J29<5,'Tabel 2'!I29<0.5),"-",IFERROR('Tabel 2'!I29/'Tabel 1'!$J29*100,"-")) -> 2.7809965 | J29: =IF(OR('Tabel 1'!$J29<5,'Tabel 2'!J29<0.5),"-",IFERROR('Tabel 2'!J29/'Tabel 1'!$J29*100,"-")) -> 1.3384183
A30: Bibliotekar | C30: =IF(OR('Tabel 1'!$D30<5,'Tabel 2'!C30<0.5),"-",IFERROR('Tabel 2'!C30/'Tabel 1'!$D30*100,"-")) -> 3.3057851 | D30: =IF(OR('Tabel 1'!$D30<5,'Tabel 2'!D30<0.5),"-",IFERROR('Tabel 2'!D30/'Tabel 1'!$D30*100,"-")) -> 2.8148855 | F30: =IF(OR('Tabel 1'!$G30<5,'Tabel 2'!F30<0.5),"-",IFERROR('Tabel 2'!F30/'Tabel 1'!$G30*100,"-")) -> 2.7893422 | G30: =IF(OR('Tabel 1'!$G30<5,'Tabel 2'!G30<0.5),"-",IFERROR('Tabel 2'!G30/'Tabel 1'!$G30*100,"-")) -> 2.144749 | I30: =IF(OR('Tabel 1'!$J30<5,'Tabel 2'!I30<0.5),"-",IFERROR('Tabel 2'!I30/'Tabel 1'!$J30*100,"-")) -> 2.9239766 | J30: =IF(OR('Tabel 1'!$J30<5,'Tabel 2'!J30<0.5),"-",IFERROR('Tabel 2'!J30/'Tabel 1'!$J30*100,"-")) -> 2.3194506
A31: Musikudd. | C31: =IF(OR('Tabel 1'!$D31<5,'Tabel 2'!C31<0.5),"-",IFERROR('Tabel 2'!C31/'Tabel 1'!$D31*100,"-")) -> 3.7333333 | D31: =IF(OR('Tabel 1'!$D31<5,'Tabel 2'!D31<0.5),"-",IFERROR('Tabel 2'!D31/'Tabel 1'!$D31*100,"-")) -> 2.3975547 | F31: =IF(OR('Tabel 1'!$G31<5,'Tabel 2'!F31<0.5),"-",IFERROR('Tabel 2'!F31/'Tabel 1'!$G31*100,"-")) -> 4.233871 | G31: =IF(OR('Tabel 1'!$G31<5,'Tabel 2'!G31<0.5),"-",IFERROR('Tabel 2'!G31/'Tabel 1'!$G31*100,"-")) -> 3.0837359 | I31: =IF(OR('Tabel 1'!$J31<5,'Tabel 2'!I31<0.5),"-",IFERROR('Tabel 2'!I31/'Tabel 1'!$J31*100,"-")) -> 4.0183697 | J31: =IF(OR('Tabel 1'!$J31<5,'Tabel 2'!J31<0.5),"-",IFERROR('Tabel 2'!J31/'Tabel 1'!$J31*100,"-")) -> 2.7883077
A32: Teolog | C32: =IF(OR('Tabel 1'!$D32<5,'Tabel 2'!C32<0.5),"-",IFERROR('Tabel 2'!C32/'Tabel 1'!$D32*100,"-")) -> 4 | D32: =IF(OR('Tabel 1'!$D32<5,'Tabel 2'!D32<0.5),"-",IFERROR('Tabel 2'!D32/'Tabel 1'!$D32*100,"-")) -> 3.2701785 | F32: =IF(OR('Tabel 1'!$G32<5,'Tabel 2'!F32<0.5),"-",IFERROR('Tabel 2'!F32/'Tabel 1'!$G32*100,"-")) -> 3.3018868 | G32: =IF(OR('Tabel 1'!$G32<5,'Tabel 2'!G32<0.5),"-",IFERROR('Tabel 2'!G32/'Tabel 1'!$G32*100,"-")) -> 2.5039745 | I32: =IF(OR('Tabel 1'!$J32<5,'Tabel 2'!I32<0.5),"-",IFERROR('Tabel 2'!I32/'Tabel 1'!$J32*100,"-")) -> 3.5672515 | J32: =IF(OR('Tabel 1'!$J32<5,'Tabel 2'!J32<0.5),"-",IFERROR('Tabel 2'!J32/'Tabel 1'!$J32*100,"-")) -> 2.7952216
A33: Psykolog | C33: =IF(OR('Tabel 1'!$D33<5,'Tabel 2'!C33<0.5),"-",IFERROR('Tabel 2'!C33/'Tabel 1'!$D33*100,"-")) -> 5.2832591 | D33: =IF(OR('Tabel 1'!$D33<5,'Tabel 2'!D33<0.5),"-",IFERROR('Tabel 2'!D33/'Tabel 1'!$D33*100,"-")) -> 3.937177 | F33: =IF(OR('Tabel 1'!$G33<5,'Tabel 2'!F33<0.5),"-",IFERROR('Tabel 2'!F33/'Tabel 1'!$G33*100,"-")) -> 5.3305785 | G33: =IF(OR('Tabel 1'!$G33<5,'Tabel 2'!G33<0.5),"-",IFERROR('Tabel 2'!G33/'Tabel 1'!$G33*100,"-")) -> 3.3762751 | I33: =IF(OR('Tabel 1'!$J33<5,'Tabel 2'!I33<0.5),"-",IFERROR('Tabel 2'!I33/'Tabel 1'!$J33*100,"-")) -> 5.3221606 | J33: =IF(OR('Tabel 1'!$J33<5,'Tabel 2'!J33<0.5),"-",IFERROR('Tabel 2'!J33/'Tabel 1'!$J33*100,"-")) -> 3.4760573
... A46: Andre | C46: =IF(OR('Tabel 1'!$D46<5,'Tabel 2'!C46<0.5),"-",IFERROR('Tabel 2'!C46/'Tabel 1'!$D46*100,"-")) -> 4.8690607 | D46: =IF(OR('Tabel 1'!$D46<5,'Tabel 2'!D46<0.5),"-",IFERROR('Tabel 2'!D46/'Tabel 1'!$D46*100,"-")) -> 3.7522334 | F46: =IF(OR('Tabel 1'!$G46<5,'Tabel 2'!F46<0.5),"-",IFERROR('Tabel 2'!F46/'Tabel 1'!$G46*100,"-")) -> 6.6190735 | G46: =IF(OR('Tabel 1'!$G46<5,'Tabel 2'!G46<0.5),"-",IFERROR('Tabel 2'!G46/'Tabel 1'!$G46*100,"-")) -> 4.985982 | I46: =IF(OR('Tabel 1'!$J46<5,'Tabel 2'!I46<0.5),"-",IFERROR('Tabel 2'!I46/'Tabel 1'!$J46*100,"-")) -> 5.7486057 | J46: =IF(OR('Tabel 1'!$J46<5,'Tabel 2'!J46<0.5),"-",IFERROR('Tabel 2'!J46/'Tabel 1'!$J46*100,"-")) -> 4.3723074
A48: Total | B48: =SUM(B9:B46)-SUM(B17:B20) -> 23576 | C48: =IF(OR('Tabel 1'!$D48<5,'Tabel 2'!C48<0.5),"-",IFERROR('Tabel 2'!C48/'Tabel 1'!$D48*100,"-")) -> 3.9411585 | D48: =IF(OR('Tabel 1'!$D48<5,'Tabel 2'!D48<0.5),"-",IFERROR('Tabel 2'!D48/'Tabel 1'!$D48*100,"-")) -> 2.910468 | E48: =IF(#REF!<10,"-",'Tabel 2'!E48/#REF!*100) -> #REF! | F48: =IF(OR('Tabel 1'!$G48<5,'Tabel 2'!F48<0.5),"-",IFERROR('Tabel 2'!F48/'Tabel 1'!$G48*100,"-")) -> 5.0112218 | G48: =IF(OR('Tabel 1'!$G48<5,'Tabel 2'!G48<0.5),"-",IFERROR('Tabel 2'!G48/'Tabel 1'!$G48*100,"-")) -> 3.5840641 | H48: =IF(#REF!<10,"-",'Tabel 2'!H48/#REF!*100) -> #REF! | I48: =IF(OR('Tabel 1'!$J48<5,'Tabel 2'!I48<0.5),"-",IFERROR('Tabel 2'!I48/'Tabel 1'!$J48*100,"-")) -> 4.4868547 | J48: =IF(OR('Tabel 1'!$J48<5,'Tabel 2'!J48<0.5),"-",IFERROR('Tabel 2'!J48/'Tabel 1'!$J48*100,"-")) -> 3.2539792
A50: Ingeniører i alt | B50: =IF(#REF!<10,"-",'Tabel 2'!B50/#REF!*100) -> #REF! | C50: =IF(OR('Tabel 1'!$D50<5,'Tabel 2'!C50<0.5),"-",IFERROR('Tabel 2'!C50/'Tabel 1'!$D50*100,"-")) -> 2.1796233 | D50: =IF(OR('Tabel 1'!$D50<5,'Tabel 2'!D50<0.5),"-",IFERROR('Tabel 2'!D50/'Tabel 1'!$D50*100,"-")) -> 1.5968887 | F50: =IF(OR('Tabel 1'!$G50<5,'Tabel 2'!F50<0.5),"-",IFERROR('Tabel 2'!F50/'Tabel 1'!$G50*100,"-")) -> 3.1468961 | G50: =IF(OR('Tabel 1'!$G50<5,'Tabel 2'!G50<0.5),"-",IFERROR('Tabel 2'!G50/'Tabel 1'!$G50*100,"-")) -> 2.2189138 | I50: =IF(OR('Tabel 1'!$J50<5,'Tabel 2'!I50<0.5),"-",IFERROR('Tabel 2'!I50/'Tabel 1'!$J50*100,"-")) -> 2.4046091 | J50: =IF(OR('Tabel 1'!$J50<5,'Tabel 2'!J50<0.5),"-",IFERROR('Tabel 2'!J50/'Tabel 1'!$J50*100,"-")) -> 1.7415706
A51: Magistre i alt | C51: =IF(OR('Tabel 1'!$D51<5,'Tabel 2'!C51<0.5),"-",IFERROR('Tabel 2'!C51/'Tabel 1'!$D51*100,"-")) -> 6.0353555 | D51: =IF(OR('Tabel 1'!$D51<5,'Tabel 2'!D51<0.5),"-",IFERROR('Tabel 2'!D51/'Tabel 1'!$D51*100,"-")) -> 4.647577 | F51: =IF(OR('Tabel 1'!$G51<5,'Tabel 2'!F51<0.5),"-",IFERROR('Tabel 2'!F51/'Tabel 1'!$G51*100,"-")) -> 6.6277056 | G51: =IF(OR('Tabel 1'!$G51<5,'Tabel 2'!G51<0.5),"-",IFERROR('Tabel 2'!G51/'Tabel 1'!$G51*100,"-")) -> 4.9324715 | I51: =IF(OR('Tabel 1'!$J51<5,'Tabel 2'!I51<0.5),"-",IFERROR('Tabel 2'!I51/'Tabel 1'!$J51*100,"-")) -> 6.4160708 | J51: =IF(OR('Tabel 1'!$J51<5,'Tabel 2'!J51<0.5),"-",IFERROR('Tabel 2'!J51/'Tabel 1'!$J51*100,"-")) -> 4.8306844
A52: DJØF'ere i alt | C52: =IF(OR('Tabel 1'!$D52<5,'Tabel 2'!C52<0.5),"-",IFERROR('Tabel 2'!C52/'Tabel 1'!$D52*100,"-")) -> 3.6614055 | D52: =IF(OR('Tabel 1'!$D52<5,'Tabel 2'!D52<0.5),"-",IFERROR('Tabel 2'!D52/'Tabel 1'!$D52*100,"-")) -> 2.5817858 | F52: =IF(OR('Tabel 1'!$G52<5,'Tabel 2'!F52<0.5),"-",IFERROR('Tabel 2'!F52/'Tabel 1'!$G52*100,"-")) -> 3.6483795 | G52: =IF(OR('Tabel 1'!$G52<5,'Tabel 2'!G52<0.5),"-",IFERROR('Tabel 2'!G52/'Tabel 1'!$G52*100,"-")) -> 2.5597678 | I52: =IF(OR('Tabel 1'!$J52<5,'Tabel 2'!I52<0.5),"-",IFERROR('Tabel 2'!I52/'Tabel 1'!$J52*100,"-")) -> 3.6543515 | J52: =IF(OR('Tabel 1'!$J52<5,'Tabel 2'!J52<0.5),"-",IFERROR('Tabel 2'!J52/'Tabel 1'!$J52*100,"-")) -> 2.5698623
A53: Se sidste del af statistikken for en oversigt over uddannelsesgrupperingernes indhold

Sheet Tabel 4 F
A1: Landstatistik
A3: Tabel 4. Antal forsikrede medlemmer - aldersfordelt
B7: Under 30 år | C7: 30 - 39 år | D7: 40 - 49 år | E7: 50 - 59 år | F7: Over 60 år | H7: I alt
A9: Civ. Ing. | B9: 6487 | C9: 11327 | D9: 8127 | E9: 6957 | F9: 2339 | H9: =B9+C9+D9+E9+F9 -> 35237
A10: Diplom Ing. | B10: 3490 | C10: 6091 | D10: 8013 | E10: 12199 | F10: 4919 | H10: =B10+C10+D10+E10+F10 -> 34712
A11: Cand.Scient.Tech. | B11: 5808 | C11: 11010 | D11: 3466 | E11: 1257 | F11: 250 | H11: =B11+C11+D11+E11+F11 -> 21791
A12: MA. Hum. | B12: 5695 | C12: 15108 | D12: 13669 | E12: 6788 | F12: 2434 | H12: =B12+C12+D12+E12+F12 -> 43694
A13: MA. Nat. | B13: 1289 | C13: 3238 | D13: 4555 | E13: 4201 | F13: 1713 | H13: =B13+C13+D13+E13+F13 -> 14996
A14: MA. Ph.d. | B14: 32 | C14: 663 | D14: 977 | E14: 703 | F14: 192 | H14: =B14+C14+D14+E14+F14 -> 2567
A15: MA. Samf. | B15: 1848 | C15: 3312 | D15: 906 | E15: 422 | F15: 91 | H15: =B15+C15+D15+E15+F15 -> 6579
A16: Øvrige Mag. | B16: 961 | C16: 843 | D16: 924 | E16: 923 | F16: 395 | H16: =B16+C16+D16+E16+F16 -> 4046
A17: Agronom | B17: 186 | C17: 340 | D17: 530 | E17: 851 | F17: 458 | H17: =B17+C17+D17+E17+F17 -> 2365
A18: Landsk. Arkt. | B18: 58 | C18: 252 | D18: 213 | E18: 152 | F18: 52 | H18: =B18+C18+D18+E18+F18 -> 727
A19: Hortonom | B19: 4 | C19: 20 | D19: 61 | E19: 128 | F19: 77 | H19: =B19+C19+D19+E19+F19 -> 290
A20: Forstkand. | B20: 27 | C20: 82 | D20: 191 | E20: 129 | F20: 78 | H20: =B20+C20+D20+E20+F20 -> 507
... A46: Andre | B46: 3432 | C46: 9238 | D46: 6827 | E46: 4114 | F46: 2030 | H46: =B46+C46+D46+E46+F46 -> 25641
A48: Total | B48: =SUM(B9:B46)-SUM(B17:B20) -> 66641 | C48: =SUM(C9:C46)-SUM(C17:C20) -> 126730 | D48: =SUM(D9:D46)-SUM(D17:D20) -> 91117 | E48: =SUM(E9:E46)-SUM(E17:E20) -> 70635 | F48: =SUM(F9:F46)-SUM(F17:F20) -> 25812 | H48: =SUM(H9:H46)-SUM(H17:H20) -> 380935
A50: Ingeniører i alt | B50: 9977 | C50: 17418 | D50: 16140 | E50: 19156 | F50: 7258 | H50: =B50+C50+D50+E50+F50 -> 69949
A51: Magistre i alt | B51: 9825 | C51: 23164 | D51: 21031 | E51: 13037 | F51: 4825 | H51: =B51+C51+D51+E51+F51 -> 71882
A52: DJØF'ere i alt | B52: 20279 | C52: 36762 | D52: 23149 | E52: 17612 | F52: 4186 | H52: =B52+C52+D52+E52+F52 -> 101988
A53: Se sidste del af statistikken for en oversigt over uddannelsesgrupperingernes indhold

Sheet Tabel 4 Be
A1: Landstatistik
A3: Tabel 4. Antal bruttoledige målt i berørte medlemmer - aldersfordelt
B7: Under 30 år | C7: 30 - 39 år | D7: 40 - 49 år | E7: 50 - 59 år | F7: Over 60 år | H7: I alt
A9: Civ. Ing. | B9: 638 | C9: 194 | D9: 69 | E9: 61 | F9: 38 | H9: =B9+C9+D9+E9+F9 -> 1000
A10: Diplom Ing. | B10: 236 | C10: 125 | D10: 74 | E10: 130 | F10: 117 | H10: =B10+C10+D10+E10+F10 -> 682
A11: Cand.Scient.Tech. | B11: 750 | C11: 444 | D11: 88 | E11: 24 | F11: 9 | H11: =B11+C11+D11+E11+F11 -> 1315
A12: MA. Hum. | B12: 1071 | C12: 1208 | D12: 436 | E12: 244 | F12: 123 | H12: =B12+C12+D12+E12+F12 -> 3082
A13: MA. Nat. | B13: 186 | C13: 134 | D13: 55 | E13: 45 | F13: 42 | H13: =B13+C13+D13+E13+F13 -> 462
A14: MA. Ph.d. | B14: 2 | C14: 19 | D14: 24 | E14: 11 | F14: 12 | H14: =B14+C14+D14+E14+F14 -> 68
A15: MA. Samf. | B15: 367 | C15: 241 | D15: 41 | E15: 25 | F15: 2 | H15: =B15+C15+D15+E15+F15 -> 676
A16: Øvrige Mag. | B16: 161 | C16: 88 | D16: 36 | E16: 27 | F16: 12 | H16: =B16+C16+D16+E16+F16 -> 324
A17: Agronom | B17: 16 | C17: 15 | D17: 8 | E17: 5 | F17: 13 | H17: =B17+C17+D17+E17+F17 -> 57
A18: Landsk. Arkt. | B18: 8 | C18: 12 | D18: 5 | E18: 0 | F18: 0 | H18: =B18+C18+D18+E18+F18 -> 25
A19: Hortonom | B19: 1 | C19: 1 | D19: 0 | E19: 2 | F19: 2 | H19: =B19+C19+D19+E19+F19 -> 6
A20: Forstkand. | B20: 2 | C20: 3 | D20: 3 | E20: 2 | F20: 3 | H20: =B20+C20+D20+E20+F20 -> 13
... A46: Andre | B46: 468 | C46: 433 | D46: 250 | E46: 189 | F46: 134 | H46: =B46+C46+D46+E46+F46 -> 1474
A48: Total | B48: =SUM(B9:B46)-SUM(B17:B20) -> 8092 | C48: =SUM(C9:C46)-SUM(C17:C20) -> 4922 | D48: =SUM(D9:D46)-SUM(D17:D20) -> 1865 | E48: =SUM(E9:E46)-SUM(E17:E20) -> 1345 | F48: =SUM(F9:F46)-SUM(F17:F20) -> 868 | H48: =SUM(H9:H46)-SUM(H17:H20) -> 17092 | I48: 5.3432868 | J48: 4.8601058 | K48: 4.8306844
A50: Ingeniører i alt | B50: 874 | C50: 319 | D50: 143 | E50: 191 | F50: 155 | H50: =B50+C50+D50+E50+F50 -> 1682
A51: Magistre i alt | B51: 1787 | C51: 1690 | D51: 592 | E51: 352 | F51: 191 | H51: =B51+C51+D51+E51+F51 -> 4612
A52: DJØF'ere i alt | B52: 1924 | C52: 958 | D52: 384 | E52: 293 | F52: 168 | H52: =B52+C52+D52+E52+F52 -> 3727
A53: Se sidste del af statistikken for en oversigt over uddannelsesgrupperingernes indhold

Sheet Tabel 4.1 Br
A1: Landstatistik
A3: Tabel 4. Antal bruttoledige målt i fuldtidspersoner - aldersfordelt
B7: Under 30 år | C7: 30 - 39 år | D7: 40 - 49 år | E7: 50 - 59 år | F7: Over 60 år | H7: I alt
A9: Civ. Ing. | B9: 357.32177 | C9: 157.00493 | D9: 61.27487 | E9: 54.40404 | F9: 33.68178 | H9: =SUM(B9:F9) -> 663.68739
A10: Diplom Ing. | B10: 177.575 | C10: 104.45643 | D10: 61.32976 | E10: 110.08857 | F10: 101.07403 | H10: =SUM(B10:F10) -> 554.52379
A11: Cand.Scient.Tech. | B11: 493.87638 | C11: 362.26034 | D11: 73.20027 | E11: 19.21849 | F11: 7.09661 | H11: =SUM(B11:F11) -> 955.65209
A12: MA. Hum. | B12: 745.79056 | C12: 968.26421 | D12: 351.27238 | E12: 193.7822 | F12: 102.24662 | H12: =SUM(B12:F12) -> 2361.356
A13: MA. Nat. | B13: 116.09181 | C13: 105.94524 | D13: 40.78463 | E13: 38.64841 | F13: 32.183 | H13: =SUM(B13:F13) -> 333.65309
A14: MA. Ph.d. | B14: 1.81501 | C14: 14.94168 | D14: 18.61348 | E14: 7.66107 | F14: 9.81101 | H14: =SUM(B14:F14) -> 52.84225
A15: MA. Samf. | B15: 236.44608 | C15: 196.68746 | D15: 32.09443 | E15: 19.85343 | F15: 1.99963 | H15: =SUM(B15:F15) -> 487.08103
A16: Øvrige Mag. | B16: 109.95197 | C16: 68.37211 | D16: 29.22597 | E16: 21.76698 | F16: 8.1432 | H16: =SUM(B16:F16) -> 237.46023
A17: Agronom | B17: 9.08376 | C17: 12.50982 | D17: 7.93239 | E17: 4.21755 | F17: 10.9337 | H17: =SUM(B17:F17) -> 44.67722
A18: Landsk. Arkt. | B18: 5.66581 | C18: 10.63931 | D18: 2.40379 | E18: 0 | F18: 0 | H18: =SUM(B18:F18) -> 18.70891
A19: Hortonom | B19: 0.16903 | C19: 0.94368 | D19: 0 | E19: 1.29296 | F19: 1.57301 | H19: =SUM(B19:F19) -> 3.97868
A20: Forstkand. | B20: 1.5992 | C20: 2.02645 | D20: 2.90152 | E20: 1.99963 | F20: 2.99944 | H20: =SUM(B20:F20) -> 11.52624
... A46: Andre | B46: 301.18131 | C46: 353.46972 | D46: 203.22023 | E46: 154.729 | F46: 108.50309 | H46: =SUM(B46:F46) -> 1121.1034
A48: Total | B48: =SUM(B9:B46)-SUM(B17:B20) -> 5039.6507 | C48: =SUM(C9:C46)-SUM(C17:C20) -> 3977.4889 | D48: =SUM(D9:D46)-SUM(D17:D20) -> 1533.6228 | E48: =SUM(E9:E46)-SUM(E17:E20) -> 1117.6933 | F48: =SUM(F9:F46)-SUM(F17:F20) -> 727.09023 | H48: =SUM(H9:H46)-SUM(H17:H20) -> 12395.546 | I48: 5.3432868 | J48: 4.8601058 | K48: 4.8306844
A50: Ingeniører i alt | B50: 534.89678 | C50: 261.46136 | D50: 122.60463 | E50: 164.49261 | F50: 134.75582 | H50: =SUM(B50:F50) -> 1218.2112
A51: Magistre i alt | B51: 1210.0954 | C51: 1354.2107 | D51: 471.99089 | E51: 281.71209 | F51: 154.38346 | H51: =SUM(B51:F51) -> 3472.3926
A52: DJØF'ere i alt | B52: 1099.2316 | C52: 797.89559 | D52: 329.45425 | E52: 247.28872 | F52: 147.08102 | H52: =SUM(B52:F52) -> 2620.9512
A53: Se sidste del af statistikken for en oversigt over uddannelsesgrupperingernes indhold

Sheet Tabel 4.2 p (Be)
A1: Landstatistik
A3: Tabel 4.2 Bruttoledighedsprocenten målt i ledighedsberørte - aldersfordelt
B7: Under 30 år | C7: 30 - 39 år | D7: 40 - 49 år | E7: 50 - 59 år | F7: Over 60 år | H7: I alt
A9: Civ. Ing. | B9: =IF(OR('Tabel 4 F'!B9<5,'Tabel 4 Be'!B9<0.5),"-",IFERROR('Tabel 4 Be'!B9/'Tabel 4 F'!B9*100,"-")) -> 9.8350547 | C9: =IF(OR('Tabel 4 F'!C9<5,'Tabel 4 Be'!C9<0.5),"-",IFERROR('Tabel 4 Be'!C9/'Tabel 4 F'!C9*100,"-")) -> 1.7127218 | D9: =IF(OR('Tabel 4 F'!D9<5,'Tabel 4 Be'!D9<0.5),"-",IFERROR('Tabel 4 Be'!D9/'Tabel 4 F'!D9*100,"-")) -> 0.84902178 | E9: =IF(OR('Tabel 4 F'!E9<5,'Tabel 4 Be'!E9<0.5),"-",IFERROR('Tabel 4 Be'!E9/'Tabel 4 F'!E9*100,"-")) -> 0.87681472 | F9: =IF(OR('Tabel 4 F'!F9<5,'Tabel 4 Be'!F9<0.5),"-",IFERROR('Tabel 4 Be'!F9/'Tabel 4 F'!F9*100,"-")) -> 1.6246259 | H9: =IF(OR('Tabel 4 F'!H9<5,'Tabel 4 Be'!H9<0.5),"-",IFERROR('Tabel 4 Be'!H9/'Tabel 4 F'!H9*100,"-")) -> 2.837926
A10: Diplom Ing. | B10: =IF(OR('Tabel 4 F'!B10<5,'Tabel 4 Be'!B10<0.5),"-",IFERROR('Tabel 4 Be'!B10/'Tabel 4 F'!B10*100,"-")) -> 6.7621777 | C10: =IF(OR('Tabel 4 F'!C10<5,'Tabel 4 Be'!C10<0.5),"-",IFERROR('Tabel 4 Be'!C10/'Tabel 4 F'!C10*100,"-")) -> 2.0522082 | D10: =IF(OR('Tabel 4 F'!D10<5,'Tabel 4 Be'!D10<0.5),"-",IFERROR('Tabel 4 Be'!D10/'Tabel 4 F'!D10*100,"-")) -> 0.92349931 | E10: =IF(OR('Tabel 4 F'!E10<5,'Tabel 4 Be'!E10<0.5),"-",IFERROR('Tabel 4 Be'!E10/'Tabel 4 F'!E10*100,"-")) -> 1.0656611 | F10: =IF(OR('Tabel 4 F'!F10<5,'Tabel 4 Be'!F10<0.5),"-",IFERROR('Tabel 4 Be'!F10/'Tabel 4 F'!F10*100,"-")) -> 2.3785322 | H10: =IF(OR('Tabel 4 F'!H10<5,'Tabel 4 Be'!H10<0.5),"-",IFERROR('Tabel 4 Be'!H10/'Tabel 4 F'!H10*100,"-")) -> 1.9647384
A11: Cand.Scient.Tech. | B11: =IF(OR('Tabel 4 F'!B11<5,'Tabel 4 Be'!B11<0.5),"-",IFERROR('Tabel 4 Be'!B11/'Tabel 4 F'!B11*100,"-")) -> 12.913223 | C11: =IF(OR('Tabel 4 F'!C11<5,'Tabel 4 Be'!C11<0.5),"-",IFERROR('Tabel 4 Be'!C11/'Tabel 4 F'!C11*100,"-")) -> 4.0326975 | D11: =IF(OR('Tabel 4 F'!D11<5,'Tabel 4 Be'!D11<0.5),"-",IFERROR('Tabel 4 Be'!D11/'Tabel 4 F'!D11*100,"-")) -> 2.5389498 | E11: =IF(OR('Tabel 4 F'!E11<5,'Tabel 4 Be'!E11<0.5),"-",IFERROR('Tabel 4 Be'!E11/'Tabel 4 F'!E11*100,"-")) -> 1.9093079 | F11: =IF(OR('Tabel 4 F'!F11<5,'Tabel 4 Be'!F11<0.5),"-",IFERROR('Tabel 4 Be'!F11/'Tabel 4 F'!F11*100,"-")) -> 3.6 | H11: =IF(OR('Tabel 4 F'!H11<5,'Tabel 4 Be'!H11<0.5),"-",IFERROR('Tabel 4 Be'!H11/'Tabel 4 F'!H11*100,"-")) -> 6.0346014
A12: MA. Hum. | B12: =IF(OR('Tabel 4 F'!B12<5,'Tabel 4 Be'!B12<0.5),"-",IFERROR('Tabel 4 Be'!B12/'Tabel 4 F'!B12*100,"-")) -> 18.80597 | C12: =IF(OR('Tabel 4 F'!C12<5,'Tabel 4 Be'!C12<0.5),"-",IFERROR('Tabel 4 Be'!C12/'Tabel 4 F'!C12*100,"-")) -> 7.9957638 | D12: =IF(OR('Tabel 4 F'!D12<5,'Tabel 4 Be'!D12<0.5),"-",IFERROR('Tabel 4 Be'!D12/'Tabel 4 F'!D12*100,"-")) -> 3.1896993 | E12: =IF(OR('Tabel 4 F'!E12<5,'Tabel 4 Be'!E12<0.5),"-",IFERROR('Tabel 4 Be'!E12/'Tabel 4 F'!E12*100,"-")) -> 3.5945787 | F12: =IF(OR('Tabel 4 F'!F12<5,'Tabel 4 Be'!F12<0.5),"-",IFERROR('Tabel 4 Be'!F12/'Tabel 4 F'!F12*100,"-")) -> 5.05341 | H12: =IF(OR('Tabel 4 F'!H12<5,'Tabel 4 Be'!H12<0.5),"-",IFERROR('Tabel 4 Be'!H12/'Tabel 4 F'!H12*100,"-")) -> 7.0536
A13: MA. Nat. | B13: =IF(OR('Tabel 4 F'!B13<5,'Tabel 4 Be'!B13<0.5),"-",IFERROR('Tabel 4 Be'!B13/'Tabel 4 F'!B13*100,"-")) -> 14.429791 | C13: =IF(OR('Tabel 4 F'!C13<5,'Tabel 4 Be'!C13<0.5),"-",IFERROR('Tabel 4 Be'!C13/'Tabel 4 F'!C13*100,"-")) -> 4.138357 | D13: =IF(OR('Tabel 4 F'!D13<5,'Tabel 4 Be'!D13<0.5),"-",IFERROR('Tabel 4 Be'!D13/'Tabel 4 F'!D13*100,"-")) -> 1.2074643 | E13: =IF(OR('Tabel 4 F'!E13<5,'Tabel 4 Be'!E13<0.5),"-",IFERROR('Tabel 4 Be'!E13/'Tabel 4 F'!E13*100,"-")) -> 1.0711735 | F13: =IF(OR('Tabel 4 F'!F13<5,'Tabel 4 Be'!F13<0.5),"-",IFERROR('Tabel 4 Be'!F13/'Tabel 4 F'!F13*100,"-")) -> 2.4518389 | H13: =IF(OR('Tabel 4 F'!H13<5,'Tabel 4 Be'!H13<0.5),"-",IFERROR('Tabel 4 Be'!H13/'Tabel 4 F'!H13*100,"-")) -> 3.0808216
A14: MA. Ph.d. | B14: =IF(OR('Tabel 4 F'!B14<5,'Tabel 4 Be'!B14<0.5),"-",IFERROR('Tabel 4 Be'!B14/'Tabel 4 F'!B14*100,"-")) -> 6.25 | C14: =IF(OR('Tabel 4 F'!C14<5,'Tabel 4 Be'!C14<0.5),"-",IFERROR('Tabel 4 Be'!C14/'Tabel 4 F'!C14*100,"-")) -> 2.8657617 | D14: =IF(OR('Tabel 4 F'!D14<5,'Tabel 4 Be'!D14<0.5),"-",IFERROR('Tabel 4 Be'!D14/'Tabel 4 F'!D14*100,"-")) -> 2.4564995 | E14: =IF(OR('Tabel 4 F'!E14<5,'Tabel 4 Be'!E14<0.5),"-",IFERROR('Tabel 4 Be'!E14/'Tabel 4 F'!E14*100,"-")) -> 1.5647226 | F14: =IF(OR('Tabel 4 F'!F14<5,'Tabel 4 Be'!F14<0.5),"-",IFERROR('Tabel 4 Be'!F14/'Tabel 4 F'!F14*100,"-")) -> 6.25 | H14: =IF(OR('Tabel 4 F'!H14<5,'Tabel 4 Be'!H14<0.5),"-",IFERROR('Tabel 4 Be'!H14/'Tabel 4 F'!H14*100,"-")) -> 2.6490066
A15: MA. Samf. | B15: =IF(OR('Tabel 4 F'!B15<5,'Tabel 4 Be'!B15<0.5),"-",IFERROR('Tabel 4 Be'!B15/'Tabel 4 F'!B15*100,"-")) -> 19.859307 | C15: =IF(OR('Tabel 4 F'!C15<5,'Tabel 4 Be'!C15<0.5),"-",IFERROR('Tabel 4 Be'!C15/'Tabel 4 F'!C15*100,"-")) -> 7.27657 | D15: =IF(OR('Tabel 4 F'!D15<5,'Tabel 4 Be'!D15<0.5),"-",IFERROR('Tabel 4 Be'!D15/'Tabel 4 F'!D15*100,"-")) -> 4.5253863 | E15: =IF(OR('Tabel 4 F'!E15<5,'Tabel 4 Be'!E15<0.5),"-",IFERROR('Tabel 4 Be'!E15/'Tabel 4 F'!E15*100,"-")) -> 5.9241706 | F15: =IF(OR('Tabel 4 F'!F15<5,'Tabel 4 Be'!F15<0.5),"-",IFERROR('Tabel 4 Be'!F15/'Tabel 4 F'!F15*100,"-")) -> 2.1978022 | H15: =IF(OR('Tabel 4 F'!H15<5,'Tabel 4 Be'!H15<0.5),"-",IFERROR('Tabel 4 Be'!H15/'Tabel 4 F'!H15*100,"-")) -> 10.275118
A16: Øvrige Mag. | B16: =IF(OR('Tabel 4 F'!B16<5,'Tabel 4 Be'!B16<0.5),"-",IFERROR('Tabel 4 Be'!B16/'Tabel 4 F'!B16*100,"-")) -> 16.753382 | C16: =IF(OR('Tabel 4 F'!C16<5,'Tabel 4 Be'!C16<0.5),"-",IFERROR('Tabel 4 Be'!C16/'Tabel 4 F'!C16*100,"-")) -> 10.438909 | D16: =IF(OR('Tabel 4 F'!D16<5,'Tabel 4 Be'!D16<0.5),"-",IFERROR('Tabel 4 Be'!D16/'Tabel 4 F'!D16*100,"-")) -> 3.8961039 | E16: =IF(OR('Tabel 4 F'!E16<5,'Tabel 4 Be'!E16<0.5),"-",IFERROR('Tabel 4 Be'!E16/'Tabel 4 F'!E16*100,"-")) -> 2.9252438 | F16: =IF(OR('Tabel 4 F'!F16<5,'Tabel 4 Be'!F16<0.5),"-",IFERROR('Tabel 4 Be'!F16/'Tabel 4 F'!F16*100,"-")) -> 3.0379747 | H16: =IF(OR('Tabel 4 F'!H16<5,'Tabel 4 Be'!H16<0.5),"-",IFERROR('Tabel 4 Be'!H16/'Tabel 4 F'!H16*100,"-")) -> 8.007909
A17: Agronom | B17: =IF(OR('Tabel 4 F'!B17<5,'Tabel 4 Be'!B17<0.5),"-",IFERROR('Tabel 4 Be'!B17/'Tabel 4 F'!B17*100,"-")) -> 8.6021505 | C17: =IF(OR('Tabel 4 F'!C17<5,'Tabel 4 Be'!C17<0.5),"-",IFERROR('Tabel 4 Be'!C17/'Tabel 4 F'!C17*100,"-")) -> 4.4117647 | D17: =IF(OR('Tabel 4 F'!D17<5,'Tabel 4 Be'!D17<0.5),"-",IFERROR('Tabel 4 Be'!D17/'Tabel 4 F'!D17*100,"-")) -> 1.509434 | E17: =IF(OR('Tabel 4 F'!E17<5,'Tabel 4 Be'!E17<0.5),"-",IFERROR('Tabel 4 Be'!E17/'Tabel 4 F'!E17*100,"-")) -> 0.58754407 | F17: =IF(OR('Tabel 4 F'!F17<5,'Tabel 4 Be'!F17<0.5),"-",IFERROR('Tabel 4 Be'!F17/'Tabel 4 F'!F17*100,"-")) -> 2.8384279 | H17: =IF(OR('Tabel 4 F'!H17<5,'Tabel 4 Be'!H17<0.5),"-",IFERROR('Tabel 4 Be'!H17/'Tabel 4 F'!H17*100,"-")) -> 2.410148
A18: Landsk. Arkt. | B18: =IF(OR('Tabel 4 F'!B18<5,'Tabel 4 Be'!B18<0.5),"-",IFERROR('Tabel 4 Be'!B18/'Tabel 4 F'!B18*100,"-")) -> 13.793103 | C18: =IF(OR('Tabel 4 F'!C18<5,'Tabel 4 Be'!C18<0.5),"-",IFERROR('Tabel 4 Be'!C18/'Tabel 4 F'!C18*100,"-")) -> 4.7619048 | D18: =IF(OR('Tabel 4 F'!D18<5,'Tabel 4 Be'!D18<0.5),"-",IFERROR('Tabel 4 Be'!D18/'Tabel 4 F'!D18*100,"-")) -> 2.3474178 | E18: =IF(OR('Tabel 4 F'!E18<5,'Tabel 4 Be'!E18<0.5),"-",IFERROR('Tabel 4 Be'!E18/'Tabel 4 F'!E18*100,"-")) -> - | F18: =IF(OR('Tabel 4 F'!F18<5,'Tabel 4 Be'!F18<0.5),"-",IFERROR('Tabel 4 Be'!F18/'Tabel 4 F'!F18*100,"-")) -> - | H18: =IF(OR('Tabel 4 F'!H18<5,'Tabel 4 Be'!H18<0.5),"-",IFERROR('Tabel 4 Be'!H18/'Tabel 4 F'!H18*100,"-")) -> 3.4387895
A19: Hortonom | B19: =IF(OR('Tabel 4 F'!B19<5,'Tabel 4 Be'!B19<0.5),"-",IFERROR('Tabel 4 Be'!B19/'Tabel 4 F'!B19*100,"-")) -> - | C19: =IF(OR('Tabel 4 F'!C19<5,'Tabel 4 Be'!C19<0.5),"-",IFERROR('Tabel 4 Be'!C19/'Tabel 4 F'!C19*100,"-")) -> 5 | D19: =IF(OR('Tabel 4 F'!D19<5,'Tabel 4 Be'!D19<0.5),"-",IFERROR('Tabel 4 Be'!D19/'Tabel 4 F'!D19*100,"-")) -> - | E19: =IF(OR('Tabel 4 F'!E19<5,'Tabel 4 Be'!E19<0.5),"-",IFERROR('Tabel 4 Be'!E19/'Tabel 4 F'!E19*100,"-")) -> 1.5625 | F19: =IF(OR('Tabel 4 F'!F19<5,'Tabel 4 Be'!F19<0.5),"-",IFERROR('Tabel 4 Be'!F19/'Tabel 4 F'!F19*100,"-")) -> 2.5974026 | H19: =IF(OR('Tabel 4 F'!H19<5,'Tabel 4 Be'!H19<0.5),"-",IFERROR('Tabel 4 Be'!H19/'Tabel 4 F'!H19*100,"-")) -> 2.0689655
A20: Forstkand. | B20: =IF(OR('Tabel 4 F'!B20<5,'Tabel 4 Be'!B20<0.5),"-",IFERROR('Tabel 4 Be'!B20/'Tabel 4 F'!B20*100,"-")) -> 7.4074074 | C20: =IF(OR('Tabel 4 F'!C20<5,'Tabel 4 Be'!C20<0.5),"-",IFERROR('Tabel 4 Be'!C20/'Tabel 4 F'!C20*100,"-")) -> 3.6585366 | D20: =IF(OR('Tabel 4 F'!D20<5,'Tabel 4 Be'!D20<0.5),"-",IFERROR('Tabel 4 Be'!D20/'Tabel 4 F'!D20*100,"-")) -> 1.5706806 | E20: =IF(OR('Tabel 4 F'!E20<5,'Tabel 4 Be'!E20<0.5),"-",IFERROR('Tabel 4 Be'!E20/'Tabel 4 F'!E20*100,"-")) -> 1.5503876 | F20: =IF(OR('Tabel 4 F'!F20<5,'Tabel 4 Be'!F20<0.5),"-",IFERROR('Tabel 4 Be'!F20/'Tabel 4 F'!F20*100,"-")) -> 3.8461538 | H20: =IF(OR('Tabel 4 F'!H20<5,'Tabel 4 Be'!H20<0.5),"-",IFERROR('Tabel 4 Be'!H20/'Tabel 4 F'!H20*100,"-")) -> 2.5641026
