Workbook
Name _Toc364257418: Udd.oversigt!$A$3

Sheet Nøgletalstabeller
A1: Nøgletal 1: Ledighed (sæsonkorrigeret)
C3: Seneste udvikling | M3: Årlig udvikling
C4: Fuldtidspersoner | H4: Ledighedspct. | M4: Fuldtidspersoner | P4: Ledighedspct.
C5: 2022 | D5: 2022 | E5: 2022 | F5: 2022 | H5: 2022 | I5: 2022 | J5: 2022 | K5: 2022 | M5: 2021 | N5: 2022 | P5: 2021 | Q5: 2022
C6: Mar | D6: Apr | E6: Maj | F6: Juni | H6: Mar | I6: Apr | J6: Maj | K6: Juni | M6: Juni | N6: Juni | P6: Juni | Q6: Juni
A8: Bruttoledighed | C8: 13641.007 | D8: 13385.249 | E8: 12808.771 | F8: 12489.617 | H8: 3.6297377 | I8: 3.5685434 | J8: 3.3691527 | K8: 3.3075687 | M8: 18224.845 | N8: =F8 -> 12489.617 | P8: 4.9712208 | Q8: =K8 -> 3.3075687
A9: Fordelt på kandidatalder
A10: Kandidatalder
A11: - op til 1 år | C11: 4375.0861 | D11: 4089.2337 | E11: 3911.4237 | F11: 4271.4785 | H11: 19.530063 | I11: 18.633878 | J11: 15.485341 | K11: 19.101028 | M11: 5973.4682 | N11: =F11 -> 4271.4785 | P11: 26.069003 | Q11: =K11 -> 19.101028
A12: - mellem 1 - 2 år | C12: 1740.0778 | D12: 1744.9404 | E12: 1614.9788 | F12: 1602.8671 | H12: 8.4098941 | I12: 8.524931 | J12: 7.9098297 | K12: 7.7418497 | M12: 2207.9811 | N12: =F12 -> 1602.8671 | P12: 11.620539 | Q12: =K12 -> 7.7418497
A13: - øvrige | C13: 6742.7519 | D13: 6721.1065 | E13: 6363.8313 | F13: 5898.0368 | H13: 2.290193 | I13: 2.3022417 | J13: 2.1264747 | K13: 2.0127937 | M13: 8848.7254 | N13: =F13 -> 5898.0368 | P13: 3.1144906 | Q13: =K13 -> 2.0127937
A15: Fordelt på akademiske hovedgrupper
A16: DJØF'ere | C16: 2842.4684 | D16: 2807.756 | E16: 2689.2837 | F16: 2626.1982 | H16: 2.8280614 | I16: 2.7832701 | J16: 2.649586 | K16: 2.586023 | M16: 3970.2243 | N16: =F16 -> 2626.1982 | P16: 4.0223259 | Q16: =K16 -> 2.586023
A17: - kandidatalder op til 1 år | C17: 848.27702 | D17: 805.59903 | E17: 729.78428 | F17: 934.45913 | H17: 15.245712 | I17: 14.31481 | J17: 12.720299 | K17: 16.917355 | M17: 1378.1951 | N17: =F17 -> 934.45913 | P17: 23.005946 | Q17: =K17 -> 16.917355
A18: - øvrige | C18: 1780.333 | D18: 1773.9742 | E18: 1670.4206 | F18: 1502.5338 | H18: 2.159864 | I18: 2.1563622 | J18: 2.0365514 | K18: 1.8167185 | M18: 2282.5253 | N18: =F18 -> 1502.5338 | P18: 2.8626418 | Q18: =K18 -> 1.8167185
A20: Magistre | C20: 3975.8333 | D20: 3853.7812 | E20: 3634.1758 | F20: 3539.0751 | H20: 5.6383574 | I20: 5.4538729 | J20: 5.1247288 | K20: 4.9688503 | M20: 5266.352 | N20: =F20 -> 3539.0751 | P20: 7.5955532 | Q20: =K20 -> 4.9688503
A21: - kandidatalder op til 1 år | B21: 23576 | C21: 1058.9161 | D21: 1010.3729 | E21: 932.83794 | F21: 974.15936 | H21: 28.248441 | I21: 27.08657 | J21: 23.267998 | K21: 25.318992 | M21: 1503.9166 | N21: =F21 -> 974.15936 | P21: 37.402858 | Q21: =K21 -> 25.318992
A22: - øvrige | C22: 2784.0941 | D22: 2727.1087 | E22: 2565.1075 | F22: 2432.9757 | H22: 4.475942 | I22: 4.3729441 | J22: 4.1015825 | K22: 3.8594933 | M22: 3544.9427 | N22: =F22 -> 2432.9757 | P22: 5.8169538 | Q22: =K22 -> 3.8594933
A24: Ingeniører | C24: 1370.4961 | D24: 1326.5795 | E24: 1249.9169 | F24: 1204.6505 | H24: 1.9669276 | I24: 1.9074262 | J24: 1.7962868 | K24: 1.7299573 | M24: 1976.6603 | N24: =F24 -> 1204.6505 | P24: 2.9074252 | Q24: =K24 -> 1.7299573
A25: - kandidatalder op til 1 år | C25: 555.61441 | D25: 512.62219 | E25: 484.90545 | F25: 509.34719 | H25: 17.61824 | I25: 15.954693 | J25: 14.488913 | K25: 16.375655 | M25: 710.42433 | N25: =F25 -> 509.34719 | P25: 24.135434 | Q25: =K25 -> 16.375655
A26: - øvrige | C26: 757.41113 | D26: 793.56121 | E26: 722.20577 | F26: 675.83052 | H26: 1.1836374 | I26: 1.2407549 | J26: 1.1320748 | K26: 1.0528015 | M26: 1197.757 | N26: =F26 -> 675.83052 | P26: 1.9059602 | Q26: =K26 -> 1.0528015
A28: Nøgletal 2: Ledighed (ikke sæsonkorrigeret)
C30: Seneste udvikling | M30: Årlig udvikling
C31: Fuldtidspersoner | H31: Ledighedspct. | M31: Fuldtidspersoner | P31: Ledighedspct.
C32: 2022 | D32: 2022 | E32: 2022 | F32: 2022 | H32: 2022 | I32: 2022 | J32: 2022 | K32: 2022 | M32: 2021 | N32: 2022 | P32: 2021 | Q32: 2022
C33: Mar | D33: Apr | E33: Maj | F33: Juni | H33: Mar | I33: Apr | J33: Maj | K33: Juni | M33: Juni | N33: Juni | P33: Juni | Q33: Juni
A35: Bruttoledighed | C35: 13126.363 | D35: 12596.255 | E35: 11559.07 | F35: 12395.546 | H35: 3.5361397 | I35: 3.3957937 | J35: 3.1146532 | K35: 3.2539792 | M35: 18022.47 | N35: =F35 -> 12395.546 | P35: 4.875352 | Q35: =K35 -> 3.2539792
A36: Fordelt på kandidatalder
A37: Kandidatalder
A38: - op til 1 år | C38: 4092.7489 | D38: 3666.9208 | E38: 3123.1867 | F38: 3536.5139 | H38: 18.683232 | I38: 16.866385 | J38: 14.316694 | K38: 15.448689 | M38: 4901.1439 | N38: =F38 -> 3536.5139 | P38: 21.012407 | Q38: =K38 -> 15.448689
A39: - mellem 1 - 2 år | C39: 1612.1443 | D39: 1613.6683 | E39: 1468.349 | F39: 1776.5225 | H39: 8.0386154 | I39: 8.0772265 | J39: 7.3949891 | K39: 8.2598221 | M39: 2447.868 | N39: =F39 -> 1776.5225 | P39: 12.402432 | Q39: =K39 -> 8.2598221
A40: - øvrige | C40: 6644.0985 | D40: 6542.1749 | E40: 6225.8109 | F40: 6342.2361 | H40: 2.2820661 | I40: 2.2485332 | J40: 2.1427232 | K40: 2.1265973 | M40: 9485.9064 | N40: =F40 -> 6342.2361 | P40: 3.2856972 | Q40: =K40 -> 2.1265973
A42: Fordelt på akademiske hovedgrupper
A43: DJØF'ere | C43: 2579.1362 | D43: 2507.8943 | E43: 2329.042 | F43: 2620.9512 | H43: 2.5954877 | I43: 2.526642 | J43: 2.3517362 | K43: 2.5698623 | M43: 3955.8953 | N43: =F43 -> 2620.9512 | P43: 3.9872752 | Q43: =K43 -> 2.5698623
A44: - kandidatalder op til 1 år | C44: 707.50515 | D44: 632.50546 | E44: 546.71615 | F44: 803.02688 | H44: 12.875435 | I44: 11.607735 | J44: 10.249647 | K44: 14.611115 | M44: 1170.5963 | N44: =F44 -> 803.02688 | P44: 19.72361 | Q44: =K44 -> 14.611115
A45: - øvrige | C45: 1672.435 | D45: 1668.805 | E45: 1593.3481 | F45: 1634.9255 | H45: 2.0599534 | I45: 2.0572814 | J45: 1.9667079 | K45: 1.9489384 | M45: 2475.5448 | N45: =F45 -> 1634.9255 | P45: 3.0642482 | Q45: =K45 -> 1.9489384
A47: Magistre | B47: =SUM(B9:B45)-SUM(B17:B20) -> 23576 | C47: 3904.278 | D47: 3736.4536 | E47: 3416.6058 | F47: 3472.3926 | G47: 0 | H47: 5.5798517 | I47: 5.3432868 | J47: 4.8601058 | K47: 4.8306844 | M47: 5149.9046 | N47: =F47 -> 3472.3926 | P47: 7.3638444 | Q47: =K47 -> 4.8306844
A48: - kandidatalder op til 1 år | C48: 1041.9048 | D48: 952.60712 | E48: 821.92852 | F48: 742.909 | H48: 28.212966 | I48: 26.199316 | J48: 21.449074 | K48: 18.961434 | M48: 1139.8316 | N48: =F48 -> 742.909 | P48: 27.985063 | Q48: =K48 -> 18.961434
A49: - øvrige | B49: 3788.9727 | C49: 2725.4918 | D49: 2662.8179 | E49: 2479.0264 | F49: 2605.0496 | H49: 4.4077559 | I49: 4.3081395 | J49: 4.0115643 | K49: 4.1065145 | M49: 3788.9727 | N49: =F49 -> 2605.0496 | P49: 6.1799232 | Q49: =K49 -> 4.1065145
A51: Ingeniører | C51: 1369.9944 | D51: 1291.5088 | E51: 1167.4977 | F51: 1218.2112 | H51: 1.9769324 | I51: 1.8653448 | J51: 1.6891369 | K51: 1.7415706 | M51: 1989.9301 | N51: =F51 -> 1218.2112 | P51: 2.9143675 | Q51: =K51 -> 1.7415706
A52: - kandidatalder op til 1 år | C52: 595.75875 | D52: 497.00243 | E52: 402.51544 | F52: 453.46223 | H52: 18.629104 | I52: 15.521625 | J52: 12.697648 | K52: 14.96575 | M52: 625.91405 | N52: =F52 -> 453.46223 | P52: 21.915758 | Q52: =K52 -> 14.96575
A53: - øvrige | C53: 735.92902 | D53: 760.12724 | E53: 729.84969 | F53: 733.70922 | H53: 1.1532588 | I53: 1.1926745 | J53: 1.1472557 | K53: 1.1361949 | M53: 1297.1727 | N53: =F53 -> 733.70922 | P53: 2.0521638 | Q53: =K53 -> 1.1361949

Sheet Efterløn
A1: Efterlønsmodtagere i forhold til samlet antal medlemmer
D4: I alt | J4: Mænd | P4: Kvinder
B6: Alder | D6: Antal Medlemmer i a-kasse | F6: Antal på efterløn | H6: Pct. på efterløn | J6: Antal Medlemmer i a-kasse | L6: Antal på efterløn | N6: Pct. på efterløn | P6: Antal Medlemmer i a-kasse | R6: Antal på efterløn | T6: Pct. på efterløn
B9: 60 år | D9: 5085 | F9: 0 | H9: =IF(D9<10,"-",F9/D9*100) -> 0 | J9: 3066 | L9: 0 | N9: =IF(J9<10,"-",L9/J9*100) -> 0 | P9: 2019 | R9: 0 | T9: =IF(P9<10,"-",R9/P9*100) -> 0
B10: 61 år | D10: 4621 | F10: 0 | H10: =IF(D10<10,"-",F10/D10*100) -> 0 | J10: 2828 | L10: 0 | N10: =IF(J10<10,"-",L10/J10*100) -> 0 | P10: 1793 | R10: 0 | T10: =IF(P10<10,"-",R10/P10*100) -> 0
B11: 62 år | D11: 4117 | F11: 0 | H11: =IF(D11<10,"-",F11/D11*100) -> 0 | J11: 2560 | L11: 0 | N11: =IF(J11<10,"-",L11/J11*100) -> 0 | P11: 1557 | R11: 0 | T11: =IF(P11<10,"-",R11/P11*100) -> 0
B12: 63 år | D12: 3812 | F12: 119 | H12: =IF(D12<10,"-",F12/D12*100) -> 3.1217209 | J12: 2420 | L12: 43 | N12: =IF(J12<10,"-",L12/J12*100) -> 1.7768595 | P12: 1392 | R12: 76 | T12: =IF(P12<10,"-",R12/P12*100) -> 5.4597701
B13: 64 år | D13: 3729 | F13: 294 | H13: =IF(D13<10,"-",F13/D13*100) -> 7.8841512 | J13: 2332 | L13: 120 | N13: =IF(J13<10,"-",L13/J13*100) -> 5.1457976 | P13: 1397 | R13: 174 | T13: =IF(P13<10,"-",R13/P13*100) -> 12.455261
B14: 65 år | D14: 3334 | F14: 547 | H14: =IF(D14<10,"-",F14/D14*100) -> 16.406719 | J14: 2135 | L14: 217 | N14: =IF(J14<10,"-",L14/J14*100) -> 10.163934 | P14: 1199 | R14: 330 | T14: =IF(P14<10,"-",R14/P14*100) -> 27.522936
B15: 66 år + | D15: 3201 | F15: 1038 | H15: =IF(D15<10,"-",F15/D15*100) -> 32.427366 | J15: 2036 | L15: 537 | N15: =IF(J15<10,"-",L15/J15*100) -> 26.375246 | P15: 1165 | R15: 501 | T15: =IF(P15<10,"-",R15/P15*100) -> 43.004292
B17: Total | D17: 1 | F17: 0 | H17: =IF(D17<10,"-",F17/D17*100) -> - | J17: 1 | L17: 0 | N17: =IF(J17<10,"-",L17/J17*100) -> - | P17: 0 | R17: 0 | T17: =IF(P17<10,"-",R17/P17*100) -> -

Sheet Tabel 1
A1: Landstatistik | N1: Landstatistik
A3: Tabel 1. Forsikrede medlemmer | N3: Tabel 1. Forsikrede medlemmer inkl. efterlønnere
C6: Mænd | F6: Kvinder | I6: I alt | P6: Mænd | S6: Kvinder | V6: I alt
C7: =Nøgletalstabeller!$M$5 -> 2021 | D7: =Nøgletalstabeller!$N$5 -> 2022 | F7: =Nøgletalstabeller!$M$5 -> 2021 | G7: =Nøgletalstabeller!$N$5 -> 2022 | I7: =Nøgletalstabeller!$M$5 -> 2021 | J7: =Nøgletalstabeller!$N$5 -> 2022 | P7: =Nøgletalstabeller!$M$5 -> 2021 | Q7: =Nøgletalstabeller!$N$5 -> 2022 | S7: =Nøgletalstabeller!$M$5 -> 2021 | T7: =Nøgletalstabeller!$N$5 -> 2022 | V7: =Nøgletalstabeller!$M$5 -> 2021 | W7: =Nøgletalstabeller!$N$5 -> 2022
A9: Civ. Ing. | C9: 24868 | D9: 25712 | F9: 9011 | G9: 9525 | I9: 33879 | J9: =D9+G9 -> 35237 | N9: Civ. Ing. | P9: 24954 | Q9: 25773 | S9: 9030 | T9: 9540 | V9: 33984 | W9: =Q9+T9 -> 35313
A10: Diplom Ing. | C10: 27846 | D10: 27967 | F10: 6555 | G10: 6745 | I10: 34401 | J10: =D10+G10 -> 34712 | N10: Diplom Ing. | P10: 28154 | Q10: 28220 | S10: 6586 | T10: 6775 | V10: 34740 | W10: =Q10+T10 -> 34995
A11: Cand.Scient.Tech. | C11: 11128 | D11: 11866 | F11: 9207 | G11: 9925 | I11: 20335 | J11: =D11+G11 -> 21791 | N11: Cand.Scient.Tech. | P11: 11139 | Q11: 11876 | S11: 9212 | T11: 9930 | V11: 20351 | W11: =Q11+T11 -> 21806
A12: MA. Hum. | C12: 13447 | D12: 13562 | F12: 29560 | G12: 30132 | I12: 43007 | J12: =D12+G12 -> 43694 | N12: MA. Hum. | P12: 13570 | Q12: 13669 | S12: 29775 | T12: 30341 | V12: 43345 | W12: =Q12+T12 -> 44010
A13: MA. Nat. | C13: 7693 | D13: 7633 | F13: 7273 | G13: 7363 | I13: 14966 | J13: =D13+G13 -> 14996 | N13: MA. Nat. | P13: 7783 | Q13: 7709 | S13: 7317 | T13: 7403 | V13: 15100 | W13: =Q13+T13 -> 15112
A14: MA. Ph.d. | C14: 1392 | D14: 1408 | F14: 1135 | G14: 1159 | I14: 2527 | J14: =D14+G14 -> 2567 | N14: MA. Ph.d. | P14: 1396 | Q14: 1411 | S14: 1139 | T14: 1161 | V14: 2535 | W14: =Q14+T14 -> 2572
A15: MA. Samf. | C15: 1560 | D15: 1730 | F15: 4291 | G15: 4849 | I15: 5851 | J15: =D15+G15 -> 6579 | N15: MA. Samf. | P15: 1563 | Q15: 1734 | S15: 4300 | T15: 4854 | V15: 5863 | W15: =Q15+T15 -> 6588
A16: Øvrige Mag. | C16: 1245 | D16: 1349 | F16: 2339 | G16: 2697 | I16: 3584 | J16: =D16+G16 -> 4046 | N16: Øvrige Mag. | P16: 1265 | Q16: 1367 | S16: 2380 | T16: 2733 | V16: 3645 | W16: =Q16+T16 -> 4100
A17: Agronom | C17: 1184 | D17: 1156 | F17: 1207 | G17: 1209 | I17: 2391 | J17: =D17+G17 -> 2365 | N17: Agronom | P17: 1201 | Q17: 1169 | S17: 1221 | T17: 1217 | V17: 2422 | W17: =Q17+T17 -> 2386
A18: Landsk. Arkt. | C18: 198 | D18: 201 | F18: 522 | G18: 526 | I18: 720 | J18: =D18+G18 -> 727 | N18: Landsk. Arkt. | P18: 199 | Q18: 202 | S18: 523 | T18: 528 | V18: 722 | W18: =Q18+T18 -> 730
A19: Hortonom | C19: 112 | D19: 106 | F19: 190 | G19: 184 | I19: 302 | J19: =D19+G19 -> 290 | N19: Hortonom | P19: 117 | Q19: 109 | S19: 195 | T19: 188 | V19: 312 | W19: =Q19+T19 -> 297
A20: Forstkand. | C20: 384 | D20: 373 | F20: 135 | G20: 134 | I20: 519 | J20: =D20+G20 -> 507 | N20: Forstkand. | P20: 387 | Q20: 374 | S20: 136 | T20: 135 | V20: 523 | W20: =Q20+T20 -> 509
A21: Jordbrugsakad. | B21: 23576 | C21: 1878 | D21: 1836 | F21: 2054 | G21: 2053 | I21: 3932 | J21: =D21+G21 -> 3889 | N21: Jordbrugsakad. | P21: 1904 | Q21: 1854 | S21: 2075 | T21: 2068 | V21: 3979 | W21: =Q21+T21 -> 3922
A22: Mejeriing. | C22: 190 | D22: 189 | F22: 184 | G22: 192 | I22: 374 | J22: =D22+G22 -> 381 | N22: Mejeriing. | P22: 192 | Q22: 191 | S22: 185 | T22: 193 | V22: 377 | W22: =Q22+T22 -> 384
A23: Levn.m.kand. | C23: 72 | D23: 77 | F23: 387 | G23: 405 | I23: 459 | J23: =D23+G23 -> 482 | N23: Levn.m.kand. | P23: 72 | Q23: 77 | S23: 387 | T23: 406 | V23: 459 | W23: =Q23+T23 -> 483
A24: Dyrlæge | C24: 446 | D24: 433 | F24: 2007 | G24: 2084 | I24: 2453 | J24: =D24+G24 -> 2517 | N24: Dyrlæge | P24: 451 | Q24: 437 | S24: 2016 | T24: 2091 | V24: 2467 | W24: =Q24+T24 -> 2528
A25: Farmaceut | C25: 1461 | D25: 1494 | F25: 4088 | G25: 4236 | I25: 5549 | J25: =D25+G25 -> 5730 | N25: Farmaceut | P25: 1467 | Q25: 1497 | S25: 4112 | T25: 4259 | V25: 5579 | W25: =Q25+T25 -> 5756
A26: Læge | C26: 3856 | D26: 3864 | F26: 8758 | G26: 8963 | I26: 12614 | J26: =D26+G26 -> 12827 | N26: Læge | P26: 3865 | Q26: 3872 | S26: 8771 | T26: 8967 | V26: 12636 | W26: =Q26+T26 -> 12839
A27: Tandlæge | C27: 310 | D27: 321 | F27: 1796 | G27: 1782 | I27: 2106 | J27: =D27+G27 -> 2103 | N27: Tandlæge | P27: 314 | Q27: 323 | S27: 1815 | T27: 1798 | V27: 2129 | W27: =Q27+T27 -> 2121
A28: Arkitekt | C28: 2819 | D28: 2753 | F28: 3407 | G28: 3449 | I28: 6226 | J28: =D28+G28 -> 6202 | N28: Arkitekt | P28: 2874 | Q28: 2798 | S28: 3454 | T28: 3495 | V28: 6328 | W28: =Q28+T28 -> 6293
A29: Landinspek. | C29: 595 | D29: 597 | F29: 262 | G29: 266 | I29: 857 | J29: =D29+G29 -> 863 | N29: Landinspek. | P29: 611 | Q29: 607 | S29: 265 | T29: 269 | V29: 876 | W29: =Q29+T29 -> 876
A30: Bibliotekar | C30: 871 | D30: 847 | F30: 2483 | G30: 2402 | I30: 3354 | J30: =D30+G30 -> 3249 | N30: Bibliotekar | P30: 908 | Q30: 879 | S30: 2616 | T30: 2526 | V30: 3524 | W30: =Q30+T30 -> 3405
A31: Musikudd. | C31: 390 | D31: 375 | F31: 514 | G31: 496 | I31: 904 | J31: =D31+G31 -> 871 | N31: Musikudd. | P31: 398 | Q31: 385 | S31: 530 | T31: 515 | V31: 928 | W31: =Q31+T31 -> 900
A32: Teolog | C32: 664 | D32: 650 | F32: 1076 | G32: 1060 | I32: 1740 | J32: =D32+G32 -> 1710 | N32: Teolog | P32: 669 | Q32: 654 | S32: 1084 | T32: 1067 | V32: 1753 | W32: =Q32+T32 -> 1721
A33: Psykolog | C33: 1536 | D33: 1571 | F33: 7019 | G33: 7260 | I33: 8555 | J33: =D33+G33 -> 8831 | N33: Psykolog | P33: 1551 | Q33: 1580 | S33: 7061 | T33: 7299 | V33: 8612 | W33: =Q33+T33 -> 8879
... A46: Andre | C46: 12132 | D46: 12754 | F46: 12381 | G46: 12887 | I46: 24513 | J46: =D46+G46 -> 25641 | N46: Andre | P46: 12305 | Q46: 12892 | S46: 12529 | T46: 13023 | V46: 24834 | W46: =Q46+T46 -> 25915
A48: Total | B48: =SUM(B9:B46)-SUM(B17:B20) -> 23576 | C48: =SUM(C9:C46)-SUM(C17:C20) -> 182014 | D48: =SUM(D9:D46)-SUM(D17:D20) -> 186671 | F48: =SUM(F9:F46)-SUM(F17:F20) -> 187651 | G48: =SUM(G9:G46)-SUM(G17:G20) -> 194264 | H48: =SUM(H9:H46)-SUM(H17:H20) -> 0 | I48: =SUM(I9:I46)-SUM(I17:I20) -> 369665 | J48: =SUM(J9:J46)-SUM(J17:J20) -> 380935 | N48: Total | P48: =SUM(P9:P46)-SUM(P17:P20) -> 183250 | Q48: =SUM(Q9:Q46)-SUM(Q17:Q20) -> 187680 | S48: =SUM(S9:S46)-SUM(S17:S20) -> 188840 | T48: =SUM(T9:T46)-SUM(T17:T20) -> 195398 | V48: =SUM(V9:V46)-SUM(V17:V20) -> 372090 | W48: =SUM(W9:W46)-SUM(W17:W20) -> 383078
A50: Ingeniører i alt | C50: 52714 | D50: 53679 | F50: 15566 | G50: 16270 | I50: 68280 | J50: =D50+G50 -> 69949 | N50: Ingeniører i alt | P50: 53108 | Q50: 53993 | S50: 15616 | T50: 16315 | V50: 68724 | W50: =Q50+T50 -> 70308
A51: Magistre i alt | C51: 25337 | D51: 25682 | F51: 44598 | G51: 46200 | I51: 69935 | J51: =D51+G51 -> 71882 | N51: Magistre i alt | P51: 25577 | Q51: 25890 | S51: 44911 | T51: 46492 | V51: 70488 | W51: =Q51+T51 -> 72382
A52: DJØF'ere i alt | C52: 45811 | D52: 46758 | F52: 53402 | G52: 55230 | I52: 99213 | J52: =D52+G52 -> 101988 | N52: DJØF'ere i alt | P52: 45988 | Q52: 46904 | S52: 53486 | T52: 55306 | V52: 99474 | W52: =Q52+T52 -> 102210
A53: Se sidste del af statistikken for en oversigt over uddannelsesgrupperingernes indhold

Sheet Tabel 2
A1: Landstatistik
A3: Tabel 2. Antal bruttoledige målt i berørte og opregnet til fuldtidspersoner
C5: Mænd | F5: Kvinder | I5: I alt
C6: Ledigheds-berørte | D6: Fuldtids-personer | F6: Ledigheds-berørte | G6: Fuldtids-personer | I6: Ledigheds-berørte | J6: Fuldtids-personer
A9: Civ. Ing. | C9: 667 | D9: 447.66107 | F9: 333 | G9: 216.02632 | H9: 854 | I9: =C9+F9 -> 1000 | J9: =D9+G9 -> 663.68739
A10: Diplom Ing. | C10: 503 | D10: 409.53284 | F10: 179 | G10: 144.99096 | H10: 738 | I10: =C10+F10 -> 682 | J10: =D10+G10 -> 554.5238
A11: Cand.Scient.Tech. | C11: 682 | D11: 502.7618 | F11: 633 | G11: 452.89029 | H11: 2239 | I11: =C11+F11 -> 1315 | J11: =D11+G11 -> 955.65209
A12: MA. Hum. | C12: 1000 | D12: 785.71821 | F12: 2082 | G12: 1575.6378 | H12: 550 | I12: =C12+F12 -> 3082 | J12: =D12+G12 -> 2361.356
A13: MA. Nat. | C13: 217 | D13: 154.80384 | F13: 245 | G13: 178.84925 | H13: 91 | I13: =C13+F13 -> 462 | J13: =D13+G13 -> 333.65309
A14: MA. Ph.d. | C14: 32 | D14: 26.30138 | F14: 36 | G14: 26.54088 | H14: 349 | I14: =C14+F14 -> 68 | J14: =D14+G14 -> 52.84226
A15: MA. Samf. | C15: 197 | D15: 145.69451 | F15: 479 | G15: 341.38652 | H15: 204 | I15: =C15+F15 -> 676 | J15: =D15+G15 -> 487.08103
A16: Øvrige Mag. | C16: 104 | D16: 81.07279 | F16: 220 | G16: 156.38745 | H16: 66 | I16: =C16+F16 -> 324 | J16: =D16+G16 -> 237.46024
A17: Agronom | C17: 25 | D17: 21.34161 | F17: 32 | G17: 23.33562 | H17: 40 | I17: =C17+F17 -> 57 | J17: =D17+G17 -> 44.67723
A18: Landsk. Arkt. | C18: 7 | D18: 5.1525 | F18: 18 | G18: 13.55641 | H18: 16 | I18: =C18+F18 -> 25 | J18: =D18+G18 -> 18.70891
A19: Hortonom | C19: 1 | D19: 0.9075 | F19: 5 | G19: 3.07117 | H19: 14 | I19: =C19+F19 -> 6 | J19: =D19+G19 -> 3.97867
A20: Forstkand. | C20: 8 | D20: 7.59808 | E20: 83 | F20: 5 | G20: 3.92815 | H20: 136 | I20: =C20+F20 -> 13 | J20: =D20+G20 -> 11.52623
A21: Jordbrugsakad. | B21: 23576 | C21: 41 | D21: 34.99969 | F21: 60 | G21: 43.89135 | I21: =C21+F21 -> 101 | J21: =D21+G21 -> 78.89104
A22: Mejeriing. | C22: 7 | D22: 6.04254 | F22: 5 | G22: 4.37036 | H22: 17 | I22: =C22+F22 -> 12 | J22: =D22+G22 -> 10.4129
A23: Levn.m.kand. | C23: 6 | D23: 4.5949 | F23: 17 | G23: 14.119 | H23: 110 | I23: =C23+F23 -> 23 | J23: =D23+G23 -> 18.7139
A24: Dyrlæge | C24: 5 | D24: 2.90339 | F24: 24 | G24: 16.63818 | H24: 143 | I24: =C24+F24 -> 29 | J24: =D24+G24 -> 19.54157
A25: Farmaceut | C25: 55 | D25: 40.1815 | F25: 121 | G25: 79.82287 | H25: 66 | I25: =C25+F25 -> 176 | J25: =D25+G25 -> 120.00437
A26: Læge | C26: 137 | D26: 66.86646 | F26: 288 | G26: 143.86391 | H26: 55 | I26: =C26+F26 -> 425 | J26: =D26+G26 -> 210.73037
A27: Tandlæge | C27: 19 | D27: 9.26901 | F27: 63 | G27: 27.77646 | H27: 345 | I27: =C27+F27 -> 82 | J27: =D27+G27 -> 37.04547
A28: Arkitekt | C28: 128 | D28: 104.78513 | F28: 206 | G28: 156.06998 | H28: 7 | I28: =C28+F28 -> 334 | J28: =D28+G28 -> 260.85511
A29: Landinspek. | C29: 13 | D29: 5.62964 | F29: 11 | G29: 5.92091 | H29: 276 | I29: =C29+F29 -> 24 | J29: =D29+G29 -> 11.55055
A30: Bibliotekar | C30: 28 | D30: 23.84208 | F30: 67 | G30: 51.51687 | H30: 32 | I30: =C30+F30 -> 95 | J30: =D30+G30 -> 75.35895
A31: Musikudd. | C31: 14 | D31: 8.99083 | F31: 21 | G31: 15.29533 | H31: 59 | I31: =C31+F31 -> 35 | J31: =D31+G31 -> 24.28616
A32: Teolog | C32: 26 | D32: 21.25616 | F32: 35 | G32: 26.54213 | H32: 279 | I32: =C32+F32 -> 61 | J32: =D32+G32 -> 47.79829
A33: Psykolog | C33: 83 | D33: 61.85305 | F33: 387 | G33: 245.11757 | H33: 372 | I33: =C33+F33 -> 470 | J33: =D33+G33 -> 306.97062
... A40: Komm. og Sprog | C40: 66 | D40: 56.91948 | F40: 300 | G40: 233.09736 | H40: 241 | I40: =C40+F40 -> 366 | J40: =D40+G40 -> 290.01684
A41: Bygningskonst. | C41: 225 | D41: 166.98453 | F41: 86 | G41: 68.89996 | I41: =C41+F41 -> 311 | J41: =D41+G41 -> 235.88449
A42: Cand. IT. | C42: 209 | D42: 137.89122 | F42: 228 | G42: 145.15874 | H42: 78 | I42: =C42+F42 -> 437 | J42: =D42+G42 -> 283.04996
A43: Bac. Samf. | C43: 36 | D43: 32.61149 | F43: 64 | G43: 47.47895 | H43: 326 | I43: =C43+F43 -> 100 | J43: =D43+G43 -> 80.09044
A44: Bac. Hum. | C44: 206 | D44: 156.18724 | F44: 417 | G44: 293.32626 | H44: 12 | I44: =C44+F44 -> 623 | J44: =D44+G44 -> 449.5135
A45: Bac. Nat. | C45: 207 | D45: 158.9347 | F45: 176 | G45: 130.34242 | H45: 2761 | I45: =C45+F45 -> 383 | J45: =D45+G45 -> 289.27712
A46: Andre | C46: 621 | D46: 478.55985 | F46: 853 | G46: 642.5435 | I46: =C46+F46 -> 1474 | J46: =D46+G46 -> 1121.1033
A48: Total | B48: =SUM(B9:B46)-SUM(B17:B20) -> 23576 | C48: =SUM(C9:C46)-SUM(C17:C20) -> 7357 | D48: =SUM(D9:D46)-SUM(D17:D20) -> 5432.9997 | E48: =SUM(E9:E46)-SUM(E17:E20) -> 0 | F48: =SUM(F9:F46)-SUM(F17:F20) -> 9735 | G48: =SUM(G9:G46)-SUM(G17:G20) -> 6962.5462 | H48: =SUM(H9:H46)-SUM(H17:H20) -> 14256 | I48: =SUM(I9:I46)-SUM(I17:I20) -> 17092 | J48: =SUM(J9:J46)-SUM(J17:J20) -> 12395.546
A50: Ingeniører i alt | C50: 1170 | D50: 857.19391 | F50: 512 | G50: 361.01728 | I50: =C50+F50 -> 1682 | J50: =D50+G50 -> 1218.2112
A51: Magistre i alt | C51: 1550 | D51: 1193.5907 | F51: 3062 | G51: 2278.8018 | I51: =C51+F51 -> 4612 | J51: =D51+G51 -> 3472.3926
A52: DJØF'ere i alt | C52: 1712 | D52: 1207.1914 | F52: 2015 | G52: 1413.7597 | I52: =C52+F52 -> 3727 | J52: =D52+G52 -> 2620.9512
A53: Se sidste del af statistikken for en oversigt over uddannelsesgrupperingernes indhold

Sheet Tabel 3
A1: Landstatistik
A3: Tabel 3. Antal bruttoledige i procent af antal forsikrede
C5: Mænd | F5: Kvinder | G5: Kvinder | I5: I alt | J5: I alt
C6: Ledigheds-berørte | D6: Fuldtids-personer | F6: Ledigheds-berørte | G6: Fuldtids-personer | I6: Ledigheds-berørte | J6: Fuldtids-personer
A9: Civ. Ing. | C9: =IF(OR('Tabel 1'!$D9<5,'Tabel 2'!C9<0.5),"-",IFERROR('Tabel 2'!C9/'Tabel 1'!$D9*100,"-")) -> 2.5941195 | D9: =IF(OR('Tabel 1'!$D9<5,'Tabel 2'!D9<0.5),"-",IFERROR('Tabel 2'!D9/'Tabel 1'!$D9*100,"-")) -> 1.7410589 | F9: =IF(OR('Tabel 1'!$G9<5,'Tabel 2'!F9<0.5),"-",IFERROR('Tabel 2'!F9/'Tabel 1'!$G9*100,"-")) -> 3.496063 | G9: =IF(OR('Tabel 1'!$G9<5,'Tabel 2'!G9<0.5),"-",IFERROR('Tabel 2'!G9/'Tabel 1'!$G9*100,"-")) -> 2.2679929 | I9: =IF(OR('Tabel 1'!$J9<5,'Tabel 2'!I9<0.5),"-",IFERROR('Tabel 2'!I9/'Tabel 1'!$J9*100,"-")) -> 2.837926 | J9: =IF(OR('Tabel 1'!$J9<5,'Tabel 2'!J9<0.5),"-",IFERROR('Tabel 2'!J9/'Tabel 1'!$J9*100,"-")) -> 1.8834957
A10: Diplom Ing. | C10: =IF(OR('Tabel 1'!$D10<5,'Tabel 2'!C10<0.5),"-",IFERROR('Tabel 2'!C10/'Tabel 1'!$D10*100,"-")) -> 1.7985483 | D10: =IF(OR('Tabel 1'!$D10<5,'Tabel 2'!D10<0.5),"-",IFERROR('Tabel 2'!D10/'Tabel 1'!$D10*100,"-")) -> 1.4643431 | F10: =IF(OR('Tabel 1'!$G10<5,'Tabel 2'!F10<0.5),"-",IFERROR('Tabel 2'!F10/'Tabel 1'!$G10*100,"-")) -> 2.6538176 | G10: =IF(OR('Tabel 1'!$G10<5,'Tabel 2'!G10<0.5),"-",IFERROR('Tabel 2'!G10/'Tabel 1'!$G10*100,"-")) -> 2.1496065 | I10: =IF(OR('Tabel 1'!$J10<5,'Tabel 2'!I10<0.5),"-",IFERROR('Tabel 2'!I10/'Tabel 1'!$J10*100,"-")) -> 1.9647384 | J10: =IF(OR('Tabel 1'!$J10<5,'Tabel 2'!J10<0.5),"-",IFERROR('Tabel 2'!J10/'Tabel 1'!$J10*100,"-")) -> 1.5974988
A11: Cand.Scient.Tech. | C11: =IF(OR('Tabel 1'!$D11<5,'Tabel 2'!C11<0.5),"-",IFERROR('Tabel 2'!C11/'Tabel 1'!$D11*100,"-")) -> 5.7475139 | D11: =IF(OR('Tabel 1'!$D11<5,'Tabel 2'!D11<0.5),"-",IFERROR('Tabel 2'!D11/'Tabel 1'!$D11*100,"-")) -> 4.2369948 | F11: =IF(OR('Tabel 1'!$G11<5,'Tabel 2'!F11<0.5),"-",IFERROR('Tabel 2'!F11/'Tabel 1'!$G11*100,"-")) -> 6.3778338 | G11: =IF(OR('Tabel 1'!$G11<5,'Tabel 2'!G11<0.5),"-",IFERROR('Tabel 2'!G11/'Tabel 1'!$G11*100,"-")) -> 4.5631263 | I11: =IF(OR('Tabel 1'!$J11<5,'Tabel 2'!I11<0.5),"-",IFERROR('Tabel 2'!I11/'Tabel 1'!$J11*100,"-")) -> 6.0346014 | J11: =IF(OR('Tabel 1'!$J11<5,'Tabel 2'!J11<0.5),"-",IFERROR('Tabel 2'!J11/'Tabel 1'!$J11*100,"-")) -> 4.3855357
A12: MA. Hum. | C12: =IF(OR('Tabel 1'!$D12<5,'Tabel 2'!C12<0.5),"-",IFERROR('Tabel 2'!C12/'Tabel 1'!$D12*100,"-")) -> 7.3735437 | D12: =IF(OR('Tabel 1'!$D12<5,'Tabel 2'!D12<0.5),"-",IFERROR('Tabel 2'!D12/'Tabel 1'!$D12*100,"-")) -> 5.7935276 | F12: =IF(OR('Tabel 1'!$G12<5,'Tabel 2'!F12<0.5),"-",IFERROR('Tabel 2'!F12/'Tabel 1'!$G12*100,"-")) -> 6.9095978 | G12: =IF(OR('Tabel 1'!$G12<5,'Tabel 2'!G12<0.5),"-",IFERROR('Tabel 2'!G12/'Tabel 1'!$G12*100,"-")) -> 5.2291177 | I12: =IF(OR('Tabel 1'!$J12<5,'Tabel 2'!I12<0.5),"-",IFERROR('Tabel 2'!I12/'Tabel 1'!$J12*100,"-")) -> 7.0536 | J12: =IF(OR('Tabel 1'!$J12<5,'Tabel 2'!J12<0.5),"-",IFERROR('Tabel 2'!J12/'Tabel 1'!$J12*100,"-")) -> 5.4043026
A13: MA. Nat. | C13: =IF(OR('Tabel 1'!$D13<5,'Tabel 2'!C13<0.5),"-",IFERROR('Tabel 2'!C13/'Tabel 1'!$D13*100,"-")) -> 2.8429189 | D13: =IF(OR('Tabel 1'!$D13<5,'Tabel 2'!D13<0.5),"-",IFERROR('Tabel 2'!D13/'Tabel 1'!$D13*100,"-")) -> 2.0280865 | F13: =IF(OR('Tabel 1'!$G13<5,'Tabel 2'!F13<0.5),"-",IFERROR('Tabel 2'!F13/'Tabel 1'!$G13*100,"-")) -> 3.3274481 | G13: =IF(OR('Tabel 1'!$G13<5,'Tabel 2'!G13<0.5),"-",IFERROR('Tabel 2'!G13/'Tabel 1'!$G13*100,"-")) -> 2.4290269 | I13: =IF(OR('Tabel 1'!$J13<5,'Tabel 2'!I13<0.5),"-",IFERROR('Tabel 2'!I13/'Tabel 1'!$J13*100,"-")) -> 3.0808216 | J13: =IF(OR('Tabel 1'!$J13<5,'Tabel 2'!J13<0.5),"-",IFERROR('Tabel 2'!J13/'Tabel 1'!$J13*100,"-")) -> 2.2249473
A14: MA. Ph.d. | C14: =IF(OR('Tabel 1'!$D14<5,'Tabel 2'!C14<0.5),"-",IFERROR('Tabel 2'!C14/'Tabel 1'!$D14*100,"-")) -> 2.2727273 | D14: =IF(OR('Tabel 1'!$D14<5,'Tabel 2'!D14<0.5),"-",IFERROR('Tabel 2'!D14/'Tabel 1'!$D14*100,"-")) -> 1.8679957 | F14: =IF(OR('Tabel 1'!$G14<5,'Tabel 2'!F14<0.5),"-",IFERROR('Tabel 2'!F14/'Tabel 1'!$G14*100,"-")) -> 3.106126 | G14: =IF(OR('Tabel 1'!$G14<5,'Tabel 2'!G14<0.5),"-",IFERROR('Tabel 2'!G14/'Tabel 1'!$G14*100,"-")) -> 2.289981 | I14: =IF(OR('Tabel 1'!$J14<5,'Tabel 2'!I14<0.5),"-",IFERROR('Tabel 2'!I14/'Tabel 1'!$J14*100,"-")) -> 2.6490066 | J14: =IF(OR('Tabel 1'!$J14<5,'Tabel 2'!J14<0.5),"-",IFERROR('Tabel 2'!J14/'Tabel 1'!$J14*100,"-")) -> 2.058522
A15: MA. Samf. | C15: =IF(OR('Tabel 1'!$D15<5,'Tabel 2'!C15<0.5),"-",IFERROR('Tabel 2'!C15/'Tabel 1'!$D15*100,"-")) -> 11.387283 | D15: =IF(OR('Tabel 1'!$D15<5,'Tabel 2'!D15<0.5),"-",IFERROR('Tabel 2'!D15/'Tabel 1'!$D15*100,"-")) -> 8.421648 | F15: =IF(OR('Tabel 1'!$G15<5,'Tabel 2'!F15<0.5),"-",IFERROR('Tabel 2'!F15/'Tabel 1'!$G15*100,"-")) -> 9.8783254 | G15: =IF(OR('Tabel 1'!$G15<5,'Tabel 2'!G15<0.5),"-",IFERROR('Tabel 2'!G15/'Tabel 1'!$G15*100,"-")) -> 7.0403489 | I15: =IF(OR('Tabel 1'!$J15<5,'Tabel 2'!I15<0.5),"-",IFERROR('Tabel 2'!I15/'Tabel 1'!$J15*100,"-")) -> 10.275118 | J15: =IF(OR('Tabel 1'!$J15<5,'Tabel 2'!J15<0.5),"-",IFERROR('Tabel 2'!J15/'Tabel 1'!$J15*100,"-")) -> 7.4035724
A16: Øvrige Mag. | C16: =IF(OR('Tabel 1'!$D16<5,'Tabel 2'!C16<0.5),"-",IFERROR('Tabel 2'!C16/'Tabel 1'!$D16*100,"-")) -> 7.7094144 | D16: =IF(OR('Tabel 1'!$D16<5,'Tabel 2'!D16<0.5),"-",IFERROR('Tabel 2'!D16/'Tabel 1'!$D16*100,"-")) -> 6.0098436 | F16: =IF(OR('Tabel 1'!$G16<5,'Tabel 2'!F16<0.5),"-",IFERROR('Tabel 2'!F16/'Tabel 1'!$G16*100,"-")) -> 8.1572117 | G16: =IF(OR('Tabel 1'!$G16<5,'Tabel 2'!G16<0.5),"-",IFERROR('Tabel 2'!G16/'Tabel 1'!$G16*100,"-")) -> 5.7985706 | I16: =IF(OR('Tabel 1'!$J16<5,'Tabel 2'!I16<0.5),"-",IFERROR('Tabel 2'!I16/'Tabel 1'!$J16*100,"-")) -> 8.007909 | J16: =IF(OR('Tabel 1'!$J16<5,'Tabel 2'!J16<0.5),"-",IFERROR('Tabel 2'!J16/'Tabel 1'!$J16*100,"-")) -> 5.8690124
A17: Agronom | C17: =IF(OR('Tabel 1'!$D17<5,'Tabel 2'!C17<0.5),"-",IFERROR('Tabel 2'!C17/'Tabel 1'!$D17*100,"-")) -> 2.1626298 | D17: =IF(OR('Tabel 1'!$D17<5,'Tabel 2'!D17<0.5),"-",IFERROR('Tabel 2'!D17/'Tabel 1'!$D17*100,"-")) -> 1.84616 | F17: =IF(OR('Tabel 1'!$G17<5,'Tabel 2'!F17<0.5),"-",IFERROR('Tabel 2'!F17/'Tabel 1'!$G17*100,"-")) -> 2.6468156 | G17: =IF(OR('Tabel 1'!$G17<5,'Tabel 2'!G17<0.5),"-",IFERROR('Tabel 2'!G17/'Tabel 1'!$G17*100,"-")) -> 1.9301588 | I17: =IF(OR('Tabel 1'!$J17<5,'Tabel 2'!I17<0.5),"-",IFERROR('Tabel 2'!I17/'Tabel 1'!$J17*100,"-")) -> 2.410148 | J17: =IF(OR('Tabel 1'!$J17<5,'Tabel 2'!J17<0.5),"-",IFERROR('Tabel 2'!J17/'Tabel 1'!$J17*100,"-")) -> 1.8891006
A18: Landsk. Arkt. | C18: =IF(OR('Tabel 1'!$D18<5,'Tabel 2'!C18<0.5),"-",IFERROR('Tabel 2'!C18/'Tabel 1'!$D18*100,"-")) -> 3.4825871 | D18: =IF(OR('Tabel 1'!$D18<5,'Tabel 2'!D18<0.5),"-",IFERROR('Tabel 2'!D18/'Tabel 1'!$D18*100,"-")) -> 2.5634328 | F18: =IF(OR('Tabel 1'!$G18<5,'Tabel 2'!F18<0.5),"-",IFERROR('Tabel 2'!F18/'Tabel 1'!$G18*100,"-")) -> 3.4220532 | G18: =IF(OR('Tabel 1'!$G18<5,'Tabel 2'!G18<0.5),"-",IFERROR('Tabel 2'!G18/'Tabel 1'!$G18*100,"-")) -> 2.5772643 | I18: =IF(OR('Tabel 1'!$J18<5,'Tabel 2'!I18<0.5),"-",IFERROR('Tabel 2'!I18/'Tabel 1'!$J18*100,"-")) -> 3.4387895 | J18: =IF(OR('Tabel 1'!$J18<5,'Tabel 2'!J18<0.5),"-",IFERROR('Tabel 2'!J18/'Tabel 1'!$J18*100,"-")) -> 2.5734402
A19: Hortonom | C19: =IF(OR('Tabel 1'!$D19<5,'Tabel 2'!C19<0.5),"-",IFERROR('Tabel 2'!C19/'Tabel 1'!$D19*100,"-")) -> 0.94339623 | D19: =IF(OR('Tabel 1'!$D19<5,'Tabel 2'!D19<0.5),"-",IFERROR('Tabel 2'!D19/'Tabel 1'!$D19*100,"-")) -> 0.85613208 | F19: =IF(OR('Tabel 1'!$G19<5,'Tabel 2'!F19<0.5),"-",IFERROR('Tabel 2'!F19/'Tabel 1'!$G19*100,"-")) -> 2.7173913 | G19: =IF(OR('Tabel 1'!$G19<5,'Tabel 2'!G19<0.5),"-",IFERROR('Tabel 2'!G19/'Tabel 1'!$G19*100,"-")) -> 1.6691141 | I19: =IF(OR('Tabel 1'!$J19<5,'Tabel 2'!I19<0.5),"-",IFERROR('Tabel 2'!I19/'Tabel 1'!$J19*100,"-")) -> 2.0689655 | J19: =IF(OR('Tabel 1'!$J19<5,'Tabel 2'!J19<0.5),"-",IFERROR('Tabel 2'!J19/'Tabel 1'!$J19*100,"-")) -> 1.3719552
A20: Forstkand. | C20: =IF(OR('Tabel 1'!$D20<5,'Tabel 2'!C20<0.5),"-",IFERROR('Tabel 2'!C20/'Tabel 1'!$D20*100,"-")) -> 2.1447721 | D20: =IF(OR('Tabel 1'!$D20<5,'Tabel 2'!D20<0.5),"-",IFERROR('Tabel 2'!D20/'Tabel 1'!$D20*100,"-")) -> 2.0370188 | F20: =IF(OR('Tabel 1'!$G20<5,'Tabel 2'!F20<0.5),"-",IFERROR('Tabel 2'!F20/'Tabel 1'!$G20*100,"-")) -> 3.7313433 | G20: =IF(OR('Tabel 1'!$G20<5,'Tabel 2'!G20<0.5),"-",IFERROR('Tabel 2'!G20/'Tabel 1'!$G20*100,"-")) -> 2.9314552 | I20: =IF(OR('Tabel 1'!$J20<5,'Tabel 2'!I20<0.5),"-",IFERROR('Tabel 2'!I20/'Tabel 1'!$J20*100,"-")) -> 2.5641026 | J20: =IF(OR('Tabel 1'!$J20<5,'Tabel 2'!J20<0.5),"-",IFERROR('Tabel 2'!J20/'Tabel 1'!$J20*100,"-")) -> 2.2734181
A21: Jordbrugsakad. | B21: 23576 | C21: =IF(OR('Tabel 1'!$D21<5,'Tabel 2'!C21<0.5),"-",IFERROR('Tabel 2'!C21/'Tabel 1'!$D21*100,"-")) -> 2.2331155 | D21: =IF(OR('Tabel 1'!$D21<5,'Tabel 2'!D21<0.5),"-",IFERROR('Tabel 2'!D21/'Tabel 1'!$D21*100,"-")) -> 1.9063012 | F21: =IF(OR('Tabel 1'!$G21<5,'Tabel 2'!F21<0.5),"-",IFERROR('Tabel 2'!F21/'Tabel 1'!$G21*100,"-")) -> 2.9225524 | G21: =IF(OR('Tabel 1'!$G21<5,'Tabel 2'!G21<0.5),"-",IFERROR('Tabel 2'!G21/'Tabel 1'!$G21*100,"-")) -> 2.1379128 | I21: =IF(OR('Tabel 1'!$J21<5,'Tabel 2'!I21<0.5),"-",IFERROR('Tabel 2'!I21/'Tabel 1'!$J21*100,"-")) -> 2.5970687 | J21: =IF(OR('Tabel 1'!$J21<5,'Tabel 2'!J21<0.5),"-",IFERROR('Tabel 2'!J21/'Tabel 1'!$J21*100,"-")) -> 2.0285688
A22: Mejeriing. | C22: =IF(OR('Tabel 1'!$D22<5,'Tabel 2'!C22<0.5),"-",IFERROR('Tabel 2'!C22/'Tabel 1'!$D22*100,"-")) -> 3.7037037 | D22: =IF(OR('Tabel 1'!$D22<5,'Tabel 2'!D22<0.5),"-",IFERROR('Tabel 2'!D22/'Tabel 1'!$D22*100,"-")) -> 3.1971111 | F22: =IF(OR('Tabel 1'!$G22<5,'Tabel 2'!F22<0.5),"-",IFERROR('Tabel 2'!F22/'Tabel 1'!$G22*100,"-")) -> 2.6041667 | G22: =IF(OR('Tabel 1'!$G22<5,'Tabel 2'!G22<0.5),"-",IFERROR('Tabel 2'!G22/'Tabel 1'!$G22*100,"-")) -> 2.2762292 | I22: =IF(OR('Tabel 1'!$J22<5,'Tabel 2'!I22<0.5),"-",IFERROR('Tabel 2'!I22/'Tabel 1'!$J22*100,"-")) -> 3.1496063 | J22: =IF(OR('Tabel 1'!$J22<5,'Tabel 2'!J22<0.5),"-",IFERROR('Tabel 2'!J22/'Tabel 1'!$J22*100,"-")) -> 2.7330446
A23: Levn.m.kand. | C23: =IF(OR('Tabel 1'!$D23<5,'Tabel 2'!C23<0.5),"-",IFERROR('Tabel 2'!C23/'Tabel 1'!$D23*100,"-")) -> 7.7922078 | D23: =IF(OR('Tabel 1'!$D23<5,'Tabel 2'!D23<0.5),"-",IFERROR('Tabel 2'!D23/'Tabel 1'!$D23*100,"-")) -> 5.9674026 | F23: =IF(OR('Tabel 1'!$G23<5,'Tabel 2'!F23<0.5),"-",IFERROR('Tabel 2'!F23/'Tabel 1'!$G23*100,"-")) -> 4.1975309 | G23: =IF(OR('Tabel 1'!$G23<5,'Tabel 2'!G23<0.5),"-",IFERROR('Tabel 2'!G23/'Tabel 1'!$G23*100,"-")) -> 3.4861728 | I23: =IF(OR('Tabel 1'!$J23<5,'Tabel 2'!I23<0.5),"-",IFERROR('Tabel 2'!I23/'Tabel 1'!$J23*100,"-")) -> 4.7717842 | J23: =IF(OR('Tabel 1'!$J23<5,'Tabel 2'!J23<0.5),"-",IFERROR('Tabel 2'!J23/'Tabel 1'!$J23*100,"-")) -> 3.8825519
A24: Dyrlæge | C24: =IF(OR('Tabel 1'!$D24<5,'Tabel 2'!C24<0.5),"-",IFERROR('Tabel 2'!C24/'Tabel 1'!$D24*100,"-")) -> 1.1547344 | D24: =IF(OR('Tabel 1'!$D24<5,'Tabel 2'!D24<0.5),"-",IFERROR('Tabel 2'!D24/'Tabel 1'!$D24*100,"-")) -> 0.67052887 | F24: =IF(OR('Tabel 1'!$G24<5,'Tabel 2'!F24<0.5),"-",IFERROR('Tabel 2'!F24/'Tabel 1'!$G24*100,"-")) -> 1.1516315 | G24: =IF(OR('Tabel 1'!$G24<5,'Tabel 2'!G24<0.5),"-",IFERROR('Tabel 2'!G24/'Tabel 1'!$G24*100,"-")) -> 0.79837716 | I24: =IF(OR('Tabel 1'!$J24<5,'Tabel 2'!I24<0.5),"-",IFERROR('Tabel 2'!I24/'Tabel 1'!$J24*100,"-")) -> 1.1521653 | J24: =IF(OR('Tabel 1'!$J24<5,'Tabel 2'!J24<0.5),"-",IFERROR('Tabel 2'!J24/'Tabel 1'!$J24*100,"-")) -> 0.77638339
A25: Farmaceut | C25: =IF(OR('Tabel 1'!$D25<5,'Tabel 2'!C25<0.5),"-",IFERROR('Tabel 2'!C25/'Tabel 1'!$D25*100,"-")) -> 3.6813922 | D25: =IF(OR('Tabel 1'!$D25<5,'Tabel 2'!D25<0.5),"-",IFERROR('Tabel 2'!D25/'Tabel 1'!$D25*100,"-")) -> 2.6895248 | F25: =IF(OR('Tabel 1'!$G25<5,'Tabel 2'!F25<0.5),"-",IFERROR('Tabel 2'!F25/'Tabel 1'!$G25*100,"-")) -> 2.8564684 | G25: =IF(OR('Tabel 1'!$G25<5,'Tabel 2'!G25<0.5),"-",IFERROR('Tabel 2'!G25/'Tabel 1'!$G25*100,"-")) -> 1.8843926 | I25: =IF(OR('Tabel 1'!$J25<5,'Tabel 2'!I25<0.5),"-",IFERROR('Tabel 2'!I25/'Tabel 1'!$J25*100,"-")) -> 3.0715532 | J25: =IF(OR('Tabel 1'!$J25<5,'Tabel 2'!J25<0.5),"-",IFERROR('Tabel 2'!J25/'Tabel 1'!$J25*100,"-")) -> 2.0943171
A26: Læge | C26: =IF(OR('Tabel 1'!$D26<5,'Tabel 2'!C26<0.5),"-",IFERROR('Tabel 2'!C26/'Tabel 1'!$D26*100,"-")) -> 3.5455487 | D26: =IF(OR('Tabel 1'!$D26<5,'Tabel 2'!D26<0.5),"-",IFERROR('Tabel 2'!D26/'Tabel 1'!$D26*100,"-")) -> 1.7304984 | F26: =IF(OR('Tabel 1'!$G26<5,'Tabel 2'!F26<0.5),"-",IFERROR('Tabel 2'!F26/'Tabel 1'!$G26*100,"-")) -> 3.2132099 | G26: =IF(OR('Tabel 1'!$G26<5,'Tabel 2'!G26<0.5),"-",IFERROR('Tabel 2'!G26/'Tabel 1'!$G26*100,"-")) -> 1.6050866 | I26: =IF(OR('Tabel 1'!$J26<5,'Tabel 2'!I26<0.5),"-",IFERROR('Tabel 2'!I26/'Tabel 1'!$J26*100,"-")) -> 3.3133235 | J26: =IF(OR('Tabel 1'!$J26<5,'Tabel 2'!J26<0.5),"-",IFERROR('Tabel 2'!J26/'Tabel 1'!$J26*100,"-")) -> 1.6428656
A27: Tandlæge | C27: =IF(OR('Tabel 1'!$D27<5,'Tabel 2'!C27<0.5),"-",IFERROR('Tabel 2'!C27/'Tabel 1'!$D27*100,"-")) -> 5.9190031 | D27: =IF(OR('Tabel 1'!$D27<5,'Tabel 2'!D27<0.5),"-",IFERROR('Tabel 2'!D27/'Tabel 1'!$D27*100,"-")) -> 2.8875421 | F27: =IF(OR('Tabel 1'!$G27<5,'Tabel 2'!F27<0.5),"-",IFERROR('Tabel 2'!F27/'Tabel 1'!$G27*100,"-")) -> 3.5353535 | G27: =IF(OR('Tabel 1'!$G27<5,'Tabel 2'!G27<0.5),"-",IFERROR('Tabel 2'!G27/'Tabel 1'!$G27*100,"-")) -> 1.5587239 | I27: =IF(OR('Tabel 1'!$J27<5,'Tabel 2'!I27<0.5),"-",IFERROR('Tabel 2'!I27/'Tabel 1'!$J27*100,"-")) -> 3.8991916 | J27: =IF(OR('Tabel 1'!$J27<5,'Tabel 2'!J27<0.5),"-",IFERROR('Tabel 2'!J27/'Tabel 1'!$J27*100,"-")) -> 1.7615535
A28: Arkitekt | C28: =IF(OR('Tabel 1'!$D28<5,'Tabel 2'!C28<0.5),"-",IFERROR('Tabel 2'!C28/'Tabel 1'!$D28*100,"-")) -> 4.6494733 | D28: =IF(OR('Tabel 1'!$D28<5,'Tabel 2'!D28<0.5),"-",IFERROR('Tabel 2'!D28/'Tabel 1'!$D28*100,"-")) -> 3.8062161 | F28: =IF(OR('Tabel 1'!$G28<5,'Tabel 2'!F28<0.5),"-",IFERROR('Tabel 2'!F28/'Tabel 1'!$G28*100,"-")) -> 5.9727457 | G28: =IF(OR('Tabel 1'!$G28<5,'Tabel 2'!G28<0.5),"-",IFERROR('Tabel 2'!G28/'Tabel 1'!$G28*100,"-")) -> 4.5250792 | I28: =IF(OR('Tabel 1'!$J28<5,'Tabel 2'!I28<0.5),"-",IFERROR('Tabel 2'!I28/'Tabel 1'!$J28*100,"-")) -> 5.3853596 | J28: =IF(OR('Tabel 1'!$J28<5,'Tabel 2'!J28<0.5),"-",IFERROR('Tabel 2'!J28/'Tabel 1'!$J28*100,"-")) -> 4.2059837
A29: Landinspek. | C29: =IF(OR('Tabel 1'!$D29<5,'Tabel 2'!C29<0.5),"-",IFERROR('Tabel 2'!C29/'Tabel 1'!$D29*100,"-")) -> 2.1775544 | D29: =IF(OR('Tabel 1'!$D29<5,'Tabel 2'!D29<0.5),"-",IFERROR('Tabel 2'!D29/'Tabel 1'!$D29*100,"-")) -> 0.94298827 | F29: =IF(OR('Tabel 1'!$G29<5,'Tabel 2'!F29<0.5),"-",IFERROR('Tabel 2'!F29/'Tabel 1'!$G29*100,"-")) -> 4.1353383 | G29: =IF(OR('Tabel 1'!$G29<5,'Tabel 2'!G29<0.5),"-",IFERROR('Tabel 2'!G29/'Tabel 1'!$G29*100,"-")) -> 2.225906 | I29: =IF(OR('Tabel 1'!$J29<5,'Tabel 2'!I29<0.5),"-",IFERROR('Tabel 2'!I29/'Tabel 1'!$J29*100,"-")) -> 2.7809965 | J29: =IF(OR('Tabel 1'!$J29<5,'Tabel 2'!J29<0.5),"-",IFERROR('Tabel 2'!J29/'Tabel 1'!$J29*100,"-")) -> 1.3384183
A30: Bibliotekar | C30: =IF(OR('Tabel 1'!$D30<5,'Tabel 2'!C30<0.5),"-",IFERROR('Tabel 2'!C30/'Tabel 1'!$D30*100,"-")) -> 3.3057851 | D30: =IF(OR('Tabel 1'!$D30<5,'Tabel 2'!D30<0.5),"-",IFERROR('Tabel 2'!D30/'Tabel 1'!$D30*100,"-")) -> 2.8148855 | F30: =IF(OR('Tabel 1'!$G30<5,'Tabel 2'!F30<0.5),"-",IFERROR('Tabel 2'!F30/'Tabel 1'!$G30*100,"-")) -> 2.7893422 | G30: =IF(OR('Tabel 1'!$G30<5,'Tabel 2'!G30<0.5),"-",IFERROR('Tabel 2'!G30/'Tabel 1'!$G30*100,"-")) -> 2.144749 | I30: =IF(OR('Tabel 1'!$J30<5,'Tabel 2'!I30<0.5),"-",IFERROR('Tabel 2'!I30/'Tabel 1'!$J30*100,"-")) -> 2.9239766 | J30: =IF(OR('Tabel 1'!$J30<5,'Tabel 2'!J30<0.5),"-",IFERROR('Tabel 2'!J30/'Tabel 1'!$J30*100,"-")) -> 2.3194506
A31: Musikudd. | C31: =IF(OR('Tabel 1'!$D31<5,'Tabel 2'!C31<0.5),"-",IFERROR('Tabel 2'!C31/'Tabel 1'!$D31*100,"-")) -> 3.7333333 | D31: =IF(OR('Tabel 1'!$D31<5,'Tabel 2'!D31<0.5),"-",IFERROR('Tabel 2'!D31/'Tabel 1'!$D31*100,"-")) -> 2.3975547 | F31: =IF(OR('Tabel 1'!$G31<5,'Tabel 2'!F31<0.5),"-",IFERROR('Tabel 2'!F31/'Tabel 1'!$G31*100,"-")) -> 4.233871 | G31: =IF(OR('Tabel 1'!$G31<5,'Tabel 2'!G31<0.5),"-",IFERROR('Tabel 2'!G31/'Tabel 1'!$G31*100,"-")) -> 3.0837359 | I31: =IF(OR('Tabel 1'!$J31<5,'Tabel 2'!I31<0.5),"-",IFERROR('Tabel 2'!I31/'Tabel 1'!$J31*100,"-")) -> 4.0183697 | J31: =IF(OR('Tabel 1'!$J31<5,'Tabel 2'!J31<0.5),"-",IFERROR('Tabel 2'!J31/'Tabel 1'!$J31*100,"-")) -> 2.7883077
A32: Teolog | C32: =IF(OR('Tabel 1'!$D32<5,'Tabel 2'!C32<0.5),"-",IFERROR('Tabel 2'!C32/'Tabel 1'!$D32*100,"-")) -> 4 | D32: =IF(OR('Tabel 1'!$D32<5,'Tabel 2'!D32<0.5),"-",IFERROR('Tabel 2'!D32/'Tabel 1'!$D32*100,"-")) -> 3.2701785 | F32: =IF(OR('Tabel 1'!$G32<5,'Tabel 2'!F32<0.5),"-",IFERROR('Tabel 2'!F32/'Tabel 1'!$G32*100,"-")) -> 3.3018868 | G32: =IF(OR('Tabel 1'!$G32<5,'Tabel 2'!G32<0.5),"-",IFERROR('Tabel 2'!G32/'Tabel 1'!$G32*100,"-")) -> 2.5039745 | I32: =IF(OR('Tabel 1'!$J32<5,'Tabel 2'!I32<0.5),"-",IFERROR('Tabel 2'!I32/'Tabel 1'!$J32*100,"-")) -> 3.5672515 | J32: =IF(OR('Tabel 1'!$J32<5,'Tabel 2'!J32<0.5),"-",IFERROR('Tabel 2'!J32/'Tabel 1'!$J32*100,"-")) -> 2.7952216
A33: Psykolog | C33: =IF(OR('Tabel 1'!$D33<5,'Tabel 2'!C33<0.5),"-",IFERROR('Tabel 2'!C33/'Tabel 1'!$D33*100,"-")) -> 5.2832591 | D33: =IF(OR('Tabel 1'!$D33<5,'Tabel 2'!D33<0.5),"-",IFERROR('Tabel 2'!D33/'Tabel 1'!$D33*100,"-")) -> 3.937177 | F33: =IF(OR('Tabel 1'!$G33<5,'Tabel 2'!F33<0.5),"-",IFERROR('Tabel 2'!F33/'Tabel 1'!$G33*100,"-")) -> 5.3305785 | G33: =IF(OR('Tabel 1'!$G33<5,'Tabel 2'!G33<0.5),"-",IFERROR('Tabel 2'!G33/'Tabel 1'!$G33*100,"-")) -> 3.3762751 | I33: =IF(OR('Tabel 1'!$J33<5,'Tabel 2'!I33<0.5),"-",IFERROR('Tabel 2'!I33/'Tabel 1'!$J33*100,"-")) -> 5.3221606 | J33: =IF(OR('Tabel 1'!$J33<5,'Tabel 2'!J33<0.5),"-",IFERROR('Tabel 2'!J33/'Tabel 1'!$J33*100,"-")) -> 3.4760573
... A46: Andre | C46: =IF(OR('Tabel 1'!$D46<5,'Tabel 2'!C46<0.5),"-",IFERROR('Tabel 2'!C46/'Tabel 1'!$D46*100,"-")) -> 4.8690607 | D46: =IF(OR('Tabel 1'!$D46<5,'Tabel 2'!D46<0.5),"-",IFERROR('Tabel 2'!D46/'Tabel 1'!$D46*100,"-")) -> 3.7522334 | F46: =IF(OR('Tabel 1'!$G46<5,'Tabel 2'!F46<0.5),"-",IFERROR('Tabel 2'!F46/'Tabel 1'!$G46*100,"-")) -> 6.6190735 | G46: =IF(OR('Tabel 1'!$G46<5,'Tabel 2'!G46<0.5),"-",IFERROR('Tabel 2'!G46/'Tabel 1'!$G46*100,"-")) -> 4.985982 | I46: =IF(OR('Tabel 1'!$J46<5,'Tabel 2'!I46<0.5),"-",IFERROR('Tabel 2'!I46/'Tabel 1'!$J46*100,"-")) -> 5.7486057 | J46: =IF(OR('Tabel 1'!$J46<5,'Tabel 2'!J46<0.5),"-",IFERROR('Tabel 2'!J46/'Tabel 1'!$J46*100,"-")) -> 4.3723074
A48: Total | B48: =SUM(B9:B46)-SUM(B17:B20) -> 23576 | C48: =IF(OR('Tabel 1'!$D48<5,'Tabel 2'!C48<0.5),"-",IFERROR('Tabel 2'!C48/'Tabel 1'!$D48*100,"-")) -> 3.9411585 | D48: =IF(OR('Tabel 1'!$D48<5,'Tabel 2'!D48<0.5),"-",IFERROR('Tabel 2'!D48/'Tabel 1'!$D48*100,"-")) -> 2.910468 | E48: =IF(#REF!<10,"-",'Tabel 2'!E48/#REF!*100) -> #REF! | F48: =IF(OR('Tabel 1'!$G48<5,'Tabel 2'!F48<0.5),"-",IFERROR('Tabel 2'!F48/'Tabel 1'!$G48*100,"-")) -> 5.0112218 | G48: =IF(OR('Tabel 1'!$G48<5,'Tabel 2'!G48<0.5),"-",IFERROR('Tabel 2'!G48/'Tabel 1'!$G48*100,"-")) -> 3.5840641 | H48: =IF(#REF!<10,"-",'Tabel 2'!H48/#REF!*100) -> #REF! | I48: =IF(OR('Tabel 1'!$J48<5,'Tabel 2'!I48<0.5),"-",IFERROR('Tabel 2'!I48/'Tabel 1'!$J48*100,"-")) -> 4.4868547 | J48: =IF(OR('Tabel 1'!$J48<5,'Tabel 2'!J48<0.5),"-",IFERROR('Tabel 2'!J48/'Tabel 1'!$J48*100,"-")) -> 3.2539792
A50: Ingeniører i alt | B50: =IF(#REF!<10,"-",'Tabel 2'!B50/#REF!*100) -> #REF! | C50: =IF(OR('Tabel 1'!$D50<5,'Tabel 2'!C50<0.5),"-",IFERROR('Tabel 2'!C50/'Tabel 1'!$D50*100,"-")) -> 2.1796233 | D50: =IF(OR('Tabel 1'!$D50<5,'Tabel 2'!D50<0.5),"-",IFERROR('Tabel 2'!D50/'Tabel 1'!$D50*100,"-")) -> 1.5968887 | F50: =IF(OR('Tabel 1'!$G50<5,'Tabel 2'!F50<0.5),"-",IFERROR('Tabel 2'!F50/'Tabel 1'!$G50*100,"-")) -> 3.1468961 | G50: =IF(OR('Tabel 1'!$G50<5,'Tabel 2'!G50<0.5),"-",IFERROR('Tabel 2'!G50/'Tabel 1'!$G50*100,"-")) -> 2.2189138 | I50: =IF(OR('Tabel 1'!$J50<5,'Tabel 2'!I50<0.5),"-",IFERROR('Tabel 2'!I50/'Tabel 1'!$J50*100,"-")) -> 2.4046091 | J50: =IF(OR('Tabel 1'!$J50<5,'Tabel 2'!J50<0.5),"-",IFERROR('Tabel 2'!J50/'Tabel 1'!$J50*100,"-")) -> 1.7415706
A51: Magistre i alt | C51: =IF(OR('Tabel 1'!$D51<5,'Tabel 2'!C51<0.5),"-",IFERROR('Tabel 2'!C51/'Tabel 1'!$D51*100,"-")) -> 6.0353555 | D51: =IF(OR('Tabel 1'!$D51<5,'Tabel 2'!D51<0.5),"-",IFERROR('Tabel 2'!D51/'Tabel 1'!$D51*100,"-")) -> 4.647577 | F51: =IF(OR('Tabel 1'!$G51<5,'Tabel 2'!F51<0.5),"-",IFERROR('Tabel 2'!F51/'Tabel 1'!$G51*100,"-")) -> 6.6277056 | G51: =IF(OR('Tabel 1'!$G51<5,'Tabel 2'!G51<0.5),"-",IFERROR('Tabel 2'!G51/'Tabel 1'!$G51*100,"-")) -> 4.9324715 | I51: =IF(OR('Tabel 1'!$J51<5,'Tabel 2'!I51<0.5),"-",IFERROR('Tabel 2'!I51/'Tabel 1'!$J51*100,"-")) -> 6.4160708 | J51: =IF(OR('Tabel 1'!$J51<5,'Tabel 2'!J51<0.5),"-",IFERROR('Tabel 2'!J51/'Tabel 1'!$J51*100,"-")) -> 4.8306844
A52: DJØF'ere i alt | C52: =IF(OR('Tabel 1'!$D52<5,'Tabel 2'!C52<0.5),"-",IFERROR('Tabel 2'!C52/'Tabel 1'!$D52*100,"-")) -> 3.6614055 | D52: =IF(OR('Tabel 1'!$D52<5,'Tabel 2'!D52<0.5),"-",IFERROR('Tabel 2'!D52/'Tabel 1'!$D52*100,"-")) -> 2.5817858 | F52: =IF(OR('Tabel 1'!$G52<5,'Tabel 2'!F52<0.5),"-",IFERROR('Tabel 2'!F52/'Tabel 1'!$G52*100,"-")) -> 3.6483795 | G52: =IF(OR('Tabel 1'!$G52<5,'Tabel 2'!G52<0.5),"-",IFERROR('Tabel 2'!G52/'Tabel 1'!$G52*100,"-")) -> 2.5597678 | I52: =IF(OR('Tabel 1'!$J52<5,'Tabel 2'!I52<0.5),"-",IFERROR('Tabel 2'!I52/'Tabel 1'!$J52*100,"-")) -> 3.6543515 | J52: =IF(OR('Tabel 1'!$J52<5,'Tabel 2'!J52<0.5),"-",IFERROR('Tabel 2'!J52/'Tabel 1'!$J52*100,"-")) -> 2.5698623
A53: Se sidste del af statistikken for en oversigt over uddannelsesgrupperingernes indhold

Sheet Tabel 4 F
A1: Landstatistik
A3: Tabel 4. Antal forsikrede medlemmer - aldersfordelt
B7: Under 30 år | C7: 30 - 39 år | D7: 40 - 49 år | E7: 50 - 59 år | F7: Over 60 år | H7: I alt
A9: Civ. Ing. | B9: 6487 | C9: 11327 | D9: 8127 | E9: 6957 | F9: 2339 | H9: =B9+C9+D9+E9+F9 -> 35237
A10: Diplom Ing. | B10: 3490 | C10: 6091 | D10: 8013 | E10: 12199 | F10: 4919 | H10: =B10+C10+D10+E10+F10 -> 34712
A11: Cand.Scient.Tech. | B11: 5808 | C11: 11010 | D11: 3466 | E11: 1257 | F11: 250 | H11: =B11+C11+D11+E11+F11 -> 21791
A12: MA. Hum. | B12: 5695 | C12: 15108 | D12: 13669 | E12: 6788 | F12: 2434 | H12: =B12+C12+D12+E12+F12 -> 43694
A13: MA. Nat. | B13: 1289 | C13: 3238 | D13: 4555 | E13: 4201 | F13: 1713 | H13: =B13+C13+D13+E13+F13 -> 14996
A14: MA. Ph.d. | B14: 32 | C14: 663 | D14: 977 | E14: 703 | F14: 192 | H14: =B14+C14+D14+E14+F14 -> 2567
A15: MA. Samf. | B15: 1848 | C15: 3312 | D15: 906 | E15: 422 | F15: 91 | H15: =B15+C15+D15+E15+F15 -> 6579
A16: Øvrige Mag. | B16: 961 | C16: 843 | D16: 924 | E16: 923 | F16: 395 | H16: =B16+C16+D16+E16+F16 -> 4046
A17: Agronom | B17: 186 | C17: 340 | D17: 530 | E17: 851 | F17: 458 | H17: =B17+C17+D17+E17+F17 -> 2365
A18: Landsk. Arkt. | B18: 58 | C18: 252 | D18: 213 | E18: 152 | F18: 52 | H18: =B18+C18+D18+E18+F18 -> 727
A19: Hortonom | B19: 4 | C19: 20 | D19: 61 | E19: 128 | F19: 77 | H19: =B19+C19+D19+E19+F19 -> 290
A20: Forstkand. | B20: 27 | C20: 82 | D20: 191 | E20: 129 | F20: 78 | H20: =B20+C20+D20+E20+F20 -> 507
... A46: Andre | B46: 3432 | C46: 9238 | D46: 6827 | E46: 4114 | F46: 2030 | H46: =B46+C46+D46+E46+F46 -> 25641
A48: Total | B48: =SUM(B9:B46)-SUM(B17:B20) -> 66641 | C48: =SUM(C9:C46)-SUM(C17:C20) -> 126730 | D48: =SUM(D9:D46)-SUM(D17:D20) -> 91117 | E48: =SUM(E9:E46)-SUM(E17:E20) -> 70635 | F48: =SUM(F9:F46)-SUM(F17:F20) -> 25812 | H48: =SUM(H9:H46)-SUM(H17:H20) -> 380935
A50: Ingeniører i alt | B50: 9977 | C50: 17418 | D50: 16140 | E50: 19156 | F50: 7258 | H50: =B50+C50+D50+E50+F50 -> 69949
A51: Magistre i alt | B51: 9825 | C51: 23164 | D51: 21031 | E51: 13037 | F51: 4825 | H51: =B51+C51+D51+E51+F51 -> 71882
A52: DJØF'ere i alt | B52: 20279 | C52: 36762 | D52: 23149 | E52: 17612 | F52: 4186 | H52: =B52+C52+D52+E52+F52 -> 101988
A53: Se sidste del af statistikken for en oversigt over uddannelsesgrupperingernes indhold

Sheet Tabel 4 Be
A1: Landstatistik
A3: Tabel 4. Antal bruttoledige målt i berørte medlemmer - aldersfordelt
B7: Under 30 år | C7: 30 - 39 år | D7: 40 - 49 år | E7: 50 - 59 år | F7: Over 60 år | H7: I alt
A9: Civ. Ing. | B9: 638 | C9: 194 | D9: 69 | E9: 61 | F9: 38 | H9: =B9+C9+D9+E9+F9 -> 1000
A10: Diplom Ing. | B10: 236 | C10: 125 | D10: 74 | E10: 130 | F10: 117 | H10: =B10+C10+D10+E10+F10 -> 682
A11: Cand.Scient.Tech. | B11: 750 | C11: 444 | D11: 88 | E11: 24 | F11: 9 | H11: =B11+C11+D11+E11+F11 -> 1315
A12: MA. Hum. | B12: 1071 | C12: 1208 | D12: 436 | E12: 244 | F12: 123 | H12: =B12+C12+D12+E12+F12 -> 3082
A13: MA. Nat. | B13: 186 | C13: 134 | D13: 55 | E13: 45 | F13: 42 | H13: =B13+C13+D13+E13+F13 -> 462
A14: MA. Ph.d. | B14: 2 | C14: 19 | D14: 24 | E14: 11 | F14: 12 | H14: =B14+C14+D14+E14+F14 -> 68
A15: MA. Samf. | B15: 367 | C15: 241 | D15: 41 | E15: 25 | F15: 2 | H15: =B15+C15+D15+E15+F15 -> 676
A16: Øvrige Mag. | B16: 161 | C16: 88 | D16: 36 | E16: 27 | F16: 12 | H16: =B16+C16+D16+E16+F16 -> 324
A17: Agronom | B17: 16 | C17: 15 | D17: 8 | E17: 5 | F17: 13 | H17: =B17+C17+D17+E17+F17 -> 57
A18: Landsk. Arkt. | B18: 8 | C18: 12 | D18: 5 | E18: 0 | F18: 0 | H18: =B18+C18+D18+E18+F18 -> 25
A19: Hortonom | B19: 1 | C19: 1 | D19: 0 | E19: 2 | F19: 2 | H19: =B19+C19+D19+E19+F19 -> 6
A20: Forstkand. | B20: 2 | C20: 3 | D20: 3 | E20: 2 | F20: 3 | H20: =B20+C20+D20+E20+F20 -> 13
... A46: Andre | B46: 468 | C46: 433 | D46: 250 | E46: 189 | F46: 134 | H46: =B46+C46+D46+E46+F46 -> 1474
A48: Total | B48: =SUM(B9:B46)-SUM(B17:B20) -> 8092 | C48: =SUM(C9:C46)-SUM(C17:C20) -> 4922 | D48: =SUM(D9:D46)-SUM(D17:D20) -> 1865 | E48: =SUM(E9:E46)-SUM(E17:E20) -> 1345 | F48: =SUM(F9:F46)-SUM(F17:F20) -> 868 | H48: =SUM(H9:H46)-SUM(H17:H20) -> 17092 | I48: 5.3432868 | J48: 4.8601058 | K48: 4.8306844
A50: Ingeniører i alt | B50: 874 | C50: 319 | D50: 143 | E50: 191 | F50: 155 | H50: =B50+C50+D50+E50+F50 -> 1682
A51: Magistre i alt | B51: 1787 | C51: 1690 | D51: 592 | E51: 352 | F51: 191 | H51: =B51+C51+D51+E51+F51 -> 4612
A52: DJØF'ere i alt | B52: 1924 | C52: 958 | D52: 384 | E52: 293 | F52: 168 | H52: =B52+C52+D52+E52+F52 -> 3727
A53: Se sidste del af statistikken for en oversigt over uddannelsesgrupperingernes indhold

Sheet Tabel 4.1 Br
A1: Landstatistik
A3: Tabel 4. Antal bruttoledige målt i fuldtidspersoner - aldersfordelt
B7: Under 30 år | C7: 30 - 39 år | D7: 40 - 49 år | E7: 50 - 59 år | F7: Over 60 år | H7: I alt
A9: Civ. Ing. | B9: 357.32177 | C9: 157.00493 | D9: 61.27487 | E9: 54.40404 | F9: 33.68178 | H9: =SUM(B9:F9) -> 663.68739
A10: Diplom Ing. | B10: 177.575 | C10: 104.45643 | D10: 61.32976 | E10: 110.08857 | F10: 101.07403 | H10: =SUM(B10:F10) -> 554.52379
A11: Cand.Scient.Tech. | B11: 493.87638 | C11: 362.26034 | D11: 73.20027 | E11: 19.21849 | F11: 7.09661 | H11: =SUM(B11:F11) -> 955.65209
A12: MA. Hum. | B12: 745.79056 | C12: 968.26421 | D12: 351.27238 | E12: 193.7822 | F12: 102.24662 | H12: =SUM(B12:F12) -> 2361.356
A13: MA. Nat. | B13: 116.09181 | C13: 105.94524 | D13: 40.78463 | E13: 38.64841 | F13: 32.183 | H13: =SUM(B13:F13) -> 333.65309
A14: MA. Ph.d. | B14: 1.81501 | C14: 14.94168 | D14: 18.61348 | E14: 7.66107 | F14: 9.81101 | H14: =SUM(B14:F14) -> 52.84225
A15: MA. Samf. | B15: 236.44608 | C15: 196.68746 | D15: 32.09443 | E15: 19.85343 | F15: 1.99963 | H15: =SUM(B15:F15) -> 487.08103
A16: Øvrige Mag. | B16: 109.95197 | C16: 68.37211 | D16: 29.22597 | E16: 21.76698 | F16: 8.1432 | H16: =SUM(B16:F16) -> 237.46023
A17: Agronom | B17: 9.08376 | C17: 12.50982 | D17: 7.93239 | E17: 4.21755 | F17: 10.9337 | H17: =SUM(B17:F17) -> 44.67722
A18: Landsk. Arkt. | B18: 5.66581 | C18: 10.63931 | D18: 2.40379 | E18: 0 | F18: 0 | H18: =SUM(B18:F18) -> 18.70891
A19: Hortonom | B19: 0.16903 | C19: 0.94368 | D19: 0 | E19: 1.29296 | F19: 1.57301 | H19: =SUM(B19:F19) -> 3.97868
A20: Forstkand. | B20: 1.5992 | C20: 2.02645 | D20: 2.90152 | E20: 1.99963 | F20: 2.99944 | H20: =SUM(B20:F20) -> 11.52624
... A46: Andre | B46: 301.18131 | C46: 353.46972 | D46: 203.22023 | E46: 154.729 | F46: 108.50309 | H46: =SUM(B46:F46) -> 1121.1034
A48: Total | B48: =SUM(B9:B46)-SUM(B17:B20) -> 5039.6507 | C48: =SUM(C9:C46)-SUM(C17:C20) -> 3977.4889 | D48: =SUM(D9:D46)-SUM(D17:D20) -> 1533.6228 | E48: =SUM(E9:E46)-SUM(E17:E20) -> 1117.6933 | F48: =SUM(F9:F46)-SUM(F17:F20) -> 727.09023 | H48: =SUM(H9:H46)-SUM(H17:H20) -> 12395.546 | I48: 5.3432868 | J48: 4.8601058 | K48: 4.8306844
A50: Ingeniører i alt | B50: 534.89678 | C50: 261.46136 | D50: 122.60463 | E50: 164.49261 | F50: 134.75582 | H50: =SUM(B50:F50) -> 1218.2112
A51: Magistre i alt | B51: 1210.0954 | C51: 1354.2107 | D51: 471.99089 | E51: 281.71209 | F51: 154.38346 | H51: =SUM(B51:F51) -> 3472.3926
A52: DJØF'ere i alt | B52: 1099.2316 | C52: 797.89559 | D52: 329.45425 | E52: 247.28872 | F52: 147.08102 | H52: =SUM(B52:F52) -> 2620.9512
A53: Se sidste del af statistikken for en oversigt over uddannelsesgrupperingernes indhold

Sheet Tabel 4.2 p (Be)
A1: Landstatistik
A3: Tabel 4.2 Bruttoledighedsprocenten målt i ledighedsberørte - aldersfordelt
B7: Under 30 år | C7: 30 - 39 år | D7: 40 - 49 år | E7: 50 - 59 år | F7: Over 60 år | H7: I alt
A9: Civ. Ing. | B9: =IF(OR('Tabel 4 F'!B9<5,'Tabel 4 Be'!B9<0.5),"-",IFERROR('Tabel 4 Be'!B9/'Tabel 4 F'!B9*100,"-")) -> 9.8350547 | C9: =IF(OR('Tabel 4 F'!C9<5,'Tabel 4 Be'!C9<0.5),"-",IFERROR('Tabel 4 Be'!C9/'Tabel 4 F'!C9*100,"-")) -> 1.7127218 | D9: =IF(OR('Tabel 4 F'!D9<5,'Tabel 4 Be'!D9<0.5),"-",IFERROR('Tabel 4 Be'!D9/'Tabel 4 F'!D9*100,"-")) -> 0.84902178 | E9: =IF(OR('Tabel 4 F'!E9<5,'Tabel 4 Be'!E9<0.5),"-",IFERROR('Tabel 4 Be'!E9/'Tabel 4 F'!E9*100,"-")) -> 0.87681472 | F9: =IF(OR('Tabel 4 F'!F9<5,'Tabel 4 Be'!F9<0.5),"-",IFERROR('Tabel 4 Be'!F9/'Tabel 4 F'!F9*100,"-")) -> 1.6246259 | H9: =IF(OR('Tabel 4 F'!H9<5,'Tabel 4 Be'!H9<0.5),"-",IFERROR('Tabel 4 Be'!H9/'Tabel 4 F'!H9*100,"-")) -> 2.837926
A10: Diplom Ing. | B10: =IF(OR('Tabel 4 F'!B10<5,'Tabel 4 Be'!B10<0.5),"-",IFERROR('Tabel 4 Be'!B10/'Tabel 4 F'!B10*100,"-")) -> 6.7621777 | C10: =IF(OR('Tabel 4 F'!C10<5,'Tabel 4 Be'!C10<0.5),"-",IFERROR('Tabel 4 Be'!C10/'Tabel 4 F'!C10*100,"-")) -> 2.0522082 | D10: =IF(OR('Tabel 4 F'!D10<5,'Tabel 4 Be'!D10<0.5),"-",IFERROR('Tabel 4 Be'!D10/'Tabel 4 F'!D10*100,"-")) -> 0.92349931 | E10: =IF(OR('Tabel 4 F'!E10<5,'Tabel 4 Be'!E10<0.5),"-",IFERROR('Tabel 4 Be'!E10/'Tabel 4 F'!E10*100,"-")) -> 1.0656611 | F10: =IF(OR('Tabel 4 F'!F10<5,'Tabel 4 Be'!F10<0.5),"-",IFERROR('Tabel 4 Be'!F10/'Tabel 4 F'!F10*100,"-")) -> 2.3785322 | H10: =IF(OR('Tabel 4 F'!H10<5,'Tabel 4 Be'!H10<0.5),"-",IFERROR('Tabel 4 Be'!H10/'Tabel 4 F'!H10*100,"-")) -> 1.9647384
A11: Cand.Scient.Tech. | B11: =IF(OR('Tabel 4 F'!B11<5,'Tabel 4 Be'!B11<0.5),"-",IFERROR('Tabel 4 Be'!B11/'Tabel 4 F'!B11*100,"-")) -> 12.913223 | C11: =IF(OR('Tabel 4 F'!C11<5,'Tabel 4 Be'!C11<0.5),"-",IFERROR('Tabel 4 Be'!C11/'Tabel 4 F'!C11*100,"-")) -> 4.0326975 | D11: =IF(OR('Tabel 4 F'!D11<5,'Tabel 4 Be'!D11<0.5),"-",IFERROR('Tabel 4 Be'!D11/'Tabel 4 F'!D11*100,"-")) -> 2.5389498 | E11: =IF(OR('Tabel 4 F'!E11<5,'Tabel 4 Be'!E11<0.5),"-",IFERROR('Tabel 4 Be'!E11/'Tabel 4 F'!E11*100,"-")) -> 1.9093079 | F11: =IF(OR('Tabel 4 F'!F11<5,'Tabel 4 Be'!F11<0.5),"-",IFERROR('Tabel 4 Be'!F11/'Tabel 4 F'!F11*100,"-")) -> 3.6 | H11: =IF(OR('Tabel 4 F'!H11<5,'Tabel 4 Be'!H11<0.5),"-",IFERROR('Tabel 4 Be'!H11/'Tabel 4 F'!H11*100,"-")) -> 6.0346014
A12: MA. Hum. | B12: =IF(OR('Tabel 4 F'!B12<5,'Tabel 4 Be'!B12<0.5),"-",IFERROR('Tabel 4 Be'!B12/'Tabel 4 F'!B12*100,"-")) -> 18.80597 | C12: =IF(OR('Tabel 4 F'!C12<5,'Tabel 4 Be'!C12<0.5),"-",IFERROR('Tabel 4 Be'!C12/'Tabel 4 F'!C12*100,"-")) -> 7.9957638 | D12: =IF(OR('Tabel 4 F'!D12<5,'Tabel 4 Be'!D12<0.5),"-",IFERROR('Tabel 4 Be'!D12/'Tabel 4 F'!D12*100,"-")) -> 3.1896993 | E12: =IF(OR('Tabel 4 F'!E12<5,'Tabel 4 Be'!E12<0.5),"-",IFERROR('Tabel 4 Be'!E12/'Tabel 4 F'!E12*100,"-")) -> 3.5945787 | F12: =IF(OR('Tabel 4 F'!F12<5,'Tabel 4 Be'!F12<0.5),"-",IFERROR('Tabel 4 Be'!F12/'Tabel 4 F'!F12*100,"-")) -> 5.05341 | H12: =IF(OR('Tabel 4 F'!H12<5,'Tabel 4 Be'!H12<0.5),"-",IFERROR('Tabel 4 Be'!H12/'Tabel 4 F'!H12*100,"-")) -> 7.0536
A13: MA. Nat. | B13: =IF(OR('Tabel 4 F'!B13<5,'Tabel 4 Be'!B13<0.5),"-",IFERROR('Tabel 4 Be'!B13/'Tabel 4 F'!B13*100,"-")) -> 14.429791 | C13: =IF(OR('Tabel 4 F'!C13<5,'Tabel 4 Be'!C13<0.5),"-",IFERROR('Tabel 4 Be'!C13/'Tabel 4 F'!C13*100,"-")) -> 4.138357 | D13: =IF(OR('Tabel 4 F'!D13<5,'Tabel 4 Be'!D13<0.5),"-",IFERROR('Tabel 4 Be'!D13/'Tabel 4 F'!D13*100,"-")) -> 1.2074643 | E13: =IF(OR('Tabel 4 F'!E13<5,'Tabel 4 Be'!E13<0.5),"-",IFERROR('Tabel 4 Be'!E13/'Tabel 4 F'!E13*100,"-")) -> 1.0711735 | F13: =IF(OR('Tabel 4 F'!F13<5,'Tabel 4 Be'!F13<0.5),"-",IFERROR('Tabel 4 Be'!F13/'Tabel 4 F'!F13*100,"-")) -> 2.4518389 | H13: =IF(OR('Tabel 4 F'!H13<5,'Tabel 4 Be'!H13<0.5),"-",IFERROR('Tabel 4 Be'!H13/'Tabel 4 F'!H13*100,"-")) -> 3.0808216
A14: MA. Ph.d. | B14: =IF(OR('Tabel 4 F'!B14<5,'Tabel 4 Be'!B14<0.5),"-",IFERROR('Tabel 4 Be'!B14/'Tabel 4 F'!B14*100,"-")) -> 6.25 | C14: =IF(OR('Tabel 4 F'!C14<5,'Tabel 4 Be'!C14<0.5),"-",IFERROR('Tabel 4 Be'!C14/'Tabel 4 F'!C14*100,"-")) -> 2.8657617 | D14: =IF(OR('Tabel 4 F'!D14<5,'Tabel 4 Be'!D14<0.5),"-",IFERROR('Tabel 4 Be'!D14/'Tabel 4 F'!D14*100,"-")) -> 2.4564995 | E14: =IF(OR('Tabel 4 F'!E14<5,'Tabel 4 Be'!E14<0.5),"-",IFERROR('Tabel 4 Be'!E14/'Tabel 4 F'!E14*100,"-")) -> 1.5647226 | F14: =IF(OR('Tabel 4 F'!F14<5,'Tabel 4 Be'!F14<0.5),"-",IFERROR('Tabel 4 Be'!F14/'Tabel 4 F'!F14*100,"-")) -> 6.25 | H14: =IF(OR('Tabel 4 F'!H14<5,'Tabel 4 Be'!H14<0.5),"-",IFERROR('Tabel 4 Be'!H14/'Tabel 4 F'!H14*100,"-")) -> 2.6490066
A15: MA. Samf. | B15: =IF(OR('Tabel 4 F'!B15<5,'Tabel 4 Be'!B15<0.5),"-",IFERROR('Tabel 4 Be'!B15/'Tabel 4 F'!B15*100,"-")) -> 19.859307 | C15: =IF(OR('Tabel 4 F'!C15<5,'Tabel 4 Be'!C15<0.5),"-",IFERROR('Tabel 4 Be'!C15/'Tabel 4 F'!C15*100,"-")) -> 7.27657 | D15: =IF(OR('Tabel 4 F'!D15<5,'Tabel 4 Be'!D15<0.5),"-",IFERROR('Tabel 4 Be'!D15/'Tabel 4 F'!D15*100,"-")) -> 4.5253863 | E15: =IF(OR('Tabel 4 F'!E15<5,'Tabel 4 Be'!E15<0.5),"-",IFERROR('Tabel 4 Be'!E15/'Tabel 4 F'!E15*100,"-")) -> 5.9241706 | F15: =IF(OR('Tabel 4 F'!F15<5,'Tabel 4 Be'!F15<0.5),"-",IFERROR('Tabel 4 Be'!F15/'Tabel 4 F'!F15*100,"-")) -> 2.1978022 | H15: =IF(OR('Tabel 4 F'!H15<5,'Tabel 4 Be'!H15<0.5),"-",IFERROR('Tabel 4 Be'!H15/'Tabel 4 F'!H15*100,"-")) -> 10.275118
A16: Øvrige Mag. | B16: =IF(OR('Tabel 4 F'!B16<5,'Tabel 4 Be'!B16<0.5),"-",IFERROR('Tabel 4 Be'!B16/'Tabel 4 F'!B16*100,"-")) -> 16.753382 | C16: =IF(OR('Tabel 4 F'!C16<5,'Tabel 4 Be'!C16<0.5),"-",IFERROR('Tabel 4 Be'!C16/'Tabel 4 F'!C16*100,"-")) -> 10.438909 | D16: =IF(OR('Tabel 4 F'!D16<5,'Tabel 4 Be'!D16<0.5),"-",IFERROR('Tabel 4 Be'!D16/'Tabel 4 F'!D16*100,"-")) -> 3.8961039 | E16: =IF(OR('Tabel 4 F'!E16<5,'Tabel 4 Be'!E16<0.5),"-",IFERROR('Tabel 4 Be'!E16/'Tabel 4 F'!E16*100,"-")) -> 2.9252438 | F16: =IF(OR('Tabel 4 F'!F16<5,'Tabel 4 Be'!F16<0.5),"-",IFERROR('Tabel 4 Be'!F16/'Tabel 4 F'!F16*100,"-")) -> 3.0379747 | H16: =IF(OR('Tabel 4 F'!H16<5,'Tabel 4 Be'!H16<0.5),"-",IFERROR('Tabel 4 Be'!H16/'Tabel 4 F'!H16*100,"-")) -> 8.007909
A17: Agronom | B17: =IF(OR('Tabel 4 F'!B17<5,'Tabel 4 Be'!B17<0.5),"-",IFERROR('Tabel 4 Be'!B17/'Tabel 4 F'!B17*100,"-")) -> 8.6021505 | C17: =IF(OR('Tabel 4 F'!C17<5,'Tabel 4 Be'!C17<0.5),"-",IFERROR('Tabel 4 Be'!C17/'Tabel 4 F'!C17*100,"-")) -> 4.4117647 | D17: =IF(OR('Tabel 4 F'!D17<5,'Tabel 4 Be'!D17<0.5),"-",IFERROR('Tabel 4 Be'!D17/'Tabel 4 F'!D17*100,"-")) -> 1.509434 | E17: =IF(OR('Tabel 4 F'!E17<5,'Tabel 4 Be'!E17<0.5),"-",IFERROR('Tabel 4 Be'!E17/'Tabel 4 F'!E17*100,"-")) -> 0.58754407 | F17: =IF(OR('Tabel 4 F'!F17<5,'Tabel 4 Be'!F17<0.5),"-",IFERROR('Tabel 4 Be'!F17/'Tabel 4 F'!F17*100,"-")) -> 2.8384279 | H17: =IF(OR('Tabel 4 F'!H17<5,'Tabel 4 Be'!H17<0.5),"-",IFERROR('Tabel 4 Be'!H17/'Tabel 4 F'!H17*100,"-")) -> 2.410148
A18: Landsk. Arkt. | B18: =IF(OR('Tabel 4 F'!B18<5,'Tabel 4 Be'!B18<0.5),"-",IFERROR('Tabel 4 Be'!B18/'Tabel 4 F'!B18*100,"-")) -> 13.793103 | C18: =IF(OR('Tabel 4 F'!C18<5,'Tabel 4 Be'!C18<0.5),"-",IFERROR('Tabel 4 Be'!C18/'Tabel 4 F'!C18*100,"-")) -> 4.7619048 | D18: =IF(OR('Tabel 4 F'!D18<5,'Tabel 4 Be'!D18<0.5),"-",IFERROR('Tabel 4 Be'!D18/'Tabel 4 F'!D18*100,"-")) -> 2.3474178 | E18: =IF(OR('Tabel 4 F'!E18<5,'Tabel 4 Be'!E18<0.5),"-",IFERROR('Tabel 4 Be'!E18/'Tabel 4 F'!E18*100,"-")) -> - | F18: =IF(OR('Tabel 4 F'!F18<5,'Tabel 4 Be'!F18<0.5),"-",IFERROR('Tabel 4 Be'!F18/'Tabel 4 F'!F18*100,"-")) -> - | H18: =IF(OR('Tabel 4 F'!H18<5,'Tabel 4 Be'!H18<0.5),"-",IFERROR('Tabel 4 Be'!H18/'Tabel 4 F'!H18*100,"-")) -> 3.4387895
A19: Hortonom | B19: =IF(OR('Tabel 4 F'!B19<5,'Tabel 4 Be'!B19<0.5),"-",IFERROR('Tabel 4 Be'!B19/'Tabel 4 F'!B19*100,"-")) -> - | C19: =IF(OR('Tabel 4 F'!C19<5,'Tabel 4 Be'!C19<0.5),"-",IFERROR('Tabel 4 Be'!C19/'Tabel 4 F'!C19*100,"-")) -> 5 | D19: =IF(OR('Tabel 4 F'!D19<5,'Tabel 4 Be'!D19<0.5),"-",IFERROR('Tabel 4 Be'!D19/'Tabel 4 F'!D19*100,"-")) -> - | E19: =IF(OR('Tabel 4 F'!E19<5,'Tabel 4 Be'!E19<0.5),"-",IFERROR('Tabel 4 Be'!E19/'Tabel 4 F'!E19*100,"-")) -> 1.5625 | F19: =IF(OR('Tabel 4 F'!F19<5,'Tabel 4 Be'!F19<0.5),"-",IFERROR('Tabel 4 Be'!F19/'Tabel 4 F'!F19*100,"-")) -> 2.5974026 | H19: =IF(OR('Tabel 4 F'!H19<5,'Tabel 4 Be'!H19<0.5),"-",IFERROR('Tabel 4 Be'!H19/'Tabel 4 F'!H19*100,"-")) -> 2.0689655
A20: Forstkand. | B20: =IF(OR('Tabel 4 F'!B20<5,'Tabel 4 Be'!B20<0.5),"-",IFERROR('Tabel 4 Be'!B20/'Tabel 4 F'!B20*100,"-")) -> 7.4074074 | C20: =IF(OR('Tabel 4 F'!C20<5,'Tabel 4 Be'!C20<0.5),"-",IFERROR('Tabel 4 Be'!C20/'Tabel 4 F'!C20*100,"-")) -> 3.6585366 | D20: =IF(OR('Tabel 4 F'!D20<5,'Tabel 4 Be'!D20<0.5),"-",IFERROR('Tabel 4 Be'!D20/'Tabel 4 F'!D20*100,"-")) -> 1.5706806 | E20: =IF(OR('Tabel 4 F'!E20<5,'Tabel 4 Be'!E20<0.5),"-",IFERROR('Tabel 4 Be'!E20/'Tabel 4 F'!E20*100,"-")) -> 1.5503876 | F20: =IF(OR('Tabel 4 F'!F20<5,'Tabel 4 Be'!F20<0.5),"-",IFERROR('Tabel 4 Be'!F20/'Tabel 4 F'!F20*100,"-")) -> 3.8461538 | H20: =IF(OR('Tabel 4 F'!H20<5,'Tabel 4 Be'!H20<0.5),"-",IFERROR('Tabel 4 Be'!H20/'Tabel 4 F'!H20*100,"-")) -> 2.5641026
... A46: Andre | B46: =IF(OR('Tabel 4 F'!B46<5,'Tabel 4 Be'!B46<0.5),"-",IFERROR('Tabel 4 Be'!B46/'Tabel 4 F'!B46*100,"-")) -> 13.636364 | C46: =IF(OR('Tabel 4 F'!C46<5,'Tabel 4 Be'!C46<0.5),"-",IFERROR('Tabel 4 Be'!C46/'Tabel 4 F'!C46*100,"-")) -> 4.6871617 | D46: =IF(OR('Tabel 4 F'!D46<5,'Tabel 4 Be'!D46<0.5),"-",IFERROR('Tabel 4 Be'!D46/'Tabel 4 F'!D46*100,"-")) -> 3.6619306 | E46: =IF(OR('Tabel 4 F'!E46<5,'Tabel 4 Be'!E46<0.5),"-",IFERROR('Tabel 4 Be'!E46/'Tabel 4 F'!E46*100,"-")) -> 4.594069 | F46: =IF(OR('Tabel 4 F'!F46<5,'Tabel 4 Be'!F46<0.5),"-",IFERROR('Tabel 4 Be'!F46/'Tabel 4 F'!F46*100,"-")) -> 6.6009852 | H46: =IF(OR('Tabel 4 F'!H46<5,'Tabel 4 Be'!H46<0.5),"-",IFERROR('Tabel 4 Be'!H46/'Tabel 4 F'!H46*100,"-")) -> 5.7486057
A48: Total | B48: =IF(OR('Tabel 4 F'!B48<5,'Tabel 4 Be'!B48<0.5),"-",IFERROR('Tabel 4 Be'!B48/'Tabel 4 F'!B48*100,"-")) -> 12.142675 | C48: =IF(OR('Tabel 4 F'!C48<5,'Tabel 4 Be'!C48<0.5),"-",IFERROR('Tabel 4 Be'!C48/'Tabel 4 F'!C48*100,"-")) -> 3.8838475 | D48: =IF(OR('Tabel 4 F'!D48<5,'Tabel 4 Be'!D48<0.5),"-",IFERROR('Tabel 4 Be'!D48/'Tabel 4 F'!D48*100,"-")) -> 2.0468189 | E48: =IF(OR('Tabel 4 F'!E48<5,'Tabel 4 Be'!E48<0.5),"-",IFERROR('Tabel 4 Be'!E48/'Tabel 4 F'!E48*100,"-")) -> 1.9041552 | F48: =IF(OR('Tabel 4 F'!F48<5,'Tabel 4 Be'!F48<0.5),"-",IFERROR('Tabel 4 Be'!F48/'Tabel 4 F'!F48*100,"-")) -> 3.362777 | H48: =IF(OR('Tabel 4 F'!H48<5,'Tabel 4 Be'!H48<0.5),"-",IFERROR('Tabel 4 Be'!H48/'Tabel 4 F'!H48*100,"-")) -> 4.4868547 | J48: 4.8601058 | K48: 4.8306844
A50: Ingeniører i alt | B50: =IF(OR('Tabel 4 F'!B50<5,'Tabel 4 Be'!B50<0.5),"-",IFERROR('Tabel 4 Be'!B50/'Tabel 4 F'!B50*100,"-")) -> 8.7601483 | C50: =IF(OR('Tabel 4 F'!C50<5,'Tabel 4 Be'!C50<0.5),"-",IFERROR('Tabel 4 Be'!C50/'Tabel 4 F'!C50*100,"-")) -> 1.8314387 | D50: =IF(OR('Tabel 4 F'!D50<5,'Tabel 4 Be'!D50<0.5),"-",IFERROR('Tabel 4 Be'!D50/'Tabel 4 F'!D50*100,"-")) -> 0.88599752 | E50: =IF(OR('Tabel 4 F'!E50<5,'Tabel 4 Be'!E50<0.5),"-",IFERROR('Tabel 4 Be'!E50/'Tabel 4 F'!E50*100,"-")) -> 0.99707663 | F50: =IF(OR('Tabel 4 F'!F50<5,'Tabel 4 Be'!F50<0.5),"-",IFERROR('Tabel 4 Be'!F50/'Tabel 4 F'!F50*100,"-")) -> 2.1355745 | H50: =IF(OR('Tabel 4 F'!H50<5,'Tabel 4 Be'!H50<0.5),"-",IFERROR('Tabel 4 Be'!H50/'Tabel 4 F'!H50*100,"-")) -> 2.4046091
A51: Magistre i alt | B51: =IF(OR('Tabel 4 F'!B51<5,'Tabel 4 Be'!B51<0.5),"-",IFERROR('Tabel 4 Be'!B51/'Tabel 4 F'!B51*100,"-")) -> 18.188295 | C51: =IF(OR('Tabel 4 F'!C51<5,'Tabel 4 Be'!C51<0.5),"-",IFERROR('Tabel 4 Be'!C51/'Tabel 4 F'!C51*100,"-")) -> 7.2958038 | D51: =IF(OR('Tabel 4 F'!D51<5,'Tabel 4 Be'!D51<0.5),"-",IFERROR('Tabel 4 Be'!D51/'Tabel 4 F'!D51*100,"-")) -> 2.8148923 | E51: =IF(OR('Tabel 4 F'!E51<5,'Tabel 4 Be'!E51<0.5),"-",IFERROR('Tabel 4 Be'!E51/'Tabel 4 F'!E51*100,"-")) -> 2.7000077 | F51: =IF(OR('Tabel 4 F'!F51<5,'Tabel 4 Be'!F51<0.5),"-",IFERROR('Tabel 4 Be'!F51/'Tabel 4 F'!F51*100,"-")) -> 3.9585492 | H51: =IF(OR('Tabel 4 F'!H51<5,'Tabel 4 Be'!H51<0.5),"-",IFERROR('Tabel 4 Be'!H51/'Tabel 4 F'!H51*100,"-")) -> 6.4160708
A52: DJØF'ere i alt | B52: =IF(OR('Tabel 4 F'!B52<5,'Tabel 4 Be'!B52<0.5),"-",IFERROR('Tabel 4 Be'!B52/'Tabel 4 F'!B52*100,"-")) -> 9.4876473 | C52: =IF(OR('Tabel 4 F'!C52<5,'Tabel 4 Be'!C52<0.5),"-",IFERROR('Tabel 4 Be'!C52/'Tabel 4 F'!C52*100,"-")) -> 2.6059518 | D52: =IF(OR('Tabel 4 F'!D52<5,'Tabel 4 Be'!D52<0.5),"-",IFERROR('Tabel 4 Be'!D52/'Tabel 4 F'!D52*100,"-")) -> 1.658819 | E52: =IF(OR('Tabel 4 F'!E52<5,'Tabel 4 Be'!E52<0.5),"-",IFERROR('Tabel 4 Be'!E52/'Tabel 4 F'!E52*100,"-")) -> 1.6636384 | F52: =IF(OR('Tabel 4 F'!F52<5,'Tabel 4 Be'!F52<0.5),"-",IFERROR('Tabel 4 Be'!F52/'Tabel 4 F'!F52*100,"-")) -> 4.0133779 | H52: =IF(OR('Tabel 4 F'!H52<5,'Tabel 4 Be'!H52<0.5),"-",IFERROR('Tabel 4 Be'!H52/'Tabel 4 F'!H52*100,"-")) -> 3.6543515
A53: Se sidste del af statistikken for en oversigt over uddannelsesgrupperingernes indhold

Sheet Tabel 4 p (Br)
A1: Landstatistik
A3: Tabel 4.2 Bruttoledighedsprocenten målt i fuldtidspersoner - aldersfordelt
B7: Under 30 år | C7: 30 - 39 år | D7: 40 - 49 år | E7: 50 - 59 år | F7: Over 60 år | H7: I alt
A9: Civ. Ing. | B9: =IF(OR('Tabel 4 F'!B9<5,'Tabel 4.1 Br'!B9<0.5),"-",IFERROR('Tabel 4.1 Br'!B9/'Tabel 4 F'!B9*100,"-")) -> 5.5082745 | C9: =IF(OR('Tabel 4 F'!C9<5,'Tabel 4.1 Br'!C9<0.5),"-",IFERROR('Tabel 4.1 Br'!C9/'Tabel 4 F'!C9*100,"-")) -> 1.3861122 | D9: =IF(OR('Tabel 4 F'!D9<5,'Tabel 4.1 Br'!D9<0.5),"-",IFERROR('Tabel 4.1 Br'!D9/'Tabel 4 F'!D9*100,"-")) -> 0.75396665 | E9: =IF(OR('Tabel 4 F'!E9<5,'Tabel 4.1 Br'!E9<0.5),"-",IFERROR('Tabel 4.1 Br'!E9/'Tabel 4 F'!E9*100,"-")) -> 0.78200431 | F9: =IF(OR('Tabel 4 F'!F9<5,'Tabel 4.1 Br'!F9<0.5),"-",IFERROR('Tabel 4.1 Br'!F9/'Tabel 4 F'!F9*100,"-")) -> 1.4400077 | H9: =IF(OR('Tabel 4 F'!H9<5,'Tabel 4.1 Br'!H9<0.5),"-",IFERROR('Tabel 4.1 Br'!H9/'Tabel 4 F'!H9*100,"-")) -> 1.8834957
A10: Diplom Ing. | B10: =IF(OR('Tabel 4 F'!B10<5,'Tabel 4.1 Br'!B10<0.5),"-",IFERROR('Tabel 4.1 Br'!B10/'Tabel 4 F'!B10*100,"-")) -> 5.0881089 | C10: =IF(OR('Tabel 4 F'!C10<5,'Tabel 4.1 Br'!C10<0.5),"-",IFERROR('Tabel 4.1 Br'!C10/'Tabel 4 F'!C10*100,"-")) -> 1.7149307 | D10: =IF(OR('Tabel 4 F'!D10<5,'Tabel 4.1 Br'!D10<0.5),"-",IFERROR('Tabel 4.1 Br'!D10/'Tabel 4 F'!D10*100,"-")) -> 0.76537826 | E10: =IF(OR('Tabel 4 F'!E10<5,'Tabel 4.1 Br'!E10<0.5),"-",IFERROR('Tabel 4.1 Br'!E10/'Tabel 4 F'!E10*100,"-")) -> 0.9024393 | F10: =IF(OR('Tabel 4 F'!F10<5,'Tabel 4.1 Br'!F10<0.5),"-",IFERROR('Tabel 4.1 Br'!F10/'Tabel 4 F'!F10*100,"-")) -> 2.0547678 | H10: =IF(OR('Tabel 4 F'!H10<5,'Tabel 4.1 Br'!H10<0.5),"-",IFERROR('Tabel 4.1 Br'!H10/'Tabel 4 F'!H10*100,"-")) -> 1.5974988
A11: Cand.Scient.Tech. | B11: =IF(OR('Tabel 4 F'!B11<5,'Tabel 4.1 Br'!B11<0.5),"-",IFERROR('Tabel 4.1 Br'!B11/'Tabel 4 F'!B11*100,"-")) -> 8.5033812 | C11: =IF(OR('Tabel 4 F'!C11<5,'Tabel 4.1 Br'!C11<0.5),"-",IFERROR('Tabel 4.1 Br'!C11/'Tabel 4 F'!C11*100,"-")) -> 3.2902847 | D11: =IF(OR('Tabel 4 F'!D11<5,'Tabel 4.1 Br'!D11<0.5),"-",IFERROR('Tabel 4.1 Br'!D11/'Tabel 4 F'!D11*100,"-")) -> 2.1119524 | E11: =IF(OR('Tabel 4 F'!E11<5,'Tabel 4.1 Br'!E11<0.5),"-",IFERROR('Tabel 4.1 Br'!E11/'Tabel 4 F'!E11*100,"-")) -> 1.5289173 | F11: =IF(OR('Tabel 4 F'!F11<5,'Tabel 4.1 Br'!F11<0.5),"-",IFERROR('Tabel 4.1 Br'!F11/'Tabel 4 F'!F11*100,"-")) -> 2.838644 | H11: =IF(OR('Tabel 4 F'!H11<5,'Tabel 4.1 Br'!H11<0.5),"-",IFERROR('Tabel 4.1 Br'!H11/'Tabel 4 F'!H11*100,"-")) -> 4.3855357
A12: MA. Hum. | B12: =IF(OR('Tabel 4 F'!B12<5,'Tabel 4.1 Br'!B12<0.5),"-",IFERROR('Tabel 4.1 Br'!B12/'Tabel 4 F'!B12*100,"-")) -> 13.095532 | C12: =IF(OR('Tabel 4 F'!C12<5,'Tabel 4.1 Br'!C12<0.5),"-",IFERROR('Tabel 4.1 Br'!C12/'Tabel 4 F'!C12*100,"-")) -> 6.4089503 | D12: =IF(OR('Tabel 4 F'!D12<5,'Tabel 4.1 Br'!D12<0.5),"-",IFERROR('Tabel 4.1 Br'!D12/'Tabel 4 F'!D12*100,"-")) -> 2.569847 | E12: =IF(OR('Tabel 4 F'!E12<5,'Tabel 4.1 Br'!E12<0.5),"-",IFERROR('Tabel 4.1 Br'!E12/'Tabel 4 F'!E12*100,"-")) -> 2.8547761 | F12: =IF(OR('Tabel 4 F'!F12<5,'Tabel 4.1 Br'!F12<0.5),"-",IFERROR('Tabel 4.1 Br'!F12/'Tabel 4 F'!F12*100,"-")) -> 4.200765 | H12: =IF(OR('Tabel 4 F'!H12<5,'Tabel 4.1 Br'!H12<0.5),"-",IFERROR('Tabel 4.1 Br'!H12/'Tabel 4 F'!H12*100,"-")) -> 5.4043026
A13: MA. Nat. | B13: =IF(OR('Tabel 4 F'!B13<5,'Tabel 4.1 Br'!B13<0.5),"-",IFERROR('Tabel 4.1 Br'!B13/'Tabel 4 F'!B13*100,"-")) -> 9.0063468 | C13: =IF(OR('Tabel 4 F'!C13<5,'Tabel 4.1 Br'!C13<0.5),"-",IFERROR('Tabel 4.1 Br'!C13/'Tabel 4 F'!C13*100,"-")) -> 3.2719345 | D13: =IF(OR('Tabel 4 F'!D13<5,'Tabel 4.1 Br'!D13<0.5),"-",IFERROR('Tabel 4.1 Br'!D13/'Tabel 4 F'!D13*100,"-")) -> 0.89538156 | E13: =IF(OR('Tabel 4 F'!E13<5,'Tabel 4.1 Br'!E13<0.5),"-",IFERROR('Tabel 4.1 Br'!E13/'Tabel 4 F'!E13*100,"-")) -> 0.91998119 | F13: =IF(OR('Tabel 4 F'!F13<5,'Tabel 4.1 Br'!F13<0.5),"-",IFERROR('Tabel 4.1 Br'!F13/'Tabel 4 F'!F13*100,"-")) -> 1.8787507 | H13: =IF(OR('Tabel 4 F'!H13<5,'Tabel 4.1 Br'!H13<0.5),"-",IFERROR('Tabel 4.1 Br'!H13/'Tabel 4 F'!H13*100,"-")) -> 2.2249473
A14: MA. Ph.d. | B14: =IF(OR('Tabel 4 F'!B14<5,'Tabel 4.1 Br'!B14<0.5),"-",IFERROR('Tabel 4.1 Br'!B14/'Tabel 4 F'!B14*100,"-")) -> 5.6719063 | C14: =IF(OR('Tabel 4 F'!C14<5,'Tabel 4.1 Br'!C14<0.5),"-",IFERROR('Tabel 4.1 Br'!C14/'Tabel 4 F'!C14*100,"-")) -> 2.2536471 | D14: =IF(OR('Tabel 4 F'!D14<5,'Tabel 4.1 Br'!D14<0.5),"-",IFERROR('Tabel 4.1 Br'!D14/'Tabel 4 F'!D14*100,"-")) -> 1.9051668 | E14: =IF(OR('Tabel 4 F'!E14<5,'Tabel 4.1 Br'!E14<0.5),"-",IFERROR('Tabel 4.1 Br'!E14/'Tabel 4 F'!E14*100,"-")) -> 1.0897681 | F14: =IF(OR('Tabel 4 F'!F14<5,'Tabel 4.1 Br'!F14<0.5),"-",IFERROR('Tabel 4.1 Br'!F14/'Tabel 4 F'!F14*100,"-")) -> 5.109901 | H14: =IF(OR('Tabel 4 F'!H14<5,'Tabel 4.1 Br'!H14<0.5),"-",IFERROR('Tabel 4.1 Br'!H14/'Tabel 4 F'!H14*100,"-")) -> 2.0585216
A15: MA. Samf. | B15: =IF(OR('Tabel 4 F'!B15<5,'Tabel 4.1 Br'!B15<0.5),"-",IFERROR('Tabel 4.1 Br'!B15/'Tabel 4 F'!B15*100,"-")) -> 12.794701 | C15: =IF(OR('Tabel 4 F'!C15<5,'Tabel 4.1 Br'!C15<0.5),"-",IFERROR('Tabel 4.1 Br'!C15/'Tabel 4 F'!C15*100,"-")) -> 5.938631 | D15: =IF(OR('Tabel 4 F'!D15<5,'Tabel 4.1 Br'!D15<0.5),"-",IFERROR('Tabel 4.1 Br'!D15/'Tabel 4 F'!D15*100,"-")) -> 3.5424316 | E15: =IF(OR('Tabel 4 F'!E15<5,'Tabel 4.1 Br'!E15<0.5),"-",IFERROR('Tabel 4.1 Br'!E15/'Tabel 4 F'!E15*100,"-")) -> 4.7046043 | F15: =IF(OR('Tabel 4 F'!F15<5,'Tabel 4.1 Br'!F15<0.5),"-",IFERROR('Tabel 4.1 Br'!F15/'Tabel 4 F'!F15*100,"-")) -> 2.1973956 | H15: =IF(OR('Tabel 4 F'!H15<5,'Tabel 4.1 Br'!H15<0.5),"-",IFERROR('Tabel 4.1 Br'!H15/'Tabel 4 F'!H15*100,"-")) -> 7.4035724
A16: Øvrige Mag. | B16: =IF(OR('Tabel 4 F'!B16<5,'Tabel 4.1 Br'!B16<0.5),"-",IFERROR('Tabel 4.1 Br'!B16/'Tabel 4 F'!B16*100,"-")) -> 11.441412 | C16: =IF(OR('Tabel 4 F'!C16<5,'Tabel 4.1 Br'!C16<0.5),"-",IFERROR('Tabel 4.1 Br'!C16/'Tabel 4 F'!C16*100,"-")) -> 8.1105706 | D16: =IF(OR('Tabel 4 F'!D16<5,'Tabel 4.1 Br'!D16<0.5),"-",IFERROR('Tabel 4.1 Br'!D16/'Tabel 4 F'!D16*100,"-")) -> 3.1629838 | E16: =IF(OR('Tabel 4 F'!E16<5,'Tabel 4.1 Br'!E16<0.5),"-",IFERROR('Tabel 4.1 Br'!E16/'Tabel 4 F'!E16*100,"-")) -> 2.358286 | F16: =IF(OR('Tabel 4 F'!F16<5,'Tabel 4.1 Br'!F16<0.5),"-",IFERROR('Tabel 4.1 Br'!F16/'Tabel 4 F'!F16*100,"-")) -> 2.0615696 | H16: =IF(OR('Tabel 4 F'!H16<5,'Tabel 4.1 Br'!H16<0.5),"-",IFERROR('Tabel 4.1 Br'!H16/'Tabel 4 F'!H16*100,"-")) -> 5.8690121
A17: Agronom | B17: =IF(OR('Tabel 4 F'!B17<5,'Tabel 4.1 Br'!B17<0.5),"-",IFERROR('Tabel 4.1 Br'!B17/'Tabel 4 F'!B17*100,"-")) -> 4.8837419 | C17: =IF(OR('Tabel 4 F'!C17<5,'Tabel 4.1 Br'!C17<0.5),"-",IFERROR('Tabel 4.1 Br'!C17/'Tabel 4 F'!C17*100,"-")) -> 3.6793588 | D17: =IF(OR('Tabel 4 F'!D17<5,'Tabel 4.1 Br'!D17<0.5),"-",IFERROR('Tabel 4.1 Br'!D17/'Tabel 4 F'!D17*100,"-")) -> 1.4966774 | E17: =IF(OR('Tabel 4 F'!E17<5,'Tabel 4.1 Br'!E17<0.5),"-",IFERROR('Tabel 4.1 Br'!E17/'Tabel 4 F'!E17*100,"-")) -> 0.49559929 | F17: =IF(OR('Tabel 4 F'!F17<5,'Tabel 4.1 Br'!F17<0.5),"-",IFERROR('Tabel 4.1 Br'!F17/'Tabel 4 F'!F17*100,"-")) -> 2.3872707 | H17: =IF(OR('Tabel 4 F'!H17<5,'Tabel 4.1 Br'!H17<0.5),"-",IFERROR('Tabel 4.1 Br'!H17/'Tabel 4 F'!H17*100,"-")) -> 1.8891002
A18: Landsk. Arkt. | B18: =IF(OR('Tabel 4 F'!B18<5,'Tabel 4.1 Br'!B18<0.5),"-",IFERROR('Tabel 4.1 Br'!B18/'Tabel 4 F'!B18*100,"-")) -> 9.7686379 | C18: =IF(OR('Tabel 4 F'!C18<5,'Tabel 4.1 Br'!C18<0.5),"-",IFERROR('Tabel 4.1 Br'!C18/'Tabel 4 F'!C18*100,"-")) -> 4.2219484 | D18: =IF(OR('Tabel 4 F'!D18<5,'Tabel 4.1 Br'!D18<0.5),"-",IFERROR('Tabel 4.1 Br'!D18/'Tabel 4 F'!D18*100,"-")) -> 1.1285399 | E18: =IF(OR('Tabel 4 F'!E18<5,'Tabel 4.1 Br'!E18<0.5),"-",IFERROR('Tabel 4.1 Br'!E18/'Tabel 4 F'!E18*100,"-")) -> - | F18: =IF(OR('Tabel 4 F'!F18<5,'Tabel 4.1 Br'!F18<0.5),"-",IFERROR('Tabel 4.1 Br'!F18/'Tabel 4 F'!F18*100,"-")) -> - | H18: =IF(OR('Tabel 4 F'!H18<5,'Tabel 4.1 Br'!H18<0.5),"-",IFERROR('Tabel 4.1 Br'!H18/'Tabel 4 F'!H18*100,"-")) -> 2.5734402
A19: Hortonom | B19: =IF(OR('Tabel 4 F'!B19<5,'Tabel 4.1 Br'!B19<0.5),"-",IFERROR('Tabel 4.1 Br'!B19/'Tabel 4 F'!B19*100,"-")) -> - | C19: =IF(OR('Tabel 4 F'!C19<5,'Tabel 4.1 Br'!C19<0.5),"-",IFERROR('Tabel 4.1 Br'!C19/'Tabel 4 F'!C19*100,"-")) -> 4.7184 | D19: =IF(OR('Tabel 4 F'!D19<5,'Tabel 4.1 Br'!D19<0.5),"-",IFERROR('Tabel 4.1 Br'!D19/'Tabel 4 F'!D19*100,"-")) -> - | E19: =IF(OR('Tabel 4 F'!E19<5,'Tabel 4.1 Br'!E19<0.5),"-",IFERROR('Tabel 4.1 Br'!E19/'Tabel 4 F'!E19*100,"-")) -> 1.010125 | F19: =IF(OR('Tabel 4 F'!F19<5,'Tabel 4.1 Br'!F19<0.5),"-",IFERROR('Tabel 4.1 Br'!F19/'Tabel 4 F'!F19*100,"-")) -> 2.0428701 | H19: =IF(OR('Tabel 4 F'!H19<5,'Tabel 4.1 Br'!H19<0.5),"-",IFERROR('Tabel 4.1 Br'!H19/'Tabel 4 F'!H19*100,"-")) -> 1.3719586
A20: Forstkand. | B20: =IF(OR('Tabel 4 F'!B20<5,'Tabel 4.1 Br'!B20<0.5),"-",IFERROR('Tabel 4.1 Br'!B20/'Tabel 4 F'!B20*100,"-")) -> 5.922963 | C20: =IF(OR('Tabel 4 F'!C20<5,'Tabel 4.1 Br'!C20<0.5),"-",IFERROR('Tabel 4.1 Br'!C20/'Tabel 4 F'!C20*100,"-")) -> 2.4712805 | D20: =IF(OR('Tabel 4 F'!D20<5,'Tabel 4.1 Br'!D20<0.5),"-",IFERROR('Tabel 4.1 Br'!D20/'Tabel 4 F'!D20*100,"-")) -> 1.5191204 | E20: =IF(OR('Tabel 4 F'!E20<5,'Tabel 4.1 Br'!E20<0.5),"-",IFERROR('Tabel 4.1 Br'!E20/'Tabel 4 F'!E20*100,"-")) -> 1.5501008 | F20: =IF(OR('Tabel 4 F'!F20<5,'Tabel 4.1 Br'!F20<0.5),"-",IFERROR('Tabel 4.1 Br'!F20/'Tabel 4 F'!F20*100,"-")) -> 3.8454359 | H20: =IF(OR('Tabel 4 F'!H20<5,'Tabel 4.1 Br'!H20<0.5),"-",IFERROR('Tabel 4.1 Br'!H20/'Tabel 4 F'!H20*100,"-")) -> 2.2734201
... A52: DJØF'ere i alt | B52: =IF(OR('Tabel 4 F'!B52<5,'Tabel 4.1 Br'!B52<0.5),"-",IFERROR('Tabel 4.1 Br'!B52/'Tabel 4 F'!B52*100,"-")) -> 5.4205413 | C52: =IF(OR('Tabel 4 F'!C52<5,'Tabel 4.1 Br'!C52<0.5),"-",IFERROR('Tabel 4.1 Br'!C52/'Tabel 4 F'!C52*100,"-")) -> 2.1704357 | D52: =IF(OR('Tabel 4 F'!D52<5,'Tabel 4.1 Br'!D52<0.5),"-",IFERROR('Tabel 4.1 Br'!D52/'Tabel 4 F'!D52*100,"-")) -> 1.42319 | E52: =IF(OR('Tabel 4 F'!E52<5,'Tabel 4.1 Br'!E52<0.5),"-",IFERROR('Tabel 4.1 Br'!E52/'Tabel 4 F'!E52*100,"-")) -> 1.4040922 | F52: =IF(OR('Tabel 4 F'!F52<5,'Tabel 4.1 Br'!F52<0.5),"-",IFERROR('Tabel 4.1 Br'!F52/'Tabel 4 F'!F52*100,"-")) -> 3.5136412 | H52: =IF(OR('Tabel 4 F'!H52<5,'Tabel 4.1 Br'!H52<0.5),"-",IFERROR('Tabel 4.1 Br'!H52/'Tabel 4 F'!H52*100,"-")) -> 2.5698623
A53: Ledighedsprocenten er ikke angivet, når antallet af observationer er mindre end 10
A54: Se sidste del af statistikken for en oversigt over uddannelsesgrupperingernes indhold

Sheet Tabel 5 F
A1: Landstatistik
A3: Tabel 5. Antal forsikrede medlemmer - fordelt på kandidatalder (år siden dimission)
B7: 0 - 1 år | C7: 1 - 2 år | D7: 2 - 4 år | E7: 5 - 9 år | F7: 10 - 14 år | G7: Over 15 år | H7: Uoplyst | J7: I alt
A9: Civ. Ing. | B9: 1932 | C9: 1944 | D9: 4314 | E9: 5780 | F9: 4513 | G9: 15491 | H9: 1263 | J9: =SUM(B9:H9) -> 35237
A10: Diplom Ing. | B10: 1098 | C10: 967 | D10: 2472 | E10: 2983 | F10: 2671 | G10: 23441 | H10: 1080 | J10: =SUM(B10:H10) -> 34712
A11: Cand.Scient.Tech. | B11: 1736 | C11: 1823 | D11: 4826 | E11: 5391 | F11: 2081 | G11: 2364 | H11: 3570 | J11: =SUM(B11:H11) -> 21791
A12: MA. Hum. | B12: 2035 | C12: 2467 | D12: 6477 | E12: 9841 | F12: 5611 | G12: 13994 | H12: 3269 | J12: =SUM(B12:H12) -> 43694
A13: MA. Nat. | B13: 523 | C13: 479 | D13: 1116 | E13: 2173 | F13: 1426 | G13: 8771 | H13: 508 | J13: =SUM(B13:H13) -> 14996
A14: MA. Ph.d. | B14: 42 | C14: 51 | D14: 217 | E14: 593 | F14: 493 | G14: 1061 | H14: 110 | J14: =SUM(B14:H14) -> 2567
A15: MA. Samf. | B15: 876 | C15: 729 | D15: 1644 | E15: 1682 | F15: 436 | G15: 755 | H15: 457 | J15: =SUM(B15:H15) -> 6579
A16: Øvrige Mag. | B16: 442 | C16: 303 | D16: 555 | E16: 565 | F16: 489 | G16: 1509 | H16: 183 | J16: =SUM(B16:H16) -> 4046
A17: Agronom | B17: 68 | C17: 96 | D17: 153 | E17: 131 | F17: 164 | G17: 1497 | H17: 256 | J17: =SUM(B17:H17) -> 2365
A18: Landsk. Arkt. | B18: 23 | C18: 34 | D18: 96 | E18: 146 | F18: 87 | G18: 291 | H18: 50 | J18: =SUM(B18:H18) -> 727
A19: Hortonom | B19: 3 | C19: 0 | D19: 2 | E19: 12 | F19: 17 | G19: 231 | H19: 25 | J19: =SUM(B19:H19) -> 290
A20: Forstkand. | B20: 9 | C20: 18 | D20: 42 | E20: 33 | F20: 44 | G20: 313 | H20: 48 | J20: =SUM(B20:H20) -> 507
... A46: Andre | B46: 1738 | C46: 1425 | D46: 3074 | E46: 4219 | F46: 3520 | G46: 6934 | H46: 4731 | J46: =SUM(B46:H46) -> 25641
A48: Total | B48: =SUM(B9:B46)-SUM(B17:B20) -> 22892 | C48: =SUM(C9:C46)-SUM(C17:C20) -> 21508 | D48: =SUM(D9:D46)-SUM(D17:D20) -> 52888 | E48: =SUM(E9:E46)-SUM(E17:E20) -> 68508 | F48: =SUM(F9:F46)-SUM(F17:F20) -> 42313 | G48: =SUM(G9:G46)-SUM(G17:G20) -> 134525 | H48: =SUM(H9:H46)-SUM(H17:H20) -> 38301 | I48: =SUM(I9:I46)-SUM(I17:I20) -> 0 | J48: =SUM(J9:J46)-SUM(J17:J20) -> 380935 | K48: 4.8306844
A50: Ingeniører i alt | B50: 3030 | C50: 2911 | D50: 6786 | E50: 8763 | F50: 7184 | G50: 38932 | H50: 2343 | J50: =SUM(B50:H50) -> 69949
A51: Magistre i alt | B51: 3918 | C51: 4029 | D51: 10009 | E51: 14854 | F51: 8455 | G51: 26090 | H51: 4527 | J51: =SUM(B51:H51) -> 71882
A52: DJØF'ere i alt | B52: 5496 | C52: 5594 | D52: 15195 | E52: 20088 | F52: 11748 | G52: 31263 | H52: 12604 | J52: =SUM(B52:H52) -> 101988
A53: Se sidste del af statistikken for en oversigt over uddannelsesgrupperingernes indhold

Sheet Tabel 5 Be
A1: Landstatistik
A3: Tabel 5. Antal bruttoledige målt i berørte medlemmer - fordelt på kandidatalder (år siden dimission)
B7: 0 - 1 år | C7: 1 - 2 år | D7: 2 - 4 år | E7: 5 - 9 år | F7: 10 - 14 år | G7: Over 15 år | H7: Uoplyst | J7: I alt
A9: Civ. Ing. | B9: 564 | C9: 77 | D9: 92 | E9: 76 | F9: 39 | G9: 127 | H9: 25 | J9: =SUM(B9:H9) -> 1000
A10: Diplom Ing. | B10: 222 | C10: 48 | D10: 58 | E10: 41 | F10: 23 | G10: 275 | H10: 15 | J10: =SUM(B10:H10) -> 682
A11: Cand.Scient.Tech. | B11: 590 | C11: 211 | D11: 239 | E11: 127 | F11: 35 | G11: 19 | H11: 94 | J11: =SUM(B11:H11) -> 1315
A12: MA. Hum. | B12: 686 | C12: 478 | D12: 707 | E12: 542 | F12: 203 | G12: 348 | H12: 118 | J12: =SUM(B12:H12) -> 3082
A13: MA. Nat. | B13: 160 | C13: 43 | D13: 70 | E13: 50 | F13: 23 | G13: 105 | H13: 11 | J13: =SUM(B13:H13) -> 462
A14: MA. Ph.d. | B14: 9 | C14: 4 | D14: 10 | E14: 14 | F14: 10 | G14: 19 | H14: 2 | J14: =SUM(B14:H14) -> 68
A15: MA. Samf. | B15: 305 | C15: 128 | D15: 109 | E15: 82 | F15: 18 | G15: 18 | H15: 16 | J15: =SUM(B15:H15) -> 676
A16: Øvrige Mag. | B16: 68 | C16: 63 | D16: 89 | E16: 34 | F16: 23 | G16: 34 | H16: 13 | J16: =SUM(B16:H16) -> 324
A17: Agronom | B17: 14 | C17: 6 | D17: 9 | E17: 2 | F17: 5 | G17: 17 | H17: 4 | J17: =SUM(B17:H17) -> 57
A18: Landsk. Arkt. | B18: 7 | C18: 3 | D18: 7 | E18: 5 | F18: 1 | G18: 0 | H18: 2 | J18: =SUM(B18:H18) -> 25
A19: Hortonom | B19: 1 | C19: 0 | D19: 0 | E19: 0 | F19: 1 | G19: 2 | H19: 2 | J19: =SUM(B19:H19) -> 6
A20: Forstkand. | B20: 4 | C20: 1 | D20: 1 | E20: 0 | F20: 0 | G20: 6 | H20: 1 | J20: =SUM(B20:H20) -> 13
... A46: Andre | B46: 360 | C46: 140 | D46: 201 | E46: 211 | F46: 117 | G46: 290 | H46: 155 | J46: =SUM(B46:H46) -> 1474
A48: Total | B48: =SUM(B9:B46)-SUM(B17:B20) -> 6333 | C48: =SUM(C9:C46)-SUM(C17:C20) -> 2138 | D48: =SUM(D9:D46)-SUM(D17:D20) -> 2720 | E48: =SUM(E9:E46)-SUM(E17:E20) -> 1939 | F48: =SUM(F9:F46)-SUM(F17:F20) -> 844 | G48: =SUM(G9:G46)-SUM(G17:G20) -> 2212 | H48: =SUM(H9:H46)-SUM(H17:H20) -> 906 | J48: =SUM(J9:J46)-SUM(J17:J20) -> 17092 | K48: 4.8306844
A50: Ingeniører i alt | B50: 786 | C50: 125 | D50: 150 | E50: 117 | F50: 62 | G50: 402 | H50: 40 | J50: =SUM(B50:H50) -> 1682
A51: Magistre i alt | B51: 1228 | C51: 716 | D51: 985 | E51: 722 | F51: 277 | G51: 524 | H51: 160 | J51: =SUM(B51:H51) -> 4612
A52: DJØF'ere i alt | B52: 1574 | C52: 373 | D52: 494 | E52: 375 | F52: 203 | G52: 490 | H52: 218 | J52: =SUM(B52:H52) -> 3727
A53: Se sidste del af statistikken for en oversigt over uddannelsesgrupperingernes indhold

Sheet Tabel 5.1 Br
A1: Landstatistik
A3: Tabel 5. Antal bruttoledige målt i fuldtidspersoner - fordelt på kandidatalder (år siden dimission)
B7: 0 - 1 år | C7: 1 - 2 år | D7: 2 - 4 år | E7: 5 - 9 år | F7: 10 - 14 år | G7: Over 15 år | H7: Uoplyst | J7: I alt
A9: Civ. Ing. | B9: 293.43978 | C9: 65.62714 | D9: 79.032 | E9: 63.79467 | F9: 31.73081 | G9: 111.42269 | H9: 18.6403 | J9: =SUM(B9:H9) -> 663.68739
A10: Diplom Ing. | B10: 160.02245 | C10: 42.69008 | D10: 51.06281 | E10: 36.12237 | F10: 19.49354 | G10: 232.73311 | H10: 12.39943 | J10: =SUM(B10:H10) -> 554.52379
A11: Cand.Scient.Tech. | B11: 348.23614 | C11: 179.07254 | D11: 197.48144 | E11: 105.98578 | F11: 29.70436 | G11: 15.56353 | H11: 79.60831 | J11: =SUM(B11:H11) -> 955.6521
A12: MA. Hum. | B12: 419.32888 | C12: 398.69581 | D12: 568.04029 | E12: 439.8921 | F12: 162.50109 | G12: 279.81788 | H12: 93.0799 | J12: =SUM(B12:H12) -> 2361.356
A13: MA. Nat. | B13: 90.24824 | C13: 34.84563 | D13: 56.2889 | E13: 42.604 | F13: 18.36587 | G13: 83.62627 | H13: 7.67417 | J13: =SUM(B13:H13) -> 333.65308
A14: MA. Ph.d. | B14: 7.45213 | C14: 3.4666 | D14: 7.17645 | E14: 11.39213 | F14: 7.93426 | G14: 14.35539 | H14: 1.0653 | J14: =SUM(B14:H14) -> 52.84226
A15: MA. Samf. | B15: 180.9075 | C15: 106.01884 | D15: 91.41458 | E15: 64.39593 | F15: 15.43754 | G15: 15.70573 | H15: 13.2009 | J15: =SUM(B15:H15) -> 487.08102
A16: Øvrige Mag. | B16: 44.97224 | C16: 45.47745 | D16: 68.18624 | E16: 26.39119 | F16: 18.77815 | G16: 24.24125 | H16: 9.41371 | J16: =SUM(B16:H16) -> 237.46023
A17: Agronom | B17: 7.9773 | C17: 4.44521 | D17: 7.75027 | E17: 1.90732 | F17: 4.19822 | G17: 14.65041 | H17: 3.74852 | J17: =SUM(B17:H17) -> 44.67725
A18: Landsk. Arkt. | B18: 5.18555 | C18: 2.99944 | D18: 4.4109 | E18: 3.32564 | F18: 0.99981 | G18: 0 | H18: 1.78756 | J18: =SUM(B18:H18) -> 18.7089
A19: Hortonom | B19: 0.16903 | C19: 0 | D19: 0 | E19: 0 | F19: 0.94368 | G19: 1.23558 | H19: 1.63039 | J19: =SUM(B19:H19) -> 3.97868
A20: Forstkand. | B20: 2.81045 | C20: 0.99981 | D20: 0.81519 | E20: 0 | F20: 0 | G20: 5.90095 | H20: 0.99981 | J20: =SUM(B20:H20) -> 11.52621
A21: Jordbrugsakad. | B21: 16.14233 | C21: 8.44446 | D21: 12.97636 | E21: 5.23296 | F21: 6.14171 | G21: 21.78694 | H21: 8.16628 | I21: 131.81002 | J21: =SUM(B21:H21) -> 78.89104
A22: Mejeriing. | B22: 4.37036 | C22: 1.99963 | D22: 0 | E22: 0 | F22: 0 | G22: 4.04291 | H22: 0 | J22: =SUM(B22:H22) -> 10.4129
A23: Levn.m.kand. | B23: 4.6897 | C23: 4.7527 | D23: 5.70261 | E23: 1.59733 | F23: 0 | G23: 0.99981 | H23: 0.97175 | J23: =SUM(B23:H23) -> 18.7139
A24: Dyrlæge | B24: 5.32152 | C24: 0.55386 | D24: 5.75563 | E24: 2.47302 | F24: 1.35346 | G24: 2.65016 | H24: 1.43392 | J24: =SUM(B24:H24) -> 19.54157
A25: Farmaceut | B25: 44.07722 | C25: 10.82205 | D25: 24.09717 | E25: 14.07534 | F25: 2.1225 | G25: 17.88873 | H25: 6.92135 | J25: =SUM(B25:H25) -> 120.00436
A26: Læge | B26: 133.86952 | C26: 7.7459 | D26: 37.26689 | E26: 16.2309 | F26: 2.4618 | G26: 6.89952 | H26: 6.25585 | J26: =SUM(B26:H26) -> 210.73038
A27: Tandlæge | B27: 17.20826 | C27: 1.88486 | D27: 2.10628 | E27: 3.5377 | F27: 5.47558 | G27: 5.92528 | H27: 0.9075 | J27: =SUM(B27:H27) -> 37.04546
A28: Arkitekt | B28: 75.14751 | C28: 30.19273 | D28: 24.3978 | E28: 28.2773 | F28: 13.35932 | G28: 70.17776 | H28: 19.30269 | J28: =SUM(B28:H28) -> 260.85511
A29: Landinspek. | B29: 7.39475 | C29: 0 | D29: 2.24038 | E29: 0.37735 | F29: 0 | G29: 1.53808 | H29: 0 | J29: =SUM(B29:H29) -> 11.55056
A30: Bibliotekar | B30: 5.01466 | C30: 10.12537 | D30: 8.45444 | E30: 14.61423 | F30: 3.97243 | G30: 18.4956 | H30: 14.68222 | J30: =SUM(B30:H30) -> 75.35895
A31: Musikudd. | B31: 3.02501 | C31: 0.99981 | D31: 1.89359 | E31: 3.52772 | F31: 1.51937 | G31: 7.32801 | H31: 5.99264 | J31: =SUM(B31:H31) -> 24.28615
A32: Teolog | B32: 12.72937 | C32: 8.11826 | D32: 4.39531 | E32: 2.31522 | F32: 8.05588 | G32: 9.13054 | H32: 3.0537 | J32: =SUM(B32:H32) -> 47.79828
A33: Psykolog | B33: 104.24998 | C33: 30.84264 | D33: 72.23913 | E33: 54.1714 | F33: 16.47914 | G33: 18.31161 | H33: 10.67673 | J33: =SUM(B33:H33) -> 306.97063
... A46: Andre | B46: 202.03642 | C46: 117.41346 | D46: 167.396 | E46: 177.30306 | F46: 93.25267 | G46: 237.60057 | H46: 126.10117 | J46: =SUM(B46:H46) -> 1121.1033
A48: Total | B48: =SUM(B9:B46)-SUM(B17:B20) -> 3536.5139 | C48: =SUM(C9:C46)-SUM(C17:C20) -> 1776.5226 | D48: =SUM(D9:D46)-SUM(D17:D20) -> 2224.6644 | E48: =SUM(E9:E46)-SUM(E17:E20) -> 1583.137 | F48: =SUM(F9:F46)-SUM(F17:F20) -> 693.53559 | G48: =SUM(G9:G46)-SUM(G17:G20) -> 1840.8991 | H48: =SUM(H9:H46)-SUM(H17:H20) -> 740.27319 | J48: =SUM(J9:J46)-SUM(J17:J20) -> 12395.546 | K48: 4.8306844
A50: Ingeniører i alt | B50: 453.46223 | C50: 108.31722 | D50: 130.0948 | E50: 99.91705 | F50: 51.22435 | G50: 344.1558 | H50: 31.03973 | J50: =SUM(B50:H50) -> 1218.2112
A51: Magistre i alt | B51: 742.909 | C51: 588.50433 | D51: 791.10647 | E51: 584.67536 | F51: 223.0169 | G51: 417.74652 | H51: 124.43398 | J51: =SUM(B51:H51) -> 3472.3926
A52: DJØF'ere i alt | B52: 803.02688 | C52: 316.40242 | D52: 417.22884 | E52: 310.72101 | F52: 174.38533 | G52: 416.18786 | H52: 182.99881 | J52: =SUM(B52:H52) -> 2620.9511
A53: Se sidste del af statistikken for en oversigt over uddannelsesgrupperingernes indhold

Sheet Tabel 5 p (Be)
A1: Landstatistik
A3: Tabel 5.2 Bruttoledighedsprocenten målt i ledighedsberørte - fordelt efter kandidatalder (år siden dimission)
B7: Under 1 år | C7: Ml. 1 - 2 år | D7: 2 - 4 år | E7: 5 - 9 år | F7: 10 - 14 år | G7: Over 15 år | H7: Uoplyst | J7: I alt
A9: Civ. Ing. | B9: =IF(OR('Tabel 5 F'!B9<5,'Tabel 5 Be'!B9<0.5),"-",IFERROR('Tabel 5 Be'!B9/'Tabel 5 F'!B9*100,"-")) -> 29.192547 | C9: =IF(OR('Tabel 5 F'!C9<5,'Tabel 5 Be'!C9<0.5),"-",IFERROR('Tabel 5 Be'!C9/'Tabel 5 F'!C9*100,"-")) -> 3.9609053 | D9: =IF(OR('Tabel 5 F'!D9<5,'Tabel 5 Be'!D9<0.5),"-",IFERROR('Tabel 5 Be'!D9/'Tabel 5 F'!D9*100,"-")) -> 2.1325916 | E9: =IF(OR('Tabel 5 F'!E9<5,'Tabel 5 Be'!E9<0.5),"-",IFERROR('Tabel 5 Be'!E9/'Tabel 5 F'!E9*100,"-")) -> 1.3148789 | F9: =IF(OR('Tabel 5 F'!F9<5,'Tabel 5 Be'!F9<0.5),"-",IFERROR('Tabel 5 Be'!F9/'Tabel 5 F'!F9*100,"-")) -> 0.86417018 | G9: =IF(OR('Tabel 5 F'!G9<5,'Tabel 5 Be'!G9<0.5),"-",IFERROR('Tabel 5 Be'!G9/'Tabel 5 F'!G9*100,"-")) -> 0.81983087 | H9: =IF(OR('Tabel 5 F'!H9<5,'Tabel 5 Be'!H9<0.5),"-",IFERROR('Tabel 5 Be'!H9/'Tabel 5 F'!H9*100,"-")) -> 1.9794141 | J9: =IF(OR('Tabel 5 F'!J9<5,'Tabel 5 Be'!J9<0.5),"-",IFERROR('Tabel 5 Be'!J9/'Tabel 5 F'!J9*100,"-")) -> 2.837926
A10: Diplom Ing. | B10: =IF(OR('Tabel 5 F'!B10<5,'Tabel 5 Be'!B10<0.5),"-",IFERROR('Tabel 5 Be'!B10/'Tabel 5 F'!B10*100,"-")) -> 20.218579 | C10: =IF(OR('Tabel 5 F'!C10<5,'Tabel 5 Be'!C10<0.5),"-",IFERROR('Tabel 5 Be'!C10/'Tabel 5 F'!C10*100,"-")) -> 4.9638056 | D10: =IF(OR('Tabel 5 F'!D10<5,'Tabel 5 Be'!D10<0.5),"-",IFERROR('Tabel 5 Be'!D10/'Tabel 5 F'!D10*100,"-")) -> 2.3462783 | E10: =IF(OR('Tabel 5 F'!E10<5,'Tabel 5 Be'!E10<0.5),"-",IFERROR('Tabel 5 Be'!E10/'Tabel 5 F'!E10*100,"-")) -> 1.3744552 | F10: =IF(OR('Tabel 5 F'!F10<5,'Tabel 5 Be'!F10<0.5),"-",IFERROR('Tabel 5 Be'!F10/'Tabel 5 F'!F10*100,"-")) -> 0.86110071 | G10: =IF(OR('Tabel 5 F'!G10<5,'Tabel 5 Be'!G10<0.5),"-",IFERROR('Tabel 5 Be'!G10/'Tabel 5 F'!G10*100,"-")) -> 1.1731581 | H10: =IF(OR('Tabel 5 F'!H10<5,'Tabel 5 Be'!H10<0.5),"-",IFERROR('Tabel 5 Be'!H10/'Tabel 5 F'!H10*100,"-")) -> 1.3888889 | J10: =IF(OR('Tabel 5 F'!J10<5,'Tabel 5 Be'!J10<0.5),"-",IFERROR('Tabel 5 Be'!J10/'Tabel 5 F'!J10*100,"-")) -> 1.9647384
A11: Cand.Scient.Tech. | B11: =IF(OR('Tabel 5 F'!B11<5,'Tabel 5 Be'!B11<0.5),"-",IFERROR('Tabel 5 Be'!B11/'Tabel 5 F'!B11*100,"-")) -> 33.986175 | C11: =IF(OR('Tabel 5 F'!C11<5,'Tabel 5 Be'!C11<0.5),"-",IFERROR('Tabel 5 Be'!C11/'Tabel 5 F'!C11*100,"-")) -> 11.574328 | D11: =IF(OR('Tabel 5 F'!D11<5,'Tabel 5 Be'!D11<0.5),"-",IFERROR('Tabel 5 Be'!D11/'Tabel 5 F'!D11*100,"-")) -> 4.9523415 | E11: =IF(OR('Tabel 5 F'!E11<5,'Tabel 5 Be'!E11<0.5),"-",IFERROR('Tabel 5 Be'!E11/'Tabel 5 F'!E11*100,"-")) -> 2.3557781 | F11: =IF(OR('Tabel 5 F'!F11<5,'Tabel 5 Be'!F11<0.5),"-",IFERROR('Tabel 5 Be'!F11/'Tabel 5 F'!F11*100,"-")) -> 1.6818837 | G11: =IF(OR('Tabel 5 F'!G11<5,'Tabel 5 Be'!G11<0.5),"-",IFERROR('Tabel 5 Be'!G11/'Tabel 5 F'!G11*100,"-")) -> 0.8037225 | H11: =IF(OR('Tabel 5 F'!H11<5,'Tabel 5 Be'!H11<0.5),"-",IFERROR('Tabel 5 Be'!H11/'Tabel 5 F'!H11*100,"-")) -> 2.6330532 | J11: =IF(OR('Tabel 5 F'!J11<5,'Tabel 5 Be'!J11<0.5),"-",IFERROR('Tabel 5 Be'!J11/'Tabel 5 F'!J11*100,"-")) -> 6.0346014
A12: MA. Hum. | B12: =IF(OR('Tabel 5 F'!B12<5,'Tabel 5 Be'!B12<0.5),"-",IFERROR('Tabel 5 Be'!B12/'Tabel 5 F'!B12*100,"-")) -> 33.710074 | C12: =IF(OR('Tabel 5 F'!C12<5,'Tabel 5 Be'!C12<0.5),"-",IFERROR('Tabel 5 Be'!C12/'Tabel 5 F'!C12*100,"-")) -> 19.37576 | D12: =IF(OR('Tabel 5 F'!D12<5,'Tabel 5 Be'!D12<0.5),"-",IFERROR('Tabel 5 Be'!D12/'Tabel 5 F'!D12*100,"-")) -> 10.915547 | E12: =IF(OR('Tabel 5 F'!E12<5,'Tabel 5 Be'!E12<0.5),"-",IFERROR('Tabel 5 Be'!E12/'Tabel 5 F'!E12*100,"-")) -> 5.5075704 | F12: =IF(OR('Tabel 5 F'!F12<5,'Tabel 5 Be'!F12<0.5),"-",IFERROR('Tabel 5 Be'!F12/'Tabel 5 F'!F12*100,"-")) -> 3.6178934 | G12: =IF(OR('Tabel 5 F'!G12<5,'Tabel 5 Be'!G12<0.5),"-",IFERROR('Tabel 5 Be'!G12/'Tabel 5 F'!G12*100,"-")) -> 2.48678 | H12: =IF(OR('Tabel 5 F'!H12<5,'Tabel 5 Be'!H12<0.5),"-",IFERROR('Tabel 5 Be'!H12/'Tabel 5 F'!H12*100,"-")) -> 3.6096666 | J12: =IF(OR('Tabel 5 F'!J12<5,'Tabel 5 Be'!J12<0.5),"-",IFERROR('Tabel 5 Be'!J12/'Tabel 5 F'!J12*100,"-")) -> 7.0536
A13: MA. Nat. | B13: =IF(OR('Tabel 5 F'!B13<5,'Tabel 5 Be'!B13<0.5),"-",IFERROR('Tabel 5 Be'!B13/'Tabel 5 F'!B13*100,"-")) -> 30.592734 | C13: =IF(OR('Tabel 5 F'!C13<5,'Tabel 5 Be'!C13<0.5),"-",IFERROR('Tabel 5 Be'!C13/'Tabel 5 F'!C13*100,"-")) -> 8.9770355 | D13: =IF(OR('Tabel 5 F'!D13<5,'Tabel 5 Be'!D13<0.5),"-",IFERROR('Tabel 5 Be'!D13/'Tabel 5 F'!D13*100,"-")) -> 6.2724014 | E13: =IF(OR('Tabel 5 F'!E13<5,'Tabel 5 Be'!E13<0.5),"-",IFERROR('Tabel 5 Be'!E13/'Tabel 5 F'!E13*100,"-")) -> 2.3009664 | F13: =IF(OR('Tabel 5 F'!F13<5,'Tabel 5 Be'!F13<0.5),"-",IFERROR('Tabel 5 Be'!F13/'Tabel 5 F'!F13*100,"-")) -> 1.6129032 | G13: =IF(OR('Tabel 5 F'!G13<5,'Tabel 5 Be'!G13<0.5),"-",IFERROR('Tabel 5 Be'!G13/'Tabel 5 F'!G13*100,"-")) -> 1.1971269 | H13: =IF(OR('Tabel 5 F'!H13<5,'Tabel 5 Be'!H13<0.5),"-",IFERROR('Tabel 5 Be'!H13/'Tabel 5 F'!H13*100,"-")) -> 2.1653543 | J13: =IF(OR('Tabel 5 F'!J13<5,'Tabel 5 Be'!J13<0.5),"-",IFERROR('Tabel 5 Be'!J13/'Tabel 5 F'!J13*100,"-")) -> 3.0808216
A14: MA. Ph.d. | B14: =IF(OR('Tabel 5 F'!B14<5,'Tabel 5 Be'!B14<0.5),"-",IFERROR('Tabel 5 Be'!B14/'Tabel 5 F'!B14*100,"-")) -> 21.428571 | C14: =IF(OR('Tabel 5 F'!C14<5,'Tabel 5 Be'!C14<0.5),"-",IFERROR('Tabel 5 Be'!C14/'Tabel 5 F'!C14*100,"-")) -> 7.8431373 | D14: =IF(OR('Tabel 5 F'!D14<5,'Tabel 5 Be'!D14<0.5),"-",IFERROR('Tabel 5 Be'!D14/'Tabel 5 F'!D14*100,"-")) -> 4.6082949 | E14: =IF(OR('Tabel 5 F'!E14<5,'Tabel 5 Be'!E14<0.5),"-",IFERROR('Tabel 5 Be'!E14/'Tabel 5 F'!E14*100,"-")) -> 2.3608769 | F14: =IF(OR('Tabel 5 F'!F14<5,'Tabel 5 Be'!F14<0.5),"-",IFERROR('Tabel 5 Be'!F14/'Tabel 5 F'!F14*100,"-")) -> 2.0283976 | G14: =IF(OR('Tabel 5 F'!G14<5,'Tabel 5 Be'!G14<0.5),"-",IFERROR('Tabel 5 Be'!G14/'Tabel 5 F'!G14*100,"-")) -> 1.7907634 | H14: =IF(OR('Tabel 5 F'!H14<5,'Tabel 5 Be'!H14<0.5),"-",IFERROR('Tabel 5 Be'!H14/'Tabel 5 F'!H14*100,"-")) -> 1.8181818 | J14: =IF(OR('Tabel 5 F'!J14<5,'Tabel 5 Be'!J14<0.5),"-",IFERROR('Tabel 5 Be'!J14/'Tabel 5 F'!J14*100,"-")) -> 2.6490066
A15: MA. Samf. | B15: =IF(OR('Tabel 5 F'!B15<5,'Tabel 5 Be'!B15<0.5),"-",IFERROR('Tabel 5 Be'!B15/'Tabel 5 F'!B15*100,"-")) -> 34.817352 | C15: =IF(OR('Tabel 5 F'!C15<5,'Tabel 5 Be'!C15<0.5),"-",IFERROR('Tabel 5 Be'!C15/'Tabel 5 F'!C15*100,"-")) -> 17.558299 | D15: =IF(OR('Tabel 5 F'!D15<5,'Tabel 5 Be'!D15<0.5),"-",IFERROR('Tabel 5 Be'!D15/'Tabel 5 F'!D15*100,"-")) -> 6.6301703 | E15: =IF(OR('Tabel 5 F'!E15<5,'Tabel 5 Be'!E15<0.5),"-",IFERROR('Tabel 5 Be'!E15/'Tabel 5 F'!E15*100,"-")) -> 4.8751486 | F15: =IF(OR('Tabel 5 F'!F15<5,'Tabel 5 Be'!F15<0.5),"-",IFERROR('Tabel 5 Be'!F15/'Tabel 5 F'!F15*100,"-")) -> 4.1284404 | G15: =IF(OR('Tabel 5 F'!G15<5,'Tabel 5 Be'!G15<0.5),"-",IFERROR('Tabel 5 Be'!G15/'Tabel 5 F'!G15*100,"-")) -> 2.384106 | H15: =IF(OR('Tabel 5 F'!H15<5,'Tabel 5 Be'!H15<0.5),"-",IFERROR('Tabel 5 Be'!H15/'Tabel 5 F'!H15*100,"-")) -> 3.5010941 | J15: =IF(OR('Tabel 5 F'!J15<5,'Tabel 5 Be'!J15<0.5),"-",IFERROR('Tabel 5 Be'!J15/'Tabel 5 F'!J15*100,"-")) -> 10.275118
A16: Øvrige Mag. | B16: =IF(OR('Tabel 5 F'!B16<5,'Tabel 5 Be'!B16<0.5),"-",IFERROR('Tabel 5 Be'!B16/'Tabel 5 F'!B16*100,"-")) -> 15.384615 | C16: =IF(OR('Tabel 5 F'!C16<5,'Tabel 5 Be'!C16<0.5),"-",IFERROR('Tabel 5 Be'!C16/'Tabel 5 F'!C16*100,"-")) -> 20.792079 | D16: =IF(OR('Tabel 5 F'!D16<5,'Tabel 5 Be'!D16<0.5),"-",IFERROR('Tabel 5 Be'!D16/'Tabel 5 F'!D16*100,"-")) -> 16.036036 | E16: =IF(OR('Tabel 5 F'!E16<5,'Tabel 5 Be'!E16<0.5),"-",IFERROR('Tabel 5 Be'!E16/'Tabel 5 F'!E16*100,"-")) -> 6.0176991 | F16: =IF(OR('Tabel 5 F'!F16<5,'Tabel 5 Be'!F16<0.5),"-",IFERROR('Tabel 5 Be'!F16/'Tabel 5 F'!F16*100,"-")) -> 4.7034765 | G16: =IF(OR('Tabel 5 F'!G16<5,'Tabel 5 Be'!G16<0.5),"-",IFERROR('Tabel 5 Be'!G16/'Tabel 5 F'!G16*100,"-")) -> 2.2531478 | H16: =IF(OR('Tabel 5 F'!H16<5,'Tabel 5 Be'!H16<0.5),"-",IFERROR('Tabel 5 Be'!H16/'Tabel 5 F'!H16*100,"-")) -> 7.1038251 | J16: =IF(OR('Tabel 5 F'!J16<5,'Tabel 5 Be'!J16<0.5),"-",IFERROR('Tabel 5 Be'!J16/'Tabel 5 F'!J16*100,"-")) -> 8.007909
A17: Agronom | B17: =IF(OR('Tabel 5 F'!B17<5,'Tabel 5 Be'!B17<0.5),"-",IFERROR('Tabel 5 Be'!B17/'Tabel 5 F'!B17*100,"-")) -> 20.588235 | C17: =IF(OR('Tabel 5 F'!C17<5,'Tabel 5 Be'!C17<0.5),"-",IFERROR('Tabel 5 Be'!C17/'Tabel 5 F'!C17*100,"-")) -> 6.25 | D17: =IF(OR('Tabel 5 F'!D17<5,'Tabel 5 Be'!D17<0.5),"-",IFERROR('Tabel 5 Be'!D17/'Tabel 5 F'!D17*100,"-")) -> 5.8823529 | E17: =IF(OR('Tabel 5 F'!E17<5,'Tabel 5 Be'!E17<0.5),"-",IFERROR('Tabel 5 Be'!E17/'Tabel 5 F'!E17*100,"-")) -> 1.5267176 | F17: =IF(OR('Tabel 5 F'!F17<5,'Tabel 5 Be'!F17<0.5),"-",IFERROR('Tabel 5 Be'!F17/'Tabel 5 F'!F17*100,"-")) -> 3.0487805 | G17: =IF(OR('Tabel 5 F'!G17<5,'Tabel 5 Be'!G17<0.5),"-",IFERROR('Tabel 5 Be'!G17/'Tabel 5 F'!G17*100,"-")) -> 1.1356045 | H17: =IF(OR('Tabel 5 F'!H17<5,'Tabel 5 Be'!H17<0.5),"-",IFERROR('Tabel 5 Be'!H17/'Tabel 5 F'!H17*100,"-")) -> 1.5625 | J17: =IF(OR('Tabel 5 F'!J17<5,'Tabel 5 Be'!J17<0.5),"-",IFERROR('Tabel 5 Be'!J17/'Tabel 5 F'!J17*100,"-")) -> 2.410148
A18: Landsk. Arkt. | B18: =IF(OR('Tabel 5 F'!B18<5,'Tabel 5 Be'!B18<0.5),"-",IFERROR('Tabel 5 Be'!B18/'Tabel 5 F'!B18*100,"-")) -> 30.434783 | C18: =IF(OR('Tabel 5 F'!C18<5,'Tabel 5 Be'!C18<0.5),"-",IFERROR('Tabel 5 Be'!C18/'Tabel 5 F'!C18*100,"-")) -> 8.8235294 | D18: =IF(OR('Tabel 5 F'!D18<5,'Tabel 5 Be'!D18<0.5),"-",IFERROR('Tabel 5 Be'!D18/'Tabel 5 F'!D18*100,"-")) -> 7.2916667 | E18: =IF(OR('Tabel 5 F'!E18<5,'Tabel 5 Be'!E18<0.5),"-",IFERROR('Tabel 5 Be'!E18/'Tabel 5 F'!E18*100,"-")) -> 3.4246575 | F18: =IF(OR('Tabel 5 F'!F18<5,'Tabel 5 Be'!F18<0.5),"-",IFERROR('Tabel 5 Be'!F18/'Tabel 5 F'!F18*100,"-")) -> 1.1494253 | G18: =IF(OR('Tabel 5 F'!G18<5,'Tabel 5 Be'!G18<0.5),"-",IFERROR('Tabel 5 Be'!G18/'Tabel 5 F'!G18*100,"-")) -> - | H18: =IF(OR('Tabel 5 F'!H18<5,'Tabel 5 Be'!H18<0.5),"-",IFERROR('Tabel 5 Be'!H18/'Tabel 5 F'!H18*100,"-")) -> 4 | J18: =IF(OR('Tabel 5 F'!J18<5,'Tabel 5 Be'!J18<0.5),"-",IFERROR('Tabel 5 Be'!J18/'Tabel 5 F'!J18*100,"-")) -> 3.4387895
A19: Hortonom | B19: =IF(OR('Tabel 5 F'!B19<5,'Tabel 5 Be'!B19<0.5),"-",IFERROR('Tabel 5 Be'!B19/'Tabel 5 F'!B19*100,"-")) -> - | C19: =IF(OR('Tabel 5 F'!C19<5,'Tabel 5 Be'!C19<0.5),"-",IFERROR('Tabel 5 Be'!C19/'Tabel 5 F'!C19*100,"-")) -> - | D19: =IF(OR('Tabel 5 F'!D19<5,'Tabel 5 Be'!D19<0.5),"-",IFERROR('Tabel 5 Be'!D19/'Tabel 5 F'!D19*100,"-")) -> - | E19: =IF(OR('Tabel 5 F'!E19<5,'Tabel 5 Be'!E19<0.5),"-",IFERROR('Tabel 5 Be'!E19/'Tabel 5 F'!E19*100,"-")) -> - | F19: =IF(OR('Tabel 5 F'!F19<5,'Tabel 5 Be'!F19<0.5),"-",IFERROR('Tabel 5 Be'!F19/'Tabel 5 F'!F19*100,"-")) -> 5.8823529 | G19: =IF(OR('Tabel 5 F'!G19<5,'Tabel 5 Be'!G19<0.5),"-",IFERROR('Tabel 5 Be'!G19/'Tabel 5 F'!G19*100,"-")) -> 0.86580087 | H19: =IF(OR('Tabel 5 F'!H19<5,'Tabel 5 Be'!H19<0.5),"-",IFERROR('Tabel 5 Be'!H19/'Tabel 5 F'!H19*100,"-")) -> 8 | J19: =IF(OR('Tabel 5 F'!J19<5,'Tabel 5 Be'!J19<0.5),"-",IFERROR('Tabel 5 Be'!J19/'Tabel 5 F'!J19*100,"-")) -> 2.0689655
A20: Forstkand. | B20: =IF(OR('Tabel 5 F'!B20<5,'Tabel 5 Be'!B20<0.5),"-",IFERROR('Tabel 5 Be'!B20/'Tabel 5 F'!B20*100,"-")) -> 44.444444 | C20: =IF(OR('Tabel 5 F'!C20<5,'Tabel 5 Be'!C20<0.5),"-",IFERROR('Tabel 5 Be'!C20/'Tabel 5 F'!C20*100,"-")) -> 5.5555556 | D20: =IF(OR('Tabel 5 F'!D20<5,'Tabel 5 Be'!D20<0.5),"-",IFERROR('Tabel 5 Be'!D20/'Tabel 5 F'!D20*100,"-")) -> 2.3809524 | E20: =IF(OR('Tabel 5 F'!E20<5,'Tabel 5 Be'!E20<0.5),"-",IFERROR('Tabel 5 Be'!E20/'Tabel 5 F'!E20*100,"-")) -> - | F20: =IF(OR('Tabel 5 F'!F20<5,'Tabel 5 Be'!F20<0.5),"-",IFERROR('Tabel 5 Be'!F20/'Tabel 5 F'!F20*100,"-")) -> - | G20: =IF(OR('Tabel 5 F'!G20<5,'Tabel 5 Be'!G20<0.5),"-",IFERROR('Tabel 5 Be'!G20/'Tabel 5 F'!G20*100,"-")) -> 1.9169329 | H20: =IF(OR('Tabel 5 F'!H20<5,'Tabel 5 Be'!H20<0.5),"-",IFERROR('Tabel 5 Be'!H20/'Tabel 5 F'!H20*100,"-")) -> 2.0833333 | J20: =IF(OR('Tabel 5 F'!J20<5,'Tabel 5 Be'!J20<0.5),"-",IFERROR('Tabel 5 Be'!J20/'Tabel 5 F'!J20*100,"-")) -> 2.5641026
... A52: DJØF'ere i alt | B52: =IF(OR('Tabel 5 F'!B52<5,'Tabel 5 Be'!B52<0.5),"-",IFERROR('Tabel 5 Be'!B52/'Tabel 5 F'!B52*100,"-")) -> 28.63901 | C52: =IF(OR('Tabel 5 F'!C52<5,'Tabel 5 Be'!C52<0.5),"-",IFERROR('Tabel 5 Be'!C52/'Tabel 5 F'!C52*100,"-")) -> 6.6678584 | D52: =IF(OR('Tabel 5 F'!D52<5,'Tabel 5 Be'!D52<0.5),"-",IFERROR('Tabel 5 Be'!D52/'Tabel 5 F'!D52*100,"-")) -> 3.2510694 | E52: =IF(OR('Tabel 5 F'!E52<5,'Tabel 5 Be'!E52<0.5),"-",IFERROR('Tabel 5 Be'!E52/'Tabel 5 F'!E52*100,"-")) -> 1.8667861 | F52: =IF(OR('Tabel 5 F'!F52<5,'Tabel 5 Be'!F52<0.5),"-",IFERROR('Tabel 5 Be'!F52/'Tabel 5 F'!F52*100,"-")) -> 1.7279537 | G52: =IF(OR('Tabel 5 F'!G52<5,'Tabel 5 Be'!G52<0.5),"-",IFERROR('Tabel 5 Be'!G52/'Tabel 5 F'!G52*100,"-")) -> 1.567348 | H52: =IF(OR('Tabel 5 F'!H52<5,'Tabel 5 Be'!H52<0.5),"-",IFERROR('Tabel 5 Be'!H52/'Tabel 5 F'!H52*100,"-")) -> 1.7296096 | J52: =IF(OR('Tabel 5 F'!J52<5,'Tabel 5 Be'!J52<0.5),"-",IFERROR('Tabel 5 Be'!J52/'Tabel 5 F'!J52*100,"-")) -> 3.6543515
A53: Se sidste del af statistikken for en oversigt over uddannelsesgrupperingernes indhold

Sheet Tabel 5.2 p (Br)
A1: Landstatistik
A3: Tabel 5.3 Bruttoledighedsprocenten målt i fuldtidspersoner - fordelt efter kandidatalder (år siden dimission)
B7: Under 1 år | C7: Ml. 1 - 2 år | D7: 2 - 4 år | E7: 5 - 9 år | F7: 10 - 14 år | G7: Over 15 år | H7: Uoplyst | J7: I alt
A9: Civ. Ing. | B9: =IF(OR('Tabel 5 F'!B9<5,'Tabel 5.1 Br'!B9<0.5),"-",IFERROR('Tabel 5.1 Br'!B9/'Tabel 5 F'!B9*100,"-")) -> 15.188394 | C9: =IF(OR('Tabel 5 F'!C9<5,'Tabel 5.1 Br'!C9<0.5),"-",IFERROR('Tabel 5.1 Br'!C9/'Tabel 5 F'!C9*100,"-")) -> 3.3758817 | D9: =IF(OR('Tabel 5 F'!D9<5,'Tabel 5.1 Br'!D9<0.5),"-",IFERROR('Tabel 5.1 Br'!D9/'Tabel 5 F'!D9*100,"-")) -> 1.8319889 | E9: =IF(OR('Tabel 5 F'!E9<5,'Tabel 5.1 Br'!E9<0.5),"-",IFERROR('Tabel 5.1 Br'!E9/'Tabel 5 F'!E9*100,"-")) -> 1.103714 | F9: =IF(OR('Tabel 5 F'!F9<5,'Tabel 5.1 Br'!F9<0.5),"-",IFERROR('Tabel 5.1 Br'!F9/'Tabel 5 F'!F9*100,"-")) -> 0.70309794 | G9: =IF(OR('Tabel 5 F'!G9<5,'Tabel 5.1 Br'!G9<0.5),"-",IFERROR('Tabel 5.1 Br'!G9/'Tabel 5 F'!G9*100,"-")) -> 0.71927371 | H9: =IF(OR('Tabel 5 F'!H9<5,'Tabel 5.1 Br'!H9<0.5),"-",IFERROR('Tabel 5.1 Br'!H9/'Tabel 5 F'!H9*100,"-")) -> 1.4758749 | J9: =IF(OR('Tabel 5 F'!J9<5,'Tabel 5.1 Br'!J9<0.5),"-",IFERROR('Tabel 5.1 Br'!J9/'Tabel 5 F'!J9*100,"-")) -> 1.8834957
A10: Diplom Ing. | B10: =IF(OR('Tabel 5 F'!B10<5,'Tabel 5.1 Br'!B10<0.5),"-",IFERROR('Tabel 5.1 Br'!B10/'Tabel 5 F'!B10*100,"-")) -> 14.573994 | C10: =IF(OR('Tabel 5 F'!C10<5,'Tabel 5.1 Br'!C10<0.5),"-",IFERROR('Tabel 5.1 Br'!C10/'Tabel 5 F'!C10*100,"-")) -> 4.4146929 | D10: =IF(OR('Tabel 5 F'!D10<5,'Tabel 5.1 Br'!D10<0.5),"-",IFERROR('Tabel 5.1 Br'!D10/'Tabel 5 F'!D10*100,"-")) -> 2.0656477 | E10: =IF(OR('Tabel 5 F'!E10<5,'Tabel 5.1 Br'!E10<0.5),"-",IFERROR('Tabel 5.1 Br'!E10/'Tabel 5 F'!E10*100,"-")) -> 1.210941 | F10: =IF(OR('Tabel 5 F'!F10<5,'Tabel 5.1 Br'!F10<0.5),"-",IFERROR('Tabel 5.1 Br'!F10/'Tabel 5 F'!F10*100,"-")) -> 0.72982179 | G10: =IF(OR('Tabel 5 F'!G10<5,'Tabel 5.1 Br'!G10<0.5),"-",IFERROR('Tabel 5.1 Br'!G10/'Tabel 5 F'!G10*100,"-")) -> 0.99284634 | H10: =IF(OR('Tabel 5 F'!H10<5,'Tabel 5.1 Br'!H10<0.5),"-",IFERROR('Tabel 5.1 Br'!H10/'Tabel 5 F'!H10*100,"-")) -> 1.1480954 | J10: =IF(OR('Tabel 5 F'!J10<5,'Tabel 5.1 Br'!J10<0.5),"-",IFERROR('Tabel 5.1 Br'!J10/'Tabel 5 F'!J10*100,"-")) -> 1.5974988
A11: Cand.Scient.Tech. | B11: =IF(OR('Tabel 5 F'!B11<5,'Tabel 5.1 Br'!B11<0.5),"-",IFERROR('Tabel 5.1 Br'!B11/'Tabel 5 F'!B11*100,"-")) -> 20.059685 | C11: =IF(OR('Tabel 5 F'!C11<5,'Tabel 5.1 Br'!C11<0.5),"-",IFERROR('Tabel 5.1 Br'!C11/'Tabel 5 F'!C11*100,"-")) -> 9.8229589 | D11: =IF(OR('Tabel 5 F'!D11<5,'Tabel 5.1 Br'!D11<0.5),"-",IFERROR('Tabel 5.1 Br'!D11/'Tabel 5 F'!D11*100,"-")) -> 4.0920315 | E11: =IF(OR('Tabel 5 F'!E11<5,'Tabel 5.1 Br'!E11<0.5),"-",IFERROR('Tabel 5.1 Br'!E11/'Tabel 5 F'!E11*100,"-")) -> 1.9659763 | F11: =IF(OR('Tabel 5 F'!F11<5,'Tabel 5.1 Br'!F11<0.5),"-",IFERROR('Tabel 5.1 Br'!F11/'Tabel 5 F'!F11*100,"-")) -> 1.427408 | G11: =IF(OR('Tabel 5 F'!G11<5,'Tabel 5.1 Br'!G11<0.5),"-",IFERROR('Tabel 5.1 Br'!G11/'Tabel 5 F'!G11*100,"-")) -> 0.65835575 | H11: =IF(OR('Tabel 5 F'!H11<5,'Tabel 5.1 Br'!H11<0.5),"-",IFERROR('Tabel 5.1 Br'!H11/'Tabel 5 F'!H11*100,"-")) -> 2.2299246 | J11: =IF(OR('Tabel 5 F'!J11<5,'Tabel 5.1 Br'!J11<0.5),"-",IFERROR('Tabel 5.1 Br'!J11/'Tabel 5 F'!J11*100,"-")) -> 4.3855358
A12: MA. Hum. | B12: =IF(OR('Tabel 5 F'!B12<5,'Tabel 5.1 Br'!B12<0.5),"-",IFERROR('Tabel 5.1 Br'!B12/'Tabel 5 F'!B12*100,"-")) -> 20.605842 | C12: =IF(OR('Tabel 5 F'!C12<5,'Tabel 5.1 Br'!C12<0.5),"-",IFERROR('Tabel 5.1 Br'!C12/'Tabel 5 F'!C12*100,"-")) -> 16.16116 | D12: =IF(OR('Tabel 5 F'!D12<5,'Tabel 5.1 Br'!D12<0.5),"-",IFERROR('Tabel 5.1 Br'!D12/'Tabel 5 F'!D12*100,"-")) -> 8.7701141 | E12: =IF(OR('Tabel 5 F'!E12<5,'Tabel 5.1 Br'!E12<0.5),"-",IFERROR('Tabel 5.1 Br'!E12/'Tabel 5 F'!E12*100,"-")) -> 4.4699939 | F12: =IF(OR('Tabel 5 F'!F12<5,'Tabel 5.1 Br'!F12<0.5),"-",IFERROR('Tabel 5.1 Br'!F12/'Tabel 5 F'!F12*100,"-")) -> 2.8961164 | G12: =IF(OR('Tabel 5 F'!G12<5,'Tabel 5.1 Br'!G12<0.5),"-",IFERROR('Tabel 5.1 Br'!G12/'Tabel 5 F'!G12*100,"-")) -> 1.9995561 | H12: =IF(OR('Tabel 5 F'!H12<5,'Tabel 5.1 Br'!H12<0.5),"-",IFERROR('Tabel 5.1 Br'!H12/'Tabel 5 F'!H12*100,"-")) -> 2.8473509 | J12: =IF(OR('Tabel 5 F'!J12<5,'Tabel 5.1 Br'!J12<0.5),"-",IFERROR('Tabel 5.1 Br'!J12/'Tabel 5 F'!J12*100,"-")) -> 5.4043025
A13: MA. Nat. | B13: =IF(OR('Tabel 5 F'!B13<5,'Tabel 5.1 Br'!B13<0.5),"-",IFERROR('Tabel 5.1 Br'!B13/'Tabel 5 F'!B13*100,"-")) -> 17.255878 | C13: =IF(OR('Tabel 5 F'!C13<5,'Tabel 5.1 Br'!C13<0.5),"-",IFERROR('Tabel 5.1 Br'!C13/'Tabel 5 F'!C13*100,"-")) -> 7.2746618 | D13: =IF(OR('Tabel 5 F'!D13<5,'Tabel 5.1 Br'!D13<0.5),"-",IFERROR('Tabel 5.1 Br'!D13/'Tabel 5 F'!D13*100,"-")) -> 5.0438082 | E13: =IF(OR('Tabel 5 F'!E13<5,'Tabel 5.1 Br'!E13<0.5),"-",IFERROR('Tabel 5.1 Br'!E13/'Tabel 5 F'!E13*100,"-")) -> 1.9606075 | F13: =IF(OR('Tabel 5 F'!F13<5,'Tabel 5.1 Br'!F13<0.5),"-",IFERROR('Tabel 5.1 Br'!F13/'Tabel 5 F'!F13*100,"-")) -> 1.2879292 | G13: =IF(OR('Tabel 5 F'!G13<5,'Tabel 5.1 Br'!G13<0.5),"-",IFERROR('Tabel 5.1 Br'!G13/'Tabel 5 F'!G13*100,"-")) -> 0.95344054 | H13: =IF(OR('Tabel 5 F'!H13<5,'Tabel 5.1 Br'!H13<0.5),"-",IFERROR('Tabel 5.1 Br'!H13/'Tabel 5 F'!H13*100,"-")) -> 1.5106634 | J13: =IF(OR('Tabel 5 F'!J13<5,'Tabel 5.1 Br'!J13<0.5),"-",IFERROR('Tabel 5.1 Br'!J13/'Tabel 5 F'!J13*100,"-")) -> 2.2249472
A14: MA. Ph.d. | B14: =IF(OR('Tabel 5 F'!B14<5,'Tabel 5.1 Br'!B14<0.5),"-",IFERROR('Tabel 5.1 Br'!B14/'Tabel 5 F'!B14*100,"-")) -> 17.743167 | C14: =IF(OR('Tabel 5 F'!C14<5,'Tabel 5.1 Br'!C14<0.5),"-",IFERROR('Tabel 5.1 Br'!C14/'Tabel 5 F'!C14*100,"-")) -> 6.7972549 | D14: =IF(OR('Tabel 5 F'!D14<5,'Tabel 5.1 Br'!D14<0.5),"-",IFERROR('Tabel 5.1 Br'!D14/'Tabel 5 F'!D14*100,"-")) -> 3.3071198 | E14: =IF(OR('Tabel 5 F'!E14<5,'Tabel 5.1 Br'!E14<0.5),"-",IFERROR('Tabel 5.1 Br'!E14/'Tabel 5 F'!E14*100,"-")) -> 1.9211012 | F14: =IF(OR('Tabel 5 F'!F14<5,'Tabel 5.1 Br'!F14<0.5),"-",IFERROR('Tabel 5.1 Br'!F14/'Tabel 5 F'!F14*100,"-")) -> 1.6093834 | G14: =IF(OR('Tabel 5 F'!G14<5,'Tabel 5.1 Br'!G14<0.5),"-",IFERROR('Tabel 5.1 Br'!G14/'Tabel 5 F'!G14*100,"-")) -> 1.3530057 | H14: =IF(OR('Tabel 5 F'!H14<5,'Tabel 5.1 Br'!H14<0.5),"-",IFERROR('Tabel 5.1 Br'!H14/'Tabel 5 F'!H14*100,"-")) -> 0.96845455 | J14: =IF(OR('Tabel 5 F'!J14<5,'Tabel 5.1 Br'!J14<0.5),"-",IFERROR('Tabel 5.1 Br'!J14/'Tabel 5 F'!J14*100,"-")) -> 2.058522
A15: MA. Samf. | B15: =IF(OR('Tabel 5 F'!B15<5,'Tabel 5.1 Br'!B15<0.5),"-",IFERROR('Tabel 5.1 Br'!B15/'Tabel 5 F'!B15*100,"-")) -> 20.651541 | C15: =IF(OR('Tabel 5 F'!C15<5,'Tabel 5.1 Br'!C15<0.5),"-",IFERROR('Tabel 5.1 Br'!C15/'Tabel 5 F'!C15*100,"-")) -> 14.543051 | D15: =IF(OR('Tabel 5 F'!D15<5,'Tabel 5.1 Br'!D15<0.5),"-",IFERROR('Tabel 5.1 Br'!D15/'Tabel 5 F'!D15*100,"-")) -> 5.5604976 | E15: =IF(OR('Tabel 5 F'!E15<5,'Tabel 5.1 Br'!E15<0.5),"-",IFERROR('Tabel 5.1 Br'!E15/'Tabel 5 F'!E15*100,"-")) -> 3.8285333 | F15: =IF(OR('Tabel 5 F'!F15<5,'Tabel 5.1 Br'!F15<0.5),"-",IFERROR('Tabel 5.1 Br'!F15/'Tabel 5 F'!F15*100,"-")) -> 3.5407202 | G15: =IF(OR('Tabel 5 F'!G15<5,'Tabel 5.1 Br'!G15<0.5),"-",IFERROR('Tabel 5.1 Br'!G15/'Tabel 5 F'!G15*100,"-")) -> 2.0802291 | H15: =IF(OR('Tabel 5 F'!H15<5,'Tabel 5.1 Br'!H15<0.5),"-",IFERROR('Tabel 5.1 Br'!H15/'Tabel 5 F'!H15*100,"-")) -> 2.8885996 | J15: =IF(OR('Tabel 5 F'!J15<5,'Tabel 5.1 Br'!J15<0.5),"-",IFERROR('Tabel 5.1 Br'!J15/'Tabel 5 F'!J15*100,"-")) -> 7.4035723
A16: Øvrige Mag. | B16: =IF(OR('Tabel 5 F'!B16<5,'Tabel 5.1 Br'!B16<0.5),"-",IFERROR('Tabel 5.1 Br'!B16/'Tabel 5 F'!B16*100,"-")) -> 10.174715 | C16: =IF(OR('Tabel 5 F'!C16<5,'Tabel 5.1 Br'!C16<0.5),"-",IFERROR('Tabel 5.1 Br'!C16/'Tabel 5 F'!C16*100,"-")) -> 15.009059 | D16: =IF(OR('Tabel 5 F'!D16<5,'Tabel 5.1 Br'!D16<0.5),"-",IFERROR('Tabel 5.1 Br'!D16/'Tabel 5 F'!D16*100,"-")) -> 12.285809 | E16: =IF(OR('Tabel 5 F'!E16<5,'Tabel 5.1 Br'!E16<0.5),"-",IFERROR('Tabel 5.1 Br'!E16/'Tabel 5 F'!E16*100,"-")) -> 4.6710071 | F16: =IF(OR('Tabel 5 F'!F16<5,'Tabel 5.1 Br'!F16<0.5),"-",IFERROR('Tabel 5.1 Br'!F16/'Tabel 5 F'!F16*100,"-")) -> 3.8401125 | G16: =IF(OR('Tabel 5 F'!G16<5,'Tabel 5.1 Br'!G16<0.5),"-",IFERROR('Tabel 5.1 Br'!G16/'Tabel 5 F'!G16*100,"-")) -> 1.6064447 | H16: =IF(OR('Tabel 5 F'!H16<5,'Tabel 5.1 Br'!H16<0.5),"-",IFERROR('Tabel 5.1 Br'!H16/'Tabel 5 F'!H16*100,"-")) -> 5.1441038 | J16: =IF(OR('Tabel 5 F'!J16<5,'Tabel 5.1 Br'!J16<0.5),"-",IFERROR('Tabel 5.1 Br'!J16/'Tabel 5 F'!J16*100,"-")) -> 5.8690121
A17: Agronom | B17: =IF(OR('Tabel 5 F'!B17<5,'Tabel 5.1 Br'!B17<0.5),"-",IFERROR('Tabel 5.1 Br'!B17/'Tabel 5 F'!B17*100,"-")) -> 11.731324 | C17: =IF(OR('Tabel 5 F'!C17<5,'Tabel 5.1 Br'!C17<0.5),"-",IFERROR('Tabel 5.1 Br'!C17/'Tabel 5 F'!C17*100,"-")) -> 4.6304271 | D17: =IF(OR('Tabel 5 F'!D17<5,'Tabel 5.1 Br'!D17<0.5),"-",IFERROR('Tabel 5.1 Br'!D17/'Tabel 5 F'!D17*100,"-")) -> 5.0655359 | E17: =IF(OR('Tabel 5 F'!E17<5,'Tabel 5.1 Br'!E17<0.5),"-",IFERROR('Tabel 5.1 Br'!E17/'Tabel 5 F'!E17*100,"-")) -> 1.4559695 | F17: =IF(OR('Tabel 5 F'!F17<5,'Tabel 5.1 Br'!F17<0.5),"-",IFERROR('Tabel 5.1 Br'!F17/'Tabel 5 F'!F17*100,"-")) -> 2.5598902 | G17: =IF(OR('Tabel 5 F'!G17<5,'Tabel 5.1 Br'!G17<0.5),"-",IFERROR('Tabel 5.1 Br'!G17/'Tabel 5 F'!G17*100,"-")) -> 0.9786513 | H17: =IF(OR('Tabel 5 F'!H17<5,'Tabel 5.1 Br'!H17<0.5),"-",IFERROR('Tabel 5.1 Br'!H17/'Tabel 5 F'!H17*100,"-")) -> 1.4642656 | J17: =IF(OR('Tabel 5 F'!J17<5,'Tabel 5.1 Br'!J17<0.5),"-",IFERROR('Tabel 5.1 Br'!J17/'Tabel 5 F'!J17*100,"-")) -> 1.8891015
A18: Landsk. Arkt. | B18: =IF(OR('Tabel 5 F'!B18<5,'Tabel 5.1 Br'!B18<0.5),"-",IFERROR('Tabel 5.1 Br'!B18/'Tabel 5 F'!B18*100,"-")) -> 22.54587 | C18: =IF(OR('Tabel 5 F'!C18<5,'Tabel 5.1 Br'!C18<0.5),"-",IFERROR('Tabel 5.1 Br'!C18/'Tabel 5 F'!C18*100,"-")) -> 8.8218824 | D18: =IF(OR('Tabel 5 F'!D18<5,'Tabel 5.1 Br'!D18<0.5),"-",IFERROR('Tabel 5.1 Br'!D18/'Tabel 5 F'!D18*100,"-")) -> 4.5946875 | E18: =IF(OR('Tabel 5 F'!E18<5,'Tabel 5.1 Br'!E18<0.5),"-",IFERROR('Tabel 5.1 Br'!E18/'Tabel 5 F'!E18*100,"-")) -> 2.2778356 | F18: =IF(OR('Tabel 5 F'!F18<5,'Tabel 5.1 Br'!F18<0.5),"-",IFERROR('Tabel 5.1 Br'!F18/'Tabel 5 F'!F18*100,"-")) -> 1.1492069 | G18: =IF(OR('Tabel 5 F'!G18<5,'Tabel 5.1 Br'!G18<0.5),"-",IFERROR('Tabel 5.1 Br'!G18/'Tabel 5 F'!G18*100,"-")) -> - | H18: =IF(OR('Tabel 5 F'!H18<5,'Tabel 5.1 Br'!H18<0.5),"-",IFERROR('Tabel 5.1 Br'!H18/'Tabel 5 F'!H18*100,"-")) -> 3.57512 | J18: =IF(OR('Tabel 5 F'!J18<5,'Tabel 5.1 Br'!J18<0.5),"-",IFERROR('Tabel 5.1 Br'!J18/'Tabel 5 F'!J18*100,"-")) -> 2.5734388
A19: Hortonom | B19: =IF(OR('Tabel 5 F'!B19<5,'Tabel 5.1 Br'!B19<0.5),"-",IFERROR('Tabel 5.1 Br'!B19/'Tabel 5 F'!B19*100,"-")) -> - | C19: =IF(OR('Tabel 5 F'!C19<5,'Tabel 5.1 Br'!C19<0.5),"-",IFERROR('Tabel 5.1 Br'!C19/'Tabel 5 F'!C19*100,"-")) -> - | D19: =IF(OR('Tabel 5 F'!D19<5,'Tabel 5.1 Br'!D19<0.5),"-",IFERROR('Tabel 5.1 Br'!D19/'Tabel 5 F'!D19*100,"-")) -> - | E19: =IF(OR('Tabel 5 F'!E19<5,'Tabel 5.1 Br'!E19<0.5),"-",IFERROR('Tabel 5.1 Br'!E19/'Tabel 5 F'!E19*100,"-")) -> - | F19: =IF(OR('Tabel 5 F'!F19<5,'Tabel 5.1 Br'!F19<0.5),"-",IFERROR('Tabel 5.1 Br'!F19/'Tabel 5 F'!F19*100,"-")) -> 5.5510588 | G19: =IF(OR('Tabel 5 F'!G19<5,'Tabel 5.1 Br'!G19<0.5),"-",IFERROR('Tabel 5.1 Br'!G19/'Tabel 5 F'!G19*100,"-")) -> 0.53488312 | H19: =IF(OR('Tabel 5 F'!H19<5,'Tabel 5.1 Br'!H19<0.5),"-",IFERROR('Tabel 5.1 Br'!H19/'Tabel 5 F'!H19*100,"-")) -> 6.52156 | J19: =IF(OR('Tabel 5 F'!J19<5,'Tabel 5.1 Br'!J19<0.5),"-",IFERROR('Tabel 5.1 Br'!J19/'Tabel 5 F'!J19*100,"-")) -> 1.3719586
A20: Forstkand. | B20: =IF(OR('Tabel 5 F'!B20<5,'Tabel 5.1 Br'!B20<0.5),"-",IFERROR('Tabel 5.1 Br'!B20/'Tabel 5 F'!B20*100,"-")) -> 31.227222 | C20: =IF(OR('Tabel 5 F'!C20<5,'Tabel 5.1 Br'!C20<0.5),"-",IFERROR('Tabel 5.1 Br'!C20/'Tabel 5 F'!C20*100,"-")) -> 5.5545 | D20: =IF(OR('Tabel 5 F'!D20<5,'Tabel 5.1 Br'!D20<0.5),"-",IFERROR('Tabel 5.1 Br'!D20/'Tabel 5 F'!D20*100,"-")) -> 1.9409286 | E20: =IF(OR('Tabel 5 F'!E20<5,'Tabel 5.1 Br'!E20<0.5),"-",IFERROR('Tabel 5.1 Br'!E20/'Tabel 5 F'!E20*100,"-")) -> - | F20: =IF(OR('Tabel 5 F'!F20<5,'Tabel 5.1 Br'!F20<0.5),"-",IFERROR('Tabel 5.1 Br'!F20/'Tabel 5 F'!F20*100,"-")) -> - | G20: =IF(OR('Tabel 5 F'!G20<5,'Tabel 5.1 Br'!G20<0.5),"-",IFERROR('Tabel 5.1 Br'!G20/'Tabel 5 F'!G20*100,"-")) -> 1.8852875 | H20: =IF(OR('Tabel 5 F'!H20<5,'Tabel 5.1 Br'!H20<0.5),"-",IFERROR('Tabel 5.1 Br'!H20/'Tabel 5 F'!H20*100,"-")) -> 2.0829375 | J20: =IF(OR('Tabel 5 F'!J20<5,'Tabel 5.1 Br'!J20<0.5),"-",IFERROR('Tabel 5.1 Br'!J20/'Tabel 5 F'!J20*100,"-")) -> 2.2734142
... A46: Andre | B46: =IF(OR('Tabel 5 F'!B46<5,'Tabel 5.1 Br'!B46<0.5),"-",IFERROR('Tabel 5.1 Br'!B46/'Tabel 5 F'!B46*100,"-")) -> 11.62465 | C46: =IF(OR('Tabel 5 F'!C46<5,'Tabel 5.1 Br'!C46<0.5),"-",IFERROR('Tabel 5.1 Br'!C46/'Tabel 5 F'!C46*100,"-")) -> 8.2395411 | D46: =IF(OR('Tabel 5 F'!D46<5,'Tabel 5.1 Br'!D46<0.5),"-",IFERROR('Tabel 5.1 Br'!D46/'Tabel 5 F'!D46*100,"-")) -> 5.4455433 | E46: =IF(OR('Tabel 5 F'!E46<5,'Tabel 5.1 Br'!E46<0.5),"-",IFERROR('Tabel 5.1 Br'!E46/'Tabel 5 F'!E46*100,"-")) -> 4.2024902 | F46: =IF(OR('Tabel 5 F'!F46<5,'Tabel 5.1 Br'!F46<0.5),"-",IFERROR('Tabel 5.1 Br'!F46/'Tabel 5 F'!F46*100,"-")) -> 2.6492236 | G46: =IF(OR('Tabel 5 F'!G46<5,'Tabel 5.1 Br'!G46<0.5),"-",IFERROR('Tabel 5.1 Br'!G46/'Tabel 5 F'!G46*100,"-")) -> 3.4266018 | H46: =IF(OR('Tabel 5 F'!H46<5,'Tabel 5.1 Br'!H46<0.5),"-",IFERROR('Tabel 5.1 Br'!H46/'Tabel 5 F'!H46*100,"-")) -> 2.6654232 | J46: =IF(OR('Tabel 5 F'!J46<5,'Tabel 5.1 Br'!J46<0.5),"-",IFERROR('Tabel 5.1 Br'!J46/'Tabel 5 F'!J46*100,"-")) -> 4.3723074
A48: Total | B48: =IF(OR('Tabel 5 F'!B48<5,'Tabel 5.1 Br'!B48<0.5),"-",IFERROR('Tabel 5.1 Br'!B48/'Tabel 5 F'!B48*100,"-")) -> 15.448689 | C48: =IF(OR('Tabel 5 F'!C48<5,'Tabel 5.1 Br'!C48<0.5),"-",IFERROR('Tabel 5.1 Br'!C48/'Tabel 5 F'!C48*100,"-")) -> 8.2598223 | D48: =IF(OR('Tabel 5 F'!D48<5,'Tabel 5.1 Br'!D48<0.5),"-",IFERROR('Tabel 5.1 Br'!D48/'Tabel 5 F'!D48*100,"-")) -> 4.2063689 | E48: =IF(OR('Tabel 5 F'!E48<5,'Tabel 5.1 Br'!E48<0.5),"-",IFERROR('Tabel 5.1 Br'!E48/'Tabel 5 F'!E48*100,"-")) -> 2.310879 | F48: =IF(OR('Tabel 5 F'!F48<5,'Tabel 5.1 Br'!F48<0.5),"-",IFERROR('Tabel 5.1 Br'!F48/'Tabel 5 F'!F48*100,"-")) -> 1.6390603 | G48: =IF(OR('Tabel 5 F'!G48<5,'Tabel 5.1 Br'!G48<0.5),"-",IFERROR('Tabel 5.1 Br'!G48/'Tabel 5 F'!G48*100,"-")) -> 1.3684439 | H48: =IF(OR('Tabel 5 F'!H48<5,'Tabel 5.1 Br'!H48<0.5),"-",IFERROR('Tabel 5.1 Br'!H48/'Tabel 5 F'!H48*100,"-")) -> 1.9327777 | J48: =IF(OR('Tabel 5 F'!J48<5,'Tabel 5.1 Br'!J48<0.5),"-",IFERROR('Tabel 5.1 Br'!J48/'Tabel 5 F'!J48*100,"-")) -> 3.2539792 | K48: 4.8306844
A50: Ingeniører i alt | B50: =IF(OR('Tabel 5 F'!B50<5,'Tabel 5.1 Br'!B50<0.5),"-",IFERROR('Tabel 5.1 Br'!B50/'Tabel 5 F'!B50*100,"-")) -> 14.96575 | C50: =IF(OR('Tabel 5 F'!C50<5,'Tabel 5.1 Br'!C50<0.5),"-",IFERROR('Tabel 5.1 Br'!C50/'Tabel 5 F'!C50*100,"-")) -> 3.7209626 | D50: =IF(OR('Tabel 5 F'!D50<5,'Tabel 5.1 Br'!D50<0.5),"-",IFERROR('Tabel 5.1 Br'!D50/'Tabel 5 F'!D50*100,"-")) -> 1.9171058 | E50: =IF(OR('Tabel 5 F'!E50<5,'Tabel 5.1 Br'!E50<0.5),"-",IFERROR('Tabel 5.1 Br'!E50/'Tabel 5 F'!E50*100,"-")) -> 1.1402151 | F50: =IF(OR('Tabel 5 F'!F50<5,'Tabel 5.1 Br'!F50<0.5),"-",IFERROR('Tabel 5.1 Br'!F50/'Tabel 5 F'!F50*100,"-")) -> 0.71303383 | G50: =IF(OR('Tabel 5 F'!G50<5,'Tabel 5.1 Br'!G50<0.5),"-",IFERROR('Tabel 5.1 Br'!G50/'Tabel 5 F'!G50*100,"-")) -> 0.88399209 | H50: =IF(OR('Tabel 5 F'!H50<5,'Tabel 5.1 Br'!H50<0.5),"-",IFERROR('Tabel 5.1 Br'!H50/'Tabel 5 F'!H50*100,"-")) -> 1.3247857 | J50: =IF(OR('Tabel 5 F'!J50<5,'Tabel 5.1 Br'!J50<0.5),"-",IFERROR('Tabel 5.1 Br'!J50/'Tabel 5 F'!J50*100,"-")) -> 1.7415705
A51: Magistre i alt | B51: =IF(OR('Tabel 5 F'!B51<5,'Tabel 5.1 Br'!B51<0.5),"-",IFERROR('Tabel 5.1 Br'!B51/'Tabel 5 F'!B51*100,"-")) -> 18.961434 | C51: =IF(OR('Tabel 5 F'!C51<5,'Tabel 5.1 Br'!C51<0.5),"-",IFERROR('Tabel 5.1 Br'!C51/'Tabel 5 F'!C51*100,"-")) -> 14.60671 | D51: =IF(OR('Tabel 5 F'!D51<5,'Tabel 5.1 Br'!D51<0.5),"-",IFERROR('Tabel 5.1 Br'!D51/'Tabel 5 F'!D51*100,"-")) -> 7.9039511 | E51: =IF(OR('Tabel 5 F'!E51<5,'Tabel 5.1 Br'!E51<0.5),"-",IFERROR('Tabel 5.1 Br'!E51/'Tabel 5 F'!E51*100,"-")) -> 3.9361476 | F51: =IF(OR('Tabel 5 F'!F51<5,'Tabel 5.1 Br'!F51<0.5),"-",IFERROR('Tabel 5.1 Br'!F51/'Tabel 5 F'!F51*100,"-")) -> 2.6376925 | G51: =IF(OR('Tabel 5 F'!G51<5,'Tabel 5.1 Br'!G51<0.5),"-",IFERROR('Tabel 5.1 Br'!G51/'Tabel 5 F'!G51*100,"-")) -> 1.6011749 | H51: =IF(OR('Tabel 5 F'!H51<5,'Tabel 5.1 Br'!H51<0.5),"-",IFERROR('Tabel 5.1 Br'!H51/'Tabel 5 F'!H51*100,"-")) -> 2.7487073 | J51: =IF(OR('Tabel 5 F'!J51<5,'Tabel 5.1 Br'!J51<0.5),"-",IFERROR('Tabel 5.1 Br'!J51/'Tabel 5 F'!J51*100,"-")) -> 4.8306844
A52: DJØF'ere i alt | B52: =IF(OR('Tabel 5 F'!B52<5,'Tabel 5.1 Br'!B52<0.5),"-",IFERROR('Tabel 5.1 Br'!B52/'Tabel 5 F'!B52*100,"-")) -> 14.611115 | C52: =IF(OR('Tabel 5 F'!C52<5,'Tabel 5.1 Br'!C52<0.5),"-",IFERROR('Tabel 5.1 Br'!C52/'Tabel 5 F'!C52*100,"-")) -> 5.6561033 | D52: =IF(OR('Tabel 5 F'!D52<5,'Tabel 5.1 Br'!D52<0.5),"-",IFERROR('Tabel 5.1 Br'!D52/'Tabel 5 F'!D52*100,"-")) -> 2.7458298 | E52: =IF(OR('Tabel 5 F'!E52<5,'Tabel 5.1 Br'!E52<0.5),"-",IFERROR('Tabel 5.1 Br'!E52/'Tabel 5 F'!E52*100,"-")) -> 1.5467991 | F52: =IF(OR('Tabel 5 F'!F52<5,'Tabel 5.1 Br'!F52<0.5),"-",IFERROR('Tabel 5.1 Br'!F52/'Tabel 5 F'!F52*100,"-")) -> 1.4843831 | G52: =IF(OR('Tabel 5 F'!G52<5,'Tabel 5.1 Br'!G52<0.5),"-",IFERROR('Tabel 5.1 Br'!G52/'Tabel 5 F'!G52*100,"-")) -> 1.3312474 | H52: =IF(OR('Tabel 5 F'!H52<5,'Tabel 5.1 Br'!H52<0.5),"-",IFERROR('Tabel 5.1 Br'!H52/'Tabel 5 F'!H52*100,"-")) -> 1.4519106 | J52: =IF(OR('Tabel 5 F'!J52<5,'Tabel 5.1 Br'!J52<0.5),"-",IFERROR('Tabel 5.1 Br'!J52/'Tabel 5 F'!J52*100,"-")) -> 2.5698623
A53: Ledighedsprocenten er ikke angivet, når antallet af observationer er mindre end 10
A54: Se sidste del af statistikken for en oversigt over uddannelsesgrupperingernes indhold

Sheet Tabel 5 Dim F
A1: Landstatistik
A3: Tabel 5. Antal forsikrede medlemmer med dimission indenfor de seneste 2 år
B7: 0 - 3 mdr. | C7: 3 - 6 mdr. | D7: 6 - 9 mdr. | E7: 9 - 12 mdr. | F7: 12 - 15 mdr. | G7: 15 - 18 mdr. | H7: 18 - 21 mdr. | I7: 21 - 24 mdr.
A9: Civ. Ing. | B9: 817 | C9: 572 | D9: 87 | E9: 456 | F9: 920 | G9: 546 | H9: 88 | I9: 390
A10: Diplom Ing. | B10: 218 | C10: 689 | D10: 59 | E10: 132 | F10: 228 | G10: 575 | H10: 43 | I10: 121
A11: Cand.Scient.Tech. | B11: 821 | C11: 356 | D11: 198 | E11: 361 | F11: 871 | G11: 327 | H11: 225 | I11: 400
A12: MA. Hum. | B12: 1079 | C12: 354 | D12: 213 | E12: 389 | F12: 1147 | G12: 432 | H12: 223 | I12: 665
A13: MA. Nat. | B13: 267 | C13: 83 | D13: 65 | E13: 108 | F13: 228 | G13: 102 | H13: 61 | I13: 88
A14: MA. Ph.d. | B14: 7 | C14: 7 | D14: 12 | E14: 16 | F14: 8 | G14: 10 | H14: 20 | I14: 13
A15: MA. Samf. | B15: 475 | C15: 193 | D15: 76 | E15: 132 | F15: 398 | G15: 149 | H15: 65 | I15: 117
A16: Øvrige Mag. | B16: 260 | C16: 42 | D16: 41 | E16: 99 | F16: 109 | G16: 46 | H16: 34 | I16: 114
A17: Agronom | B17: 21 | C17: 18 | D17: 17 | E17: 12 | F17: 30 | G17: 18 | H17: 24 | I17: 24
A18: Landsk. Arkt. | B18: 8 | C18: 7 | D18: 4 | E18: 4 | F18: 12 | G18: 7 | H18: 9 | I18: 6
A19: Hortonom | B19: 2 | C19: 0 | D19: 1 | E19: 0 | F19: 0 | G19: 0 | H19: 0 | I19: 0
A20: Forstkand. | B20: 2 | C20: 3 | D20: 1 | E20: 3 | F20: 4 | G20: 4 | H20: 5 | I20: 5
... A46: Andre | B46: 776 | C46: 496 | D46: 225 | E46: 241 | F46: 534 | G46: 326 | H46: 255 | I46: 310
A48: Total | B48: =SUM(B9:B46)-SUM(B17:B20) -> 12239 | C48: =SUM(C9:C46)-SUM(C17:C20) -> 5544 | D48: =SUM(D9:D46)-SUM(D17:D20) -> 1744 | E48: =SUM(E9:E46)-SUM(E17:E20) -> 3365 | F48: =SUM(F9:F46)-SUM(F17:F20) -> 10804 | G48: =SUM(G9:G46)-SUM(G17:G20) -> 5064 | H48: =SUM(H9:H46)-SUM(H17:H20) -> 1885 | I48: =SUM(I9:I46)-SUM(I17:I20) -> 3755
A50: Ingeniører i alt | B50: 1035 | C50: 1261 | D50: 146 | E50: 588 | F50: 1148 | G50: 1121 | H50: 131 | I50: 511
A51: Magistre i alt | B51: 2088 | C51: 679 | D51: 407 | E51: 744 | F51: 1890 | G51: 739 | H51: 403 | I51: 997
A52: DJØF'ere i alt | B52: 3440 | C52: 985 | D52: 390 | E52: 681 | F52: 3304 | G52: 1032 | H52: 460 | I52: 798
A53: Se sidste del af statistikken for en oversigt over uddannelsesgrupperingernes indhold

Sheet Tabel 5.3 Dim Br
A1: Landstatistik
A3: Tabel 5. Antal bruttoledige målt i fuldtidspersoner - akademikere med dimission indenfor de seneste 2 år
B7: 0 - 3 mdr. | C7: 3 - 6 mdr. | D7: 6 - 9 mdr. | E7: 9 - 12 mdr. | F7: 12 - 15 mdr. | G7: 15 - 18 mdr. | H7: 18 - 21 mdr. | I7: 21 - 24 mdr.
A9: Civ. Ing. | B9: 156.08869 | C9: 93.03312 | D9: 10.02121 | E9: 34.29676 | F9: 35.20302 | G9: 13.24456 | H9: 10.30562 | I9: 6.87395
A10: Diplom Ing. | B10: 39.52348 | C10: 100.25697 | D10: 9.99813 | E10: 10.24387 | F10: 14.0585 | G10: 20.50895 | H10: 1.95347 | I10: 6.16915
A11: Cand.Scient.Tech. | B11: 159.89334 | C11: 99.82848 | D11: 42.67199 | E11: 45.84233 | F11: 101.26427 | G11: 28.11389 | H11: 19.85717 | I11: 29.83721
A12: MA. Hum. | B12: 159.78232 | C12: 119.57151 | D12: 59.78482 | E12: 80.19023 | F12: 203.72918 | G12: 69.28772 | H12: 31.60544 | I12: 94.07347
A13: MA. Nat. | B13: 44.82692 | C13: 20.43972 | D13: 9.81351 | E13: 15.16809 | F13: 17.71347 | G13: 8.62908 | H13: 5.03087 | I13: 3.47221
A14: MA. Ph.d. | B14: 2.24911 | C14: 0 | D14: 1.86116 | E14: 3.34186 | F14: 0 | G14: 0.49211 | H14: 1.99963 | I14: 0.97486
A15: MA. Samf. | B15: 84.41028 | C15: 52.16928 | D15: 20.81145 | E15: 23.5165 | F15: 56.19098 | G15: 21.41333 | H15: 7.36793 | I15: 21.04659
A16: Øvrige Mag. | B16: 16.27269 | C16: 11.19379 | D16: 9.30581 | E16: 8.19996 | F16: 16.47789 | G16: 6.85586 | H16: 6.78663 | I16: 15.35708
A17: Agronom | B17: 3.68615 | C17: 1.53808 | D17: 2.75307 | E17: 0 | F17: 1.95347 | G17: 0 | H17: 0 | I17: 2.49174
A18: Landsk. Arkt. | B18: 0.61498 | C18: 2.69756 | D18: 0.8732 | E18: 0.99981 | F18: 1.99963 | G18: 0 | H18: 0.99981 | I18: 0
A19: Hortonom | B19: 0.16903 | C19: 0 | D19: 0 | E19: 0 | F19: 0 | G19: 0 | H19: 0 | I19: 0
A20: Forstkand. | B20: 1.21125 | C20: 0 | D20: 0.99981 | E20: 0.59939 | F20: 0.99981 | G20: 0 | H20: 0 | I20: 0
... A46: Andre | B46: 107.4908 | C46: 66.75482 | D46: 14.13273 | E46: 13.65808 | F46: 48.76941 | G46: 25.8785 | H46: 9.7212 | I46: 33.04435
A48: Total | B48: =SUM(B9:B46)-SUM(B17:B20) -> 1797.3664 | C48: =SUM(C9:C46)-SUM(C17:C20) -> 1043.6265 | D48: =SUM(D9:D46)-SUM(D17:D20) -> 284.88051 | E48: =SUM(E9:E46)-SUM(E17:E20) -> 410.64062 | F48: =SUM(F9:F46)-SUM(F17:F20) -> 915.70278 | G48: =SUM(G9:G46)-SUM(G17:G20) -> 364.26366 | H48: =SUM(H9:H46)-SUM(H17:H20) -> 172.48708 | I48: =SUM(I9:I46)-SUM(I17:I20) -> 324.06903
A50: Ingeniører i alt | B50: 195.61217 | C50: 193.29009 | D50: 20.01934 | E50: 44.54063 | F50: 49.26152 | G50: 33.75351 | H50: 12.25909 | I50: 13.0431
A51: Magistre i alt | B51: 307.54132 | C51: 203.37429 | D51: 101.57675 | E51: 130.41664 | F51: 294.11152 | G51: 106.6781 | H51: 52.79049 | I51: 134.92422
A52: DJØF'ere i alt | B52: 526.34753 | C52: 158.88667 | D52: 48.32034 | E52: 69.47234 | F52: 159.97443 | G52: 62.03705 | H52: 39.51662 | I52: 54.87432
A53: Se sidste del af statistikken for en oversigt over uddannelsesgrupperingernes indhold

Sheet Tabel 5.4 Dim p (Br)
A1: Landstatistik
A3: Tabel 5.4 Bruttoledighedsprocenten målt i fuldtidspersoner - akademikere med dimission indenfor de seneste 2 år
B7: 0 - 3 mdr. | C7: 3 - 6 mdr. | D7: 6 - 9 mdr. | E7: 9 - 12 mdr. | F7: 12 - 15 mdr. | G7: 15 - 18 mdr. | H7: 18 - 21 mdr. | I7: 21 - 24 mdr.
A9: Civ. Ing. | B9: =IF(OR('Tabel 5 Dim F'!B9<5,'Tabel 5.3 Dim Br'!B9<0.5),"-",IFERROR('Tabel 5.3 Dim Br'!B9/'Tabel 5 Dim F'!B9*100,"-")) -> 19.105103 | C9: =IF(OR('Tabel 5 Dim F'!C9<5,'Tabel 5.3 Dim Br'!C9<0.5),"-",IFERROR('Tabel 5.3 Dim Br'!C9/'Tabel 5 Dim F'!C9*100,"-")) -> 16.264531 | D9: =IF(OR('Tabel 5 Dim F'!D9<5,'Tabel 5.3 Dim Br'!D9<0.5),"-",IFERROR('Tabel 5.3 Dim Br'!D9/'Tabel 5 Dim F'!D9*100,"-")) -> 11.518632 | E9: =IF(OR('Tabel 5 Dim F'!E9<5,'Tabel 5.3 Dim Br'!E9<0.5),"-",IFERROR('Tabel 5.3 Dim Br'!E9/'Tabel 5 Dim F'!E9*100,"-")) -> 7.5212193 | F9: =IF(OR('Tabel 5 Dim F'!F9<5,'Tabel 5.3 Dim Br'!F9<0.5),"-",IFERROR('Tabel 5.3 Dim Br'!F9/'Tabel 5 Dim F'!F9*100,"-")) -> 3.8264152 | G9: =IF(OR('Tabel 5 Dim F'!G9<5,'Tabel 5.3 Dim Br'!G9<0.5),"-",IFERROR('Tabel 5.3 Dim Br'!G9/'Tabel 5 Dim F'!G9*100,"-")) -> 2.4257436 | H9: =IF(OR('Tabel 5 Dim F'!H9<5,'Tabel 5.3 Dim Br'!H9<0.5),"-",IFERROR('Tabel 5.3 Dim Br'!H9/'Tabel 5 Dim F'!H9*100,"-")) -> 11.710932 | I9: =IF(OR('Tabel 5 Dim F'!I9<5,'Tabel 5.3 Dim Br'!I9<0.5),"-",IFERROR('Tabel 5.3 Dim Br'!I9/'Tabel 5 Dim F'!I9*100,"-")) -> 1.7625513
A10: Diplom Ing. | B10: =IF(OR('Tabel 5 Dim F'!B10<5,'Tabel 5.3 Dim Br'!B10<0.5),"-",IFERROR('Tabel 5.3 Dim Br'!B10/'Tabel 5 Dim F'!B10*100,"-")) -> 18.130037 | C10: =IF(OR('Tabel 5 Dim F'!C10<5,'Tabel 5.3 Dim Br'!C10<0.5),"-",IFERROR('Tabel 5.3 Dim Br'!C10/'Tabel 5 Dim F'!C10*100,"-")) -> 14.551084 | D10: =IF(OR('Tabel 5 Dim F'!D10<5,'Tabel 5.3 Dim Br'!D10<0.5),"-",IFERROR('Tabel 5.3 Dim Br'!D10/'Tabel 5 Dim F'!D10*100,"-")) -> 16.945983 | E10: =IF(OR('Tabel 5 Dim F'!E10<5,'Tabel 5.3 Dim Br'!E10<0.5),"-",IFERROR('Tabel 5.3 Dim Br'!E10/'Tabel 5 Dim F'!E10*100,"-")) -> 7.7605076 | F10: =IF(OR('Tabel 5 Dim F'!F10<5,'Tabel 5.3 Dim Br'!F10<0.5),"-",IFERROR('Tabel 5.3 Dim Br'!F10/'Tabel 5 Dim F'!F10*100,"-")) -> 6.1660088 | G10: =IF(OR('Tabel 5 Dim F'!G10<5,'Tabel 5.3 Dim Br'!G10<0.5),"-",IFERROR('Tabel 5.3 Dim Br'!G10/'Tabel 5 Dim F'!G10*100,"-")) -> 3.5667739 | H10: =IF(OR('Tabel 5 Dim F'!H10<5,'Tabel 5.3 Dim Br'!H10<0.5),"-",IFERROR('Tabel 5.3 Dim Br'!H10/'Tabel 5 Dim F'!H10*100,"-")) -> 4.5429535 | I10: =IF(OR('Tabel 5 Dim F'!I10<5,'Tabel 5.3 Dim Br'!I10<0.5),"-",IFERROR('Tabel 5.3 Dim Br'!I10/'Tabel 5 Dim F'!I10*100,"-")) -> 5.0984711
A11: Cand.Scient.Tech. | B11: =IF(OR('Tabel 5 Dim F'!B11<5,'Tabel 5.3 Dim Br'!B11<0.5),"-",IFERROR('Tabel 5.3 Dim Br'!B11/'Tabel 5 Dim F'!B11*100,"-")) -> 19.475437 | C11: =IF(OR('Tabel 5 Dim F'!C11<5,'Tabel 5.3 Dim Br'!C11<0.5),"-",IFERROR('Tabel 5.3 Dim Br'!C11/'Tabel 5 Dim F'!C11*100,"-")) -> 28.041708 | D11: =IF(OR('Tabel 5 Dim F'!D11<5,'Tabel 5.3 Dim Br'!D11<0.5),"-",IFERROR('Tabel 5.3 Dim Br'!D11/'Tabel 5 Dim F'!D11*100,"-")) -> 21.55151 | E11: =IF(OR('Tabel 5 Dim F'!E11<5,'Tabel 5.3 Dim Br'!E11<0.5),"-",IFERROR('Tabel 5.3 Dim Br'!E11/'Tabel 5 Dim F'!E11*100,"-")) -> 12.698706 | F11: =IF(OR('Tabel 5 Dim F'!F11<5,'Tabel 5.3 Dim Br'!F11<0.5),"-",IFERROR('Tabel 5.3 Dim Br'!F11/'Tabel 5 Dim F'!F11*100,"-")) -> 11.626208 | G11: =IF(OR('Tabel 5 Dim F'!G11<5,'Tabel 5.3 Dim Br'!G11<0.5),"-",IFERROR('Tabel 5.3 Dim Br'!G11/'Tabel 5 Dim F'!G11*100,"-")) -> 8.5975199 | H11: =IF(OR('Tabel 5 Dim F'!H11<5,'Tabel 5.3 Dim Br'!H11<0.5),"-",IFERROR('Tabel 5.3 Dim Br'!H11/'Tabel 5 Dim F'!H11*100,"-")) -> 8.8254089 | I11: =IF(OR('Tabel 5 Dim F'!I11<5,'Tabel 5.3 Dim Br'!I11<0.5),"-",IFERROR('Tabel 5.3 Dim Br'!I11/'Tabel 5 Dim F'!I11*100,"-")) -> 7.4593025
A12: MA. Hum. | B12: =IF(OR('Tabel 5 Dim F'!B12<5,'Tabel 5.3 Dim Br'!B12<0.5),"-",IFERROR('Tabel 5.3 Dim Br'!B12/'Tabel 5 Dim F'!B12*100,"-")) -> 14.808371 | C12: =IF(OR('Tabel 5 Dim F'!C12<5,'Tabel 5.3 Dim Br'!C12<0.5),"-",IFERROR('Tabel 5.3 Dim Br'!C12/'Tabel 5 Dim F'!C12*100,"-")) -> 33.777263 | D12: =IF(OR('Tabel 5 Dim F'!D12<5,'Tabel 5.3 Dim Br'!D12<0.5),"-",IFERROR('Tabel 5.3 Dim Br'!D12/'Tabel 5 Dim F'!D12*100,"-")) -> 28.067991 | E12: =IF(OR('Tabel 5 Dim F'!E12<5,'Tabel 5.3 Dim Br'!E12<0.5),"-",IFERROR('Tabel 5.3 Dim Br'!E12/'Tabel 5 Dim F'!E12*100,"-")) -> 20.614455 | F12: =IF(OR('Tabel 5 Dim F'!F12<5,'Tabel 5.3 Dim Br'!F12<0.5),"-",IFERROR('Tabel 5.3 Dim Br'!F12/'Tabel 5 Dim F'!F12*100,"-")) -> 17.761916 | G12: =IF(OR('Tabel 5 Dim F'!G12<5,'Tabel 5.3 Dim Br'!G12<0.5),"-",IFERROR('Tabel 5.3 Dim Br'!G12/'Tabel 5 Dim F'!G12*100,"-")) -> 16.038824 | H12: =IF(OR('Tabel 5 Dim F'!H12<5,'Tabel 5.3 Dim Br'!H12<0.5),"-",IFERROR('Tabel 5.3 Dim Br'!H12/'Tabel 5 Dim F'!H12*100,"-")) -> 14.172843 | I12: =IF(OR('Tabel 5 Dim F'!I12<5,'Tabel 5.3 Dim Br'!I12<0.5),"-",IFERROR('Tabel 5.3 Dim Br'!I12/'Tabel 5 Dim F'!I12*100,"-")) -> 14.146386
A13: MA. Nat. | B13: =IF(OR('Tabel 5 Dim F'!B13<5,'Tabel 5.3 Dim Br'!B13<0.5),"-",IFERROR('Tabel 5.3 Dim Br'!B13/'Tabel 5 Dim F'!B13*100,"-")) -> 16.789109 | C13: =IF(OR('Tabel 5 Dim F'!C13<5,'Tabel 5.3 Dim Br'!C13<0.5),"-",IFERROR('Tabel 5.3 Dim Br'!C13/'Tabel 5 Dim F'!C13*100,"-")) -> 24.626169 | D13: =IF(OR('Tabel 5 Dim F'!D13<5,'Tabel 5.3 Dim Br'!D13<0.5),"-",IFERROR('Tabel 5.3 Dim Br'!D13/'Tabel 5 Dim F'!D13*100,"-")) -> 15.097708 | E13: =IF(OR('Tabel 5 Dim F'!E13<5,'Tabel 5.3 Dim Br'!E13<0.5),"-",IFERROR('Tabel 5.3 Dim Br'!E13/'Tabel 5 Dim F'!E13*100,"-")) -> 14.044528 | F13: =IF(OR('Tabel 5 Dim F'!F13<5,'Tabel 5.3 Dim Br'!F13<0.5),"-",IFERROR('Tabel 5.3 Dim Br'!F13/'Tabel 5 Dim F'!F13*100,"-")) -> 7.7690658 | G13: =IF(OR('Tabel 5 Dim F'!G13<5,'Tabel 5.3 Dim Br'!G13<0.5),"-",IFERROR('Tabel 5.3 Dim Br'!G13/'Tabel 5 Dim F'!G13*100,"-")) -> 8.4598824 | H13: =IF(OR('Tabel 5 Dim F'!H13<5,'Tabel 5.3 Dim Br'!H13<0.5),"-",IFERROR('Tabel 5.3 Dim Br'!H13/'Tabel 5 Dim F'!H13*100,"-")) -> 8.2473279 | I13: =IF(OR('Tabel 5 Dim F'!I13<5,'Tabel 5.3 Dim Br'!I13<0.5),"-",IFERROR('Tabel 5.3 Dim Br'!I13/'Tabel 5 Dim F'!I13*100,"-")) -> 3.9456932
A14: MA. Ph.d. | B14: =IF(OR('Tabel 5 Dim F'!B14<5,'Tabel 5.3 Dim Br'!B14<0.5),"-",IFERROR('Tabel 5.3 Dim Br'!B14/'Tabel 5 Dim F'!B14*100,"-")) -> 32.130143 | C14: =IF(OR('Tabel 5 Dim F'!C14<5,'Tabel 5.3 Dim Br'!C14<0.5),"-",IFERROR('Tabel 5.3 Dim Br'!C14/'Tabel 5 Dim F'!C14*100,"-")) -> - | D14: =IF(OR('Tabel 5 Dim F'!D14<5,'Tabel 5.3 Dim Br'!D14<0.5),"-",IFERROR('Tabel 5.3 Dim Br'!D14/'Tabel 5 Dim F'!D14*100,"-")) -> 15.509667 | E14: =IF(OR('Tabel 5 Dim F'!E14<5,'Tabel 5.3 Dim Br'!E14<0.5),"-",IFERROR('Tabel 5.3 Dim Br'!E14/'Tabel 5 Dim F'!E14*100,"-")) -> 20.886625 | F14: =IF(OR('Tabel 5 Dim F'!F14<5,'Tabel 5.3 Dim Br'!F14<0.5),"-",IFERROR('Tabel 5.3 Dim Br'!F14/'Tabel 5 Dim F'!F14*100,"-")) -> - | G14: =IF(OR('Tabel 5 Dim F'!G14<5,'Tabel 5.3 Dim Br'!G14<0.5),"-",IFERROR('Tabel 5.3 Dim Br'!G14/'Tabel 5 Dim F'!G14*100,"-")) -> - | H14: =IF(OR('Tabel 5 Dim F'!H14<5,'Tabel 5.3 Dim Br'!H14<0.5),"-",IFERROR('Tabel 5.3 Dim Br'!H14/'Tabel 5 Dim F'!H14*100,"-")) -> 9.99815 | I14: =IF(OR('Tabel 5 Dim F'!I14<5,'Tabel 5.3 Dim Br'!I14<0.5),"-",IFERROR('Tabel 5.3 Dim Br'!I14/'Tabel 5 Dim F'!I14*100,"-")) -> 7.4989231
A15: MA. Samf. | B15: =IF(OR('Tabel 5 Dim F'!B15<5,'Tabel 5.3 Dim Br'!B15<0.5),"-",IFERROR('Tabel 5.3 Dim Br'!B15/'Tabel 5 Dim F'!B15*100,"-")) -> 17.770585 | C15: =IF(OR('Tabel 5 Dim F'!C15<5,'Tabel 5.3 Dim Br'!C15<0.5),"-",IFERROR('Tabel 5.3 Dim Br'!C15/'Tabel 5 Dim F'!C15*100,"-")) -> 27.030715 | D15: =IF(OR('Tabel 5 Dim F'!D15<5,'Tabel 5.3 Dim Br'!D15<0.5),"-",IFERROR('Tabel 5.3 Dim Br'!D15/'Tabel 5 Dim F'!D15*100,"-")) -> 27.383487 | E15: =IF(OR('Tabel 5 Dim F'!E15<5,'Tabel 5.3 Dim Br'!E15<0.5),"-",IFERROR('Tabel 5.3 Dim Br'!E15/'Tabel 5 Dim F'!E15*100,"-")) -> 17.81553 | F15: =IF(OR('Tabel 5 Dim F'!F15<5,'Tabel 5.3 Dim Br'!F15<0.5),"-",IFERROR('Tabel 5.3 Dim Br'!F15/'Tabel 5 Dim F'!F15*100,"-")) -> 14.118337 | G15: =IF(OR('Tabel 5 Dim F'!G15<5,'Tabel 5.3 Dim Br'!G15<0.5),"-",IFERROR('Tabel 5.3 Dim Br'!G15/'Tabel 5 Dim F'!G15*100,"-")) -> 14.371362 | H15: =IF(OR('Tabel 5 Dim F'!H15<5,'Tabel 5.3 Dim Br'!H15<0.5),"-",IFERROR('Tabel 5.3 Dim Br'!H15/'Tabel 5 Dim F'!H15*100,"-")) -> 11.335277 | I15: =IF(OR('Tabel 5 Dim F'!I15<5,'Tabel 5.3 Dim Br'!I15<0.5),"-",IFERROR('Tabel 5.3 Dim Br'!I15/'Tabel 5 Dim F'!I15*100,"-")) -> 17.988538
A16: Øvrige Mag. | B16: =IF(OR('Tabel 5 Dim F'!B16<5,'Tabel 5.3 Dim Br'!B16<0.5),"-",IFERROR('Tabel 5.3 Dim Br'!B16/'Tabel 5 Dim F'!B16*100,"-")) -> 6.2587269 | C16: =IF(OR('Tabel 5 Dim F'!C16<5,'Tabel 5.3 Dim Br'!C16<0.5),"-",IFERROR('Tabel 5.3 Dim Br'!C16/'Tabel 5 Dim F'!C16*100,"-")) -> 26.651881 | D16: =IF(OR('Tabel 5 Dim F'!D16<5,'Tabel 5.3 Dim Br'!D16<0.5),"-",IFERROR('Tabel 5.3 Dim Br'!D16/'Tabel 5 Dim F'!D16*100,"-")) -> 22.697098 | E16: =IF(OR('Tabel 5 Dim F'!E16<5,'Tabel 5.3 Dim Br'!E16<0.5),"-",IFERROR('Tabel 5.3 Dim Br'!E16/'Tabel 5 Dim F'!E16*100,"-")) -> 8.2827879 | F16: =IF(OR('Tabel 5 Dim F'!F16<5,'Tabel 5.3 Dim Br'!F16<0.5),"-",IFERROR('Tabel 5.3 Dim Br'!F16/'Tabel 5 Dim F'!F16*100,"-")) -> 15.11733 | G16: =IF(OR('Tabel 5 Dim F'!G16<5,'Tabel 5.3 Dim Br'!G16<0.5),"-",IFERROR('Tabel 5.3 Dim Br'!G16/'Tabel 5 Dim F'!G16*100,"-")) -> 14.904043 | H16: =IF(OR('Tabel 5 Dim F'!H16<5,'Tabel 5.3 Dim Br'!H16<0.5),"-",IFERROR('Tabel 5.3 Dim Br'!H16/'Tabel 5 Dim F'!H16*100,"-")) -> 19.960676 | I16: =IF(OR('Tabel 5 Dim F'!I16<5,'Tabel 5.3 Dim Br'!I16<0.5),"-",IFERROR('Tabel 5.3 Dim Br'!I16/'Tabel 5 Dim F'!I16*100,"-")) -> 13.471123
A17: Agronom | B17: =IF(OR('Tabel 5 Dim F'!B17<5,'Tabel 5.3 Dim Br'!B17<0.5),"-",IFERROR('Tabel 5.3 Dim Br'!B17/'Tabel 5 Dim F'!B17*100,"-")) -> 17.553095 | C17: =IF(OR('Tabel 5 Dim F'!C17<5,'Tabel 5.3 Dim Br'!C17<0.5),"-",IFERROR('Tabel 5.3 Dim Br'!C17/'Tabel 5 Dim F'!C17*100,"-")) -> 8.5448889 | D17: =IF(OR('Tabel 5 Dim F'!D17<5,'Tabel 5.3 Dim Br'!D17<0.5),"-",IFERROR('Tabel 5.3 Dim Br'!D17/'Tabel 5 Dim F'!D17*100,"-")) -> 16.194529 | E17: =IF(OR('Tabel 5 Dim F'!E17<5,'Tabel 5.3 Dim Br'!E17<0.5),"-",IFERROR('Tabel 5.3 Dim Br'!E17/'Tabel 5 Dim F'!E17*100,"-")) -> - | F17: =IF(OR('Tabel 5 Dim F'!F17<5,'Tabel 5.3 Dim Br'!F17<0.5),"-",IFERROR('Tabel 5.3 Dim Br'!F17/'Tabel 5 Dim F'!F17*100,"-")) -> 6.5115667 | G17: =IF(OR('Tabel 5 Dim F'!G17<5,'Tabel 5.3 Dim Br'!G17<0.5),"-",IFERROR('Tabel 5.3 Dim Br'!G17/'Tabel 5 Dim F'!G17*100,"-")) -> - | H17: =IF(OR('Tabel 5 Dim F'!H17<5,'Tabel 5.3 Dim Br'!H17<0.5),"-",IFERROR('Tabel 5.3 Dim Br'!H17/'Tabel 5 Dim F'!H17*100,"-")) -> - | I17: =IF(OR('Tabel 5 Dim F'!I17<5,'Tabel 5.3 Dim Br'!I17<0.5),"-",IFERROR('Tabel 5.3 Dim Br'!I17/'Tabel 5 Dim F'!I17*100,"-")) -> 10.38225
A18: Landsk. Arkt. | B18: =IF(OR('Tabel 5 Dim F'!B18<5,'Tabel 5.3 Dim Br'!B18<0.5),"-",IFERROR('Tabel 5.3 Dim Br'!B18/'Tabel 5 Dim F'!B18*100,"-")) -> 7.68725 | C18: =IF(OR('Tabel 5 Dim F'!C18<5,'Tabel 5.3 Dim Br'!C18<0.5),"-",IFERROR('Tabel 5.3 Dim Br'!C18/'Tabel 5 Dim F'!C18*100,"-")) -> 38.536571 | D18: =IF(OR('Tabel 5 Dim F'!D18<5,'Tabel 5.3 Dim Br'!D18<0.5),"-",IFERROR('Tabel 5.3 Dim Br'!D18/'Tabel 5 Dim F'!D18*100,"-")) -> - | E18: =IF(OR('Tabel 5 Dim F'!E18<5,'Tabel 5.3 Dim Br'!E18<0.5),"-",IFERROR('Tabel 5.3 Dim Br'!E18/'Tabel 5 Dim F'!E18*100,"-")) -> - | F18: =IF(OR('Tabel 5 Dim F'!F18<5,'Tabel 5.3 Dim Br'!F18<0.5),"-",IFERROR('Tabel 5.3 Dim Br'!F18/'Tabel 5 Dim F'!F18*100,"-")) -> 16.663583 | G18: =IF(OR('Tabel 5 Dim F'!G18<5,'Tabel 5.3 Dim Br'!G18<0.5),"-",IFERROR('Tabel 5.3 Dim Br'!G18/'Tabel 5 Dim F'!G18*100,"-")) -> - | H18: =IF(OR('Tabel 5 Dim F'!H18<5,'Tabel 5.3 Dim Br'!H18<0.5),"-",IFERROR('Tabel 5.3 Dim Br'!H18/'Tabel 5 Dim F'!H18*100,"-")) -> 11.109 | I18: =IF(OR('Tabel 5 Dim F'!I18<5,'Tabel 5.3 Dim Br'!I18<0.5),"-",IFERROR('Tabel 5.3 Dim Br'!I18/'Tabel 5 Dim F'!I18*100,"-")) -> -
A19: Hortonom | B19: =IF(OR('Tabel 5 Dim F'!B19<5,'Tabel 5.3 Dim Br'!B19<0.5),"-",IFERROR('Tabel 5.3 Dim Br'!B19/'Tabel 5 Dim F'!B19*100,"-")) -> - | C19: =IF(OR('Tabel 5 Dim F'!C19<5,'Tabel 5.3 Dim Br'!C19<0.5),"-",IFERROR('Tabel 5.3 Dim Br'!C19/'Tabel 5 Dim F'!C19*100,"-")) -> - | D19: =IF(OR('Tabel 5 Dim F'!D19<5,'Tabel 5.3 Dim Br'!D19<0.5),"-",IFERROR('Tabel 5.3 Dim Br'!D19/'Tabel 5 Dim F'!D19*100,"-")) -> - | E19: =IF(OR('Tabel 5 Dim F'!E19<5,'Tabel 5.3 Dim Br'!E19<0.5),"-",IFERROR('Tabel 5.3 Dim Br'!E19/'Tabel 5 Dim F'!E19*100,"-")) -> - | F19: =IF(OR('Tabel 5 Dim F'!F19<5,'Tabel 5.3 Dim Br'!F19<0.5),"-",IFERROR('Tabel 5.3 Dim Br'!F19/'Tabel 5 Dim F'!F19*100,"-")) -> - | G19: =IF(OR('Tabel 5 Dim F'!G19<5,'Tabel 5.3 Dim Br'!G19<0.5),"-",IFERROR('Tabel 5.3 Dim Br'!G19/'Tabel 5 Dim F'!G19*100,"-")) -> - | H19: =IF(OR('Tabel 5 Dim F'!H19<5,'Tabel 5.3 Dim Br'!H19<0.5),"-",IFERROR('Tabel 5.3 Dim Br'!H19/'Tabel 5 Dim F'!H19*100,"-")) -> - | I19: =IF(OR('Tabel 5 Dim F'!I19<5,'Tabel 5.3 Dim Br'!I19<0.5),"-",IFERROR('Tabel 5.3 Dim Br'!I19/'Tabel 5 Dim F'!I19*100,"-")) -> -
A20: Forstkand. | B20: =IF(OR('Tabel 5 Dim F'!B20<5,'Tabel 5.3 Dim Br'!B20<0.5),"-",IFERROR('Tabel 5.3 Dim Br'!B20/'Tabel 5 Dim F'!B20*100,"-")) -> - | C20: =IF(OR('Tabel 5 Dim F'!C20<5,'Tabel 5.3 Dim Br'!C20<0.5),"-",IFERROR('Tabel 5.3 Dim Br'!C20/'Tabel 5 Dim F'!C20*100,"-")) -> - | D20: =IF(OR('Tabel 5 Dim F'!D20<5,'Tabel 5.3 Dim Br'!D20<0.5),"-",IFERROR('Tabel 5.3 Dim Br'!D20/'Tabel 5 Dim F'!D20*100,"-")) -> - | E20: =IF(OR('Tabel 5 Dim F'!E20<5,'Tabel 5.3 Dim Br'!E20<0.5),"-",IFERROR('Tabel 5.3 Dim Br'!E20/'Tabel 5 Dim F'!E20*100,"-")) -> - | F20: =IF(OR('Tabel 5 Dim F'!F20<5,'Tabel 5.3 Dim Br'!F20<0.5),"-",IFERROR('Tabel 5.3 Dim Br'!F20/'Tabel 5 Dim F'!F20*100,"-")) -> - | G20: =IF(OR('Tabel 5 Dim F'!G20<5,'Tabel 5.3 Dim Br'!G20<0.5),"-",IFERROR('Tabel 5.3 Dim Br'!G20/'Tabel 5 Dim F'!G20*100,"-")) -> - | H20: =IF(OR('Tabel 5 Dim F'!H20<5,'Tabel 5.3 Dim Br'!H20<0.5),"-",IFERROR('Tabel 5.3 Dim Br'!H20/'Tabel 5 Dim F'!H20*100,"-")) -> - | I20: =IF(OR('Tabel 5 Dim F'!I20<5,'Tabel 5.3 Dim Br'!I20<0.5),"-",IFERROR('Tabel 5.3 Dim Br'!I20/'Tabel 5 Dim F'!I20*100,"-")) -> -
... A52: DJØF'ere i alt | B52: =IF(OR('Tabel 5 Dim F'!B52<5,'Tabel 5.3 Dim Br'!B52<0.5),"-",IFERROR('Tabel 5.3 Dim Br'!B52/'Tabel 5 Dim F'!B52*100,"-")) -> 15.3008 | C52: =IF(OR('Tabel 5 Dim F'!C52<5,'Tabel 5.3 Dim Br'!C52<0.5),"-",IFERROR('Tabel 5.3 Dim Br'!C52/'Tabel 5 Dim F'!C52*100,"-")) -> 16.130626 | D52: =IF(OR('Tabel 5 Dim F'!D52<5,'Tabel 5.3 Dim Br'!D52<0.5),"-",IFERROR('Tabel 5.3 Dim Br'!D52/'Tabel 5 Dim F'!D52*100,"-")) -> 12.389831 | E52: =IF(OR('Tabel 5 Dim F'!E52<5,'Tabel 5.3 Dim Br'!E52<0.5),"-",IFERROR('Tabel 5.3 Dim Br'!E52/'Tabel 5 Dim F'!E52*100,"-")) -> 10.201518 | F52: =IF(OR('Tabel 5 Dim F'!F52<5,'Tabel 5.3 Dim Br'!F52<0.5),"-",IFERROR('Tabel 5.3 Dim Br'!F52/'Tabel 5 Dim F'!F52*100,"-")) -> 4.8418411 | G52: =IF(OR('Tabel 5 Dim F'!G52<5,'Tabel 5.3 Dim Br'!G52<0.5),"-",IFERROR('Tabel 5.3 Dim Br'!G52/'Tabel 5 Dim F'!G52*100,"-")) -> 6.0113421 | H52: =IF(OR('Tabel 5 Dim F'!H52<5,'Tabel 5.3 Dim Br'!H52<0.5),"-",IFERROR('Tabel 5.3 Dim Br'!H52/'Tabel 5 Dim F'!H52*100,"-")) -> 8.5905696 | I52: =IF(OR('Tabel 5 Dim F'!I52<5,'Tabel 5.3 Dim Br'!I52<0.5),"-",IFERROR('Tabel 5.3 Dim Br'!I52/'Tabel 5 Dim F'!I52*100,"-")) -> 6.8764812
A53: Se sidste del af statistikken for en oversigt over uddannelsesgrupperingernes indhold

Sheet Tabel A F
A3: Tabel A1: Forsikrede medlemmer fordelt på regioner
B6: Nord- | C6: Vest- | D6: Øst- | E6: Syd- | F6: Fyn | G6: Sjælland | H6: Hoved- | I6: Bornholm | K6: Hele
B7: Jylland | C7: Jylland | D7: Jylland | E7: Jylland | H7: staden | K7: Landet
A9: Civ. Ing. | B9: 4410 | C9: 974 | D9: 4624 | E9: 2147 | F9: 1777 | G9: 2417 | H9: 18533 | I9: 33 | K9: 35237
A10: Diplom Ing. | B10: 1476 | C10: 1714 | D10: 7190 | E10: 4248 | F10: 3338 | G10: 3987 | H10: 12476 | I10: 62 | K10: 34712
A11: Cand.Scient.Tech. | B11: 1713 | C11: 433 | D11: 3428 | E11: 1048 | F11: 1469 | G11: 1404 | H11: 11940 | I11: 34 | K11: 21791
A12: MA. Hum. | B12: 3210 | C12: 1243 | D12: 8720 | E12: 2404 | F12: 3580 | G12: 3341 | H12: 20696 | I12: 138 | K12: 43694
A13: MA. Nat. | B13: 702 | C13: 432 | D13: 2969 | E13: 773 | F13: 1243 | G13: 1476 | H13: 7197 | I13: 41 | K13: 14996
A14: MA. Ph.d. | B14: 99 | C14: 36 | D14: 591 | E14: 74 | F14: 163 | G14: 160 | H14: 1320 | I14: 8 | K14: 2567
A15: MA. Samf. | B15: 451 | C15: 101 | D15: 961 | E15: 203 | F15: 263 | G15: 460 | H15: 4052 | I15: 15 | K15: 6579
A16: Øvrige Mag. | B16: 288 | C16: 99 | D16: 750 | E16: 228 | F16: 282 | G16: 287 | H16: 2007 | I16: 16 | K16: 4046
A17: Agronom | B17: 124 | C17: 208 | D17: 333 | E17: 219 | F17: 143 | G17: 440 | H17: 877 | I17: 10 | K17: 2365
A18: Landsk. Arkt. | B18: 15 | C18: 10 | D18: 41 | E18: 32 | F18: 33 | G18: 91 | H18: 496 | I18: 5 | K18: 727
A19: Hortonom | B19: 2 | C19: 8 | D19: 26 | E19: 16 | F19: 33 | G19: 54 | H19: 144 | I19: 3 | K19: 290
A20: Forstkand. | B20: 22 | C20: 23 | D20: 53 | E20: 39 | F20: 25 | G20: 78 | H20: 258 | I20: 2 | K20: 507
... A46: Andre | B46: 1355 | C46: 667 | D46: 3392 | E46: 1533 | F46: 1517 | G46: 1971 | H46: 14502 | I46: 105 | K46: 25641
A48: Total | B48: =SUM(B9:B46)-SUM(B17:B20) -> 25910 | C48: =SUM(C9:C46)-SUM(C17:C20) -> 11327 | D48: =SUM(D9:D46)-SUM(D17:D20) -> 66359 | E48: =SUM(E9:E46)-SUM(E17:E20) -> 23917 | F48: =SUM(F9:F46)-SUM(F17:F20) -> 25512 | G48: =SUM(G9:G46)-SUM(G17:G20) -> 30272 | H48: =SUM(H9:H46)-SUM(H17:H20) -> 192767 | I48: =SUM(I9:I46)-SUM(I17:I20) -> 851 | K48: =SUM(K9:K46)-SUM(K17:K20) -> 380935
A50: Ingeniører i alt | B50: 5886 | C50: 2688 | D50: 11814 | E50: 6395 | F50: 5115 | G50: 6404 | H50: 31009 | I50: 95 | J50: 0 | K50: 69949
A51: Magistre i alt | B51: 4750 | C51: 1911 | D51: 13991 | E51: 3682 | F51: 5531 | G51: 5724 | H51: 35272 | I51: 218 | J51: 0 | K51: 71882
A52: DJØF'ere i alt | B52: 5740 | C52: 2385 | D52: 16525 | E52: 5405 | F52: 5460 | G52: 7007 | H52: 58288 | I52: 155 | J52: 0 | K52: 101988
A53: Se sidste del af statistikken for en oversigt over uddannelsesgrupperingernes indhold

Sheet Tabel A Be
A3: Tabel A1: Antal bruttoledige målt i berørte medlemmer fordelt på regioner
B6: Nord- | C6: Vest- | D6: Øst- | E6: Syd- | F6: Fyn | G6: Sjælland | H6: Hoved- | I6: Bornholm | K6: Hele
B7: Jylland | C7: Jylland | D7: Jylland | E7: Jylland | H7: staden | K7: Landet
A9: Civ. Ing. | B9: 245 | C9: 18 | D9: 140 | E9: 42 | F9: 101 | G9: 38 | H9: 415 | I9: 1 | K9: 1000
A10: Diplom Ing. | B10: 26 | C10: 23 | D10: 171 | E10: 61 | F10: 74 | G10: 61 | H10: 266 | I10: 0 | K10: 682
A11: Cand.Scient.Tech. | B11: 167 | C11: 13 | D11: 234 | E11: 46 | F11: 111 | G11: 68 | H11: 675 | I11: 0 | K11: 1315
A12: MA. Hum. | B12: 298 | C12: 72 | D12: 761 | E12: 132 | F12: 319 | G12: 189 | H12: 1308 | I12: 3 | K12: 3082
A13: MA. Nat. | B13: 23 | C13: 8 | D13: 98 | E13: 16 | F13: 51 | G13: 43 | H13: 222 | I13: 1 | K13: 462
A14: MA. Ph.d. | B14: 5 | C14: 0 | D14: 12 | E14: 1 | F14: 9 | G14: 2 | H14: 37 | I14: 2 | K14: 68
A15: MA. Samf. | B15: 78 | C15: 6 | D15: 126 | E15: 20 | F15: 40 | G15: 34 | H15: 370 | I15: 1 | K15: 676
A16: Øvrige Mag. | B16: 27 | C16: 3 | D16: 70 | E16: 12 | F16: 23 | G16: 14 | H16: 173 | I16: 1 | K16: 324
A17: Agronom | B17: 2 | C17: 1 | D17: 5 | E17: 3 | F17: 5 | G17: 9 | H17: 32 | I17: 0 | K17: 57
A18: Landsk. Arkt. | B18: 0 | C18: 0 | D18: 1 | E18: 1 | F18: 0 | G18: 5 | H18: 18 | I18: 0 | K18: 25
A19: Hortonom | B19: 0 | C19: 0 | D19: 2 | E19: 0 | F19: 1 | G19: 1 | H19: 2 | I19: 0 | K19: 6
A20: Forstkand. | B20: 0 | C20: 0 | D20: 2 | E20: 0 | F20: 1 | G20: 3 | H20: 7 | I20: 0 | K20: 13
... A46: Andre | B46: 93 | C46: 15 | D46: 203 | E46: 52 | F46: 87 | G46: 98 | H46: 916 | I46: 7 | K46: 1474
A48: Total | B48: =SUM(B9:B46)-SUM(B17:B20) -> 1740 | C48: =SUM(C9:C46)-SUM(C17:C20) -> 289 | D48: =SUM(D9:D46)-SUM(D17:D20) -> 3622 | E48: =SUM(E9:E46)-SUM(E17:E20) -> 685 | F48: =SUM(F9:F46)-SUM(F17:F20) -> 1414 | G48: =SUM(G9:G46)-SUM(G17:G20) -> 985 | H48: =SUM(H9:H46)-SUM(H17:H20) -> 8315 | I48: =SUM(I9:I46)-SUM(I17:I20) -> 28 | K48: =SUM(K9:K46)-SUM(K17:K20) -> 17092
A50: Ingeniører i alt | B50: 271 | C50: 41 | D50: 311 | E50: 103 | F50: 175 | G50: 99 | H50: 681 | I50: 1 | K50: 1682
A51: Magistre i alt | B51: 431 | C51: 89 | D51: 1067 | E51: 181 | F51: 442 | G51: 282 | H51: 2110 | I51: 8 | K51: 4612
A52: DJØF'ere i alt | B52: 390 | C52: 53 | D52: 764 | E52: 149 | F52: 276 | G52: 205 | H52: 1878 | I52: 7 | K52: 3727
A53: Se sidste del af statistikken for en oversigt over uddannelsesgrupperingernes indhold

Sheet Tabel (A)A Br
A3: Tabel A2: Antal bruttoledige målt i fuldtidspersoner fordelt på regioner
B6: Nord- | C6: Vest- | D6: Øst- | E6: Syd- | F6: Fyn | G6: Sjælland | H6: Hoved- | I6: Bornholm | K6: Hele
B7: Jylland | C7: Jylland | D7: Jylland | E7: Jylland | H7: staden | K7: Landet
A9: Civ. Ing. | B9: 112.63644 | C9: 14.54438 | D9: 89.53658 | E9: 29.96944 | F9: 54.61673 | G9: 29.97817 | H9: 332.23664 | I9: 0.16903 | K9: 663.68739
A10: Diplom Ing. | B10: 21.39462 | C10: 17.85879 | D10: 132.37011 | E10: 53.2009 | F10: 60.62808 | G10: 52.63394 | H10: 216.43735 | I10: 0 | K10: 554.52379
A11: Cand.Scient.Tech. | B11: 103.03561 | C11: 9.72619 | D11: 171.54182 | E11: 36.07559 | F11: 74.03605 | G11: 49.76673 | H11: 510.74721 | I11: 0 | K11: 955.65209
A12: MA. Hum. | B12: 215.20926 | C12: 55.10011 | D12: 587.19391 | E12: 107.01116 | F12: 241.14763 | G12: 147.81638 | H12: 1005.3733 | I12: 2.50421 | K12: 2361.356
A13: MA. Nat. | B13: 12.45868 | C13: 6.93694 | D13: 69.23096 | E13: 12.78426 | F13: 36.84526 | G13: 33.50465 | H13: 160.96738 | I13: 0.92497 | K13: 333.65309
A14: MA. Ph.d. | B14: 3.88761 | C14: 0 | D14: 9.04946 | E14: 0.99981 | F14: 6.65378 | G14: 1.63039 | H14: 29.77546 | I14: 0.84576 | K14: 52.84226
A15: MA. Samf. | B15: 50.90002 | C15: 2.84788 | D15: 89.81476 | E15: 10.97736 | F15: 31.48943 | G15: 24.90987 | H15: 274.14208 | I15: 0.99981 | K15: 487.08102
A16: Øvrige Mag. | B16: 16.8016 | C16: 2.38758 | D16: 52.5329 | E16: 7.11345 | F16: 17.70286 | G16: 10.08981 | H16: 129.3688 | I16: 0.99981 | K16: 237.46024
A17: Agronom | B17: 1.09711 | C17: 0.99981 | D17: 4.57244 | E17: 2.32832 | F17: 4.16828 | G17: 7.74153 | H17: 23.76972 | I17: 0 | K17: 44.67723
A18: Landsk. Arkt. | B18: 0 | C18: 0 | D18: 0.34616 | E18: 0.99981 | F18: 0 | G18: 4.02981 | H18: 13.33313 | I18: 0 | K18: 18.70891
A19: Hortonom | B19: 0 | C19: 0 | D19: 1.57301 | E19: 0 | F19: 0.38545 | G19: 0.9075 | H19: 1.11271 | I19: 0 | K19: 3.97867
A20: Forstkand. | B20: 0 | C20: 0 | D20: 1.99963 | E20: 0 | F20: 0.3998 | G20: 2.99944 | H20: 6.12736 | I20: 0 | K20: 11.52623
... A46: Andre | B46: 59.56964 | C46: 13.01566 | D46: 151.19753 | E46: 35.53421 | F46: 56.92073 | G46: 81.75014 | H46: 715.37329 | I46: 5.99015 | K46: 1121.1034
A48: Total | B48: =SUM(B9:B46)-SUM(B17:B20) -> 1101.5838 | C48: =SUM(C9:C46)-SUM(C17:C20) -> 219.3017 | D48: =SUM(D9:D46)-SUM(D17:D20) -> 2515.8349 | E48: =SUM(E9:E46)-SUM(E17:E20) -> 509.6423 | F48: =SUM(F9:F46)-SUM(F17:F20) -> 980.63789 | G48: =SUM(G9:G46)-SUM(G17:G20) -> 772.33718 | H48: =SUM(H9:H46)-SUM(H17:H20) -> 6265.7129 | I48: =SUM(I9:I46)-SUM(I17:I20) -> 22.44328 | K48: =SUM(K9:K46)-SUM(K17:K20) -> 12395.546
A50: Ingeniører i alt | B50: 134.03106 | C50: 32.40317 | D50: 221.90669 | E50: 83.17034 | F50: 115.24481 | G50: 82.61211 | H50: 548.67398 | I50: 0.16903 | K50: 1218.2112
A51: Magistre i alt | B51: 299.25716 | C51: 67.2725 | D51: 807.82199 | E51: 138.88605 | F51: 333.83896 | G51: 217.9511 | H51: 1599.627 | I51: 6.27456 | K51: 3472.3926
A52: DJØF'ere i alt | B52: 250.10042 | C52: 39.94761 | D52: 483.59259 | E52: 104.6766 | F52: 184.1109 | G52: 163.96245 | H52: 1386.9469 | I52: 5.50552 | K52: 2620.9512
A53: Se sidste del af statistikken for en oversigt over uddannelsesgrupperingernes indhold

Sheet Tabel A p (Be)
A3: Tabel B1: Bruttoledighedsprocenten målt i ledighedsberørte fordelt på regioner
B6: Nord- | C6: Vest- | D6: Øst- | E6: Syd- | F6: Fyn | G6: Sjælland | H6: Hoved- | I6: Bornholm | K6: Hele
B7: Jylland | C7: Jylland | D7: Jylland | E7: Jylland | H7: staden | K7: Landet
A9: Civ. Ing. | B9: =IF(OR('Tabel A F'!B9<5,'Tabel A Be'!B9<0.5),"-",IFERROR('Tabel A Be'!B9/'Tabel A F'!B9*100,"-")) -> 5.5555556 | C9: =IF(OR('Tabel A F'!C9<5,'Tabel A Be'!C9<0.5),"-",IFERROR('Tabel A Be'!C9/'Tabel A F'!C9*100,"-")) -> 1.8480493 | D9: =IF(OR('Tabel A F'!D9<5,'Tabel A Be'!D9<0.5),"-",IFERROR('Tabel A Be'!D9/'Tabel A F'!D9*100,"-")) -> 3.0276817 | E9: =IF(OR('Tabel A F'!E9<5,'Tabel A Be'!E9<0.5),"-",IFERROR('Tabel A Be'!E9/'Tabel A F'!E9*100,"-")) -> 1.956218 | F9: =IF(OR('Tabel A F'!F9<5,'Tabel A Be'!F9<0.5),"-",IFERROR('Tabel A Be'!F9/'Tabel A F'!F9*100,"-")) -> 5.6837366 | G9: =IF(OR('Tabel A F'!G9<5,'Tabel A Be'!G9<0.5),"-",IFERROR('Tabel A Be'!G9/'Tabel A F'!G9*100,"-")) -> 1.5721969 | H9: =IF(OR('Tabel A F'!H9<5,'Tabel A Be'!H9<0.5),"-",IFERROR('Tabel A Be'!H9/'Tabel A F'!H9*100,"-")) -> 2.2392489 | I9: =IF(OR('Tabel A F'!I9<5,'Tabel A Be'!I9<0.5),"-",IFERROR('Tabel A Be'!I9/'Tabel A F'!I9*100,"-")) -> 3.030303 | K9: =IF(OR('Tabel A F'!K9<5,'Tabel A Be'!K9<0.5),"-",IFERROR('Tabel A Be'!K9/'Tabel A F'!K9*100,"-")) -> 2.837926
A10: Diplom Ing. | B10: =IF(OR('Tabel A F'!B10<5,'Tabel A Be'!B10<0.5),"-",IFERROR('Tabel A Be'!B10/'Tabel A F'!B10*100,"-")) -> 1.7615176 | C10: =IF(OR('Tabel A F'!C10<5,'Tabel A Be'!C10<0.5),"-",IFERROR('Tabel A Be'!C10/'Tabel A F'!C10*100,"-")) -> 1.3418903 | D10: =IF(OR('Tabel A F'!D10<5,'Tabel A Be'!D10<0.5),"-",IFERROR('Tabel A Be'!D10/'Tabel A F'!D10*100,"-")) -> 2.3783032 | E10: =IF(OR('Tabel A F'!E10<5,'Tabel A Be'!E10<0.5),"-",IFERROR('Tabel A Be'!E10/'Tabel A F'!E10*100,"-")) -> 1.4359699 | F10: =IF(OR('Tabel A F'!F10<5,'Tabel A Be'!F10<0.5),"-",IFERROR('Tabel A Be'!F10/'Tabel A F'!F10*100,"-")) -> 2.2168963 | G10: =IF(OR('Tabel A F'!G10<5,'Tabel A Be'!G10<0.5),"-",IFERROR('Tabel A Be'!G10/'Tabel A F'!G10*100,"-")) -> 1.5299724 | H10: =IF(OR('Tabel A F'!H10<5,'Tabel A Be'!H10<0.5),"-",IFERROR('Tabel A Be'!H10/'Tabel A F'!H10*100,"-")) -> 2.1320936 | I10: =IF(OR('Tabel A F'!I10<5,'Tabel A Be'!I10<0.5),"-",IFERROR('Tabel A Be'!I10/'Tabel A F'!I10*100,"-")) -> - | K10: =IF(OR('Tabel A F'!K10<5,'Tabel A Be'!K10<0.5),"-",IFERROR('Tabel A Be'!K10/'Tabel A F'!K10*100,"-")) -> 1.9647384
A11: Cand.Scient.Tech. | B11: =IF(OR('Tabel A F'!B11<5,'Tabel A Be'!B11<0.5),"-",IFERROR('Tabel A Be'!B11/'Tabel A F'!B11*100,"-")) -> 9.7489784 | C11: =IF(OR('Tabel A F'!C11<5,'Tabel A Be'!C11<0.5),"-",IFERROR('Tabel A Be'!C11/'Tabel A F'!C11*100,"-")) -> 3.0023095 | D11: =IF(OR('Tabel A F'!D11<5,'Tabel A Be'!D11<0.5),"-",IFERROR('Tabel A Be'!D11/'Tabel A F'!D11*100,"-")) -> 6.8261377 | E11: =IF(OR('Tabel A F'!E11<5,'Tabel A Be'!E11<0.5),"-",IFERROR('Tabel A Be'!E11/'Tabel A F'!E11*100,"-")) -> 4.389313 | F11: =IF(OR('Tabel A F'!F11<5,'Tabel A Be'!F11<0.5),"-",IFERROR('Tabel A Be'!F11/'Tabel A F'!F11*100,"-")) -> 7.5561607 | G11: =IF(OR('Tabel A F'!G11<5,'Tabel A Be'!G11<0.5),"-",IFERROR('Tabel A Be'!G11/'Tabel A F'!G11*100,"-")) -> 4.8433048 | H11: =IF(OR('Tabel A F'!H11<5,'Tabel A Be'!H11<0.5),"-",IFERROR('Tabel A Be'!H11/'Tabel A F'!H11*100,"-")) -> 5.6532663 | I11: =IF(OR('Tabel A F'!I11<5,'Tabel A Be'!I11<0.5),"-",IFERROR('Tabel A Be'!I11/'Tabel A F'!I11*100,"-")) -> - | K11: =IF(OR('Tabel A F'!K11<5,'Tabel A Be'!K11<0.5),"-",IFERROR('Tabel A Be'!K11/'Tabel A F'!K11*100,"-")) -> 6.0346014
A12: MA. Hum. | B12: =IF(OR('Tabel A F'!B12<5,'Tabel A Be'!B12<0.5),"-",IFERROR('Tabel A Be'!B12/'Tabel A F'!B12*100,"-")) -> 9.2834891 | C12: =IF(OR('Tabel A F'!C12<5,'Tabel A Be'!C12<0.5),"-",IFERROR('Tabel A Be'!C12/'Tabel A F'!C12*100,"-")) -> 5.7924377 | D12: =IF(OR('Tabel A F'!D12<5,'Tabel A Be'!D12<0.5),"-",IFERROR('Tabel A Be'!D12/'Tabel A F'!D12*100,"-")) -> 8.7270642 | E12: =IF(OR('Tabel A F'!E12<5,'Tabel A Be'!E12<0.5),"-",IFERROR('Tabel A Be'!E12/'Tabel A F'!E12*100,"-")) -> 5.4908486 | F12: =IF(OR('Tabel A F'!F12<5,'Tabel A Be'!F12<0.5),"-",IFERROR('Tabel A Be'!F12/'Tabel A F'!F12*100,"-")) -> 8.9106145 | G12: =IF(OR('Tabel A F'!G12<5,'Tabel A Be'!G12<0.5),"-",IFERROR('Tabel A Be'!G12/'Tabel A F'!G12*100,"-")) -> 5.6569889 | H12: =IF(OR('Tabel A F'!H12<5,'Tabel A Be'!H12<0.5),"-",IFERROR('Tabel A Be'!H12/'Tabel A F'!H12*100,"-")) -> 6.3200618 | I12: =IF(OR('Tabel A F'!I12<5,'Tabel A Be'!I12<0.5),"-",IFERROR('Tabel A Be'!I12/'Tabel A F'!I12*100,"-")) -> 2.173913 | K12: =IF(OR('Tabel A F'!K12<5,'Tabel A Be'!K12<0.5),"-",IFERROR('Tabel A Be'!K12/'Tabel A F'!K12*100,"-")) -> 7.0536
A13: MA. Nat. | B13: =IF(OR('Tabel A F'!B13<5,'Tabel A Be'!B13<0.5),"-",IFERROR('Tabel A Be'!B13/'Tabel A F'!B13*100,"-")) -> 3.2763533 | C13: =IF(OR('Tabel A F'!C13<5,'Tabel A Be'!C13<0.5),"-",IFERROR('Tabel A Be'!C13/'Tabel A F'!C13*100,"-")) -> 1.8518519 | D13: =IF(OR('Tabel A F'!D13<5,'Tabel A Be'!D13<0.5),"-",IFERROR('Tabel A Be'!D13/'Tabel A F'!D13*100,"-")) -> 3.3007747 | E13: =IF(OR('Tabel A F'!E13<5,'Tabel A Be'!E13<0.5),"-",IFERROR('Tabel A Be'!E13/'Tabel A F'!E13*100,"-")) -> 2.0698577 | F13: =IF(OR('Tabel A F'!F13<5,'Tabel A Be'!F13<0.5),"-",IFERROR('Tabel A Be'!F13/'Tabel A F'!F13*100,"-")) -> 4.1029767 | G13: =IF(OR('Tabel A F'!G13<5,'Tabel A Be'!G13<0.5),"-",IFERROR('Tabel A Be'!G13/'Tabel A F'!G13*100,"-")) -> 2.9132791 | H13: =IF(OR('Tabel A F'!H13<5,'Tabel A Be'!H13<0.5),"-",IFERROR('Tabel A Be'!H13/'Tabel A F'!H13*100,"-")) -> 3.0846186 | I13: =IF(OR('Tabel A F'!I13<5,'Tabel A Be'!I13<0.5),"-",IFERROR('Tabel A Be'!I13/'Tabel A F'!I13*100,"-")) -> 2.4390244 | K13: =IF(OR('Tabel A F'!K13<5,'Tabel A Be'!K13<0.5),"-",IFERROR('Tabel A Be'!K13/'Tabel A F'!K13*100,"-")) -> 3.0808216
A14: MA. Ph.d. | B14: =IF(OR('Tabel A F'!B14<5,'Tabel A Be'!B14<0.5),"-",IFERROR('Tabel A Be'!B14/'Tabel A F'!B14*100,"-")) -> 5.0505051 | C14: =IF(OR('Tabel A F'!C14<5,'Tabel A Be'!C14<0.5),"-",IFERROR('Tabel A Be'!C14/'Tabel A F'!C14*100,"-")) -> - | D14: =IF(OR('Tabel A F'!D14<5,'Tabel A Be'!D14<0.5),"-",IFERROR('Tabel A Be'!D14/'Tabel A F'!D14*100,"-")) -> 2.0304569 | E14: =IF(OR('Tabel A F'!E14<5,'Tabel A Be'!E14<0.5),"-",IFERROR('Tabel A Be'!E14/'Tabel A F'!E14*100,"-")) -> 1.3513514 | F14: =IF(OR('Tabel A F'!F14<5,'Tabel A Be'!F14<0.5),"-",IFERROR('Tabel A Be'!F14/'Tabel A F'!F14*100,"-")) -> 5.5214724 | G14: =IF(OR('Tabel A F'!G14<5,'Tabel A Be'!G14<0.5),"-",IFERROR('Tabel A Be'!G14/'Tabel A F'!G14*100,"-")) -> 1.25 | H14: =IF(OR('Tabel A F'!H14<5,'Tabel A Be'!H14<0.5),"-",IFERROR('Tabel A Be'!H14/'Tabel A F'!H14*100,"-")) -> 2.8030303 | I14: =IF(OR('Tabel A F'!I14<5,'Tabel A Be'!I14<0.5),"-",IFERROR('Tabel A Be'!I14/'Tabel A F'!I14*100,"-")) -> 25 | K14: =IF(OR('Tabel A F'!K14<5,'Tabel A Be'!K14<0.5),"-",IFERROR('Tabel A Be'!K14/'Tabel A F'!K14*100,"-")) -> 2.6490066
A15: MA. Samf. | B15: =IF(OR('Tabel A F'!B15<5,'Tabel A Be'!B15<0.5),"-",IFERROR('Tabel A Be'!B15/'Tabel A F'!B15*100,"-")) -> 17.2949 | C15: =IF(OR('Tabel A F'!C15<5,'Tabel A Be'!C15<0.5),"-",IFERROR('Tabel A Be'!C15/'Tabel A F'!C15*100,"-")) -> 5.9405941 | D15: =IF(OR('Tabel A F'!D15<5,'Tabel A Be'!D15<0.5),"-",IFERROR('Tabel A Be'!D15/'Tabel A F'!D15*100,"-")) -> 13.111342 | E15: =IF(OR('Tabel A F'!E15<5,'Tabel A Be'!E15<0.5),"-",IFERROR('Tabel A Be'!E15/'Tabel A F'!E15*100,"-")) -> 9.8522167 | F15: =IF(OR('Tabel A F'!F15<5,'Tabel A Be'!F15<0.5),"-",IFERROR('Tabel A Be'!F15/'Tabel A F'!F15*100,"-")) -> 15.209125 | G15: =IF(OR('Tabel A F'!G15<5,'Tabel A Be'!G15<0.5),"-",IFERROR('Tabel A Be'!G15/'Tabel A F'!G15*100,"-")) -> 7.3913043 | H15: =IF(OR('Tabel A F'!H15<5,'Tabel A Be'!H15<0.5),"-",IFERROR('Tabel A Be'!H15/'Tabel A F'!H15*100,"-")) -> 9.1312932 | I15: =IF(OR('Tabel A F'!I15<5,'Tabel A Be'!I15<0.5),"-",IFERROR('Tabel A Be'!I15/'Tabel A F'!I15*100,"-")) -> 6.6666667 | K15: =IF(OR('Tabel A F'!K15<5,'Tabel A Be'!K15<0.5),"-",IFERROR('Tabel A Be'!K15/'Tabel A F'!K15*100,"-")) -> 10.275118
A16: Øvrige Mag. | B16: =IF(OR('Tabel A F'!B16<5,'Tabel A Be'!B16<0.5),"-",IFERROR('Tabel A Be'!B16/'Tabel A F'!B16*100,"-")) -> 9.375 | C16: =IF(OR('Tabel A F'!C16<5,'Tabel A Be'!C16<0.5),"-",IFERROR('Tabel A Be'!C16/'Tabel A F'!C16*100,"-")) -> 3.030303 | D16: =IF(OR('Tabel A F'!D16<5,'Tabel A Be'!D16<0.5),"-",IFERROR('Tabel A Be'!D16/'Tabel A F'!D16*100,"-")) -> 9.3333333 | E16: =IF(OR('Tabel A F'!E16<5,'Tabel A Be'!E16<0.5),"-",IFERROR('Tabel A Be'!E16/'Tabel A F'!E16*100,"-")) -> 5.2631579 | F16: =IF(OR('Tabel A F'!F16<5,'Tabel A Be'!F16<0.5),"-",IFERROR('Tabel A Be'!F16/'Tabel A F'!F16*100,"-")) -> 8.1560284 | G16: =IF(OR('Tabel A F'!G16<5,'Tabel A Be'!G16<0.5),"-",IFERROR('Tabel A Be'!G16/'Tabel A F'!G16*100,"-")) -> 4.8780488 | H16: =IF(OR('Tabel A F'!H16<5,'Tabel A Be'!H16<0.5),"-",IFERROR('Tabel A Be'!H16/'Tabel A F'!H16*100,"-")) -> 8.6198306 | I16: =IF(OR('Tabel A F'!I16<5,'Tabel A Be'!I16<0.5),"-",IFERROR('Tabel A Be'!I16/'Tabel A F'!I16*100,"-")) -> 6.25 | K16: =IF(OR('Tabel A F'!K16<5,'Tabel A Be'!K16<0.5),"-",IFERROR('Tabel A Be'!K16/'Tabel A F'!K16*100,"-")) -> 8.007909
A17: Agronom | B17: =IF(OR('Tabel A F'!B17<5,'Tabel A Be'!B17<0.5),"-",IFERROR('Tabel A Be'!B17/'Tabel A F'!B17*100,"-")) -> 1.6129032 | C17: =IF(OR('Tabel A F'!C17<5,'Tabel A Be'!C17<0.5),"-",IFERROR('Tabel A Be'!C17/'Tabel A F'!C17*100,"-")) -> 0.48076923 | D17: =IF(OR('Tabel A F'!D17<5,'Tabel A Be'!D17<0.5),"-",IFERROR('Tabel A Be'!D17/'Tabel A F'!D17*100,"-")) -> 1.5015015 | E17: =IF(OR('Tabel A F'!E17<5,'Tabel A Be'!E17<0.5),"-",IFERROR('Tabel A Be'!E17/'Tabel A F'!E17*100,"-")) -> 1.369863 | F17: =IF(OR('Tabel A F'!F17<5,'Tabel A Be'!F17<0.5),"-",IFERROR('Tabel A Be'!F17/'Tabel A F'!F17*100,"-")) -> 3.4965035 | G17: =IF(OR('Tabel A F'!G17<5,'Tabel A Be'!G17<0.5),"-",IFERROR('Tabel A Be'!G17/'Tabel A F'!G17*100,"-")) -> 2.0454545 | H17: =IF(OR('Tabel A F'!H17<5,'Tabel A Be'!H17<0.5),"-",IFERROR('Tabel A Be'!H17/'Tabel A F'!H17*100,"-")) -> 3.6488027 | I17: =IF(OR('Tabel A F'!I17<5,'Tabel A Be'!I17<0.5),"-",IFERROR('Tabel A Be'!I17/'Tabel A F'!I17*100,"-")) -> - | K17: =IF(OR('Tabel A F'!K17<5,'Tabel A Be'!K17<0.5),"-",IFERROR('Tabel A Be'!K17/'Tabel A F'!K17*100,"-")) -> 2.410148
A18: Landsk. Arkt. | B18: =IF(OR('Tabel A F'!B18<5,'Tabel A Be'!B18<0.5),"-",IFERROR('Tabel A Be'!B18/'Tabel A F'!B18*100,"-")) -> - | C18: =IF(OR('Tabel A F'!C18<5,'Tabel A Be'!C18<0.5),"-",IFERROR('Tabel A Be'!C18/'Tabel A F'!C18*100,"-")) -> - | D18: =IF(OR('Tabel A F'!D18<5,'Tabel A Be'!D18<0.5),"-",IFERROR('Tabel A Be'!D18/'Tabel A F'!D18*100,"-")) -> 2.4390244 | E18: =IF(OR('Tabel A F'!E18<5,'Tabel A Be'!E18<0.5),"-",IFERROR('Tabel A Be'!E18/'Tabel A F'!E18*100,"-")) -> 3.125 | F18: =IF(OR('Tabel A F'!F18<5,'Tabel A Be'!F18<0.5),"-",IFERROR('Tabel A Be'!F18/'Tabel A F'!F18*100,"-")) -> - | G18: =IF(OR('Tabel A F'!G18<5,'Tabel A Be'!G18<0.5),"-",IFERROR('Tabel A Be'!G18/'Tabel A F'!G18*100,"-")) -> 5.4945055 | H18: =IF(OR('Tabel A F'!H18<5,'Tabel A Be'!H18<0.5),"-",IFERROR('Tabel A Be'!H18/'Tabel A F'!H18*100,"-")) -> 3.6290323 | I18: =IF(OR('Tabel A F'!I18<5,'Tabel A Be'!I18<0.5),"-",IFERROR('Tabel A Be'!I18/'Tabel A F'!I18*100,"-")) -> - | K18: =IF(OR('Tabel A F'!K18<5,'Tabel A Be'!K18<0.5),"-",IFERROR('Tabel A Be'!K18/'Tabel A F'!K18*100,"-")) -> 3.4387895
A19: Hortonom | B19: =IF(OR('Tabel A F'!B19<5,'Tabel A Be'!B19<0.5),"-",IFERROR('Tabel A Be'!B19/'Tabel A F'!B19*100,"-")) -> - | C19: =IF(OR('Tabel A F'!C19<5,'Tabel A Be'!C19<0.5),"-",IFERROR('Tabel A Be'!C19/'Tabel A F'!C19*100,"-")) -> - | D19: =IF(OR('Tabel A F'!D19<5,'Tabel A Be'!D19<0.5),"-",IFERROR('Tabel A Be'!D19/'Tabel A F'!D19*100,"-")) -> 7.6923077 | E19: =IF(OR('Tabel A F'!E19<5,'Tabel A Be'!E19<0.5),"-",IFERROR('Tabel A Be'!E19/'Tabel A F'!E19*100,"-")) -> - | F19: =IF(OR('Tabel A F'!F19<5,'Tabel A Be'!F19<0.5),"-",IFERROR('Tabel A Be'!F19/'Tabel A F'!F19*100,"-")) -> 3.030303 | G19: =IF(OR('Tabel A F'!G19<5,'Tabel A Be'!G19<0.5),"-",IFERROR('Tabel A Be'!G19/'Tabel A F'!G19*100,"-")) -> 1.8518519 | H19: =IF(OR('Tabel A F'!H19<5,'Tabel A Be'!H19<0.5),"-",IFERROR('Tabel A Be'!H19/'Tabel A F'!H19*100,"-")) -> 1.3888889 | I19: =IF(OR('Tabel A F'!I19<5,'Tabel A Be'!I19<0.5),"-",IFERROR('Tabel A Be'!I19/'Tabel A F'!I19*100,"-")) -> - | K19: =IF(OR('Tabel A F'!K19<5,'Tabel A Be'!K19<0.5),"-",IFERROR('Tabel A Be'!K19/'Tabel A F'!K19*100,"-")) -> 2.0689655
A20: Forstkand. | B20: =IF(OR('Tabel A F'!B20<5,'Tabel A Be'!B20<0.5),"-",IFERROR('Tabel A Be'!B20/'Tabel A F'!B20*100,"-")) -> - | C20: =IF(OR('Tabel A F'!C20<5,'Tabel A Be'!C20<0.5),"-",IFERROR('Tabel A Be'!C20/'Tabel A F'!C20*100,"-")) -> - | D20: =IF(OR('Tabel A F'!D20<5,'Tabel A Be'!D20<0.5),"-",IFERROR('Tabel A Be'!D20/'Tabel A F'!D20*100,"-")) -> 3.7735849 | E20: =IF(OR('Tabel A F'!E20<5,'Tabel A Be'!E20<0.5),"-",IFERROR('Tabel A Be'!E20/'Tabel A F'!E20*100,"-")) -> - | F20: =IF(OR('Tabel A F'!F20<5,'Tabel A Be'!F20<0.5),"-",IFERROR('Tabel A Be'!F20/'Tabel A F'!F20*100,"-")) -> 4 | G20: =IF(OR('Tabel A F'!G20<5,'Tabel A Be'!G20<0.5),"-",IFERROR('Tabel A Be'!G20/'Tabel A F'!G20*100,"-")) -> 3.8461538 | H20: =IF(OR('Tabel A F'!H20<5,'Tabel A Be'!H20<0.5),"-",IFERROR('Tabel A Be'!H20/'Tabel A F'!H20*100,"-")) -> 2.7131783 | I20: =IF(OR('Tabel A F'!I20<5,'Tabel A Be'!I20<0.5),"-",IFERROR('Tabel A Be'!I20/'Tabel A F'!I20*100,"-")) -> - | K20: =IF(OR('Tabel A F'!K20<5,'Tabel A Be'!K20<0.5),"-",IFERROR('Tabel A Be'!K20/'Tabel A F'!K20*100,"-")) -> 2.5641026
... A52: DJØF'ere i alt | B52: =IF(OR('Tabel A F'!B52<5,'Tabel A Be'!B52<0.5),"-",IFERROR('Tabel A Be'!B52/'Tabel A F'!B52*100,"-")) -> 6.7944251 | C52: =IF(OR('Tabel A F'!C52<5,'Tabel A Be'!C52<0.5),"-",IFERROR('Tabel A Be'!C52/'Tabel A F'!C52*100,"-")) -> 2.2222222 | D52: =IF(OR('Tabel A F'!D52<5,'Tabel A Be'!D52<0.5),"-",IFERROR('Tabel A Be'!D52/'Tabel A F'!D52*100,"-")) -> 4.623298 | E52: =IF(OR('Tabel A F'!E52<5,'Tabel A Be'!E52<0.5),"-",IFERROR('Tabel A Be'!E52/'Tabel A F'!E52*100,"-")) -> 2.7567068 | F52: =IF(OR('Tabel A F'!F52<5,'Tabel A Be'!F52<0.5),"-",IFERROR('Tabel A Be'!F52/'Tabel A F'!F52*100,"-")) -> 5.0549451 | G52: =IF(OR('Tabel A F'!G52<5,'Tabel A Be'!G52<0.5),"-",IFERROR('Tabel A Be'!G52/'Tabel A F'!G52*100,"-")) -> 2.9256458 | H52: =IF(OR('Tabel A F'!H52<5,'Tabel A Be'!H52<0.5),"-",IFERROR('Tabel A Be'!H52/'Tabel A F'!H52*100,"-")) -> 3.2219325 | I52: =IF(OR('Tabel A F'!I52<5,'Tabel A Be'!I52<0.5),"-",IFERROR('Tabel A Be'!I52/'Tabel A F'!I52*100,"-")) -> 4.516129 | K52: =IF(OR('Tabel A F'!K52<5,'Tabel A Be'!K52<0.5),"-",IFERROR('Tabel A Be'!K52/'Tabel A F'!K52*100,"-")) -> 3.6543515
A53: Se sidste del af statistikken for en oversigt over uddannelsesgrupperingernes indhold

Sheet Tabel B
A3: Tabel B2: Bruttoledighedsprocenten målt i fuldtidspersoner fordelt på regioner
B6: Nord- | C6: Vest- | D6: Øst- | E6: Syd- | F6: Fyn | G6: Sjælland | H6: Hoved- | I6: Bornholm | K6: Hele
B7: Jylland | C7: Jylland | D7: Jylland | E7: Jylland | H7: staden | K7: Landet
A9: Civ. Ing. | B9: =IF(OR('Tabel A F'!B9<5,'Tabel (A)A Br'!B9<0.5),"-",IFERROR('Tabel (A)A Br'!B9/'Tabel A F'!B9*100,"-")) -> 2.5541143 | C9: =IF(OR('Tabel A F'!C9<5,'Tabel (A)A Br'!C9<0.5),"-",IFERROR('Tabel (A)A Br'!C9/'Tabel A F'!C9*100,"-")) -> 1.4932628 | D9: =IF(OR('Tabel A F'!D9<5,'Tabel (A)A Br'!D9<0.5),"-",IFERROR('Tabel (A)A Br'!D9/'Tabel A F'!D9*100,"-")) -> 1.9363447 | E9: =IF(OR('Tabel A F'!E9<5,'Tabel (A)A Br'!E9<0.5),"-",IFERROR('Tabel (A)A Br'!E9/'Tabel A F'!E9*100,"-")) -> 1.3958752 | F9: =IF(OR('Tabel A F'!F9<5,'Tabel (A)A Br'!F9<0.5),"-",IFERROR('Tabel (A)A Br'!F9/'Tabel A F'!F9*100,"-")) -> 3.0735357 | G9: =IF(OR('Tabel A F'!G9<5,'Tabel (A)A Br'!G9<0.5),"-",IFERROR('Tabel (A)A Br'!G9/'Tabel A F'!G9*100,"-")) -> 1.2403049 | H9: =IF(OR('Tabel A F'!H9<5,'Tabel (A)A Br'!H9<0.5),"-",IFERROR('Tabel (A)A Br'!H9/'Tabel A F'!H9*100,"-")) -> 1.792676 | I9: =IF(OR('Tabel A F'!I9<5,'Tabel (A)A Br'!I9<0.5),"-",IFERROR('Tabel (A)A Br'!I9/'Tabel A F'!I9*100,"-")) -> - | K9: =IF(OR('Tabel A F'!K9<5,'Tabel (A)A Br'!K9<0.5),"-",IFERROR('Tabel (A)A Br'!K9/'Tabel A F'!K9*100,"-")) -> 1.8834957
A10: Diplom Ing. | B10: =IF(OR('Tabel A F'!B10<5,'Tabel (A)A Br'!B10<0.5),"-",IFERROR('Tabel (A)A Br'!B10/'Tabel A F'!B10*100,"-")) -> 1.4495 | C10: =IF(OR('Tabel A F'!C10<5,'Tabel (A)A Br'!C10<0.5),"-",IFERROR('Tabel (A)A Br'!C10/'Tabel A F'!C10*100,"-")) -> 1.0419364 | D10: =IF(OR('Tabel A F'!D10<5,'Tabel (A)A Br'!D10<0.5),"-",IFERROR('Tabel (A)A Br'!D10/'Tabel A F'!D10*100,"-")) -> 1.8410307 | E10: =IF(OR('Tabel A F'!E10<5,'Tabel (A)A Br'!E10<0.5),"-",IFERROR('Tabel (A)A Br'!E10/'Tabel A F'!E10*100,"-")) -> 1.2523752 | F10: =IF(OR('Tabel A F'!F10<5,'Tabel (A)A Br'!F10<0.5),"-",IFERROR('Tabel (A)A Br'!F10/'Tabel A F'!F10*100,"-")) -> 1.8162996 | G10: =IF(OR('Tabel A F'!G10<5,'Tabel (A)A Br'!G10<0.5),"-",IFERROR('Tabel (A)A Br'!G10/'Tabel A F'!G10*100,"-")) -> 1.320139 | H10: =IF(OR('Tabel A F'!H10<5,'Tabel (A)A Br'!H10<0.5),"-",IFERROR('Tabel (A)A Br'!H10/'Tabel A F'!H10*100,"-")) -> 1.7348297 | I10: =IF(OR('Tabel A F'!I10<5,'Tabel (A)A Br'!I10<0.5),"-",IFERROR('Tabel (A)A Br'!I10/'Tabel A F'!I10*100,"-")) -> - | K10: =IF(OR('Tabel A F'!K10<5,'Tabel (A)A Br'!K10<0.5),"-",IFERROR('Tabel (A)A Br'!K10/'Tabel A F'!K10*100,"-")) -> 1.5974988
A11: Cand.Scient.Tech. | B11: =IF(OR('Tabel A F'!B11<5,'Tabel (A)A Br'!B11<0.5),"-",IFERROR('Tabel (A)A Br'!B11/'Tabel A F'!B11*100,"-")) -> 6.0149218 | C11: =IF(OR('Tabel A F'!C11<5,'Tabel (A)A Br'!C11<0.5),"-",IFERROR('Tabel (A)A Br'!C11/'Tabel A F'!C11*100,"-")) -> 2.2462333 | D11: =IF(OR('Tabel A F'!D11<5,'Tabel (A)A Br'!D11<0.5),"-",IFERROR('Tabel (A)A Br'!D11/'Tabel A F'!D11*100,"-")) -> 5.0041371 | E11: =IF(OR('Tabel A F'!E11<5,'Tabel (A)A Br'!E11<0.5),"-",IFERROR('Tabel (A)A Br'!E11/'Tabel A F'!E11*100,"-")) -> 3.4423273 | F11: =IF(OR('Tabel A F'!F11<5,'Tabel (A)A Br'!F11<0.5),"-",IFERROR('Tabel (A)A Br'!F11/'Tabel A F'!F11*100,"-")) -> 5.0398945 | G11: =IF(OR('Tabel A F'!G11<5,'Tabel (A)A Br'!G11<0.5),"-",IFERROR('Tabel (A)A Br'!G11/'Tabel A F'!G11*100,"-")) -> 3.5446389 | H11: =IF(OR('Tabel A F'!H11<5,'Tabel (A)A Br'!H11<0.5),"-",IFERROR('Tabel (A)A Br'!H11/'Tabel A F'!H11*100,"-")) -> 4.2776148 | I11: =IF(OR('Tabel A F'!I11<5,'Tabel (A)A Br'!I11<0.5),"-",IFERROR('Tabel (A)A Br'!I11/'Tabel A F'!I11*100,"-")) -> - | K11: =IF(OR('Tabel A F'!K11<5,'Tabel (A)A Br'!K11<0.5),"-",IFERROR('Tabel (A)A Br'!K11/'Tabel A F'!K11*100,"-")) -> 4.3855357
A12: MA. Hum. | B12: =IF(OR('Tabel A F'!B12<5,'Tabel (A)A Br'!B12<0.5),"-",IFERROR('Tabel (A)A Br'!B12/'Tabel A F'!B12*100,"-")) -> 6.7043383 | C12: =IF(OR('Tabel A F'!C12<5,'Tabel (A)A Br'!C12<0.5),"-",IFERROR('Tabel (A)A Br'!C12/'Tabel A F'!C12*100,"-")) -> 4.4328327 | D12: =IF(OR('Tabel A F'!D12<5,'Tabel (A)A Br'!D12<0.5),"-",IFERROR('Tabel (A)A Br'!D12/'Tabel A F'!D12*100,"-")) -> 6.7338751 | E12: =IF(OR('Tabel A F'!E12<5,'Tabel (A)A Br'!E12<0.5),"-",IFERROR('Tabel (A)A Br'!E12/'Tabel A F'!E12*100,"-")) -> 4.4513794 | F12: =IF(OR('Tabel A F'!F12<5,'Tabel (A)A Br'!F12<0.5),"-",IFERROR('Tabel (A)A Br'!F12/'Tabel A F'!F12*100,"-")) -> 6.7359673 | G12: =IF(OR('Tabel A F'!G12<5,'Tabel (A)A Br'!G12<0.5),"-",IFERROR('Tabel (A)A Br'!G12/'Tabel A F'!G12*100,"-")) -> 4.4243155 | H12: =IF(OR('Tabel A F'!H12<5,'Tabel (A)A Br'!H12<0.5),"-",IFERROR('Tabel (A)A Br'!H12/'Tabel A F'!H12*100,"-")) -> 4.8578145 | I12: =IF(OR('Tabel A F'!I12<5,'Tabel (A)A Br'!I12<0.5),"-",IFERROR('Tabel (A)A Br'!I12/'Tabel A F'!I12*100,"-")) -> 1.8146449 | K12: =IF(OR('Tabel A F'!K12<5,'Tabel (A)A Br'!K12<0.5),"-",IFERROR('Tabel (A)A Br'!K12/'Tabel A F'!K12*100,"-")) -> 5.4043025
A13: MA. Nat. | B13: =IF(OR('Tabel A F'!B13<5,'Tabel (A)A Br'!B13<0.5),"-",IFERROR('Tabel (A)A Br'!B13/'Tabel A F'!B13*100,"-")) -> 1.7747407 | C13: =IF(OR('Tabel A F'!C13<5,'Tabel (A)A Br'!C13<0.5),"-",IFERROR('Tabel (A)A Br'!C13/'Tabel A F'!C13*100,"-")) -> 1.6057731 | D13: =IF(OR('Tabel A F'!D13<5,'Tabel (A)A Br'!D13<0.5),"-",IFERROR('Tabel (A)A Br'!D13/'Tabel A F'!D13*100,"-")) -> 2.3317939 | E13: =IF(OR('Tabel A F'!E13<5,'Tabel (A)A Br'!E13<0.5),"-",IFERROR('Tabel (A)A Br'!E13/'Tabel A F'!E13*100,"-")) -> 1.6538499 | F13: =IF(OR('Tabel A F'!F13<5,'Tabel (A)A Br'!F13<0.5),"-",IFERROR('Tabel (A)A Br'!F13/'Tabel A F'!F13*100,"-")) -> 2.9642204 | G13: =IF(OR('Tabel A F'!G13<5,'Tabel (A)A Br'!G13<0.5),"-",IFERROR('Tabel (A)A Br'!G13/'Tabel A F'!G13*100,"-")) -> 2.2699627 | H13: =IF(OR('Tabel A F'!H13<5,'Tabel (A)A Br'!H13<0.5),"-",IFERROR('Tabel (A)A Br'!H13/'Tabel A F'!H13*100,"-")) -> 2.23659 | I13: =IF(OR('Tabel A F'!I13<5,'Tabel (A)A Br'!I13<0.5),"-",IFERROR('Tabel (A)A Br'!I13/'Tabel A F'!I13*100,"-")) -> 2.2560244 | K13: =IF(OR('Tabel A F'!K13<5,'Tabel (A)A Br'!K13<0.5),"-",IFERROR('Tabel (A)A Br'!K13/'Tabel A F'!K13*100,"-")) -> 2.2249473
A14: MA. Ph.d. | B14: =IF(OR('Tabel A F'!B14<5,'Tabel (A)A Br'!B14<0.5),"-",IFERROR('Tabel (A)A Br'!B14/'Tabel A F'!B14*100,"-")) -> 3.9268788 | C14: =IF(OR('Tabel A F'!C14<5,'Tabel (A)A Br'!C14<0.5),"-",IFERROR('Tabel (A)A Br'!C14/'Tabel A F'!C14*100,"-")) -> - | D14: =IF(OR('Tabel A F'!D14<5,'Tabel (A)A Br'!D14<0.5),"-",IFERROR('Tabel (A)A Br'!D14/'Tabel A F'!D14*100,"-")) -> 1.5312115 | E14: =IF(OR('Tabel A F'!E14<5,'Tabel (A)A Br'!E14<0.5),"-",IFERROR('Tabel (A)A Br'!E14/'Tabel A F'!E14*100,"-")) -> 1.3510946 | F14: =IF(OR('Tabel A F'!F14<5,'Tabel (A)A Br'!F14<0.5),"-",IFERROR('Tabel (A)A Br'!F14/'Tabel A F'!F14*100,"-")) -> 4.0820736 | G14: =IF(OR('Tabel A F'!G14<5,'Tabel (A)A Br'!G14<0.5),"-",IFERROR('Tabel (A)A Br'!G14/'Tabel A F'!G14*100,"-")) -> 1.0189937 | H14: =IF(OR('Tabel A F'!H14<5,'Tabel (A)A Br'!H14<0.5),"-",IFERROR('Tabel (A)A Br'!H14/'Tabel A F'!H14*100,"-")) -> 2.2557167 | I14: =IF(OR('Tabel A F'!I14<5,'Tabel (A)A Br'!I14<0.5),"-",IFERROR('Tabel (A)A Br'!I14/'Tabel A F'!I14*100,"-")) -> 10.572 | K14: =IF(OR('Tabel A F'!K14<5,'Tabel (A)A Br'!K14<0.5),"-",IFERROR('Tabel (A)A Br'!K14/'Tabel A F'!K14*100,"-")) -> 2.058522
A15: MA. Samf. | B15: =IF(OR('Tabel A F'!B15<5,'Tabel (A)A Br'!B15<0.5),"-",IFERROR('Tabel (A)A Br'!B15/'Tabel A F'!B15*100,"-")) -> 11.286035 | C15: =IF(OR('Tabel A F'!C15<5,'Tabel (A)A Br'!C15<0.5),"-",IFERROR('Tabel (A)A Br'!C15/'Tabel A F'!C15*100,"-")) -> 2.8196832 | D15: =IF(OR('Tabel A F'!D15<5,'Tabel (A)A Br'!D15<0.5),"-",IFERROR('Tabel (A)A Br'!D15/'Tabel A F'!D15*100,"-")) -> 9.3459688 | E15: =IF(OR('Tabel A F'!E15<5,'Tabel (A)A Br'!E15<0.5),"-",IFERROR('Tabel (A)A Br'!E15/'Tabel A F'!E15*100,"-")) -> 5.4075665 | F15: =IF(OR('Tabel A F'!F15<5,'Tabel (A)A Br'!F15<0.5),"-",IFERROR('Tabel (A)A Br'!F15/'Tabel A F'!F15*100,"-")) -> 11.973167 | G15: =IF(OR('Tabel A F'!G15<5,'Tabel (A)A Br'!G15<0.5),"-",IFERROR('Tabel (A)A Br'!G15/'Tabel A F'!G15*100,"-")) -> 5.4151891 | H15: =IF(OR('Tabel A F'!H15<5,'Tabel (A)A Br'!H15<0.5),"-",IFERROR('Tabel (A)A Br'!H15/'Tabel A F'!H15*100,"-")) -> 6.7655992 | I15: =IF(OR('Tabel A F'!I15<5,'Tabel (A)A Br'!I15<0.5),"-",IFERROR('Tabel (A)A Br'!I15/'Tabel A F'!I15*100,"-")) -> 6.6654 | K15: =IF(OR('Tabel A F'!K15<5,'Tabel (A)A Br'!K15<0.5),"-",IFERROR('Tabel (A)A Br'!K15/'Tabel A F'!K15*100,"-")) -> 7.4035723
A16: Øvrige Mag. | B16: =IF(OR('Tabel A F'!B16<5,'Tabel (A)A Br'!B16<0.5),"-",IFERROR('Tabel (A)A Br'!B16/'Tabel A F'!B16*100,"-")) -> 5.8338889 | C16: =IF(OR('Tabel A F'!C16<5,'Tabel (A)A Br'!C16<0.5),"-",IFERROR('Tabel (A)A Br'!C16/'Tabel A F'!C16*100,"-")) -> 2.411697 | D16: =IF(OR('Tabel A F'!D16<5,'Tabel (A)A Br'!D16<0.5),"-",IFERROR('Tabel (A)A Br'!D16/'Tabel A F'!D16*100,"-")) -> 7.0043867 | E16: =IF(OR('Tabel A F'!E16<5,'Tabel (A)A Br'!E16<0.5),"-",IFERROR('Tabel (A)A Br'!E16/'Tabel A F'!E16*100,"-")) -> 3.1199342 | F16: =IF(OR('Tabel A F'!F16<5,'Tabel (A)A Br'!F16<0.5),"-",IFERROR('Tabel (A)A Br'!F16/'Tabel A F'!F16*100,"-")) -> 6.2776099 | G16: =IF(OR('Tabel A F'!G16<5,'Tabel (A)A Br'!G16<0.5),"-",IFERROR('Tabel (A)A Br'!G16/'Tabel A F'!G16*100,"-")) -> 3.5156132 | H16: =IF(OR('Tabel A F'!H16<5,'Tabel (A)A Br'!H16<0.5),"-",IFERROR('Tabel (A)A Br'!H16/'Tabel A F'!H16*100,"-")) -> 6.4458794 | I16: =IF(OR('Tabel A F'!I16<5,'Tabel (A)A Br'!I16<0.5),"-",IFERROR('Tabel (A)A Br'!I16/'Tabel A F'!I16*100,"-")) -> 6.2488125 | K16: =IF(OR('Tabel A F'!K16<5,'Tabel (A)A Br'!K16<0.5),"-",IFERROR('Tabel (A)A Br'!K16/'Tabel A F'!K16*100,"-")) -> 5.8690124
A17: Agronom | B17: =IF(OR('Tabel A F'!B17<5,'Tabel (A)A Br'!B17<0.5),"-",IFERROR('Tabel (A)A Br'!B17/'Tabel A F'!B17*100,"-")) -> 0.88476613 | C17: =IF(OR('Tabel A F'!C17<5,'Tabel (A)A Br'!C17<0.5),"-",IFERROR('Tabel (A)A Br'!C17/'Tabel A F'!C17*100,"-")) -> 0.48067788 | D17: =IF(OR('Tabel A F'!D17<5,'Tabel (A)A Br'!D17<0.5),"-",IFERROR('Tabel (A)A Br'!D17/'Tabel A F'!D17*100,"-")) -> 1.3731051 | E17: =IF(OR('Tabel A F'!E17<5,'Tabel (A)A Br'!E17<0.5),"-",IFERROR('Tabel (A)A Br'!E17/'Tabel A F'!E17*100,"-")) -> 1.0631598 | F17: =IF(OR('Tabel A F'!F17<5,'Tabel (A)A Br'!F17<0.5),"-",IFERROR('Tabel (A)A Br'!F17/'Tabel A F'!F17*100,"-")) -> 2.9148811 | G17: =IF(OR('Tabel A F'!G17<5,'Tabel (A)A Br'!G17<0.5),"-",IFERROR('Tabel (A)A Br'!G17/'Tabel A F'!G17*100,"-")) -> 1.7594386 | H17: =IF(OR('Tabel A F'!H17<5,'Tabel (A)A Br'!H17<0.5),"-",IFERROR('Tabel (A)A Br'!H17/'Tabel A F'!H17*100,"-")) -> 2.7103444 | I17: =IF(OR('Tabel A F'!I17<5,'Tabel (A)A Br'!I17<0.5),"-",IFERROR('Tabel (A)A Br'!I17/'Tabel A F'!I17*100,"-")) -> - | K17: =IF(OR('Tabel A F'!K17<5,'Tabel (A)A Br'!K17<0.5),"-",IFERROR('Tabel (A)A Br'!K17/'Tabel A F'!K17*100,"-")) -> 1.8891006
A18: Landsk. Arkt. | B18: =IF(OR('Tabel A F'!B18<5,'Tabel (A)A Br'!B18<0.5),"-",IFERROR('Tabel (A)A Br'!B18/'Tabel A F'!B18*100,"-")) -> - | C18: =IF(OR('Tabel A F'!C18<5,'Tabel (A)A Br'!C18<0.5),"-",IFERROR('Tabel (A)A Br'!C18/'Tabel A F'!C18*100,"-")) -> - | D18: =IF(OR('Tabel A F'!D18<5,'Tabel (A)A Br'!D18<0.5),"-",IFERROR('Tabel (A)A Br'!D18/'Tabel A F'!D18*100,"-")) -> - | E18: =IF(OR('Tabel A F'!E18<5,'Tabel (A)A Br'!E18<0.5),"-",IFERROR('Tabel (A)A Br'!E18/'Tabel A F'!E18*100,"-")) -> 3.1244062 | F18: =IF(OR('Tabel A F'!F18<5,'Tabel (A)A Br'!F18<0.5),"-",IFERROR('Tabel (A)A Br'!F18/'Tabel A F'!F18*100,"-")) -> - | G18: =IF(OR('Tabel A F'!G18<5,'Tabel (A)A Br'!G18<0.5),"-",IFERROR('Tabel (A)A Br'!G18/'Tabel A F'!G18*100,"-")) -> 4.4283626 | H18: =IF(OR('Tabel A F'!H18<5,'Tabel (A)A Br'!H18<0.5),"-",IFERROR('Tabel (A)A Br'!H18/'Tabel A F'!H18*100,"-")) -> 2.688131 | I18: =IF(OR('Tabel A F'!I18<5,'Tabel (A)A Br'!I18<0.5),"-",IFERROR('Tabel (A)A Br'!I18/'Tabel A F'!I18*100,"-")) -> - | K18: =IF(OR('Tabel A F'!K18<5,'Tabel (A)A Br'!K18<0.5),"-",IFERROR('Tabel (A)A Br'!K18/'Tabel A F'!K18*100,"-")) -> 2.5734402
A19: Hortonom | B19: =IF(OR('Tabel A F'!B19<5,'Tabel (A)A Br'!B19<0.5),"-",IFERROR('Tabel (A)A Br'!B19/'Tabel A F'!B19*100,"-")) -> - | C19: =IF(OR('Tabel A F'!C19<5,'Tabel (A)A Br'!C19<0.5),"-",IFERROR('Tabel (A)A Br'!C19/'Tabel A F'!C19*100,"-")) -> - | D19: =IF(OR('Tabel A F'!D19<5,'Tabel (A)A Br'!D19<0.5),"-",IFERROR('Tabel (A)A Br'!D19/'Tabel A F'!D19*100,"-")) -> 6.0500385 | E19: =IF(OR('Tabel A F'!E19<5,'Tabel (A)A Br'!E19<0.5),"-",IFERROR('Tabel (A)A Br'!E19/'Tabel A F'!E19*100,"-")) -> - | F19: =IF(OR('Tabel A F'!F19<5,'Tabel (A)A Br'!F19<0.5),"-",IFERROR('Tabel (A)A Br'!F19/'Tabel A F'!F19*100,"-")) -> - | G19: =IF(OR('Tabel A F'!G19<5,'Tabel (A)A Br'!G19<0.5),"-",IFERROR('Tabel (A)A Br'!G19/'Tabel A F'!G19*100,"-")) -> 1.6805556 | H19: =IF(OR('Tabel A F'!H19<5,'Tabel (A)A Br'!H19<0.5),"-",IFERROR('Tabel (A)A Br'!H19/'Tabel A F'!H19*100,"-")) -> 0.77271528 | I19: =IF(OR('Tabel A F'!I19<5,'Tabel (A)A Br'!I19<0.5),"-",IFERROR('Tabel (A)A Br'!I19/'Tabel A F'!I19*100,"-")) -> - | K19: =IF(OR('Tabel A F'!K19<5,'Tabel (A)A Br'!K19<0.5),"-",IFERROR('Tabel (A)A Br'!K19/'Tabel A F'!K19*100,"-")) -> 1.3719552
A20: Forstkand. | B20: =IF(OR('Tabel A F'!B20<5,'Tabel (A)A Br'!B20<0.5),"-",IFERROR('Tabel (A)A Br'!B20/'Tabel A F'!B20*100,"-")) -> - | C20: =IF(OR('Tabel A F'!C20<5,'Tabel (A)A Br'!C20<0.5),"-",IFERROR('Tabel (A)A Br'!C20/'Tabel A F'!C20*100,"-")) -> - | D20: =IF(OR('Tabel A F'!D20<5,'Tabel (A)A Br'!D20<0.5),"-",IFERROR('Tabel (A)A Br'!D20/'Tabel A F'!D20*100,"-")) -> 3.7728868 | E20: =IF(OR('Tabel A F'!E20<5,'Tabel (A)A Br'!E20<0.5),"-",IFERROR('Tabel (A)A Br'!E20/'Tabel A F'!E20*100,"-")) -> - | F20: =IF(OR('Tabel A F'!F20<5,'Tabel (A)A Br'!F20<0.5),"-",IFERROR('Tabel (A)A Br'!F20/'Tabel A F'!F20*100,"-")) -> - | G20: =IF(OR('Tabel A F'!G20<5,'Tabel (A)A Br'!G20<0.5),"-",IFERROR('Tabel (A)A Br'!G20/'Tabel A F'!G20*100,"-")) -> 3.8454359 | H20: =IF(OR('Tabel A F'!H20<5,'Tabel (A)A Br'!H20<0.5),"-",IFERROR('Tabel (A)A Br'!H20/'Tabel A F'!H20*100,"-")) -> 2.3749457 | I20: =IF(OR('Tabel A F'!I20<5,'Tabel (A)A Br'!I20<0.5),"-",IFERROR('Tabel (A)A Br'!I20/'Tabel A F'!I20*100,"-")) -> - | K20: =IF(OR('Tabel A F'!K20<5,'Tabel (A)A Br'!K20<0.5),"-",IFERROR('Tabel (A)A Br'!K20/'Tabel A F'!K20*100,"-")) -> 2.2734181
... A52: DJØF'ere i alt | B52: =IF(OR('Tabel A F'!B52<5,'Tabel (A)A Br'!B52<0.5),"-",IFERROR('Tabel (A)A Br'!B52/'Tabel A F'!B52*100,"-")) -> 4.3571502 | C52: =IF(OR('Tabel A F'!C52<5,'Tabel (A)A Br'!C52<0.5),"-",IFERROR('Tabel (A)A Br'!C52/'Tabel A F'!C52*100,"-")) -> 1.6749522 | D52: =IF(OR('Tabel A F'!D52<5,'Tabel (A)A Br'!D52<0.5),"-",IFERROR('Tabel (A)A Br'!D52/'Tabel A F'!D52*100,"-")) -> 2.9264302 | E52: =IF(OR('Tabel A F'!E52<5,'Tabel (A)A Br'!E52<0.5),"-",IFERROR('Tabel (A)A Br'!E52/'Tabel A F'!E52*100,"-")) -> 1.9366623 | F52: =IF(OR('Tabel A F'!F52<5,'Tabel (A)A Br'!F52<0.5),"-",IFERROR('Tabel (A)A Br'!F52/'Tabel A F'!F52*100,"-")) -> 3.3719945 | G52: =IF(OR('Tabel A F'!G52<5,'Tabel (A)A Br'!G52<0.5),"-",IFERROR('Tabel (A)A Br'!G52/'Tabel A F'!G52*100,"-")) -> 2.3399807 | H52: =IF(OR('Tabel A F'!H52<5,'Tabel (A)A Br'!H52<0.5),"-",IFERROR('Tabel (A)A Br'!H52/'Tabel A F'!H52*100,"-")) -> 2.3794725 | I52: =IF(OR('Tabel A F'!I52<5,'Tabel (A)A Br'!I52<0.5),"-",IFERROR('Tabel (A)A Br'!I52/'Tabel A F'!I52*100,"-")) -> 3.5519484 | K52: =IF(OR('Tabel A F'!K52<5,'Tabel (A)A Br'!K52<0.5),"-",IFERROR('Tabel (A)A Br'!K52/'Tabel A F'!K52*100,"-")) -> 2.5698623
A53: Se sidste del af statistikken for en oversigt over uddannelsesgrupperingernes indhold

Sheet Tabel B1
A3: Tabel A3 - Bruttoledigheden målt i fuldtidspersoner i de store kommuner
B5: Antal fuldtidspersoner | G5: Ledighedspct. | Y5: Bruttoledighed | Z5: Gennemsnitlig bruttoledighed
B6: København | C6: Århus | D6: Aalborg | E6: Odense | G6: København | H6: Århus | I6: Aalborg | J6: Odense | L6: Hele landet | T6: København | U6: Århus | V6: Aalborg | W6: Odense | X6: Hele | Y6: Hele | Z6: Hele
X7: Landet | Y7: Landet | Z7: Lande
A9: Civ. Ing. | B9: 151.41957 | C9: 64.43086 | D9: 103.68303 | E9: 45.69638 | G9: =IF(OR('Tabel B1'!T9<5,'Tabel B1'!B9<0.5),"-",IFERROR('Tabel B1'!B9/'Tabel B1'!T9*100,"-")) -> 2.3856873 | H9: =IF(OR('Tabel B1'!U9<5,'Tabel B1'!C9<0.5),"-",IFERROR('Tabel B1'!C9/'Tabel B1'!U9*100,"-")) -> 2.5834346 | I9: =IF(OR('Tabel B1'!V9<5,'Tabel B1'!D9<0.5),"-",IFERROR('Tabel B1'!D9/'Tabel B1'!V9*100,"-")) -> 3.2249776 | J9: =IF(OR('Tabel B1'!W9<5,'Tabel B1'!E9<0.5),"-",IFERROR('Tabel B1'!E9/'Tabel B1'!W9*100,"-")) -> 3.8080317 | L9: =IF(OR('Tabel B1'!X9<5,'Tabel B1'!Z9<0.5),"-",IFERROR('Tabel B1'!Z9/'Tabel B1'!X9*100,"-")) -> 1.8834957 | R9: Civ. ing. | T9: 6347 | U9: 2494 | V9: 3215 | W9: 1200 | X9: 35237 | Y9: 1000 | Z9: 663.68739
A10: Diplom Ing. | B10: 80.0973 | C10: 81.0048 | D10: 13.57637 | E10: 43.80278 | G10: =IF(OR('Tabel B1'!T10<5,'Tabel B1'!B10<0.5),"-",IFERROR('Tabel B1'!B10/'Tabel B1'!T10*100,"-")) -> 2.4592355 | H10: =IF(OR('Tabel B1'!U10<5,'Tabel B1'!C10<0.5),"-",IFERROR('Tabel B1'!C10/'Tabel B1'!U10*100,"-")) -> 2.5830612 | I10: =IF(OR('Tabel B1'!V10<5,'Tabel B1'!D10<0.5),"-",IFERROR('Tabel B1'!D10/'Tabel B1'!V10*100,"-")) -> 1.8174525 | J10: =IF(OR('Tabel B1'!W10<5,'Tabel B1'!E10<0.5),"-",IFERROR('Tabel B1'!E10/'Tabel B1'!W10*100,"-")) -> 2.3805859 | L10: =IF(OR('Tabel B1'!X10<5,'Tabel B1'!Z10<0.5),"-",IFERROR('Tabel B1'!Z10/'Tabel B1'!X10*100,"-")) -> 1.5974988 | R10: Diplom ing. | T10: 3257 | U10: 3136 | V10: 747 | W10: 1840 | X10: 34712 | Y10: 682 | Z10: 554.52379
A11: Cand.Scient.Tech. | B11: 337.1989 | C11: 130.09106 | D11: 91.83621 | E11: 62.95017 | G11: =IF(OR('Tabel B1'!T11<5,'Tabel B1'!B11<0.5),"-",IFERROR('Tabel B1'!B11/'Tabel B1'!T11*100,"-")) -> 5.2531376 | H11: =IF(OR('Tabel B1'!U11<5,'Tabel B1'!C11<0.5),"-",IFERROR('Tabel B1'!C11/'Tabel B1'!U11*100,"-")) -> 5.8705352 | I11: =IF(OR('Tabel B1'!V11<5,'Tabel B1'!D11<0.5),"-",IFERROR('Tabel B1'!D11/'Tabel B1'!V11*100,"-")) -> 7.021117 | J11: =IF(OR('Tabel B1'!W11<5,'Tabel B1'!E11<0.5),"-",IFERROR('Tabel B1'!E11/'Tabel B1'!W11*100,"-")) -> 6.0066956 | L11: =IF(OR('Tabel B1'!X11<5,'Tabel B1'!Z11<0.5),"-",IFERROR('Tabel B1'!Z11/'Tabel B1'!X11*100,"-")) -> 4.3855357 | R11: Cand.scient.tek. | T11: 6419 | U11: 2216 | V11: 1308 | W11: 1048 | X11: 21791 | Y11: 1315 | Z11: 955.65209
A12: MA. Hum. | B12: 708.77503 | C12: 435.7575 | D12: 151.30294 | E12: 164.43897 | G12: =IF(OR('Tabel B1'!T12<5,'Tabel B1'!B12<0.5),"-",IFERROR('Tabel B1'!B12/'Tabel B1'!T12*100,"-")) -> 5.5629466 | H12: =IF(OR('Tabel B1'!U12<5,'Tabel B1'!C12<0.5),"-",IFERROR('Tabel B1'!C12/'Tabel B1'!U12*100,"-")) -> 7.6609968 | I12: =IF(OR('Tabel B1'!V12<5,'Tabel B1'!D12<0.5),"-",IFERROR('Tabel B1'!D12/'Tabel B1'!V12*100,"-")) -> 7.3270189 | J12: =IF(OR('Tabel B1'!W12<5,'Tabel B1'!E12<0.5),"-",IFERROR('Tabel B1'!E12/'Tabel B1'!W12*100,"-")) -> 7.3640381 | L12: =IF(OR('Tabel B1'!X12<5,'Tabel B1'!Z12<0.5),"-",IFERROR('Tabel B1'!Z12/'Tabel B1'!X12*100,"-")) -> 5.4043025 | R12: MA. Hum. | T12: 12741 | U12: 5688 | V12: 2065 | W12: 2233 | X12: 43694 | Y12: 3082 | Z12: 2361.356
A13: MA. Nat. | B13: 100.91125 | C13: 59.28211 | D13: 9.55155 | E13: 25.67517 | G13: =IF(OR('Tabel B1'!T13<5,'Tabel B1'!B13<0.5),"-",IFERROR('Tabel B1'!B13/'Tabel B1'!T13*100,"-")) -> 3.3020697 | H13: =IF(OR('Tabel B1'!U13<5,'Tabel B1'!C13<0.5),"-",IFERROR('Tabel B1'!C13/'Tabel B1'!U13*100,"-")) -> 3.3081535 | I13: =IF(OR('Tabel B1'!V13<5,'Tabel B1'!D13<0.5),"-",IFERROR('Tabel B1'!D13/'Tabel B1'!V13*100,"-")) -> 2.3584074 | J13: =IF(OR('Tabel B1'!W13<5,'Tabel B1'!E13<0.5),"-",IFERROR('Tabel B1'!E13/'Tabel B1'!W13*100,"-")) -> 3.2748941 | L13: =IF(OR('Tabel B1'!X13<5,'Tabel B1'!Z13<0.5),"-",IFERROR('Tabel B1'!Z13/'Tabel B1'!X13*100,"-")) -> 2.2249473 | R13: MA. Nat. | T13: 3056 | U13: 1792 | V13: 405 | W13: 784 | X13: 14996 | Y13: 462 | Z13: 333.65309
A14: MA. Ph.d. | B14: 21.70898 | C14: 8.0116 | D14: 1.86865 | E14: 5.20801 | G14: =IF(OR('Tabel B1'!T14<5,'Tabel B1'!B14<0.5),"-",IFERROR('Tabel B1'!B14/'Tabel B1'!T14*100,"-")) -> 3.206644 | H14: =IF(OR('Tabel B1'!U14<5,'Tabel B1'!C14<0.5),"-",IFERROR('Tabel B1'!C14/'Tabel B1'!U14*100,"-")) -> 1.8166893 | I14: =IF(OR('Tabel B1'!V14<5,'Tabel B1'!D14<0.5),"-",IFERROR('Tabel B1'!D14/'Tabel B1'!V14*100,"-")) -> 2.9197656 | J14: =IF(OR('Tabel B1'!W14<5,'Tabel B1'!E14<0.5),"-",IFERROR('Tabel B1'!E14/'Tabel B1'!W14*100,"-")) -> 4.376479 | L14: =IF(OR('Tabel B1'!X14<5,'Tabel B1'!Z14<0.5),"-",IFERROR('Tabel B1'!Z14/'Tabel B1'!X14*100,"-")) -> 2.058522 | R14: MA. Ph.d. | T14: 677 | U14: 441 | V14: 64 | W14: 119 | X14: 2567 | Y14: 68 | Z14: 52.84226
A15: MA. Samf. | B15: 203.38676 | C15: 73.36244 | D15: 41.50502 | E15: 18.85673 | G15: =IF(OR('Tabel B1'!T15<5,'Tabel B1'!B15<0.5),"-",IFERROR('Tabel B1'!B15/'Tabel B1'!T15*100,"-")) -> 7.2846261 | H15: =IF(OR('Tabel B1'!U15<5,'Tabel B1'!C15<0.5),"-",IFERROR('Tabel B1'!C15/'Tabel B1'!U15*100,"-")) -> 10.820419 | I15: =IF(OR('Tabel B1'!V15<5,'Tabel B1'!D15<0.5),"-",IFERROR('Tabel B1'!D15/'Tabel B1'!V15*100,"-")) -> 12.243369 | J15: =IF(OR('Tabel B1'!W15<5,'Tabel B1'!E15<0.5),"-",IFERROR('Tabel B1'!E15/'Tabel B1'!W15*100,"-")) -> 11.934639 | L15: =IF(OR('Tabel B1'!X15<5,'Tabel B1'!Z15<0.5),"-",IFERROR('Tabel B1'!Z15/'Tabel B1'!X15*100,"-")) -> 7.4035723 | R15: MA. Samf. | T15: 2792 | U15: 678 | V15: 339 | W15: 158 | X15: 6579 | Y15: 676 | Z15: 487.08102
A16: Øvrige Mag. | B16: 87.17084 | C16: 42.5697 | D16: 11.73954 | E16: 14.8132 | G16: =IF(OR('Tabel B1'!T16<5,'Tabel B1'!B16<0.5),"-",IFERROR('Tabel B1'!B16/'Tabel B1'!T16*100,"-")) -> 7.1218007 | H16: =IF(OR('Tabel B1'!U16<5,'Tabel B1'!C16<0.5),"-",IFERROR('Tabel B1'!C16/'Tabel B1'!U16*100,"-")) -> 8.347 | I16: =IF(OR('Tabel B1'!V16<5,'Tabel B1'!D16<0.5),"-",IFERROR('Tabel B1'!D16/'Tabel B1'!V16*100,"-")) -> 6.5219667 | J16: =IF(OR('Tabel B1'!W16<5,'Tabel B1'!E16<0.5),"-",IFERROR('Tabel B1'!E16/'Tabel B1'!W16*100,"-")) -> 7.964086 | L16: =IF(OR('Tabel B1'!X16<5,'Tabel B1'!Z16<0.5),"-",IFERROR('Tabel B1'!Z16/'Tabel B1'!X16*100,"-")) -> 5.8690124 | R16: Øvrige Mag. | T16: 1224 | U16: 510 | V16: 180 | W16: 186 | X16: 4046 | Y16: 324 | Z16: 237.46024
A17: Agronom | B17: 12.2198 | C17: 0.99981 | D17: 1.09711 | E17: 0.99981 | G17: =IF(OR('Tabel B1'!T17<5,'Tabel B1'!B17<0.5),"-",IFERROR('Tabel B1'!B17/'Tabel B1'!T17*100,"-")) -> 3.6917825 | H17: =IF(OR('Tabel B1'!U17<5,'Tabel B1'!C17<0.5),"-",IFERROR('Tabel B1'!C17/'Tabel B1'!U17*100,"-")) -> 1.3510946 | I17: =IF(OR('Tabel B1'!V17<5,'Tabel B1'!D17<0.5),"-",IFERROR('Tabel B1'!D17/'Tabel B1'!V17*100,"-")) -> 2.742775 | J17: =IF(OR('Tabel B1'!W17<5,'Tabel B1'!E17<0.5),"-",IFERROR('Tabel B1'!E17/'Tabel B1'!W17*100,"-")) -> 3.2251935 | L17: =IF(OR('Tabel B1'!X17<5,'Tabel B1'!Z17<0.5),"-",IFERROR('Tabel B1'!Z17/'Tabel B1'!X17*100,"-")) -> 1.8891006 | R17: Agronom | T17: 331 | U17: 74 | V17: 40 | W17: 31 | X17: 2365 | Y17: 57 | Z17: 44.67723
A18: Landsk. Arkt. | B18: 10.74035 | C18: 0.34616 | D18: 0 | E18: 0 | G18: =IF(OR('Tabel B1'!T18<5,'Tabel B1'!B18<0.5),"-",IFERROR('Tabel B1'!B18/'Tabel B1'!T18*100,"-")) -> 4.1629264 | H18: =IF(OR('Tabel B1'!U18<5,'Tabel B1'!C18<0.5),"-",IFERROR('Tabel B1'!C18/'Tabel B1'!U18*100,"-")) -> - | I18: =IF(OR('Tabel B1'!V18<5,'Tabel B1'!D18<0.5),"-",IFERROR('Tabel B1'!D18/'Tabel B1'!V18*100,"-")) -> - | J18: =IF(OR('Tabel B1'!W18<5,'Tabel B1'!E18<0.5),"-",IFERROR('Tabel B1'!E18/'Tabel B1'!W18*100,"-")) -> - | L18: =IF(OR('Tabel B1'!X18<5,'Tabel B1'!Z18<0.5),"-",IFERROR('Tabel B1'!Z18/'Tabel B1'!X18*100,"-")) -> 2.5734402 | R18: Landsk. Arkt. | T18: 258 | U18: 20 | V18: 4 | W18: 10 | X18: 727 | Y18: 25 | Z18: 18.70891
A19: Hortonom | B19: 0.16903 | C19: 1.57301 | D19: 0 | E19: 0 | G19: =IF(OR('Tabel B1'!T19<5,'Tabel B1'!B19<0.5),"-",IFERROR('Tabel B1'!B19/'Tabel B1'!T19*100,"-")) -> - | H19: =IF(OR('Tabel B1'!U19<5,'Tabel B1'!C19<0.5),"-",IFERROR('Tabel B1'!C19/'Tabel B1'!U19*100,"-")) -> 17.477889 | I19: =IF(OR('Tabel B1'!V19<5,'Tabel B1'!D19<0.5),"-",IFERROR('Tabel B1'!D19/'Tabel B1'!V19*100,"-")) -> - | J19: =IF(OR('Tabel B1'!W19<5,'Tabel B1'!E19<0.5),"-",IFERROR('Tabel B1'!E19/'Tabel B1'!W19*100,"-")) -> - | L19: =IF(OR('Tabel B1'!X19<5,'Tabel B1'!Z19<0.5),"-",IFERROR('Tabel B1'!Z19/'Tabel B1'!X19*100,"-")) -> 1.3719552 | R19: Hortonom | T19: 45 | U19: 9 | V19: 1 | W19: 13 | X19: 290 | Y19: 6 | Z19: 3.97867
A20: Forstkand. | B20: 4.41402 | C20: 0 | D20: 0 | E20: 0 | G20: =IF(OR('Tabel B1'!T20<5,'Tabel B1'!B20<0.5),"-",IFERROR('Tabel B1'!B20/'Tabel B1'!T20*100,"-")) -> 4.9044667 | H20: =IF(OR('Tabel B1'!U20<5,'Tabel B1'!C20<0.5),"-",IFERROR('Tabel B1'!C20/'Tabel B1'!U20*100,"-")) -> - | I20: =IF(OR('Tabel B1'!V20<5,'Tabel B1'!D20<0.5),"-",IFERROR('Tabel B1'!D20/'Tabel B1'!V20*100,"-")) -> - | J20: =IF(OR('Tabel B1'!W20<5,'Tabel B1'!E20<0.5),"-",IFERROR('Tabel B1'!E20/'Tabel B1'!W20*100,"-")) -> - | L20: =IF(OR('Tabel B1'!X20<5,'Tabel B1'!Z20<0.5),"-",IFERROR('Tabel B1'!Z20/'Tabel B1'!X20*100,"-")) -> 2.2734181 | R20: Forstkand. | T20: 90 | U20: 9 | V20: 3 | W20: 2 | X20: 507 | Y20: 13 | Z20: 11.52623
... A40: Komm. og Sprog | B40: 102.04578 | C40: 25.20489 | D40: 15.46872 | E40: 13.79966 | G40: =IF(OR('Tabel B1'!T40<5,'Tabel B1'!B40<0.5),"-",IFERROR('Tabel B1'!B40/'Tabel B1'!T40*100,"-")) -> 5.4657622 | H40: =IF(OR('Tabel B1'!U40<5,'Tabel B1'!C40<0.5),"-",IFERROR('Tabel B1'!C40/'Tabel B1'!U40*100,"-")) -> 3.4480014 | I40: =IF(OR('Tabel B1'!V40<5,'Tabel B1'!D40<0.5),"-",IFERROR('Tabel B1'!D40/'Tabel B1'!V40*100,"-")) -> 6.7548996 | J40: =IF(OR('Tabel B1'!W40<5,'Tabel B1'!E40<0.5),"-",IFERROR('Tabel B1'!E40/'Tabel B1'!W40*100,"-")) -> 5.0180582 | L40: =IF(OR('Tabel B1'!X40<5,'Tabel B1'!Z40<0.5),"-",IFERROR('Tabel B1'!Z40/'Tabel B1'!X40*100,"-")) -> 3.920736 | R40: Komm. og Sprog | T40: 1867 | U40: 731 | V40: 229 | W40: 275 | X40: 7397 | Y40: 366 | Z40: 290.01684
A41: Bygningskonst. | B41: 45.55585 | C41: 51.68365 | D41: 22.03524 | E41: 11.78182 | G41: =IF(OR('Tabel B1'!T41<5,'Tabel B1'!B41<0.5),"-",IFERROR('Tabel B1'!B41/'Tabel B1'!T41*100,"-")) -> 3.7218832 | H41: =IF(OR('Tabel B1'!U41<5,'Tabel B1'!C41<0.5),"-",IFERROR('Tabel B1'!C41/'Tabel B1'!U41*100,"-")) -> 5.1171931 | I41: =IF(OR('Tabel B1'!V41<5,'Tabel B1'!D41<0.5),"-",IFERROR('Tabel B1'!D41/'Tabel B1'!V41*100,"-")) -> 4.2703953 | J41: =IF(OR('Tabel B1'!W41<5,'Tabel B1'!E41<0.5),"-",IFERROR('Tabel B1'!E41/'Tabel B1'!W41*100,"-")) -> 2.4093701 | L41: =IF(OR('Tabel B1'!X41<5,'Tabel B1'!Z41<0.5),"-",IFERROR('Tabel B1'!Z41/'Tabel B1'!X41*100,"-")) -> 2.3807478 | T41: 1224 | U41: 1010 | V41: 516 | W41: 489 | X41: 9908 | Y41: 311 | Z41: 235.88449
A42: Cand. IT. | B42: 95.42007 | C42: 50.15593 | D42: 36.4124 | E42: 13.80652 | G42: =IF(OR('Tabel B1'!T42<5,'Tabel B1'!B42<0.5),"-",IFERROR('Tabel B1'!B42/'Tabel B1'!T42*100,"-")) -> 4.8758339 | H42: =IF(OR('Tabel B1'!U42<5,'Tabel B1'!C42<0.5),"-",IFERROR('Tabel B1'!C42/'Tabel B1'!U42*100,"-")) -> 6.1390367 | I42: =IF(OR('Tabel B1'!V42<5,'Tabel B1'!D42<0.5),"-",IFERROR('Tabel B1'!D42/'Tabel B1'!V42*100,"-")) -> 7.2246825 | J42: =IF(OR('Tabel B1'!W42<5,'Tabel B1'!E42<0.5),"-",IFERROR('Tabel B1'!E42/'Tabel B1'!W42*100,"-")) -> 8.5225432 | L42: =IF(OR('Tabel B1'!X42<5,'Tabel B1'!Z42<0.5),"-",IFERROR('Tabel B1'!Z42/'Tabel B1'!X42*100,"-")) -> 4.8600611 | R42: Cand. IT. | T42: 1957 | U42: 817 | V42: 504 | W42: 162 | X42: 5824 | Y42: 437 | Z42: 283.04996
A43: Bac. Samf. | B43: 29.77172 | C43: 10.54762 | D43: 1.65783 | E43: 5.02526 | G43: =IF(OR('Tabel B1'!T43<5,'Tabel B1'!B43<0.5),"-",IFERROR('Tabel B1'!B43/'Tabel B1'!T43*100,"-")) -> 5.9306215 | H43: =IF(OR('Tabel B1'!U43<5,'Tabel B1'!C43<0.5),"-",IFERROR('Tabel B1'!C43/'Tabel B1'!U43*100,"-")) -> 8.5753008 | I43: =IF(OR('Tabel B1'!V43<5,'Tabel B1'!D43<0.5),"-",IFERROR('Tabel B1'!D43/'Tabel B1'!V43*100,"-")) -> 2.76305 | J43: =IF(OR('Tabel B1'!W43<5,'Tabel B1'!E43<0.5),"-",IFERROR('Tabel B1'!E43/'Tabel B1'!W43*100,"-")) -> 9.1368364 | L43: =IF(OR('Tabel B1'!X43<5,'Tabel B1'!Z43<0.5),"-",IFERROR('Tabel B1'!Z43/'Tabel B1'!X43*100,"-")) -> 5.3500628 | R43: Bac. Samf. | T43: 502 | U43: 123 | V43: 60 | W43: 55 | X43: 1497 | Y43: 100 | Z43: 80.09044
A44: Bac. Hum. | B44: 167.47209 | C44: 100.50209 | D44: 26.50908 | E44: 27.65297 | G44: =IF(OR('Tabel B1'!T44<5,'Tabel B1'!B44<0.5),"-",IFERROR('Tabel B1'!B44/'Tabel B1'!T44*100,"-")) -> 8.5575927 | H44: =IF(OR('Tabel B1'!U44<5,'Tabel B1'!C44<0.5),"-",IFERROR('Tabel B1'!C44/'Tabel B1'!U44*100,"-")) -> 9.6822823 | I44: =IF(OR('Tabel B1'!V44<5,'Tabel B1'!D44<0.5),"-",IFERROR('Tabel B1'!D44/'Tabel B1'!V44*100,"-")) -> 7.9131582 | J44: =IF(OR('Tabel B1'!W44<5,'Tabel B1'!E44<0.5),"-",IFERROR('Tabel B1'!E44/'Tabel B1'!W44*100,"-")) -> 6.4309233 | L44: =IF(OR('Tabel B1'!X44<5,'Tabel B1'!Z44<0.5),"-",IFERROR('Tabel B1'!Z44/'Tabel B1'!X44*100,"-")) -> 7.5752191 | R44: Bac. Hum. | T44: 1957 | U44: 1038 | V44: 335 | W44: 430 | X44: 5934 | Y44: 623 | Z44: 449.5135
A45: Bac. Nat. | B45: 102.59527 | C45: 38.96276 | D45: 23.97181 | E45: 13.26389 | G45: =IF(OR('Tabel B1'!T45<5,'Tabel B1'!B45<0.5),"-",IFERROR('Tabel B1'!B45/'Tabel B1'!T45*100,"-")) -> 8.8520509 | H45: =IF(OR('Tabel B1'!U45<5,'Tabel B1'!C45<0.5),"-",IFERROR('Tabel B1'!C45/'Tabel B1'!U45*100,"-")) -> 7.4784568 | I45: =IF(OR('Tabel B1'!V45<5,'Tabel B1'!D45<0.5),"-",IFERROR('Tabel B1'!D45/'Tabel B1'!V45*100,"-")) -> 8.3817517 | J45: =IF(OR('Tabel B1'!W45<5,'Tabel B1'!E45<0.5),"-",IFERROR('Tabel B1'!E45/'Tabel B1'!W45*100,"-")) -> 5.9747252 | L45: =IF(OR('Tabel B1'!X45<5,'Tabel B1'!Z45<0.5),"-",IFERROR('Tabel B1'!Z45/'Tabel B1'!X45*100,"-")) -> 6.6454657 | R45: Bac. Nat. | T45: 1159 | U45: 521 | V45: 286 | W45: 222 | X45: 4353 | Y45: 383 | Z45: 289.27712
A46: Andre | B46: 428.70829 | C46: 104.45706 | D46: 48.83989 | E46: 38.88293 | G46: =IF(OR('Tabel B1'!T46<5,'Tabel B1'!B46<0.5),"-",IFERROR('Tabel B1'!B46/'Tabel B1'!T46*100,"-")) -> 5.5705339 | H46: =IF(OR('Tabel B1'!U46<5,'Tabel B1'!C46<0.5),"-",IFERROR('Tabel B1'!C46/'Tabel B1'!U46*100,"-")) -> 5.3788393 | I46: =IF(OR('Tabel B1'!V46<5,'Tabel B1'!D46<0.5),"-",IFERROR('Tabel B1'!D46/'Tabel B1'!V46*100,"-")) -> 5.8281492 | J46: =IF(OR('Tabel B1'!W46<5,'Tabel B1'!E46<0.5),"-",IFERROR('Tabel B1'!E46/'Tabel B1'!W46*100,"-")) -> 4.4035028 | L46: =IF(OR('Tabel B1'!X46<5,'Tabel B1'!Z46<0.5),"-",IFERROR('Tabel B1'!Z46/'Tabel B1'!X46*100,"-")) -> 4.3723074 | R46: Andre | T46: 7696 | U46: 1942 | V46: 838 | W46: 883 | X46: 25641 | Y46: 1474 | Z46: 1121.1034
A48: Total | B48: =SUM(B9:B46)-SUM(B17:B20) -> 3980.0878 | C48: =SUM(C9:C46)-SUM(C17:C20) -> 1878.5121 | D48: =SUM(D9:D46)-SUM(D17:D20) -> 885.69582 | E48: =SUM(E9:E46)-SUM(E17:E20) -> 731.72007 | F48: =SUM(F9:F46)-SUM(F17:F20) -> 0 | G48: =IF(OR('Tabel B1'!T48<5,'Tabel B1'!B48<0.5),"-",IFERROR('Tabel B1'!B48/'Tabel B1'!T48*100,"-")) -> 4.1948648 | H48: =IF(OR('Tabel B1'!U48<5,'Tabel B1'!C48<0.5),"-",IFERROR('Tabel B1'!C48/'Tabel B1'!U48*100,"-")) -> 4.7424 | I48: =IF(OR('Tabel B1'!V48<5,'Tabel B1'!D48<0.5),"-",IFERROR('Tabel B1'!D48/'Tabel B1'!V48*100,"-")) -> 5.1505921 | J48: =IF(OR('Tabel B1'!W48<5,'Tabel B1'!E48<0.5),"-",IFERROR('Tabel B1'!E48/'Tabel B1'!W48*100,"-")) -> 4.5741081 | L48: =IF(OR('Tabel B1'!X48<5,'Tabel B1'!Z48<0.5),"-",IFERROR('Tabel B1'!Z48/'Tabel B1'!X48*100,"-")) -> 3.2539792 | R48: Total | T48: 94880 | U48: 39611 | V48: 17196 | W48: 15997 | X48: 380935 | Y48: 17092 | Z48: 12395.546
A50: Ingeniører i alt | B50: 231.51687 | C50: 145.43566 | D50: 117.2594 | E50: 89.49916 | G50: =IF(OR('Tabel B1'!T50<5,'Tabel B1'!B50<0.5),"-",IFERROR('Tabel B1'!B50/'Tabel B1'!T50*100,"-")) -> 2.4106296 | H50: =IF(OR('Tabel B1'!U50<5,'Tabel B1'!C50<0.5),"-",IFERROR('Tabel B1'!C50/'Tabel B1'!U50*100,"-")) -> 2.5832266 | I50: =IF(OR('Tabel B1'!V50<5,'Tabel B1'!D50<0.5),"-",IFERROR('Tabel B1'!D50/'Tabel B1'!V50*100,"-")) -> 2.9596012 | J50: =IF(OR('Tabel B1'!W50<5,'Tabel B1'!E50<0.5),"-",IFERROR('Tabel B1'!E50/'Tabel B1'!W50*100,"-")) -> 2.9440513 | L50: =IF(OR('Tabel B1'!X50<5,'Tabel B1'!Z50<0.5),"-",IFERROR('Tabel B1'!Z50/'Tabel B1'!X50*100,"-")) -> 1.7415706 | R50: Ing | T50: 9604 | U50: 5630 | V50: 3962 | W50: 3040 | X50: 69949 | Y50: 1682 | Z50: 1218.2112
A51: Magistre i alt | B51: 1121.9528 | C51: 618.98335 | D51: 215.96769 | E51: 228.99208 | G51: =IF(OR('Tabel B1'!T51<5,'Tabel B1'!B51<0.5),"-",IFERROR('Tabel B1'!B51/'Tabel B1'!T51*100,"-")) -> 5.4756118 | H51: =IF(OR('Tabel B1'!U51<5,'Tabel B1'!C51<0.5),"-",IFERROR('Tabel B1'!C51/'Tabel B1'!U51*100,"-")) -> 6.7952942 | I51: =IF(OR('Tabel B1'!V51<5,'Tabel B1'!D51<0.5),"-",IFERROR('Tabel B1'!D51/'Tabel B1'!V51*100,"-")) -> 7.0739499 | J51: =IF(OR('Tabel B1'!W51<5,'Tabel B1'!E51<0.5),"-",IFERROR('Tabel B1'!E51/'Tabel B1'!W51*100,"-")) -> 6.5802322 | L51: =IF(OR('Tabel B1'!X51<5,'Tabel B1'!Z51<0.5),"-",IFERROR('Tabel B1'!Z51/'Tabel B1'!X51*100,"-")) -> 4.8306844 | R51: Mag | T51: 20490 | U51: 9109 | V51: 3053 | W51: 3480 | X51: 71882 | Y51: 4612 | Z51: 3472.3926
A52: DJØF'ere i alt | B52: 851.30668 | C52: 367.26689 | D52: 208.52367 | E52: 145.23171 | G52: =IF(OR('Tabel B1'!T52<5,'Tabel B1'!B52<0.5),"-",IFERROR('Tabel B1'!B52/'Tabel B1'!T52*100,"-")) -> 2.8695408 | H52: =IF(OR('Tabel B1'!U52<5,'Tabel B1'!C52<0.5),"-",IFERROR('Tabel B1'!C52/'Tabel B1'!U52*100,"-")) -> 3.5695101 | I52: =IF(OR('Tabel B1'!V52<5,'Tabel B1'!D52<0.5),"-",IFERROR('Tabel B1'!D52/'Tabel B1'!V52*100,"-")) -> 5.2938225 | J52: =IF(OR('Tabel B1'!W52<5,'Tabel B1'!E52<0.5),"-",IFERROR('Tabel B1'!E52/'Tabel B1'!W52*100,"-")) -> 4.0522241 | L52: =IF(OR('Tabel B1'!X52<5,'Tabel B1'!Z52<0.5),"-",IFERROR('Tabel B1'!Z52/'Tabel B1'!X52*100,"-")) -> 2.5698623 | R52: Djøf | T52: 29667 | U52: 10289 | V52: 3939 | W52: 3584 | X52: 101988 | Y52: 3727 | Z52: 2620.9512
A53: Se sidste del af statistikken for en oversigt over uddannelsesgrupperingernes indhold | R53: Jord. | T53: 724 | U53: 112 | V53: 48 | W53: 56 | X53: 3889 | Y53: 101 | Z53: 78.89104

Sheet Udd.oversigt
A3: Oversigt over uddannelsesgrupperingernes indhold
C7: Indhold
A9: Civ. Ing. | C9: Civilingeniører og levnedsmiddelingeniører
A10: Diplom Ing. | C10: Diplomingeniører, akademiingeniører og teknikumingeniører
A11: Cand.Scient.Tech. | C11: Kandidater indenfor det tekniske naturvidenskabelige område (Ny katagori oprettet i januar 2015)
A12: MA.Hum. | C12: Kandidatretninger indenfor det humanistiske område
A13: MA.Nat | C13: Kandidatretninger indenfor biologi, geologi, geografi og legemsøvelser, matematik, datalogi, fysik, kemi og biokemi | AA13: <
A14: MA.Ph.d. | C14: Medlemmer af Magistrenes A-kasse med en Ph.d.-grad
A15: Mag.Samf. | C15: Kandidatretninger indenfor kultursociologi, antropologi, samfundsfag og aktuarer
A16: Øvrige Mag. | C16: Medlemmer af Magistrenes Arbejdsløshedskasse, som ikke kan placeres under de andre magisterkategorier
A17: Jordbrugsakad. | C17: Bachelorer og kandidater uddannet fra KULIFE (tidligere KVL) - Cand.agro., cand.silv., cand.hort., cand.hort.arch., cand.oecon.agro., cand.scient., cand.scient.oecon. med mange forskellige tillægstitler inden for de nævnte kandidattitler.
A18: Mejeriing. | C18: Cand.lact.
A19: Levn.m.kand. | C19: Levnedsmiddelkandidater (tidligere bromatologer)
A20: Dyrlæge | C20: Cand.med.vet.
A21: Farmaceut | B21: 23576 | C21: Cand. pharm., cand. scient lægemiddelvidenskab, cand. scient medicinalkemi, cand. scient medicinalbiologi, cand. scient molekylær medicin, humanbiologer, Ph.d. farmaceuter
A22: Læge | C22: Cand.med.
A23: Tandlæge | C23: Cand.odont.
A24: Arkitekt | C24: Cand.arch.
A25: Landinspek. | C25: Cand.geom.
A26: Bibliotekar | C26: Bibliotekar D.B. og cand.scient.bibl.
A27: Musikudd. | C27: Musikuddannede kandidater
A28: Teolog | C28: Cand.teol.
A29: Psykolog | C29: Cand.psych.
A30: Jurist | C30: Cand.jur.
A31: Økonom | C31: Cand.oecon., cand.polit. og cand.scient.oecon.
A32: Samf.Adm. | C32: Cand.scient.pol., cand.rer.soc., cand.tech.soc., cand. scient.adm., cand.adm.pol., cand.negot., cand.comm., kand.-samf. og cand.-scient.soc.
A33: Cand.Merc. | C33: Alle retninger indenfor cand.merc-uddannelserne.
... A42: Andre | C42: Kiropraktorer og medlemmer af AAK, CA og IAK som ikke kan placeres indenfor en af de øvrige uddannelseskategorier. Cand.design, ph.d. i arkitektur og design samt master of architecture and design indgår også her
B48: =SUM(B9:B46)-SUM(B17:B20) -> 23576
